{"text_format":"1","workbook":"xlsx","n_sheets":17,"sheets":["Startseite","Start & voreingestellte Fragen","Glossar","Firmeninformationen","Kapitel 1","Kapitel 2","Kapitel 3","Kapitel 4","Kapitel 5","Kapitel 6","Allgemeines Ergebnis","Tipps","Sonderbericht","SDG-Bericht","Aktionsplan","Technische Seite","Technische SDG"],"not_rendered":{"charts":1,"images":20,"macros":1,"external_links":0,"defined_names":3,"comments":0,"pivot_tables":0},"unopened":[],"bounds":{"document_bytes":16777216,"sheet_cells":100000,"rows_first":2000,"rows_last":500,"rows_between":2000,"halvings":0,"cell_chars":16384,"cell_head_chars":4096},"cells_cut":0,"cells_raw":0,"read":"whole","date_system":"1900"}

{"sheet":"Startseite","index":0,"n_rows":38,"n_cols":4,"rows_kept":38,"cut":false,"hidden":false,"merged":[[37,1,39,18],[29,1,31,18],[32,3,32,18],[33,3,33,18],[34,3,34,18],[10,2,10,10],[23,1,23,18],[24,1,24,18],[25,1,25,18],[35,3,35,18],[26,1,28,18],[13,2,13,10]]}
[]
[null,"Responsible-Care–Tool für die Selbsteinschätzung von Unternehme"]
[]
[null,"Dieses Tool ist ein Hilfsmittel für Chemieunternehmen in der Umsetzung von Responsible Care (RC)."]
[]
[null,"Es besteht aus den Abschnitten:"]
[]
[null,null,"Start und voreingestellte Fragen"]
[null,null,"Glossar"]
[null,null,"Informationen über Ihre Organisation"]
[null,null,"Sechs Fragereihen – jeweils eine Reihe für jedes "]
[null,null,"Allgemeines Ergebnis: Einschätzung der RC-Leistung Ihres Unternehmens"]
[null,null,"Tipps und beste Praktiken"]
[null,null,"Zwei Tabs mit Sonderberichten darüber, wie externe Standards bzw. Nachhaltigkeitsziele erreicht werden können"]
[null,null,"Aktionsplan"]
[null,null,"Zwei technische Seiten"]
[]
[null,"Für die optimale Nutzung dieses Excel-Tools wird Zoom 100 empfohlen."]
[]
[null,"Version: 12. April 2019"]
[null,"Arcadis"]
[]
[]
[null,"Responsible Care ist die weltweite freiwillige Initiative der chemischen Industrie zur kontinuierlichen Verbesserung ihrer Leistungen und zur Erreichung von Exzellenz im sicheren Umgang mit Chemikalien."]
[null,"Der europäische Chemieverband European Chemical Industry Council (CEFIC) hat ein neues Responsible Care-Managementsystem für Europa erarbeitet, um es einer größeren Anzahl europäischer Chemikalienherstellern zu ermöglichen, sich aktiv an der Responsible Care-Initiative zu beteiligen und somit gleichzeitig den Ruf und das Vertrauen in die chemische Industrie zu stärken."]
[null,"Das überarbeitete Responsible Care-Managementsystem beschreibt für Chemieunternehmen in Europa einen klaren, umfassenden und schrittweisen Weg hin zur kontinuierlichen Verbesserung ihrer Leistung.\n"]
[null,"Es beinhaltet die Entwicklung praktischer Tools (einen RC-Management Rahmen und ein RC-Selbsteinschätzungstool, die sowohl für Unternehmen als auch für nationale Verbände von Nutzen sind) und verschiedene Reifegrade, mit deren Hilfe die Unternehmen im Laufe der Zeit im RC-Bereich wachsen können. Das System schafft eine Verbindung zwischen Responsible Care® in Europa, den anspruchsvollsten Normen und Standards (z. B. Qualitätsmanagement: ISO9001, Umweltmanagement: ISO14001, EMAS, Energiemanagement: ISO50001, Gesundheit & Sicherheit: ISO45001 und ISO26000 sowie zwei weltweit angewandte technische Spezifikationen des American Chemical Council (ACC): RC14001 und RCMS) und den Grundsätzen der Nachhaltigkeit (UN-Nachhaltigkeitsziele, Cefic Sustainability Charter, Chemistry Can Initiative). Gleichfalls trägt das System zu einem harmonisierten RC-Ansatz auf der Ebene des Weltchemieverbandes ICCA bei."]
[]
[]
[null,"Das überarbeitete Managementsystem soll umfassend sein. Das System will es kleinen und großen Unternehmen und Standorten mit oder ohne Erfahrung mit Responsible Care und Normen/Standards ermöglichen, mit der Steigerung ihrer Leistung auf dem Weg zu  Exzellenz zu beginnen und einen Überblick darüber zu erhalten, wie sie ihre Leistung im Lauf der Zeit verbessern können. Zu diesem Zweck beinhaltet das System vier Reifegrade. Sie stellen die vier verschiedenen, nachstehend beschriebenen Ebenen in der Umsetzung von Responsible Care dar:"]
[]
[]
[null,"Ebene 1","Verpflichtung zu Responsible Care","Die Organisation verpflichtet sich zu Responsible Care und ist sich der Umsetzungsschritte aktiv bewusst."]
[null,"Ebene 2","Initiierung und Planung","PD – Planning and Doing: Die Organisation hat begonnen, RC in ihren gesamten Tätigkeitsbereichen zu verwirklichen; Pläne für Verbesserungen werden erstellt und umgesetzt."]
[null,"Ebene 3","Kontinuierliche Verbesserung","PDCA – Planning Doing Checking and Acting: Die Organisation hat in der Umsetzung von RC eine Ebene erreicht, in der Pläne und Maßnahmen nicht nur erstellt bzw. umgesetzt, sondern auch bewertet werden, um eine kontinuierliche Verbesserung zu erreichen; ein vollständiges Managementsystem wird angestrebt."]
[null,"Ebene 4","Exzellenz fördern und erhalten","Die Organisation hat ihre Leistung und Effektivität verbessert. Sie unternimmt weitere Schritte, indem sie entweder die Effektivität ihrer Verfahren überprüft oder beste Praktiken mit vergleichbaren Organisationen, ihren Partnern usw. teilt, um die Ressourcenbildung im Geschäftsleben zu fördern und den Wandel zu beschleunigen."]
[]
[null,"Haftungsausschluss: Dies ist ein freiwilliges Selbsteinschätzungstool. Es wurde von dem Cefic Responsible Care Issue Team entwickelt, um Unternehmen in der Bewertung ihrer Leistung gemäß der Responsible Care Global Charter zu unterstützen. Dieses Tool sowie alle dazugehörigen Leitlinien, Handlungsempfehlungen usw. ändern oder ersetzen nicht den Inhalt der Responsible Care Global Charter. Das Tool ist weder präskriptiv noch zwingend. Es steht den Unternehmen und nationalen Verbänden auch weiterhin frei zu entscheiden, in welcher Weise sie die Global Charter umsetzen; dies gilt ebenso für ihre jeweiligen Prioritäten und den jeweiligen Grad ihrer Verpflichtung. Letztlich bleibt es jedem Unterzeichner der Global Charter selbst überlassen, die Eignung von Maßnahmen, die zur Erfüllung der Charter ergriffen wurden, einzuschätzen. In Bezug auf die Vollständigkeit, Richtigkeit und Genauigkeit des Tools werden keine Zusicherungen oder Garantien gegeben. Cefic und die im Rahmen von Cefic mitwirkenden Unternehmen übernehmen keine Haftung für Schäden gleich welcher Art, die sich aus der Nutzung von oder dem Vertrauen auf die in diesem Tool enthaltenen Informationen ergeben.\n"]

{"sheet":"Start & voreingestellte Fragen","index":1,"n_rows":28,"n_cols":11,"rows_kept":28,"cut":false,"hidden":false,"merged":[]}
[]
[null,"Sie können entweder mit dem Ausfüllen der Fragen beginnen oder vorab einige weitere, voreingestellte Fragen über die Anwendung externer Normen und Standards in Ihrer Organisation beantworten."]
[null,"Für diese Funktionalität müssen Sie die Verwendung von Makros zulassen"]
[]
[null,"VOREINSTELLUNGEN"]
[]
[null,"Falls Ihre Organisation die nachgestehend genannten Normen und Standards anwendet, drücken Sie bitte den Button, um die voreingestellten Daten wiederzugeben."]
[null,"Sie können alle voreingestellten Antworten manuell überschreiben."]
[null,{"$f":"IF(G9=\"\",\"\",\"Fragen, die in den Kapiteln noch zu beantworten sind:D7\")","v":""},null,null,null,null,{"$f":"IF('Technische Seite'!$B$713=0,\"\",'Technische Seite'!$B$713)","v":""}]
[]
[]
[]
[]
[]
[]
[]
[null,"*ISO 45001 wird ersetzt durch OHSAS / ISO 18001",null,null,null,"**RCMS ist das Responsible Care Management System / eine Technische Spezifikation des ACC"]
[null,"gelöscht"]
[]
[null,"AUSFÜLLEN DES FRAGEBOGENS",null,null,null,null,null,null,null,"Gewichtung der einzelnen Kapitel"]
[]
[null,1,"Führungskultur im Unternehmen",null,null,null,null,null,null,18.7,"%"]
[null,2,"Schutz von Mensch und Umwelt",null,null,null,null,null,null,23.2,"%"]
[null,3,"Stärkung von Managementsystemen im Chemikalienbereich",null,null,null,null,null,null,16.100000000000001,"%"]
[null,4,"Einbeziehung von Geschäftspartnern",null,null,null,null,null,null,12.3,"%"]
[null,5,"Berücksichtigung von Anspruchsgruppen",null,null,null,null,null,null,12.3,"%"]
[null,6,"Beitrag zur Nachhaltigkeit",null,null,null,null,null,null,17.399999999999999,"%"]
[null,null,null,null,null,null,null,null,null,{"$f":"IF(SUM(J22:J27)=100,\"\",\"error\")","v":""}]

{"sheet":"Glossar","index":2,"n_rows":210,"n_cols":5,"rows_kept":210,"cut":false,"hidden":false,"merged":[[34,2,38,2],[34,4,38,4],[40,2,42,2],[40,4,42,4],[57,2,62,2],[57,4,62,4],[44,2,46,2],[44,4,46,4],[49,2,51,2],[49,4,51,4],[53,2,54,2],[53,4,54,4],[69,2,70,2],[69,4,70,4],[71,2,73,2],[71,4,73,4],[76,2,78,2],[76,4,78,4],[79,2,81,2],[79,4,81,4],[87,2,88,2],[87,4,88,4],[93,2,96,2],[93,4,96,4],[98,2,99,2],[98,3,99,3],[98,4,99,4],[100,2,104,2],[100,4,104,4],[105,2,109,2],[105,4,109,4],[110,2,111,2],[110,3,111,3],[110,4,111,4],[112,2,113,2],[112,3,113,3],[112,4,113,4],[116,2,117,2],[116,4,117,4],[120,2,123,2],[120,4,123,4],[124,2,125,2],[127,2,128,2],[127,4,128,4],[130,2,133,2],[130,4,133,4],[134,2,135,2],[134,4,135,4],[136,2,137,2],[136,4,137,4],[138,2,140,2],[138,4,140,4],[144,2,145,2],[144,4,145,4],[146,2,147,2],[146,4,147,4],[148,2,152,2],[148,4,152,4],[156,2,164,2],[156,4,164,4],[167,2,170,2],[167,4,170,4],[172,3,173,3],[172,4,173,4],[176,2,180,2],[176,4,180,4],[185,2,188,2],[185,4,188,4],[204,2,206,2],[204,4,206,4],[189,2,193,2],[189,4,193,4],[194,2,195,2],[194,4,195,4],[200,2,202,2],[200,4,202,4]]}
[]
[]
[]
[]
[]
[]
[null,null,"Abbreviations"]
[null,null,"ACC","American Chemical Council"]
[null,null,"BAT","Beste verfügbare Techniken"]
[null,null,"CSR","Corporate Social Responsibility; Verantwortung von Unternehmen für ihre Auswirkungen auf die Gesellschaft"]
[null,null,"EnB","Energy Baseline; energetische Ausgangsbasis"]
[null,null,"EnPI","Energieleistungskennzahl"]
[null,null,"EWS","European Water Stewardship"]
[null,null,"GHG","Treibhausgas"]
[null,null,"GRI","Global Reporting Initiative"]
[null,null,"H&S","Gesundheit und Sicherheit"]
[null,null,"ICCA","International Council of Chemical Associations"]
[null,null,"ICE","Intervention in Chemical Transport Emergencies"]
[null,null,"KPI","Key Performance Indicator; Kennzahl, mit der die Leistung von Aktivitäten im Unternehmen ermittelt wird"]
[null,null,"LoPC","Loss of Primary Containment; Freisetzung chemischer Stoffe durch Versagen des Einschlusssystems"]
[null,null,"MoC","Management of Change; Management des Wandels"]
[null,null,"PDCA","Planning, Doing, Checking and Acting"]
[null,null,"PPE","Persönliche Schutzausrüstung"]
[null,null,"R&D","Forschung und Entwicklung"]
[null,null,"REACH","Registrierung, Bewertung, Zulassung und Beschränkung chemischer Stoffe"]
[null,null,"SDG","Sustainable Development Goal; Nachhaltigkeitsziel"]
[null,null,"SDS","Sicherheitsdatenblatt"]
[null,null,"SEU","Significant Energy Use; wesentlicher Energieeinsatz"]
[null,null,"SQAS","Safety & Quality Assessment System; Sicherheits- und Qualitäts-Bewertungssystem"]
[null,null,"WBCSD","World Business Council for Sustainable Development"]
[]
[null,null,"Alphabetical index of terms "]
[]
[null,null,"Term","Definition","Based on "]
[null,null,"Audit","Systematic, independent and documented process for obtaining audit evidence and evaluating it objectively to determine the extent to which the audit criteria are fulfilled","RC14001"]
[null,null,null,"Note 1 to entry: An internal audit is conducted by the organisation itself, or by an external party on its behalf."]
[null,null,null,"Note 2 to entry: An audit can be a combined audit (combining two or more disciplines)."]
[null,null,null,"Note 3 to entry: Independence can be demonstrated by the freedom from responsibility for the activity being audited or freedom from bias and conflict of interest."]
[null,null,null,"Note 4 to entry: “Audit evidence” consists of records, statements of fact or other information which are relevant to the audit criteria and are verifiable; and “audit criteria” are the set of policies, procedures or requirements used as a reference against which audit evidence is compared, as defined in ISO 19011:2011, 3.3 and 3.2 respectively."]
[null,null,"Carbon footprint","Net amount of Greenhouse Gas (GHG) emissions and removals, expressed in CO2 equivalents.","ISO16759"]
[null,null,"Circular economy","In a circular economy, the value of products and materials is maintained for as long as possible. Waste and resource use are minimised, and when a product reaches the end of its life, it is used again to create further value. This can bring major economic benefits, contributing to innovation, growth and job creation.","https://ec.europa.eu/growth/industry/sustainability/circular-economy_en"]
[null,null,null,"At EU level no definition of circular economy is presented. This is a serious gap. The way the EU describes CE contains some elements as included in the definition proposed above but lacks the holistic view on the basket concept of CE."]
[null,null,null,"The circular economy is an emerging economic model that covers both techniques and business models to keep materials and resources as long as possible, and ideally, forever in a closed cycle of extended use, reuse and recycling. Critical components of the circular economy are industrial symbiosis, shared economy, ‘product as a service’, a close relationship between producer and consumer, proximity economics, reuse and recycling, urban mining, detoxification of material cycles and sustainable consumption and production. Opposite to the circular economy are programmed obsolescence, downcycling, legacy substances or loss of added value. "]
[null,null,"Competence","Ability to apply knowledge and skills to achieve intended results.","ISO14001/RC14001"]
[null,null,"Compliance obligations or legal requirements","(preferred term) legal requirements and other requirements (admitted term) legal requirements that an organisation has to comply with and other requirements that an organisation has to or chooses to comply with.","ISO14001/RC14001"]
[null,null,null,"Note 1 to entry: Compliance obligations are related to the environmental management system."]
[null,null,null,"Note 2 to entry: Compliance obligations can arise from mandatory requirements, such as applicable laws and regulations, or voluntary commitments, such as organisational and industry standards, contractual relationships, codes of practice and agreements with community groups or non-governmental organisations."]
[null,null,"Conformity","Fulfilment of a requirement.","ISO14001/RC14001"]
[null,null,"Consumer","Individual member of the general public purchasing or using property, products or services for commercial, private or public purposes.","ISO26000"]
[null,null,"Continual improvement","Recurring activity to enhance performance.","ISO14001/RC14001"]
[null,null,null,"Note 1 to entry: Enhancing performance relates to the use of the environmental management system to enhance environmental performance consistent with the organisation’s environmental policy."]
[null,null,null,"Note 2 to entry: The activity need not take place in all areas simultaneously, or without interruption."]
[null,null,"Contractors","External organisation providing services to the organisation in accordance with agreed specifications, terms and conditions. Contractors may include maintenance, construction, operations, security, landscaping, facility upkeep, janitorial, and a number of other functions.","RC14001/ISO45001"]
[null,null,"Corrective action","Action to eliminate the cause of a nonconformity or an incident and to prevent recurrence.","ISO14001/RC14001/ISO45001"]
[null,null,null,"Note 1 to entry: There can be more than one cause for a nonconformity."]
[null,null,"Customers","Organisation or individual member of the general public purchasing property, products or services for commercial, private or public purposes.","ISO26000"]
[null,null,"Distributors","These companies are used by the organisation to sell (often after re-packaging) its products to multiple downstream users. Distributors are different than “resellers” who purchase a material and resell it under their own brand name.","RC14001"]
[null,null,"Documented information","Information required to be controlled and maintained by an organisation and the medium on which it is contained.","ISO14001/RC14001"]
[null,null,null,"Note 1 to entry: Documented information can be in any format and media, and from any source. "]
[null,null,null,"Note 2 to entry: Documented information can refer to:"]
[null,null,null,"•       the environmental management system, including related processes;"]
[null,null,null,"•       information created in order for the organisation to operate (can be referred to as documentation);"]
[null,null,null,"•       evidence of results achieved (can be referred to as records)."]
[null,null,"Downstream users","Any natural or legal person established within the Community, other than the manufacturer or the importer, who uses a substance, either on its own or in a preparation, in the course of his industrial or professional activities. A distributor or a consumer is not a downstream user.","article 3(13) of REACH"]
[null,null,"Ecodesign","Integration of environmental aspects into product design and development, with the aim of reducing adverse environmental impacts throughout a product's life cycle.","ISO14006"]
[null,null,"Ecosystem services","The benefits people receive from ecosystems. Ecosystem services can be divided into four broad areas: provisioning services (e.g. freshwater, timber), regulating services (e.g. climate regulation, pollination), cultural services (e.g. recreation, spiritual values) and supporting services (e.g. nutrient cycling, soil formation). ","Cefic - Biodiversity and Ecosystem services What are they all about?"]
[null,null,"Effectiveness","Extent to which planned activities are realised and planned results achieved.","ISO14001/RC14001"]
[null,null,"EMAS IV (2017)","EMAS Regulation refers to Regulation (EC) No 1221/2009 of the European Parliament and of the Council of 25 November 2009 on the voluntary participation by an organisation in a Community eco-management and audit scheme (EMAS), repealing Regulation (EC) 761/2001 and Commission Decisions 2001/681/EC and 2006/193/EC, and known as EMAS III (Official Journal of the European Communities L 342 of 22 December 2009). Annexes I, II and III of the EMAS Regulation were amended by Commission Regulation (EU) 2017/1505, which came into force on 18 September 2017.","http://ec.europa.eu/environment/emas/emas_publications/policy_en.htm"]
[null,null,"Employee","Individual in a relationship recognised as an “employment relationship” in national law or practice","ISO26000"]
[null,null,"Energy baseline (EnB)","Quantitative reference(s) providing a basis for comparison of energy performance.","ISO50001"]
[null,null,null,"Note 1 to entry: An energy baseline is based on data from a specified period of time and/or conditions, as defined by the organisation."]
[null,null,"Energy efficiency","Ratio or other quantitative relationship between an output of performance, service, goods, commodities, or energy, and an input of energy.","ISO50001"]
[null,null,null,"Example: Conversion efficiency; energy required/energy consumed."]
[null,null,null,"Note 1 to entry: Both input and output should be clearly specified in terms of quantity and quality and be measurable."]
[null,null,"Energy performance indicator value (EnPI)","Quantification of the EnPI at a point in or over a specified period of time.","ISO50001"]
[null,null,"Energy use","Application of energy. Example: Ventilation; lighting; heating; cooling; transportation; data storage; production process.","ISO50001"]
[null,null,"Environment","Natural surroundings in which an organisation operates, including air, water, land, natural resources, flora, fauna, humans and their interrelationships.","ISO14001/RC14001/ISO26000"]
[null,null,null,"Note 1 to entry: Surroundings can extend from within an organisation to the local, regional and global system."]
[null,null,null,"Note 2 to entry: Surroundings can be described in terms of biodiversity, ecosystems, climate or other characteristics."]
[null,null,"Environmental aspect","Element of an organisation’s activities or products or services that interacts or can interact with the environment.","ISO14001/RC14001"]
[null,null,null,"Note 1 to entry: An environmental aspect can cause (an) environmental impact(s). A significant environmental aspect is one that has or can have one or more significant environmental impact(s)."]
[null,null,null,"Note 2 to entry: Significant environmental aspects are determined by the organisation applying one or more criteria."]
[null,null,"Environmental condition","State or characteristic of the environment as determined at a certain point in time.","ISO14001/RC14001"]
[null,null,"Environmental performance criteria","Environmental objective, target, or other intended level of environmental performance set by the management of the organisation and used for the purpose of environmental performance evaluation.","ISO14050"]
[null,null,"Environmental impact","Change to the environment, whether adverse or beneficial, wholly or partially resulting from an organisation’s environmental aspects.","ISO14001/RC14001"]
[null,null,"Environmental management system","Part of the management system used to manage environmental aspects, fulfil compliance obligations, and address risks and opportunities.","ISO14001/RC14001"]
[null,null,"Environmental objective","Objective set by the organisation consistent with its environmental policy.","ISO14001/RC14001"]
[null,null,"Environmental performance","Performance related to the management of environmental aspects.","ISO14001/RC14001"]
[null,null,null,"Note 1 to entry: For an environmental management system, results can be measured against the organisation’s environmental policy, environmental objectives or other criteria, using indicators."]
[null,null,"Ethical behaviour","Behaviour that is in accordance with accepted principles of right or good conduct in the context of a particular situation and is consistent with international norms of behaviour. International norms of behaviour are the expectations of socially responsible organisational behaviour derived from customary international law, generally accepted principles of international law, or intergovernmental agreements (including treaties and conventions) that are universally or nearly universally recognised.","ISO26000"]
[null,null,"GHG scope 1, 2 & 3 emissions","The GHG Protocol Corporate Standard classifies a company’s GHG emissions into three ‘scopes’. Scope 1 emissions are direct emissions from owned or controlled sources. Scope 2 emissions are indirect emissions from the generation of purchased energy. Scope 3 emissions are all indirect emissions (not included in scope 2) that occur in the value chain of the reporting company, including both upstream and downstream emissions.","GHG protocol"]
[null,null,"GHS","The Globally Harmonised System of Classification and Labelling of Chemicals is an internationally agreed-upon standard managed by the United Nations for classifying and labelling chemicals which can be regarded as the basis for a sound chemical management.","GHS"]
[null,null,"Hazard","An actual or potential situation that poses a threat to life, health, property, the environment or the workplace or a combination of these.","RC14001/RCMS"]
[null,null,"Incident","Occurrence arising out of, or in the course of, work that could or does result in injury and ill health.","ISO45001"]
[null,null,null,"Note 1 to entry: An incident where injury and ill health occurs is sometimes referred to as an “accident”."]
[null,null,null,"Note 2 to entry: An incident where no injury and ill health occurs but has the potential to do so may be referred to as a “near-miss”, “near-hit” or “close call”."]
[null,null,null,"Note 3 to entry: Although there can be one or more nonconformities related to an incident, an incident can also occur where there is no nonconformity."]
[null,null,"Indicator","Measurable representation of the condition or status of operations, management or conditions.","RC14001"]
[null,null,"ISO 9001:2015 Quality management","ISO 9001:2015 sets out the criteria for a quality management system. This standard is based on a number of quality management principles including a strong customer focus, the motivation and implication of top management, the process approach and continual improvement. Using ISO 9001:2015 helps ensure that customers get consistent, good quality products and services, which in turn brings many business benefits.","www.iso.org"]
[]
[null,null,"ISO14001:2015: Environmental management systems -- Requirements with guidance for use","ISO 14001:2015 specifies the requirements for an environmental management system that an organisation can use to enhance its environmental performance. ISO 14001:2015 is intended for use by an organisation seeking to manage its environmental responsibilities in a systematic manner that contributes to the environmental pillar of sustainability. ISO 14001:2015 helps an organisation achieve the intended outcomes of its environmental management system, which provide value for the environment, the organisation itself and interested parties. Consistent with the organisation's environmental policy, the intended outcomes of an environmental management system include:","www.iso.org"]
[null,null,null,"·enhancement of environmental performance;"]
[null,null,null,"·fulfilment of compliance obligations;"]
[null,null,null,"·achievement of environmental objectives."]
[null,null,null,"ISO 14001:2015 is applicable to any organisation, regardless of size, type and nature, and applies to the environmental aspects of its activities, products and services that the organisation determines it can either control or influence considering a life cycle perspective."]
[null,null,"ISO45001:2018: Occupational health and safety management systems -- Requirements with guidance for use","ISO 45001:2018 specifies requirements for an occupational health and safety (OH&S) management system, and gives guidance for its use, to enable organisations to provide safe and healthy workplaces by preventing work-related injury and ill health, as well as by proactively improving their OH&S performance. ISO 45001:2018 is applicable to any organisation that wishes to establish, implement and maintain an OH&S management system to improve occupational health and safety, eliminate hazards and minimise OH&S risks (including system deficiencies), take advantage of OH&S opportunities, and address OH&S management system nonconformities associated with its activities. ISO 45001:2018 helps an organisation to achieve the intended outcomes of its OH&S management system. Consistent with the organisation's OH&S policy, the intended outcomes of an OH&S management system include:","www.iso.org"]
[null,null,null,"a) continual improvement of OH&S performance;"]
[null,null,null,"b) fulfilment of legal requirements and other requirements;"]
[null,null,null,"c) achievement of OH&S objectives."]
[null,null,null,"This standard replaces the previous OHSAS 18001 (transition possible till 2021)."]
[null,null,"ISO50001:2018: Energy management systems -- Requirements with guidance for use","This standard specifies requirements for establishing, implementing, maintaining and improving an energy management system (EnMS). The intended outcome is to enable an organisation to follow a systematic approach in achieving continual improvement of energy performance and the EnMS.","www.iso.org"]
[]
[null,null,"ISO26000:2010: Guidance on social responsibility","ISO 26000 provides guidance on how businesses and organisations can operate in a socially responsible way. This means acting in an ethical and transparent way that contributes to the health and welfare of society. This standard provides guidance but no requirements as it is not certifiable.","www.iso.org"]
[]
[null,null,"Lagging indicators","Lagging indicators measure a company’s incidents in the form of past accident statistics. Lagging indicators are the traditional safety metrics used to indicate progress towards compliance with safety rules. These are the bottom-line numbers that evaluate the overall effectiveness of safety at your facility.","Ergonomics Plus (ergo-plus.com)"]
[null,null,"Leading indicators","A leading indicator is a measure preceding or indicating a future event used to drive and measure activities carried out to prevent and control injury. Leading indicators are focused on future safety performance and continuous improvement. These measures are proactive in nature and report what employees are doing on a regular basis to prevent injuries.","Ergonomics Plus (ergo-plus.com)"]
[null,null,"Life cycle","Consecutive and interlinked stages of a product (or service) system, from raw material acquisition or generation from natural resources to final disposal.","ISO14001/RC14001"]
[null,null,null,"Note 1 to entry: The life cycle stages include acquisition of raw materials, design, production, transportation/delivery, use, end-of-life treatment and final disposal."]
[null,null,"Logistics providers","A category of companies which may include, but is not limited to, providers of transportation services other services related to the movement of products and/or supplies.","RC14001"]
[null,null,"Management of Change (MoC)","Procedure used when making a change to the process equipment or operating procedures to detail changes made and to document steps taken to inform and train operating personnel and relevant stakeholders on process changes.","ISO27914"]
[null,null,"Management system","Set of interrelated or interacting elements of an organisation to establish policies and objectives and processes to achieve those objectives.","ISO14001/RC14001"]
[null,null,null,"Note 1 to entry: A management system can address a single discipline or several disciplines (e.g. quality, environment, occupational health and safety, energy, financial management)."]
[null,null,null,"Note 2 to entry: The system elements include the organisation’s structure, roles and responsibilities, planning and operation, performance evaluation and improvement."]
[null,null,null,"Note 3 to entry: The scope of a management system can include the whole of the organisation, specific and identified functions of the organisation, specific and identified sections of the organisation, or one or more functions across a group of organisations."]
[null,null,"Materiality","Materiality assessment is a principle to help define and determine the business, social and environmental topics that matter most to a business and its stakeholders."]
[null,null,null,"A material topic is a topic that reflects a reporting organisation’s significant economic, environmental and social impacts; or that substantively influences the assessments and decisions of stakeholders","GRI Standards 2018"]
[null,null,"Measurement","Process to determine a value.","ISO14001/RC14001"]
[null,null,"Monitoring","Determining the status of a system, a process or an activity.","ISO14001/RC14001"]
[null,null,null,"Note 1 to entry: To determine the status, there might be a need to check, supervise or critically observe."]
[null,null,"Nonconformity","Non-fulfilment of a requirement. Any deviation from planned activities within the management system requirements that an organisation establishes for itself. For example, if the plant’s incident tracking system requires health and safety incidents to be recorded in a database within 48 hours of the occurrence, any incident that was not recorded or recorded after 48 hours would be considered a Nonconformance.","ISO14001/RC14001/RCMS"]
[null,null,"Objective","Result to be achieved.","ISO14001/RC14001"]
[null,null,null,"Note 1 to entry: An objective can be strategic, tactical, or operational."]
[null,null,null,"Note 2 to entry: Objectives can relate to different disciplines (such as financial, health and safety, and environmental goals) and can apply at different levels (such as strategic, organisation-wide, project, product, service and process)."]
[null,null,null,"Note 3 to entry: An objective can be expressed in other ways, e.g. as an intended outcome, a purpose, an operational criterion, as an environmental objective, or by the use of other words with similar meaning (e.g. aim, goal, or target)."]
[null,null,"Occupational health and safety management system (OH&S MS)","Management system or part of a management system used to achieve the OH&S policy.","ISO45001"]
[null,null,null,"Note 1 to entry: The intended outcomes of the OH&S management system are to prevent injury and ill health to workers and to provide safe and healthy workplaces."]
[null,null,"Organisation","Entity or group of people with an arrangement of responsibilities, authorities and relationships to achieve its objectives.","ISO14001/RC14001/ISO26000"]
[null,null,null,"Note 1 to entry: The concept of organisation includes, but is not limited to sole-trader, company, corporation, firm, enterprise, authority, partnership, charity or institution, or part or combination thereof, whether incorporated or not, public or private."]
[null,null,"Performance","Measurable result.","ISO14001/RC14001"]
[null,null,null,"Note 1 to entry: Performance can relate either to quantitative or qualitative findings."]
[null,null,null,"Note 2 to entry: Performance can relate to the management of activities, processes, products (including services), systems or organisations."]
[null,null,"Performance indicator","Measure or unit of performance, as defined by the organisation.","ISO50001"]
[null,null,"(Environmental) Policy","Intentions and direction of an organisation related to (environmental) performance, as formally expressed by its top management.","ISO14001/RC14001"]
[null,null,"Portfolio Sustainability Assessment ","A methodology for companies or whole sectors in developing high quality approaches to assess the sustainability of their activities, or segments of them.","WBCSD"]
[null,null,"Prevention of pollution","Use of processes, practices, techniques, materials, products, services or energy to avoid, reduce or control (separately or in combination) the creation, emission or discharge of any type of pollutant or waste, in order to reduce adverse environmental impacts.","ISO14001/RC14001"]
[null,null,null,"Note 1 to entry: Prevention of pollution can include source reduction or elimination; process, product or service changes; efficient use of resources; material and energy substitution; reuse; recovery; recycling, reclamation; or treatment."]
[null,null,"Procedure","Specified way to carry out an activity or a process.","ISO45001"]
[null,null,null,"Note 1 to entry: Procedures may be documented or not."]
[null,null,"Process","Set of interrelated or interacting activities which transforms inputs into outputs.","ISO14001/RC14001/ISO50001"]
[null,null,null,"Note 1 to entry: A process can be documented or not."]
[null,null,null,"Note 2 to entry: A process related to an organisation’s activities can be:"]
[null,null,null,"•       physical (e.g. energy-using processes, such as combustion), or"]
[null,null,null,"•       business or service (e.g. order fulfilment)."]
[null,null,"Process safety","Process Safety is a disciplined framework for managing the integrity of operating systems and processes handling hazardous substances by applying good design principles, engineering, and operating practices. It deals with the prevention and control of incidents that have the potential to release hazardous materials or energy. Such incidents can cause toxic effects, fire, or explosion and could ultimately result in serious injuries, property damage, lost production, and environmental impact.","www.aiche.org"]
[null,null,"Product Safety","Product safety management requires an understanding of intended product uses, a science-based assessment of potential risks from products, and consideration of the opportunities to manage product safety along the value chain. A key component of managing product safety by parties in the value chain is exchanging information regarding product hazards, intended uses, handling practices, exposures and risks.","RC14001"]
[null,null,"Product Stewardship","Product stewardship directs participants involved in the life cycle of a product to take shared responsibility for understanding, managing and communicating the impacts on human health and the environment that result from the development, production, use, distribution and end-of-life management of the product. This helps companies and their partners to promote safe and environmentally sustainable use of products.","RCMS"]
[null,null,"Product stewardship information","Information elements that may be made publicly available include, but are not limited to:","RC14001"]
[null,null,null,"•       Chemical identity (or category description)"]
[null,null,null,"•       Uses - applications, functions"]
[null,null,null,"•       Physical/chemical properties"]
[null,null,null,"•       Health effects"]
[null,null,null,"•       Environmental effects"]
[null,null,null,"•       Exposure - exposure potential"]
[null,null,null,"•       Risk management - recommended measures"]
[null,null,null,"Other elements that might strengthen a company’s stewardship message, may also be included."]
[null,null,"Recycling","Recycling means any recovery operation by which waste materials are reprocessed into products, materials or substances whether for the original or other purposes. It includes the reprocessing of organic material but does not include energy recovery and the reprocessing into materials that are to be used as fuels or for backfilling operations ","Waste Framework Directive"]
[null,null,"Renewable raw materials","Renewable raw materials are raw materials not originating from a fossil or finite mineral source. They can be generated endlessly based on natural processes or renewable energy. ","Management for a Small Planet\" by Jean Garner Stead and W. Edward Stead, M.E. Sharpe 2009"]
[null,null,"Requirement","Need or expectation that is stated, generally implied or obligatory.","ISO14001/RC14001"]
[null,null,null,"Note 1 to entry: “Generally implied” means that it is customary or common practice for the organisation and interested parties that the need or expectation under consideration is implied."]
[null,null,null,"Note 2 to entry: A specified requirement is one that is stated, for example in documented information."]
[null,null,null,"Note 3 to entry: Requirements other than legal requirements become obligatory when the organisation decides to comply with them."]
[null,null,"Responsible Care ","An international environment, health and safety (in some cases also includes security) performance improvement initiative of the chemical industry. Responsible Care is based on the concepts of continual improvement and openness in responding to the concerns of stakeholders about the industry’s operations and products.","RC14001"]
[null,null,"RC14001","It is a technical specification which combines elements of the American Chemistry Council's (ACC) Responsible Care® initiative with those of the ISO Environmental Management Systems Standard, ISO 14001:2015. Formally adopted by the Responsible Care Programmes in USA and Canada and individual companies (some ACC members, some independent of ACC) have elected to seek certification against it in other parts of the world (e.g. Europe, Brazil, China, India, Australia and Middle East).","ACC website"]
[null,null,"(2015 edition)                 "]
[null,null,"RCMS:2013","Responsible Care Management System (RCMS) is a Technical Specification from ACC. In USA and Canada Responsible Care companies can choose either to certificate to RC14001 or to RCMS. ","ACC website"]
[null,null,"Re-use","‘re-use’ means any operation by which products or components that are not waste are used again for the same purpose for which they were conceived","Waste Framework Directive"]
[null,null,"Risk","Effect of uncertainty.","ISO14001/RC14001"]
[null,null,null,"Note 1 to entry: An effect is a deviation from the expected — positive or negative."]
[null,null,null,"Note 2 to entry: Uncertainty is the state, even partial, of deficiency of information related to, understanding or knowledge of, an event, its consequence, or likelihood."]
[null,null,null,"Note 3 to entry: Risk is often characterised by reference to potential “events” (as defined in ISO Guide 73:2009, 3.5.1.3) and “consequences” (as defined in ISO Guide 73:2009, 3.6.1.3), or a combination of these."]
[null,null,null,"Note 4 to entry: Risk is often expressed in terms of a combination of the consequences of an event (including changes in circumstances) and the associated “likelihood” (as defined in ISO Guide 73:2009, 3.6.1.1) of occurrence."]
[null,null,"Risk assessment","Overall process comprising a risk analysis and a risk evaluation.","ISO14971"]
[null,null,"Risks and opportunities","Potential adverse effects (threats) and potential beneficial effects (opportunities).","ISO14001/RC14001"]
[null,null,"Root cause analysis (RCA)","Process of identifying all root causes that have or may have resulted in an undesirable condition, situation, nonconformity or failure.","ISO18238"]
[null,null,"Secondary raw materials","Secondary raw materials are end-of-waste materials that have left the waste status and are ready for introduction into a new lifecycle as a raw material.","http://www.europarl.europa.eu/legislative-train/theme-new-boost-for-jobs-growth-and-investment/file-strategy-for-secondary-raw-materials"]
[null,null,"Significant energy use (SEU)","Energy use accounting for substantial energy consumption and/or offering considerable","ISO50001"]
[null,null,null,"potential for energy performance improvement."]
[null,null,null,"Note 1 to entry: Significance criteria are determined by the organisation."]
[null,null,null,"Note 2 to entry: SEUs can be facilities, systems, processes, or equipment."]
[null,null,"Social Responsibility","Responsibility of an organisation for the impacts of its decisions and activities (incl. products, services and processes) on society and the environment, through transparent and ethical behaviour that:","ISO26000"]
[null,null,null,"•       Contributes to sustainable development, including health and the welfare of society;"]
[null,null,null,"•       Takes into account the expectations of stakeholders;"]
[null,null,null,"•       Is in compliance with applicable law and consistent with international norms of behaviour; and"]
[null,null,null,"•       Is integrated throughout the organisation and practised in its relationships."]
[null,null,"Stakeholders or interested parties","Person or group that can affect, be affected by, or perceive itself to be affected by a decision or activity of an organisation. Stakeholders can be governments, customers, communities, suppliers, non-governmental organisations, investors, neighbours, employees, and anyone else with a personal stake in the organisation’s operations.","ISO14001/RC14001/ISO26000/RCMS"]
[null,null,null,"Note 1 to entry: To “perceive itself to be affected” means the perception has been made known to the organisation."]
[null,null,"Stop Work Authority","Stop Work Authority is a programme that provides all operator and contractor/service personnel, directly or indirectly involved with the operation, with the responsibility and authority to cease work until a review of the activity can be concluded, and it has been found safe to resume such activity.","API  Bulletin 97, Well Construction Interface Document Guidelines, First Edition, December 2013"]
[null,null,"Suppliers","Most typically defined as providers of raw materials needed for the company’s production operations. This can also be defined as providers of maintenance chemicals, equipment, and, in some cases, services. For this reason, some companies define contractors as a sub-category of suppliers.","RC14001"]
[null,null,"Supply chain","Sequence of activities or parties that provides products or services to the organisation.","ISO26000"]
[null,null,"Sustainable development","Development that meets the needs of the present without compromising the ability of future generations to meet their own needs.","ISO26000"]
[null,null,"Sustainable development goals (SDGs)","The Sustainable Development Goals are a collection of 17 global goals set by the United Nations General Assembly in 2015. The SDGs cover social and economic development issues including poverty, hunger, health, education, global warming, gender equality, water, sanitation, energy, urbanisation, environment and social justice.","UN"]
[null,null,null,"More information can be find here: "]
[null,null,null,"https://sustainabledevelopment.un.org/?menu=1300"]
[null,null,"Third-Party Providers","Any company associated with an organisation’s activities that does not clearly fall into the categories previously identified in the clause. These may include warehouses, terminals, agents, waste disposal contractors, etc.","RC14001"]
[null,null,"Top management or senior management","Person or group of people who directs and controls an organisation at the highest level.","ISO14001/RC14001"]
[null,null,null,"Note 1 to entry: Top management has the power to delegate authority and provide resources within the organisation."]
[null,null,null,"Note 2 to entry: If the scope of the management system covers only part of an organisation, then top management refers to those who direct and control that part of the organisation."]
[null,null,"Transparency","Openness about decisions and activities that affect society, the economy and the environment, and willingness to communicate these in a clear, accurate, timely, honest and complete manner.","ISO26000"]
[null,null,"Value Chain","The chemistry value chain includes the entire sequence of activities that are required to bring a chemistry-related output from its conception to its end use (e.g. design, procurement, production, and distribution). Value chain activities can be contained within a single organisation or divided among different organisations, and can be contained within a single geographical location or spread over wider areas.","RC14001"]
[null,null,"Workplace","Place under the control of the organisation where a person needs to be or to go for work purposes.","ISO45001"]

{"sheet":"Firmeninformationen","index":3,"n_rows":33,"n_cols":5,"rows_kept":33,"cut":false,"hidden":false,"merged":[[25,1,30,2]]}
[null,"Das Ausfüllen dieser Seite ist optional. Hier können Sie Informationen über Ihre Organisation mitteilen und das Jahr, in dem Sie den Fragebogen ausgefüllt haben, anzugeben. Dies dient Ihnen zur Erfassungs- und Vergleichszwecken."]
[]
[null,"Name des Unternehmens"]
[]
[null,"Sektor",null,null,"(z. B. Chemie, Arzneimittel, Polymerherstellung usw.)"]
[]
[null,"Größe der Organisation:"]
[null,"Anzahl der Mitarbeiter in VZÄ (Vollzeitäquivalent)"]
[null,"Anzahl der Werke/Standorte",null,null,"Es steht Ihnen frei, das Tool für ein einzelnes Werk (1 angeben), eine Kombination aus mehreren Werken oder die gesamte rechtliche Einheit zu verwenden."]
[]
[null,"Responsible Care – Rückblick (Jahr der Aufnahme von RC-Aktivitäten)",null,null,"Seit wann verfolgt Ihre Organisationen RC-Aktivitäten?"]
[]
[null,"Name der ausfüllenden Person"]
[]
[null,"Funktion der ausfüllenden Person innerhalb der Organisation",null,null,"(z. B. Leiter Gesundheit Sicherheit, Umweltschutz / GSU, Umweltingenieur, Werksleiter)"]
[]
[null,"Falls der Fragebogen von mehreren Personen ausgefüllt wird, sind deren Namen und Funktionen zu nennen."]
[]
[null,"Namen","Funktion",null,"Bei Bedarf zusätzliche Zeile/n einfügen"]
[]
[]
[]
[]
[]
[null,"Allgemeine Anmerkungen"]
[]
[]
[]
[]
[]
[]
[]
[null,"Sind Sie mit der Verwendung Ihrer Ergebnisse in einem anonymen Benchmarking einverstanden?"]

{"sheet":"Kapitel 1","index":4,"n_rows":112,"n_cols":15,"rows_kept":112,"cut":false,"hidden":false,"merged":[[99,3,99,4],[107,3,107,4],[97,5,103,5],[105,5,111,5],[33,3,33,4],[5,3,5,4],[73,3,73,4],[85,3,85,4],[91,3,91,4],[79,3,79,4],[27,3,27,4],[45,3,45,4],[53,3,53,4],[3,5,15,5],[17,5,23,5],[25,5,49,5],[51,5,69,5],[71,5,95,5],[6,6,9,9],[12,6,15,9],[20,6,23,9],[28,6,31,9],[34,6,37,9],[40,6,43,9],[46,6,49,9],[39,3,39,4],[54,6,57,9],[60,6,63,9],[66,6,69,9],[108,6,111,9],[74,6,77,9],[80,6,83,9],[86,6,89,9],[92,6,95,9],[100,6,103,9]]}
[null,"KAPITEL 1: Führungskultur im Unternehmen",null,null,null,null,null,null,null,null,null,null,null,{"$f":"IF(O1=\"\",\"\",\"Still to do\")","v":""},{"$f":"'Start & voreingestellte Fragen'!$G$9","v":""}]
[null,null,null,null,null,null,"Nur eine der Möglichkeiten auswählen"]
[]
[null,"Umfang & Verpflichtung",null,null,null,{"$f":"B4","v":"Umfang & Verpflichtung"}]
[null,null,null,null," "]
[null,{"$f":"COUNTIF(C7:C112,\"uneinheitlich\")","v":0},"F1.1","In welcher Weise wird die Verpflichtung zur Einhaltung gesetzlicher und sonstiger Vorschriften („Compliance“) sowie der Grundsätze von Responsible Care (d. h. Schutz und Förderung der Gesundheit & Sicherheit von Menschen und Umwelt sowie Nachhaltigkeit) auf allen Ebenen der Organisation dargelegt?",null,null,{"$f":"C6","v":"F1.1"},"Notizen"]
[null,null,{"$f":"IF(COUNTIF(K7:K10,TRUE)=0,\"unvollständig\",IF(COUNTIF(K7:K10,TRUE)=1,\"\",\"uneinheitlich\"))","v":""},"a)","Die oberste Führungsebene („Top Management“) hat sich RC & Compliance verpflichtet, diese Verpflichtung wurde bislang aber noch nicht formell als Unternehmenspolitik zum Ausdruck gebracht.",null,null,null,null,null,true]
[null,null,null,"b)","Eine Unternehmenspolitik wurde festgelegt. Sie ist jedoch der Öffentlichkeit noch nicht zugänglich und beinhaltet nur eine Verpflichtung für einige der Themen in den Bereichen Gesundheit, Sicherheit, Umwelt, Energie & Nachhaltigkeit.",null,null,null,null,null,false]
[null,null,null,"c)","Die Unternehmenspolitik wird intern kommuniziert. Sie ist der Öffentlichkeit zugänglich und beinhaltet die Verpflichtung, alle gesetzlichen und sonstigen Vorschriften zu erfüllen („Compliance“) & zu kontinuierlicher Verbesserung im Rahmen von Responsible Care. Ebenfalls beinhaltet sie die Verpflichtung, die Leistung in den Bereichen Gesundheit & Sicherheit, Umwelt, Energie & Nachhaltigkeit zu steuern.",null,null,null,null,null,false]
[null,null,null,"d)","Die Unternehmenspolitik wird aktiv an externe Gruppen kommuniziert & ist der Öffentlichkeit zugänglich. Sie wird durch sichtbare Führung und Beteiligung der oberste Führungsebene („Top Management“) und allen anderen Ebenen der Organisation unterstützt. Die Unternehmenspolitik wird in allen Geschäftsprozessen umgesetzt.",null,null,null,null,null,false]
[null,null,null,null," "]
[null,null,"F1.2","Wie steuert die Organisation die relevanten Risiken und Chancen?",null,null,{"$f":"C12","v":"F1.2"},"Notizen"]
[null,null,{"$f":"IF(COUNTIF(K13:K16,TRUE)=0,\"unvollständig\",IF(COUNTIF(K13:K16,TRUE)=1,\"\",\"uneinheitlich\"))","v":""},"a)","Die Organisation steuert Risiken entsprechend den gesetzlichen Anforderungen",null,null,null,null,null,true]
[null,null,null,"b)","Die Organisation hat ebenfalls interne und externe Fragen und Probleme („issues“), die relevant für die Zwecke und Ziele der Organisation sind, identifiziert. Jedoch hat die Organisation noch nicht festgestellt, wo die Risiken und Chancen für sie liegen.",null,null,null,null,null,false]
[null,null,null,"c)","Die Organisation hat interne und externe Fragen und Probleme („issues“) mit einer Schlüsselrolle identifiziert und festgestellt, wo die Risiken und Chancen für die Organisation und die beabsichtigten Ergebnisse in den Bereichen Gesundheit, Sicherheit, Umwelt, Energie & Nachhaltigkeit liegen",null,null,null,null,null,false]
[null,null,null,"d)","Die Organisation hat Fragen und Probleme („issues“) identifiziert und festgestellt, wo die Risiken und Chancen für die Organisation liegen. Die Organisation hat sich diesen Fragen und Problemen in proaktiver Weise – d. h. durch Maßnahmen und regelmäßige Bewertungen – gestellt",null,null,null,null,null,false]
[]
[null,"Compliance",null,null,null,{"$f":"B18","v":"Compliance"}]
[null,null,null,null," "]
[null,null,"F1.3","In welcher Weise erfüllt die Organisation ihre gesetzlichen Verpflichtungen?",null,null,{"$f":"C20","v":"F1.3"},"Notizen"]
[null,null,{"$f":"IF(COUNTIF(K21:K24,TRUE)=0,\"unvollständig\",IF(COUNTIF(K21:K24,TRUE)=1,\"\",\"uneinheitlich\"))","v":""},"a)","Die Organisation beobachtet die Entwicklungen im Bereich der Gesetzgebung",null,null,null,null,null,false]
[null,null,null,"b)","Die Leitung der Organisation hat eine Abteilung/einen Mitarbeiter benannt, die/der dafür verantwortlich ist, die gesetzlichen Vorschriften in den Bereichen Gesundheit, Sicherheit, Energie und Umweltschutz zu dokumentieren und den Grad zu bewerten, mit dem die Organisation den geltenden Gesetzestexten gerecht wird. Zusätzlich besteht ein Verfahren zur Umsetzung der gesetzlichen Verpflichtungen",null,null,null,null,null,true]
[null,null,null,"c)","Die Organisation verfolgt eine proaktive Haltung, indem sie in mit den örtlichen Behörden in Dialog steht",null,null,null,null,null,false]
[null,null,null,"d)","Die Organisation arbeitet mit Behörden in der Vorbereitung neuer gesetzlicher Vorschriften oder in der Überarbeitung bestehender Gesetze zusammen",null,null,null,null,null,false]
[]
[null,"Management-Strukturen",null,null,null,{"$f":"B26","v":"Management-Strukturen"}]
[null,null,null,null," "]
[null,null,"F1.4","Wie stellt die oberste Führungsebene („top management“) sicher, dass Aspekte aus den Bereichen Gesundheit, Sicherheit, Umwelt, Energie & Nachhaltigkeit bestimmten Funktionen zugeordnet sind?",null,null,{"$f":"C28","v":"F1.4"},"Notizen"]
[null,null,{"$f":"IF(COUNTIF(K29:K32,TRUE)=0,\"unvollständig\",IF(COUNTIF(K29:K32,TRUE)=1,\"\",\"uneinheitlich\"))","v":""},"a)","Diese Aspekte sind bestimmten Funktionen nicht eindeutig zugeordnet, mit Ausnahme von Aspekten, die sich aus gesetzlichen Verpflichtungen ergeben.",null,null,null,null,null,false]
[null,null,null,"b)","Mit einem operativen Manager steht eine zentrale Person mit Erfahrung in den genannten Aspekten zur Verfügung. Er/Sie berichtet an die oberste Führungsebene und gewährleistet, dass die Organisation die Anforderungen bestimmter Normen/Standards (Gesundheit, Sicherheit, Umwelt, Energie & Nachhaltigkeit) erfüllt und dass die Verfahren die gewünschten Ergebnisse liefern.",null,null,null,null,null,true]
[null,null,null,"c)","Ein Vertreter aller operativen Manager berichtet – als Gruppenvertreter der Organisation – direkt an die oberste Führungsebene. Diese ist für das System, welches die Bereiche Gesundheit, Sicherheit, Umwelt, Energie & Nachhaltigkeit umfasst, verantwortlich",null,null,null,null,null,false]
[null,null,null,"d)","Mittels einer Gruppe bestehend aus Eigentümern, Mitgliedern, leitenden Angestellten und kritischen Anspruchsgruppen (Ausschuss für Gesundheit, Sicherheit, Umwelt, Energie & Nachhaltigkeit), einschließlich der obersten Führungsebene. Darüber hinaus bezieht die Organisation ihre Mitarbeiter in die Entwicklung, Kommunikation und Umsetzung des RC-Programmes ein.",null,null,null,null,null,false]
[null,null,null,null," "]
[null,null,"F1.5","In welcher Weise ist der Vorstand/die Geschäftsleitung der Organisation in den Umgang mit Fragen und Problemen („issues“) in den Bereichen Gesundheit, Sicherheit, Umwelt, Energie & Nachhaltigkeit eingebunden?",null,null,{"$f":"C34","v":"F1.5"},"Notizen"]
[null,null,{"$f":"IF(COUNTIF(K35:K38,TRUE)=0,\"unvollständig\",IF(COUNTIF(K35:K38,TRUE)=1,\"\",\"uneinheitlich\"))","v":""},"a)","Der Vorstand/Die Geschäftsleitung ist nicht unmittelbar eingebunden.",null,null,null,null,null,false]
[null,null,null,"b)","Der Vorstand/Die Geschäftsleitung wird bei wichtigen Fragen und Problemen („issues“) in den Bereichen Gesundheit, Sicherheit, Umwelt, Energie & Nachhaltigkeit um Rat gefragt. Dies geschieht in einem korrektiven Ansatz",null,null,null,null,null,false]
[null,null,null,"c)","Der Vorstand/Die Geschäftsleitung wird einbezogen. Die möglichen Auswirkungen der Managementsysteme für Gesundheit, Sicherheit, Umwelt, Energie & Nachhaltigkeit auf die Geschäftstätigkeit der Organisation (Markenimage, soziale Akzeptanz der Aktivitäten, Unterscheidung von Wettbewerbern, operative Effizienz …) werden kommuniziert",null,null,null,null,null,true]
[null,null,null,"d)","Der Vorstand/Die Geschäftsleitung wird einbezogen. Er/Sie ist ein Botschafter des Systems und geht mit gutem Beispiel voran",null,null,null,null,null,false]
[null,null,null,null," "]
[null,null,"F1.6","Wie werden Verantwortlichkeiten in den Bereichen Gesundheit, Sicherheit, Umwelt, Energie & Nachhaltigkeit in Arbeitsplatzbeschreibungen oder Jahresziele integriert?",null,null,{"$f":"C40","v":"F1.6"},"Notizen"]
[null,null,{"$f":"IF(COUNTIF(K41:K44,TRUE)=0,\"unvollständig\",IF(COUNTIF(K41:K44,TRUE)=1,\"\",\"uneinheitlich\"))","v":""},"a)","Sie werden nicht darin integriert",null,null,null,null,null,false]
[null,null,null,"b)","Sie sind in den Arbeitsplatzbeschreibungen oder Jahreszielen von Personen mit Verantwortlichkeiten in den Bereichen Gesundheit, Sicherheit, Umwelt, Energie & Nachhaltigkeit enthalten",null,null,null,null,null,false]
[null,null,null,"c)","Sie sind in den Arbeitsplatzbeschreibungen oder Jahreszielen aller Führungskräfte („manager“) enthalten",null,null,null,null,null,false]
[null,null,null,"d)","Sie sind in den Arbeitsplatzbeschreibungen oder Jahreszielen aller Mitarbeiter enthalten",null,null,null,null,null,true]
[null,null,null,null," "]
[null,null,"F1.7","Wie werden (Kern-)Prozesse in den Bereichen Gesundheit, Sicherheit, Umwelt, Energie & Nachhaltigkeit gelenkt?",null,null,{"$f":"C46","v":"F1.7"},"Notizen"]
[null,null,{"$f":"IF(COUNTIF(K47:K50,TRUE)=0,\"unvollständig\",IF(COUNTIF(K47:K50,TRUE)=1,\"\",\"uneinheitlich\"))","v":""},"a)","Die Lenkungsstruktur ist nicht definiert",null,null,null,null,null,true]
[null,null,null,"b)","Eine Person ist für die kontinuierliche Verbesserung der Prozesse in der gesamten Organisation verantwortlich.",null,null,null,null,null,false]
[null,null,null,"c)","Es gibt eine verantwortliche Person für die jeweilige Unterorganisation (Einheit, Abteilung …). Für jeden Kernprozess sollten Prozessleistungsindikatoren, die dessen regelmäßige Überprüfung ermöglichen, festgelegt werden",null,null,null,null,null,false]
[null,null,null,"d)","Ein Team unter der Leitung eines Vertreters der obersten Führungsebene kümmert sich um kontinuierliche Verbesserungen und überprüft die Indikatoren. Die für Gesundheit, Sicherheit, Umwelt, Energie & Nachhaltigkeit verantwortliche Person berichtet unmittelbar an die höchste Ebene der Organisation und ist in sie eingebunden",null,null,null,null,null,false]
[]
[null,"Sicherstellung der kontinuierlichen Verbesserung",null,null,null,{"$f":"B52","v":"Sicherstellung der kontinuierlichen Verbesserung"}]
[null,null,null,null," "]
[null,null,"F1.8","In welche Weise stellt die oberste Führungsebene eine kontinuierliche Verbesserung der Leistung in den Bereichen Gesundheit, Sicherheit, Umwelt, Energie & Nachhaltigkeit sicher?",null,null,{"$f":"C54","v":"F1.8"},"Notizen"]
[null,null,{"$f":"IF(COUNTIF(K55:K58,TRUE)=0,\"unvollständig\",IF(COUNTIF(K55:K58,TRUE)=1,\"\",\"uneinheitlich\"))","v":""},"a)","Die oberste Führungsebene führt keine systematischen Überprüfungen zu Gesundheit, Sicherheit, Umwelt, Energie & Nachhaltigkeit durch",null,null,null,null,null,false]
[null,null,null,"b)","Die oberste Führungsebene führt jährliche Überprüfungen der RC-Leistung durch; Aktionspläne werden erstellt",null,null,null,null,null,true]
[null,null,null,"c)","Die oberste Führungsebene überprüft mindestens einmal jährlich die Leistung. Relevante Leistungsindikatoren werden festgelegt; Aktionspläne werden überprüft. Diese Tätigkeiten sind ausgerichtet auf die wichtigsten Risiken und Chancen für die Organisation und entsprechen der Strategie zur Förderung einer kontinuierlichen Verbesserung. Um diese Verbesserung voranzutreiben, werden Ressourcen zugewiesen",null,null,null,null,null,false]
[null,null,null,"d)","Die oberste Führungsebene überprüft mindestens einmal jährlich die Leistung. Relevante Leistungsindikatoren werden festgelegt; Aktionspläne werden überprüft. Diese Tätigkeiten sind ausgerichtet auf die wichtigsten Risiken und Chancen für die Organisation und entsprechen der Strategie zur Förderung einer kontinuierlichen Verbesserung. Um diese Verbesserung voranzutreiben, werden Ressourcen zugewiesen. Darüber hinaus wird im Rahmen der Überprüfung durch die oberste Führungsebene auch die Interaktion mit Anspruchsgruppen erörtert. KPIs werden mindestens vierteljährlich überprüft, um sich abzeichnende Tendenzen so früh wie möglich zu erkennen",null,null,null,null,null,false]
[null,null,null,null," "]
[null,null,"F1.9","Wie wird das interne Auditprogramm durchgeführt?",null,null,{"$f":"C60","v":"F1.9"},"Notizen"]
[null,null,{"$f":"IF(COUNTIF(K61:K64,TRUE)=0,\"unvollständig\",IF(COUNTIF(K61:K64,TRUE)=1,\"\",\"uneinheitlich\"))","v":""},"a)","Für Ziele und Verfahren in den Bereichen Gesundheit, Sicherheit, Umwelt, Energie & Nachhaltigkeit findet kein interner Audit statt",null,null,null,null,null,true]
[null,null,null,"b)","Die interne Auditierung wird von angemessen ausgebildeten und sachkundigen Personen durchgeführt; sie umfasst die internen Verfahren in den Bereichen Gesundheit, Sicherheit, Umwelt, Energie & Nachhaltigkeit. Jedoch gibt es keine Dokumentation, die nachweist, dass die Ergebnisse des Audits mit dem Management besprochen werden",null,null,null,null,null,false]
[null,null,null,"c)","Die Ergebnisse des Audits mit Hinblick auf Gesundheit, Sicherheit, Umwelt, Energie & Nachhaltigkeit werden in der Überprüfung durch das Management erörtert; Tendenzen werden aufgezeigt und Korrekturmaßnahmen werden ergriffen. Das höhere Management („senior management“) wird über die Ergebnisse der Korrekturmaßnahmen informiert.",null,null,null,null,null,false]
[null,null,null,"d)","Die Ergebnisse des Audits werden in der Überprüfung durch das Management erörtert; Tendenzen werden aufgezeigt und Korrekturmaßnahmen werden ergriffen. Das höhere Management („senior management“) wird über die Ergebnisse der Korrekturmaßnahmen informiert. Darüber hinaus werden gemachte Erfahrungen („lessons learned“) und beste Praktiken ausgetauscht, um anderen die Möglichkeit zu geben, zu lernen. Das systematische Vorgehen wird durch eine externe Prüfstelle zertifiziert.",null,null,null,null,null,false]
[null,null,null,null," "]
[null,null,"F1.10","Wie werden Vorfälle untersucht?",null,null,{"$f":"C66","v":"F1.10"},"Notizen"]
[null,null,{"$f":"IF(COUNTIF(K67:K70,TRUE)=0,\"unvollständig\",IF(COUNTIF(K67:K70,TRUE)=1,\"\",\"uneinheitlich\"))","v":""},"a)","Sofern dies nicht gesetzlich vorschrieben ist, werden Vorfälle nicht untersucht.",null,null,null,null,null,false]
[null,null,null,"b)","Schwere Vorfälle werden gemeldet und untersucht, um die Ursache zu erkennen und Abhilfe zu schaffen.",null,null,null,null,null,false]
[null,null,null,"c)","Alle Vorfälle in den Bereichen Gesundheit, Sicherheit, Gefahrenabwehr & Umwelt (einschließlich z. B. Beinahe-Unfälle, Vorfälle und Unfälle an Standorten/auf dem Gelände, Betriebsstörungen, Austritte/Leckagen …) werden systematisch gemeldet und untersucht, um die grundlegende Ursache zu ermitteln, anschließend Abhilfe zu schaffen und ein erneutes Auftreten des Problems zu verhindern",null,null,null,null,null,true]
[null,null,null,"d)","Die Ergebnisse der Untersuchungen werden innerhalb der gesamten Organisation mitgeteilt. Die gewonnenen Erfahrungen („lessons learned“) werden mit vergleichbaren Organisationen und Geschäftspartnern ausgetauscht",null,null,null,null,null,false]
[]
[null,"Ressourcen, Aus- und Weiterbildung, Einbeziehung der Mitarbeiter",null,null,null,{"$f":"B72","v":"Ressourcen, Aus- und Weiterbildung, Einbeziehung der Mitarbeiter"}]
[null,null,null,null," "]
[null,null,"F1.11","In welcher Weise stellt die Organisation die benötigten Verfahren, zeitlichen Mittel und Ressourcen bereit, um Management-Prozesse in den Bereichen Gesundheit, Sicherheit, Umwelt, Energie & Nachhaltigkeit zu verbessern?",null,null,{"$f":"C74","v":"F1.11"},"Notizen"]
[null,null,{"$f":"IF(COUNTIF(K75:K78,TRUE)=0,\"unvollständig\",IF(COUNTIF(K75:K78,TRUE)=1,\"\",\"uneinheitlich\"))","v":""},"a)","Es werden nur Ressourcen, die zur Erfüllung der gesetzlichen Anforderungen („Compliance“) notwendig sind, bereitgestellt",null,null,null,null,null,false]
[null,null,null,"b)","Zeit und Ressourcen für einige Verbesserungen werden auf Ad-hoc-Basis bereitgestellt",null,null,null,null,null,false]
[null,null,null,"c)","Es werden systematisch Ressourcen bereitgestellt, um eine kontinuierliche Verbesserung der Verfahren zu gewährleisten. Diese Ressourcen gründen sich auf Bewertungen („assessments“) und die planvolle Festlegung von Prioritäten.",null,null,null,null,null,true]
[null,null,null,"d)","Die benötigten Ressourcen werden budgetiert, um Verbesserungen zu erreichen. Zeitliche Ressourcen stehen für eine systematische Bewertung („evaluation“) der Umsetzung zur Verfügung",null,null,null,null,null,false]
[null,null,null,null," "]
[null,null,"F1.12","Wie stellt die Organisation sicher, dass Mitarbeiter über die Unternehmenspolitik und Verfahren in den Bereichen Gesundheit, Sicherheit, Umwelt, Energie & Nachhaltigkeit informiert sind?",null,null,{"$f":"C80","v":"F1.12"},"Notizen"]
[null,null,{"$f":"IF(COUNTIF(K81:K84,TRUE)=0,\"unvollständig\",IF(COUNTIF(K81:K84,TRUE)=1,\"\",\"uneinheitlich\"))","v":""},"a)","Es gibt keine interne Kommunikation zu Gesundheit, Sicherheit, Umwelt, Energie & Nachhaltigkeit",null,null,null,null,null,false]
[null,null,null,"b)","Es gibt einige Formen der internen Ad-hoc-Kommunikation zu Themen in den Bereichen Gesundheit, Sicherheit, Umwelt, Energie & Nachhaltigkeit.",null,null,null,null,null,true]
[null,null,null,"c)","Ein interner Kommunikationsplan ist vorhanden und definiert die folgenden Punkte: die Mitteilungen selbst, an wen sie gerichtet sind, wann und mit welchem Kommunikationsmittel sie erfolgen. Dies soll angemessene interne Kommunikation sicherstellen",null,null,null,null,null,false]
[null,null,null,"d)","Zusätzlich zu dem internen Kommunikationsplan wird die Wirksamkeit der Kommunikation gemessen",null,null,null,null,null,false]
[null,null,null,null," "]
[null,null,"F1.13","Wie stellt die Organisation sicher, dass Arbeiter – hinsichtlich der mit ihrer Tätigkeit in Zusammenhang stehenden Aspekten in den Bereichen Gesundheit, Sicherheit, Umwelt, Energie & Nachhaltigkeit – über die erforderlichen Kompetenzen verfügen?",null,null,{"$f":"C86","v":"F1.13"},"Notizen"]
[null,null,{"$f":"IF(COUNTIF(K87:K90,TRUE)=0,\"unvollständig\",IF(COUNTIF(K87:K90,TRUE)=1,\"\",\"uneinheitlich\"))","v":""},"a)","Es sind keine diesbezüglichen Verfahren vorhanden",null,null,null,null,null,true]
[null,null,null,"b)","Die erforderlichen Kompetenzen und der notwendige Schulungsbedarf werden identifiziert. Mitarbeiter in Schlüsselrollen erhalten eine grundlegende Schulung in den Bereichen Gesundheit, Sicherheit, Umwelt, Energie & Nachhaltigkeit",null,null,null,null,null,false]
[null,null,null,"c)","Ebenfalls werden Schulungsprogramme entsprechend den spezifischen Bedürfnissen der Mitarbeiter – sowohl der eigenen Organisation als auch von Fremdfirmen – eingerichtet und beibehalten.",null,null,null,null,null,false]
[null,null,null,"d)","Ein Verfahren des „Management des Wandels“ („management of change“) wird angewandt, um den jeweiligen Stand ihrer Kompetenzen festzustellen, wenn Mitarbeiter innerhalb der Organisation wechseln. Ebenfalls werden die Kompetenzen von Personen geprüft, die Aufgaben wahrnehmen, welche in unmittelbarem Zusammenhang mit Risiken in den Bereichen Gesundheit, Sicherheit, Umwelt, Energie & Nachhaltigkeit stehen, denen die Organisation Priorität eingeräumt hat",null,null,null,null,null,false]
[null,null,null,null," "]
[null,null,"F1.14","Wie ist die Einbeziehung der Mitarbeiter strukturiert?",null,null,{"$f":"C92","v":"F1.14"},"Notizen"]
[null,null,{"$f":"IF(COUNTIF(K93:K96,TRUE)=0,\"unvollständig\",IF(COUNTIF(K93:K96,TRUE)=1,\"\",\"uneinheitlich\"))","v":""},"a)","Es gibt keine aktive Einbeziehung der Mitarbeiter, soweit diese nicht gesetzlich vorgeschrieben ist",null,null,null,null,null,false]
[null,null,null,"b)","Die Organisation informiert Vertreter der Mitarbeiter und Arbeiter über Themen, die sich auf die Organisation auswirken könnten und über Responsible Care.",null,null,null,null,null,false]
[null,null,null,"c)","Die Organisation fördert Eigeninitiativen und nimmt Rückmeldungen („feedback“) aus der Praxis in ihre Überprüfung der Ziele und Verfahren auf. In der Organisation finden regelmäßige Treffen mit Mitarbeitern statt, damit diese ihre Ansichten zu der Unternehmenspolitik in den Bereichen Gesundheit, Sicherheit, Umwelt, Energie & Nachhaltigkeit zum Ausdruck bringen können.",null,null,null,null,null,false]
[null,null,null,"d)","Der Dialog wird in seiner Struktur umgesetzt und seine Wirksamkeit wird regelmäßig bewertet. Vertreter der Arbeiter sind Schlüsselpartner in allen Entscheidungen",null,null,null,null,null,true]
[]
[null,"Dokumentenmanagement",null,null,null,{"$f":"B98","v":"Dokumentenmanagement"}]
[null,null,null,null," "]
[null,null,"F1.15","Wie werden Dokumente aus den Bereichen Gesundheit, Sicherheit, Umwelt, Energie & Nachhaltigkeit verwaltet?",null,null,{"$f":"C100","v":"F1.15"},"Notizen"]
[null,null,{"$f":"IF(COUNTIF(K101:K104,TRUE)=0,\"unvollständig\",IF(COUNTIF(K101:K104,TRUE)=1,\"\",\"uneinheitlich\"))","v":""},"a)","Die Organisation verfügt über eine Dokumentation für die Bereiche Gesundheit, Sicherheit und Umweltschutz. Diese Dokumentation wird regelmäßig überprüft und aktualisiert",null,null,null,null,null,false]
[null,null,null,"b)","Die Aktivitäten der Organisation unterliegen einem umfassenden Paket interner Vorgaben für Abteilungen und Mitarbeiter, welche für Arbeitsschutz, Sicherheit und Umwelt zuständig sind",null,null,null,null,null,true]
[null,null,null,"c)","Ein System zum Dokumentenmanagement ist vorhanden, um sicherzustellen, dass alle relevanten Dokumente (z. B. Flussdiagramme, R&I-Fließschemata, Sicherheitsstudien, Prozessgefahrenanalysen/PHA, Hazop (Hazard and Operability)-Dokumente, Schulungsunterlagen, Wartungs- und Reparaturaufzeichnungen, Dokumente bezüglich aller Ausrüstungsgegenstände, Arbeitsplatzbeschreibungen, Beschreibungen/Zuweisungen von Verantwortlichkeiten, Alarmpläne, Sicherheitsparameter, Energiedaten usw). auf dem neuesten Stand sind, ungültige Dokumente entfernt (aber gespeichert und archiviert) werden und alle beteiligten Mitarbeiter über Zugang entsprechend ihrer Position verfügen",null,null,null,null,null,false]
[null,null,null,"d)","Die internen Vorgaben sind allen Mitarbeitern zugänglich und Standards hinsichtlich der Erwartungen an die Ausübung ihrer beruflichen Tätigkeit und ihr Verhalten (standards of business conduct expectations) sind von allen Mitarbeitern unterzeichnet",null,null,null,null,null,false]
[]
[null,"Management des Wandels („Management of change“ / MoC",null,null,null,{"$f":"B106","v":"Management des Wandels („Management of change“ / MoC"}]
[null,null,null,null," "]
[null,null,"F1.16","In welcher Weise werden Änderungen, die möglicherweise Auswirkungen auf die Bereiche Gesundheit, Sicherheit, Umwelt, Energie & Nachhaltigkeit haben könnten, gesteuert?",null,null,{"$f":"C108","v":"F1.16"},"Notizen"]
[null,null,{"$f":"IF(COUNTIF(K109:K112,TRUE)=0,\"unvollständig\",IF(COUNTIF(K109:K112,TRUE)=1,\"\",\"uneinheitlich\"))","v":""},"a)","Es gibt kein systematisches Management des Wandels",null,null,null,null,null,false]
[null,null,null,"b)","Die Organisation verfügt über ein entsprechendes Verfahren. In dessen Rahmen erfolgen eine Definition der Änderung, Klärung der erforderlichen Dokumente und der Methodik zur Untersuchung der Risikoauswirkung für Anwendung, Aktualisierung, Billigung und Abschluss der Änderung für das Personal. Das Verfahren umfasst Änderungen wie z. B. Einführung eines neuen Stoffes in einen Prozess, Bewertung der spezifischen Risiken sowie der Wechselwirkungen mit anderen Stoffen und mögliche Auswirkungen der Änderung auf Risiken in den Bereichen Technik, Gesundheit, Sicherheit, Umwelt, Energie & Nachhaltigkeit",null,null,null,null,null,true]
[null,null,null,"c)","Die Organisation verfügt über ein Verfahren zum Umgang mit Änderungen (aller Art, einschließlich der Einstufung von Stoffen und Zubereitungen). Das Verfahren gewährleistet die Überarbeitung/Überprüfung von Betriebshandbüchern, Ausrüstungen (einschließlich persönlicher Schutzausrüstungen), Risikobewertungen in den Bereichen Gesundheit, Sicherheit, Umwelt, Energie & Nachhaltigkeit, Genehmigungen und Dokumenten (falls notwendig) sowie die Teilung von Informationen mit an dem Prozess beteiligten Personen. Das Verfahren bestimmt die Personen, die für den MoC-Prozess verantwortlich sind und die Befugnis haben, die Überprüfung der Änderungen zu unterzeichnen/sie als korrekt zu befinden",null,null,null,null,null,false]
[null,null,null,"d)","Die Änderungen (gebilligt in dem MoC-Prozess) werden registriert und sind für das betreffende Personal verfügbar. Das Register wird aktualisiert und gibt jederzeit Auskunft über den gegenwärtigen Stand aller „Change“-Projekte. Das Personal wird informiert; falls notwendig durch eine Schulung zu gebilligten und angewandten Änderungen. Die Schulung muss sicherstellen, dass das Personal weiß, wie mit diesen Änderungen umzugehen ist und wo die geänderten Informationen zugänglich sind",null,null,null,null,null,false]

{"sheet":"Kapitel 2","index":5,"n_rows":282,"n_cols":15,"rows_kept":282,"cut":false,"hidden":false,"merged":[[222,5,245,5],[246,5,269,5],[270,5,281,5],[138,5,149,5],[151,5,163,5],[165,5,189,5],[190,5,201,5],[203,5,221,5],[85,3,85,4],[65,5,83,5],[84,5,101,5],[102,5,119,5],[120,5,137,5],[103,3,103,4],[271,3,271,4],[277,3,277,4],[241,3,241,4],[247,3,247,4],[253,3,253,4],[259,3,259,4],[265,3,265,4],[211,3,211,4],[217,3,217,4],[223,3,223,4],[229,3,229,4],[235,3,235,4],[179,3,179,4],[185,3,185,4],[191,3,191,4],[197,3,197,4],[205,3,205,4],[3,5,22,5],[23,5,39,5],[40,5,63,5],[67,3,67,4],[79,3,79,4],[5,3,5,4],[29,3,29,4],[35,3,35,4],[59,3,59,4],[73,3,73,4],[11,3,11,4],[47,3,47,4],[159,3,159,4],[167,3,167,4],[173,3,173,4],[109,3,109,4],[115,3,115,4],[121,3,121,4],[127,3,127,4],[133,3,133,4],[139,3,139,4],[145,3,145,4],[153,3,153,4],[6,6,9,9],[12,6,15,9],[18,6,21,9],[24,6,27,9],[30,6,33,9],[36,6,39,9],[42,6,45,9],[48,6,51,9],[54,6,57,9],[60,6,63,9],[68,6,71,9],[74,6,77,9],[80,6,83,9],[86,6,89,9],[92,6,95,9],[98,6,101,9],[104,6,107,9],[110,6,113,9],[116,6,119,9],[122,6,125,9],[128,6,131,9],[134,6,137,9],[140,6,143,9],[146,6,149,9],[154,6,157,9],[192,6,195,9],[198,6,201,9],[206,6,209,9],[212,6,215,9],[160,6,163,9],[168,6,171,9],[174,6,177,9],[180,6,183,9],[186,6,189,9],[218,6,221,9],[224,6,227,9],[230,6,233,9],[236,6,239,9],[242,6,245,9],[278,6,281,9],[248,6,251,9],[254,6,257,9],[260,6,263,9],[266,6,269,9],[272,6,275,9]]}
[null,"KAPITEL 2: Schutz von Mensch und Umwelt",null,null,null,null,null,null,null,null,null,null,null,{"$f":"IF(O1=\"\",\"\",\"Still to do\")","v":""},{"$f":"'Start & voreingestellte Fragen'!$G$9","v":""}]
[null,null,null,null,null,null,"Nur eine der Möglichkeiten auswählen"]
[]
[null,"Arbeits- und Gesundheitsschutz",null,null,null,{"$f":"B4","v":"Arbeits- und Gesundheitsschutz"}]
[null,null,null,null," "]
[null,{"$f":"COUNTIF(C7:C282,\"uneinheitlich\")","v":0},"F2.1","In welcher Weise verpflichtet sich die Führung der Organisation zu Arbeits- und Gesundheitsschutz?",null,null,{"$f":"C6","v":"F2.1"},"Notizen"]
[null,null,{"$f":"IF(COUNTIF(K7:K10,TRUE)=0,\"unvollständig\",IF(COUNTIF(K7:K10,TRUE)=1,\"\",\"uneinheitlich\"))","v":""},"a)","Eine Unternehmenspolitik mit einer Verpflichtung zur kontinuierlichen Verbesserung des Schutzes von Gesundheit & Sicherheit ist schriftlich dargelegt",null,null,null,null,null,true]
[null,null,null,"b)","Funktionen und Ressourcen werden definiert und bereitgestellt, um zu gewährleisten, dass die Unternehmenspolitik von allen Beteiligten (einschließlich Fremdfirmen) umgesetzt wird. Ebenso wurden spezifische Ziele definiert; diese werden mit messbaren Spät- oder Frühindikatoren beobachtet.",null,null,null,null,null,false]
[null,null,null,"c)","Auf allen Ebenen der Organisation werden klare Verantwortlichkeiten definiert, um Unfälle zu vermeiden und die Unternehmenspolitik umzusetzen. Im Bereich Gesundheit & Sicherheit tätigen Mitarbeitern wurden klare Ziele vorgegeben, um – entsprechend ihrer jeweiligen Verantwortungsebene – zu der Leistung beizutragen.",null,null,null,null,null,false]
[null,null,null,"d)","Die Mitarbeiter werden in die Entwicklung der Unternehmenspolitik einbezogen und tragen zu dem Ergebnis der Organisation bei. Hier fühlen sich alle Mitarbeiter angesprochen und verantwortlich („taking ovnership“).",null,null,null,null,null,false]
[null,null,null,null," "]
[null,null,"F2.2","In welcher Weise werden Risiken und Expositionen in den Bereichen Gesundheit & Sicherheit festgestellt?",null,null,{"$f":"C12","v":"F2.2"},"Notizen"]
[null,null,{"$f":"IF(COUNTIF(K13:K16,TRUE)=0,\"unvollständig\",IF(COUNTIF(K13:K16,TRUE)=1,\"\",\"uneinheitlich\"))","v":""},"a)","Nicht systematisch, aber in Einklang mit den geltenden gesetzlichen Vorschriften",null,null,null,null,null,true]
[null,null,null,"b)","Für jedes Verfahren, jede Ausrüstung und jeden Standort werden die möglichen Risiken für Gesundheit und Sicherheit im normalen Betriebsablauf und in einer verschlechterten Situation in Zusammenhang mit einem veränderten oder anormalen Betrieb identifiziert und beschrieben. Expositionsbewertungen und Sicherheitsanalysen werden durchgeführt, um Sicherheitsgefährdungen der Mitarbeiter durch Verfahren, Ausrüstungen, potentiell gefährliche chemische, physikalische oder biologische Stoffe oder veränderte Arbeitsbedingungen zu bewerten; Schutzmaßnahmen werden umgesetzt.",null,null,null,null,null,false]
[null,null,null,"c)","Besondere Situationen und persönliche Besonderheiten (Schwangere, Mitarbeiter mit Behinderungen, junge Mitarbeiter …) werden zum Schutz der Mitarbeiter berücksichtigt. Diese Besonderheiten werden in die Überlegungen einbezogen; die gesetzlichen Vorschriften zum Schutz der Privatsphäre/Vertraulichkeit und der medizinischen Daten der Mitarbeiter werden befolgt",null,null,null,null,null,false]
[null,null,null,"d)","Für identifizierte Unfallszenarien werden die folgenden Aspekte festgestellt:\n* Auswirkungen gefährlicher Phänomene auf die öffentliche Gesundheit und Sicherheit sowie deren Intensität (Skala der Schwere);\n* Eintrittswahrscheinlichkeit (Wahrscheinlichkeitsskala); auf dieser Grundlage die Höhe des Risikos oder Kritikalität (Verbindung von Schwere und Wahrscheinlichkeit).\nAußerdem werden Informationen mit interessierten Kreisen geteilt.",null,null,null,null,null,false]
[null,null,null,null," "]
[null,null,"F2.3","In welcher Weise werden die medizinischen Anforderungen bewertet?",null,null,{"$f":"C18","v":"F2.3"},"Notizen"]
[null,null,{"$f":"IF(COUNTIF(K19:K22,TRUE)=0,\"unvollständig\",IF(COUNTIF(K19:K22,TRUE)=1,\"\",\"uneinheitlich\"))","v":""},"a)","Sie werden nicht bewertet.",null,null,null,null,null,false]
[null,null,null,"b)","Alle spezifischen physikalischen und medizinischen Anforderungen, die mit einer bestimmten Aufgabe in Zusammenhang stehen, werden identifiziert. Medizinische Fachleute haben auf individueller Basis das Risiko einer Gesundheitsschädigung für einen Mitarbeiter, welches sich durch die Ausübung einer wesentlichen Arbeitsfunktion – mit oder ohne angemessene Anpassung – ergeben könnte, bestimmt. Die Ergebnisse dieser Bewertungen werden zur Verbesserung des Arbeitsumfeldes verwendet oder können dazu führen, dass dem Mitarbeiter eine andere – besser geeignete – Tätigkeit übertragen wird.",null,null,null,null,null,false]
[null,null,null,"c)","Alle besonderen medizinischen Untersuchungen, welche in der Bewertung der Eignung von Einzelpersonen für eine bestimmte Tätigkeit nützlich sind (z. B. Sehtest für Personen, die Kraftfahrzeuge führen), sind identifiziert und werden in die Gesundheitsbewertung einbezogen, bevor dem Mitarbeiter eine Tätigkeit übertragen wird. Diese Bewertungen gründen sich ausschließlich auf medizinische Untersuchungen mit Bezug auf die Anforderungen der Tätigkeit und nicht auf sonstige Untersuchungen, welche als Teil routinemäßiger Gesundheitsbewertungen durchgeführt werden können.",null,null,null,null,null,false]
[null,null,null,"d)","Zusätzlich bietet die Organisation weitere Leistungen, um Mitarbeiter für eine gesündere und sicherere Lebensführung aufzuklären und zu unterstützen.",null,null,null,null,null,true]
[null,null,null,null," "]
[null,null,"F2.4","In welcher Weise verbessert die Organisation ihre Leistung in den Bereichen Gesundheit und Sicherheit?",null,{"$f":"B4","v":"Arbeits- und Gesundheitsschutz"},{"$f":"C24","v":"F2.4"},"Notizen"]
[null,null,{"$f":"IF(COUNTIF(K25:K28,TRUE)=0,\"unvollständig\",IF(COUNTIF(K25:K28,TRUE)=1,\"\",\"uneinheitlich\"))","v":""},"a)","In den Bereichen Gesundheit und Sicherheit gibt es weder ein Programm noch Ziele. Wenn ein Vorfall stattfindet, ergreift die Organisation die gesetzlich vorgeschriebenen Maßnahmen.",null,null,null,null,null,true]
[null,null,null,"b)","Das Management der Organisation hat ein Gesundheits- und Sicherheitsprogramm erstellt; die Rückverfolgung von Ereignissen in den Bereichen Gesundheit und Sicherheit wird beschrieben/es gibt eine Beschreibung, wie Ereignisse in den Bereichen Gesundheit und Sicherheit zurückzuverfolgen sind.",null,null,null,null,null,false]
[null,null,null,"c)","Ein besteht ein Gesundheits- und Sicherheitsprogramm. Prozesse sind vorhanden, um Chancen in den Bereichen Arbeitsschutz & Sicherheit zu bewerten mit dem Ziel, hier die Leistung zu verbessern. Dabei werden sowohl geplante Änderungen der Organisation selbst, an ihrer Unternehmenspolitik und ihren Verfahren und Aktivitäten als auch die nachstehenden Punkte berücksichtigt.\n1) Möglichkeiten, die Arbeit, die Arbeitsorganisation und das Arbeitsumfeld an die Mitarbeiter anzupassen;\n2) Möglichkeiten, Gefahren zu beseitigen und Risiken in den Bereichen Arbeitsschutz und Sicherheit zu verringern;\n3) weitere Möglichkeiten, um das Managementsystem in den Bereichen Arbeitsschutz und Sicherheit zu verbessern.",null,null,null,null,null,false]
[null,null,null,"d)","Das Gesundheits- und Sicherheitsprogramm wird regelmäßig auf seine Effektivität bewertet (z. B. externe Verifizierung, beispielsweise mittels Leistungsindikatoren). Es werden regelmäßig Maßnahmen ergriffen, um Mitarbeiter und Fremdfirmen ständig die Risiken und Chancen bewusst zu machen und sie in das Programm einzubinden. Datenanalysen ermöglichen prädiktive Erkenntnisse.",null,null,null,null,null,false]
[null,null,null,null," "]
[null,null,"F2.5","In welcher Weise werden Wartung und Pflege („maintenance and housekeeping“) gestaltet, um die Sicherheit von Einrichtungen, Anlagen, Werkzeugen und\n(Sicherheits-) Ausrüstungen aufrechtzuerhalten?",null,null,{"$f":"C30","v":"F2.5"},"Notizen"]
[null,null,{"$f":"IF(COUNTIF(K31:K34,TRUE)=0,\"unvollständig\",IF(COUNTIF(K31:K34,TRUE)=1,\"\",\"uneinheitlich\"))","v":""},"a)","Die gesetzlich vorgeschriebene Wartung wird  geplant",null,null,null,null,null,false]
[null,null,null,"b)","Eine proaktive Wartungsstrategie/ein proaktiver Wartungsplan ist vorhanden und wird befolgt",null,null,null,null,null,true]
[null,null,null,"c)","Die Effektivität des Wartungsprogrammes wird regelmäßig bewertet, der Erfolg wird gemessen und die Wartungspläne werden verbessert.",null,null,null,null,null,false]
[null,null,null,"d)","Ein anspruchsvolles, risiko- oder wissensbasiertes Wartungs- und Inspektionsprogramm ist vorhanden.",null,null,null,null,null,false]
[null,null,null,null," "]
[null,null,"F2.6","Wie werden die geeignete Auswahl, Wartung und Verwendung von Ausrüstungen in den Bereichen Gesundheit und Sicherheit (z. B. persönliche Schutzausrüstung/PSA) überprüft?",null,null,{"$f":"C36","v":"F2.6"},"Notizen"]
[null,null,{"$f":"IF(COUNTIF(K37:K40,TRUE)=0,\"unvollständig\",IF(COUNTIF(K37:K40,TRUE)=1,\"\",\"uneinheitlich\"))","v":""},"a)","Es findet keine Überprüfung statt.",null,null,null,null,null,false]
[null,null,null,"b)","Die Auswahl gründet sich auf Risikobewertungen, es findet jedoch keine Überprüfung der sachgemäßen Verwendung statt",null,null,null,null,null,false]
[null,null,null,"c)","Die Mitarbeiter werden geschult, um zu wissen und zu verstehen, wenn und welche PSA notwendig ist und um Bewertungen von PSA durchzuführen. Die Mitarbeiter sind sich der Folgen bewusst, falls keine PSA verwendet wird. Die Verwendung geeigneter PSA betrifft alle Ebenen der Organisation",null,null,null,null,null,true]
[null,null,null,"d)","Die Mitarbeiter haben das Recht, die Arbeit einzustellen („stop work authority“), falls sich eine PSA als nicht geeignet erweist, um eine Gefährdung zu beherrschen",null,null,null,null,null,false]
[null,null,null,null," ",{"$f":"B4","v":"Arbeits- und Gesundheitsschutz"}]
[null,null,"F2.7","Wie geht die Organisation mit Stress und Wohlbefinden um?",null,null,{"$f":"C42","v":"F2.7"},"Notizen"]
[null,null,{"$f":"IF(COUNTIF(K43:K46,TRUE)=0,\"unvollständig\",IF(COUNTIF(K43:K46,TRUE)=1,\"\",\"uneinheitlich\"))","v":""},"a)","Gemäß den gesetzlichen Vorschriften",null,null,null,null,null,true]
[null,null,null,"b)","Die Organisation fördert ein ausgewogenes Verhältnis zwischen Berufs- und Privatleben („work-life balance“).Die Mitarbeiter können Vorschläge machen; die Organisation möchte diese Vorschläge aufgreifen.\nEin System zur Prüfung ergonomischer Aspekte am Arbeitsplatz ist vorhanden",null,null,null,null,null,false]
[null,null,null,"c)","Die Organisation verfügt über ein Verfahren, um die Vorschläge/Forderungen der Mitarbeiter aufzuzeichnen und Änderungen nachzuverfolgen, die auf dieser Grundlage vorgenommen wurden.\nDie Organisation misst die Wahrnehmung der Mitarbeiter zu ihrer „Work-life balance“ mittels anonymer Umfragen und bietet einige Maßnahmen für diesbezügliche Verbesserungen (z. B. flexible Arbeitszeiten, Telearbeit …).\nDie Mitarbeiter werden in der angemessenen ergonomischen Verwendung von Ausrüstungen/Geräten geschult.",null,null,null,null,null,false]
[null,null,null,"d)","Die Organisation verfügt über ein Programm eigens zur Verbesserung der „Work-life balance“ und des Wohlbefindens am Arbeitsplatz. Die Wirksamkeit des Programmes wird regelmäßig bewertet",null,null,null,null,null,false]
[null,null,null,null," "]
[null,null,"F2.8","In welcher Weise werden Verletzungen am Arbeitsplatz, Vorfälle und Beinahe-Vorfälle untersucht?",null,null,{"$f":"C48","v":"F2.8"},"Notizen"]
[null,null,{"$f":"IF(COUNTIF(K49:K52,TRUE)=0,\"unvollständig\",IF(COUNTIF(K49:K52,TRUE)=1,\"\",\"uneinheitlich\"))","v":""},"a)","Unfälle und Vorfälle werden entsprechend den gesetzlichen Vorschriften gemeldet",null,null,null,null,null,true]
[null,null,null,"b)","Die Organisation identifiziert und untersucht die Ursache/n von Unfällen und Vorfällen. Die Organisation misst ihnen jeweils eine Schwere der Bedeutung bei.",null,null,null,null,null,false]
[null,null,null,"c)","Die Organisation ergreift eine/mehrere geeignete Abhilfemaßnahme/n, um eine Wiederholung zu vermeiden",null,null,null,null,null,false]
[null,null,null,"d)","Die Organisation bewertet die Effektivität von Untersuchungen in den Bereichen Sicherheit & Gesundheit und von Abhilfemaßnahmen. Sie teilt die wichtigsten Erkenntnisse und damit in Zusammenhang stehende Abhilfemaßnahmen mit relevanten interessierten Kreisen, anderen Standorten",null,null,null,null,null,false]
[null,null,null,null," "]
[null,null,"F2.9","Wie ist die Organisation auf Notfälle vorbereitet?",null,null,{"$f":"C54","v":"F2.9"},"Notizen"]
[null,null,{"$f":"IF(COUNTIF(K55:K58,TRUE)=0,\"unvollständig\",IF(COUNTIF(K55:K58,TRUE)=1,\"\",\"uneinheitlich\"))","v":""},"a)","Ein Notfallplan und Anweisungen sind vorhanden. Ein Notfallmanager ist ernannt, auf den die Mitarbeiter in einem Notfall zählen können. Die erforderliche Ausstattung (Alarmsysteme) sind allen Personen in den verschiedenen Bereichen des Standortes zugänglich",null,null,null,null,null,false]
[null,null,null,"b)","Durch regelmäßige Notfallübungen sind Mitarbeiter und Fremdfirmen darauf vorbereitet, auf einen Notfall zu reagieren. Ersthelfer und weitere Personen mit einer Funktion in der Notfallreaktion werden identifiziert, benannt, geschult und ermächtigt, ihre Aufgaben zu erfüllen",null,null,null,null,null,false]
[null,null,null,"c)","Auf der Grundlage von Erfahrungen („lessons learned“) aus Notfallübungen und anderen Ereignissen wird der Notfallplan überprüft",null,null,null,null,null,false]
[null,null,null,"d)","Eine enge Zusammenarbeit mit und die Einbeziehung von externen Helfern/Einsatzkräften, Feuerwehren usw. sind gegeben. Der Notfallplan des Standortes ist externen Helfern/Einsatzkräften zugänglich und wird ihnen zur Verfügung gestellt",null,null,null,null,null,true]
[null,null,null,null," "]
[null,null,"F2.10","In welcher Weise stellt die Organisation sicher, dass alle Mitarbeiter hinsichtlich der Gesundheits- und Sicherheitsanforderungen, die mit ihrer Tätigkeit in Zusammenhang stehen, über die geeigneten Kompetenzen verfügen?",null,null,{"$f":"C60","v":"F2.10"},"Notizen"]
[null,null,{"$f":"IF(COUNTIF(K61:K64,TRUE)=0,\"unvollständig\",IF(COUNTIF(K61:K64,TRUE)=1,\"\",\"uneinheitlich\"))","v":""},"a)","Anweisungen und Warnungen hinsichtlich Gesundheit & Sicherheit werden sichtbar und zugänglich gemacht (z. B. durch Poster und Schilder) und spezifische Schulungen werden durchgeführt. Beschilderung gemäß den Anforderungen – z. B. in Sicherheitsdatenblättern, als Ergebnis einer Arbeitsplatzbewertung oder den Empfehlungen von Lieferern von Ausrüstungsgegenständen – ist vorhanden.",null,null,null,null,null,true]
[null,null,null,"b)","Schulungen werden bei Neueinstellungen und in regelmäßigen Abständen durchgeführt. Arbeitsgruppen werden gebildet, um es den Mitarbeitern zu ermöglichen, die Gesundheits- und Sicherheitspolitik der Organisation zu diskutieren.",null,null,null,null,null,false]
[null,null,null,"c)","Die Mitarbeiter der Organisation werden in die Bewertung der Arbeitsrisiken einbezogen. Die Gesundheits- und Sicherheitspolitik der Organisation wird regelmäßig überprüft und an die Ergebnisse der Diskussionen in der Arbeitsgruppe der Mitarbeiter angepasst. Der Kenntnisstand von Fremdfirmen in Gesundheits- und Sicherheitsfragen wird überprüft und Schulungen werden durchgeführt",null,null,null,null,null,false]
[null,null,null,"d)","Die Organisation bewertet die Effektivität dieser Kommunikation und der Schulungen für alle Mitarbeiter",null,null,null,null,null,false]
[]
[null,"Verfahrenssicherheit",null,null,null,{"$f":"B66","v":"Verfahrenssicherheit"}]
[null,null,null,null," "]
[null,null,"F2.11","Wie verpflichtet sich die Unternehmensleitung zur Verfahrenssicherheit?",null,null,{"$f":"C68","v":"F2.11"},"Notizen"]
[null,null,{"$f":"IF(COUNTIF(K69:K72,TRUE)=0,\"unvollständig\",IF(COUNTIF(K69:K72,TRUE)=1,\"\",\"uneinheitlich\"))","v":""},"a)","Eine Unternehmenspolitik mit einer Verpflichtung zur kontinuierlichen Verbesserung ist schriftlich dargelegt",null,null,null,null,null,false]
[null,null,null,"b)","Funktionen und Ressourcen werden definiert und bereitgestellt, um zu gewährleisten, dass die Unternehmenspolitik für allen Beteiligten (einschließlich Fremdfirmen) angewandt wird. Ebenso wurden spezifische Ziele definiert; diese werden mit messbaren Spät- oder Frühindikatoren beobachtet",null,null,null,null,null,true]
[null,null,null,"c)","Auf allen Ebenen der Organisation werden klare Verantwortlichkeiten definiert, um Unfälle zu vermeiden und die Unternehmenspolitik umzusetzen. Im Bereich Verfahrenssicherheit tätigen Mitarbeitern wurden klare Ziele vorgegeben, um – entsprechend ihrer jeweiligen Verantwortungsebene – zu der Leistung beizutragen",null,null,null,null,null,false]
[null,null,null,"d)","Die Mitarbeiter werden in die Entwicklung der Unternehmenspolitik einbezogen",null,null,null,null,null,false]
[null,null,null,null," "]
[null,null,"F2.12","In welcher Weise werden die Identifizierung und Beschreibung der Sicherheit von Verfahren, Ausrüstungen und Standorten der Organisation vorbereitet?",null,null,{"$f":"C74","v":"F2.12"},"Notizen"]
[null,null,{"$f":"IF(COUNTIF(K75:K78,TRUE)=0,\"unvollständig\",IF(COUNTIF(K75:K78,TRUE)=1,\"\",\"uneinheitlich\"))","v":""},"a)","Es werden eingehende Gefährdungsstudien über die Sicherheit der Verfahren, Ausrüstungen und Standorte der Organisation durchgeführt",null,null,null,null,null,true]
[null,null,null,"b)","Für jedes Verfahren, jede Ausrüstung und jeden Standort werden die möglichen Risiken für die öffentliche Gesundheit und Sicherheit im normalen Betriebsablauf und in einer verschlechterten Situation in Zusammenhang mit einem veränderten oder anormalen Betrieb identifiziert und beschrieben",null,null,null,null,null,false]
[null,null,null,"c)","Für jedes Verfahren, jede Ausrüstung und jeden Standort werden die möglichen Risiken für die öffentliche Gesundheit und Sicherheit im normalen Betriebsablauf und in einer verschlechterten Situation in Zusammenhang mit einem veränderten oder anormalen Betrieb identifiziert und beschrieben. Diese Informationen werden der örtlichen Bevölkerung zur Verfügung gestellt, wobei ihr versichert wird, dass Sicherheit durch die Verbreitung dieser Informationen gewährleistet ist",null,null,null,null,null,false]
[null,null,null,"d)","Es wird eine quantitative Risikobewertung durchgeführt, welche die folgenden Aspekte für jedes der identifizierten Unfallszenarien umfasst:\n* Auswirkungen gefährlicher Phänomene auf die öffentliche Gesundheit und Sicherheit sowie deren Intensität (Skala der Schwere);\n* Eintrittswahrscheinlichkeit (Wahrscheinlichkeitsskala); auf dieser Grundlage die Höhe des Risikos oder Kritikalität (Verbindung von Schwere und Wahrscheinlichkeit).",null,null,null,null,null,false]
[null,null,null,null," "]
[null,null,"F2.13","In welcher Weise werden Verbesserungen im Bereich Verfahrenssicherheit aufgrund von Vorfällen und Unfällen vorgenommen?",null,null,{"$f":"C80","v":"F2.13"},"Notizen"]
[null,null,{"$f":"IF(COUNTIF(K81:K84,TRUE)=0,\"unvollständig\",IF(COUNTIF(K81:K84,TRUE)=1,\"\",\"uneinheitlich\"))","v":""},"a)","Ein vorhandenes Vorfahren schreibt die Meldung und Untersuchung von Unfällen/Vorfällen vor, um deren systematische Analyse zu ermöglichen",null,null,null,null,null,false]
[null,null,null,"b)","Es gibt Klassifizierungskriterien für Unfälle anhand deren Art/Folgen und möglichen Risiken. Eindeutig mit Verfahrenssicherheit in Zusammenhang stehende Unfälle werden identifiziert; hierbei werden mindestens die Definitionen gemäß ICCA Indicator of Performance of Process Safety (LoPC) angewandt.",null,null,null,null,null,true]
[null,null,null,"c)","Als Teil der Analyse von Vorfällen/Unfällen werden Kriterien für ein Team definiert. Dies beinhaltet einen Koordinator und einen Zeitrahmen für die Erstellung von Schlussfolgerungen",null,null,null,null,null,false]
[null,null,null,"d)","Die Erkenntnisse („learnings“) aus der Vorfall-/Unfallanalyse werden ausgetauscht, gute Praktiken für Abhilfemaßnahmen werden als Vorbeugemaßnahmen ggf. ergriffen",null,null,null,null,null,false]
[null,null,null,null," ",{"$f":"B66","v":"Verfahrenssicherheit"}]
[null,null,"F2.14","Wie werden Audits und Inspektionen im Bereich Verfahrenssicherheit durchgeführt?",null,null,{"$f":"C86","v":"F2.14"},"Notizen"]
[null,null,{"$f":"IF(COUNTIF(K87:K90,TRUE)=0,\"unvollständig\",IF(COUNTIF(K87:K90,TRUE)=1,\"\",\"uneinheitlich\"))","v":""},"a)","Ein vorhandenes Auditprogramm beinhaltet Verfahrenssicherheit – Anlagen und Dokumentation",null,null,null,null,null,false]
[null,null,null,"b)","Kriterien, System und zeitliche Abstände für Kontrollen sind festgelegt, um die Verfahrenssicherheit und die Erreichung von Zielen zu bewerten.\nDie Managementbewertung („management review“) beinhaltet eine Überprüfung der Auditergebnisse und eine Bewertung hinsichtlich der Ziele für jede Abteilung oder jeden Unternehmensbereich. Indikatoren werden identifiziert, um die Funktionsfähigkeit des Systems zu prüfen.",null,null,null,null,null,false]
[null,null,null,"c)","Sich aus den Audits und Inspektionen ergebende Korrekturen werden priorisiert; künftige Ziele werden anhand von Auditergebnissen definiert.",null,null,null,null,null,true]
[null,null,null,"d)","Alle für Verfahrenssicherheit relevanten Unterlagen („documentation“) werden regelmäßig überprüft, um ihre Aktualität zu gewährleisten (z. B. werden alle Änderungen berücksichtigt und bewertet).",null,null,null,null,null,false]
[null,null,null,null," "]
[null,null,"F2.15","Wie werden Arbeitsanweisungen kontrolliert und verbessert?",null,null,{"$f":"C92","v":"F2.15"},"Notizen"]
[null,null,{"$f":"IF(COUNTIF(K93:K96,TRUE)=0,\"unvollständig\",IF(COUNTIF(K93:K96,TRUE)=1,\"\",\"uneinheitlich\"))","v":""},"a)","Für jede Phase des Betriebes mit Einfluss auf Verfahrenssicherheit sind ein Betriebshandbuch und schriftlich festgelegte Vorgehensweisen vorhanden und werden aktualisiert",null,null,null,null,null,true]
[null,null,null,"b)","Ein System der kontinuierlichen Kommunikation oder ein Kontrollsystem für die Anwesenheit von Mitarbeitern an kritischen Stellen oder für einzelne Aufgaben sind vorhanden.\nFür kritische Tätigkeiten/Bereiche („works“) werden die Anweisungen regelmäßig überprüft. Für kritische Ausrüstungen und Anlagen besteht ein System für die Erlaubnis von Tätigkeiten („system of work permits“).",null,null,null,null,null,false]
[null,null,null,"c)","Ein System ist vorhanden, um es Mitarbeitern zu ermöglichen, Verbesserungsvorschläge einzubringen und ihre Rückmeldungen („feedback“) zu Schwierigkeiten oder Vorfällen, die in Zusammenhang mit den Arbeitsanweisungen aufgetreten sind, vorzutragen",null,null,null,null,null,false]
[null,null,null,"d)","Die personelle Mindestbesetzung wurde bewertet und definiert. Verfahren für sicheren Betrieb (oder Stilllegung) sind vorhanden, falls diese personelle Mindestbesetzung nicht gewährleistet werden kann (z. B. aufgrund von Krankheit oder Streik).",null,null,null,null,null,false]
[null,null,null,null," "]
[null,null,"F2.16","Wie wird die Anlagenplanung durchgeführt und dokumentiert?",null,null,{"$f":"C98","v":"F2.16"},"Notizen"]
[null,null,{"$f":"IF(COUNTIF(K99:K102,TRUE)=0,\"unvollständig\",IF(COUNTIF(K99:K102,TRUE)=1,\"\",\"uneinheitlich\"))","v":""},"a)","Für jeden Ausrüstungsgegenstand mit möglichen Auswirkungen auf Verfahrenssicherheit liegen Unterlagen, Handbücher und Sicherheitsbewertungen vor (gemäß den gesetzlichen und weiteren Anforderungen).",null,null,null,null,null,true]
[null,null,null,"b)","Ein detaillierter Plan über den Ort, an dem sich die Anlage befindet („installation location“) ist vorhanden. Ebenfalls vorhanden sind detaillierte Pläne des Standortes, des/der Gebäude, Grundrisse, Fluchtwege, und – falls erforderlich – der Bereiche mit besonderen Sicherheitsanforderungen (z. B. Entfernung hinsichtlich weiterer Anforderungen (ATEX, Fluchtwege, angrenzende Gebäude usw.).",null,null,null,null,null,false]
[null,null,null,"c)","Beste verfügbare Techniken werden angewandt",null,null,null,null,null,false]
[null,null,null,"d)","Die Anlage ist so ausgelegt, dass selbst bei einem Ausfall weiterhin eine sichere Situation gegeben ist.",null,null,null,null,null,false]
[null,null,null,null," ",{"$f":"B66","v":"Verfahrenssicherheit"}]
[null,null,"F2.17","In welcher Weise wird der Aufbau der Anlage kontrolliert?",null,null,{"$f":"C104","v":"F2.17"},"Notizen"]
[null,null,{"$f":"IF(COUNTIF(K105:K108,TRUE)=0,\"unvollständig\",IF(COUNTIF(K105:K108,TRUE)=1,\"\",\"uneinheitlich\"))","v":""},"a)","Physische Inspektion während der Bauphase, um sicherzustellen, dass die Anlage der Projektplanung entspricht.",null,null,null,null,null,false]
[null,null,null,"b)","Vor Inbetriebnahme wird die Anlage geprüft, sicherheitskritische Ausrüstungen werden getestet, ihre bestimmungsgemäße Funktion wird überprüft und dokumentiert. Eventuell verbleibende Risiken werden vor Inbetriebnahme bewertet. Es besteht ein Verfahren, welches Abhilfemaßnahmen und vorübergehende Lösungen beschreibt, bis (endgültige) Korrekturen durchgeführt wurden",null,null,null,null,null,false]
[null,null,null,"c)","Die Wirksamkeit der Abhilfemaßnahmen/Korrekturen wird überprüft",null,null,null,null,null,false]
[null,null,null,"d)","Für Planung, Bau, Wartung und Aktualisierungen steht eine Dokumentation zur Verfügung",null,null,null,null,null,true]
[null,null,null,null," "]
[null,null,"F2.18","Wie wird „Schutz“ in Anlagen integriert, um zuverlässig zu verhindern, dass ein einziger Fehler katastrophale Folgen hat?",null,null,{"$f":"C110","v":"F2.18"},"Notizen"]
[null,null,{"$f":"IF(COUNTIF(K111:K114,TRUE)=0,\"unvollständig\",IF(COUNTIF(K111:K114,TRUE)=1,\"\",\"uneinheitlich\"))","v":""},"a)","Es besteht ein System zur Bewertung der Notwendigkeit ausreichender Schutzbarrieren (Technologie, Ausrüstung, Trennstellen/Isolierungspunkte …) und automatischer Systeme, um die Anlage bei gefährlichen Verfahrensabweichungen wieder in einen sicheren Zustand zu bringen. Es besteht ein System mit Leitvorgaben („guidance“) hinsichtlich des erforderlichen Schutzniveaus der Barrieren (nach international anerkannten Normen/Standards).",null,null,null,null,null,false]
[null,null,null,"b)","Die für Verfahrenssicherheit kritischen Elemente sind identifiziert und es wurde definiert, welches Maß an Zuverlässigkeit diese Elemente aufweisen sollten",null,null,null,null,null,true]
[null,null,null,"c)","Bei Verfahrensabweichungen wird an ständig besetzten Stellen Alarm gegeben. Tasten zur Notausstellung befinden sich in Zonen, in denen sie sicher betätigt werden können.",null,null,null,null,null,false]
[null,null,null,"d)","Für jeden Reaktor, jede Lagervorrichtung oder jeden sonstigen Ausrüstungsgegenstand, der/die Mengen an Gefahrstoffen über einem bestimmten Schwellenwert enthält (gemäß Seveso III) wurde eine Bewertung durchgeführt, um sicherzustellen, dass ein System zur Vermeidung, Einschließung und Räumung vorhanden ist. Ein solches System muss sicherstellen, dass z. B. Überdruck / Entflammung/Entzündung / Leckagen / Explosionsrisiken vermieden oder – als Alternative – in den ungünstigsten Situationen beherrscht werden können.",null,null,null,null,null,false]
[null,null,null,null," "]
[null,null,"F2.19","Gibt es ein vorbeugendes Wartungs- und Pflegeprogramm („maintenance and housekeeping programme“), um die Sicherheit von Einrichtungen, Werkzeugen/Tools und Ausrüstungen aufrechtzuerhalten?",null,null,{"$f":"C116","v":"F2.19"},"Notizen"]
[null,null,{"$f":"IF(COUNTIF(K117:K120,TRUE)=0,\"unvollständig\",IF(COUNTIF(K117:K120,TRUE)=1,\"\",\"uneinheitlich\"))","v":""},"a)","Ein/e planvolle/r, proakive/r Wartungsstrategie/-plan ist vorhanden und wird befolgt. Es gibt einen detaillierten Zeitplan der regelmäßig durchzuführenden Wartungsarbeiten, um diese zu gewährleisten",null,null,null,null,null,false]
[null,null,null,"b)","Das Programm beinhaltet klare Kriterien hinsichtlich der nachstehenden Punkte:\nAktualisierungen bei Nichtkonformitäten, zeitliche Intervalle, Ziele und spezifische Wartungsanweisungen für alle Ausrüstungen mit Einfluss auf Verfahrenssicherheit. Für mit Hinblick auf Verfahrenssicherheit kritische Teile gibt es ein eigenes Programm.",null,null,null,null,null,true]
[null,null,null,"c)","Für die Durchführung des Wartungsprogrammes verantwortliche Personen sind eindeutig identifiziert; die Ergebnisse der Wartungsarbeiten werden von ihnen aufgezeichnet. Indikatoren ermöglichen ein Nachfassen („follow-up“) für Wartungsaktivitäten (% durchgeführt, aufgetretene Probleme usw.).",null,null,null,null,null,false]
[null,null,null,"d)","Die Effektivität des Wartungsprogrammes wird regelmäßig bewertet, sein Erfolg wird gemessen und Wartungspläne werden verbessert.",null,null,null,null,null,false]
[null,null,null,null," ",{"$f":"B66","v":"Verfahrenssicherheit"}]
[null,null,"F2.20","Im Fall von Energie- oder Betriebsunterbrechungen – wie werden Verfahren in Notfällen gesteuert?",null,null,{"$f":"C122","v":"F2.20"},"Notizen"]
[null,null,{"$f":"IF(COUNTIF(K123:K126,TRUE)=0,\"unvollständig\",IF(COUNTIF(K123:K126,TRUE)=1,\"\",\"uneinheitlich\"))","v":""},"a)","Die Auslegung der Anlagen berücksichtigt die Widerstandsfähigkeit gegenüber anormalen, durch interne Faktoren (Notfälle in angrenzenden Anlagen, Dominoeffkte …) verursachte Situationen sowie gegenüber von externen Faktoren (z. B. Naturkatastrophen wie Überschwemmungen, starke Winde, Erdbeben, Hitze, Kälte usw.) verursachte Situationen",null,null,null,null,null,true]
[null,null,null,"b)","Eine Bewertung wurde durchgeführt, um den Bedarf an sicherer Energieversorgung zu ermitteln. Entsprechend der Ergebnisse gibt es alternative Vorkehrungen für Hauptenergie oder -betrieb (Kühlwasser, Druckluft, Dampf, Stickstoff usw.), um ein sicheres Abschalten zu gewährleisten.",null,null,null,null,null,false]
[null,null,null,"c)","Tests werden durchgeführt, um das ordnungsgemäße Funktionieren der Notfallsysteme zu prüfen; die verantwortlichen Personen sind klar definiert.",null,null,null,null,null,false]
[null,null,null,"d)","Ein Alternativplan („contingency plan”) beinhaltet die Analyse möglicher Eventualitäten und definiert die akzeptable Reaktionszeit, Reaktionsgruppen und Prozesse.",null,null,null,null,null,false]
[null,null,null,null," "]
[null,null,"F2.21","Wie werden Notfallpläne erstellt?",null,null,{"$f":"C128","v":"F2.21"},"Notizen"]
[null,null,{"$f":"IF(COUNTIF(K129:K132,TRUE)=0,\"unvollständig\",IF(COUNTIF(K129:K132,TRUE)=1,\"\",\"uneinheitlich\"))","v":""},"a)","Es gibt einen internen, schriftlichen Notfallplan, der aktualisiert wird. Er beinhaltet auch die Kommunikation nach einem Notfall.",null,null,null,null,null,false]
[null,null,null,"b)","Mindestens einmal jährlich werden praktische Übungen durchgeführt, gefolgt von einer Bewertung der Effektivität des Notfallplans.\nEs gibt ein Informationsprogramm für die Kommunikation mit Behörden, Einsatzkräften, der Presse, Gemeinden/Anwohnern („community“) usw., um in Notfällen besser vorbereitet zu sein.",null,null,null,null,null,false]
[null,null,null,"c)","Falls notwendig: Der Notfallplan wurde erstellt und in Zusammenarbeit mit Partner- und Nachbarschaftsorganisationen in einen externen Notfallplan integriert.",null,null,null,null,null,true]
[null,null,null,"d)","Es gibt ein Verfahren für „Raumordnungsplanung“, um Kenntnisse über die Anliegergemeinde zu gewinnen und zu bewerten. Dadurch soll die Notwendigkeit für Vorbereitung, Kommunikation und Räumung in Notfällen abgeschätzt und – falls erforderlich – über eine Einstellung der Produktion entschieden werden.",null,null,null,null,null,false]
[null,null,null,null," "]
[null,null,"F2.22","In welcher Weise werden die Kompetenz und Schulung von an den Prozessen beteiligten Mitarbeitern und Fremdfirmen sichergestellt?",null,null,{"$f":"C134","v":"F2.22"},"Notizen"]
[null,null,{"$f":"IF(COUNTIF(K135:K138,TRUE)=0,\"unvollständig\",IF(COUNTIF(K135:K138,TRUE)=1,\"\",\"uneinheitlich\"))","v":""},"a)","Für Führungskräfte, technisches und Betriebspersonal, Fremdfirmen und dritte Dienstleister werden Kompetenzanforderungen im Bereich Verfahrenssicherheit festgelegt, dokumentiert und umgesetzt, entsprechend der von ihnen durchgeführten Tätigkeiten",null,null,null,null,null,true]
[null,null,null,"b)","Mitarbeiter und Fremdfirmen werden im Bereich Verfahrenssicherheit entsprechend ihrer diesbezüglichen Verantwortlichkeiten geschult. Ein Schulungsplan ist vorhanden; er umfasst alle Aspekte der Verfahrens- und Anlagensicherheit, einschließlich eines Zeitplans für regelmäßige Wiederholungsschulungen. Es gibt ein Auffrischungs-/Umschulungsprogramm für Mitarbeiter mit verantwortlichen Aufgaben in den Bereichen Verfahrens- und Anlagensicherheit, die längere Zeit abwesend waren (z. B. aufgrund von Schwangerschaft, Krankheit, Auszeit/„sabbatical“ usw.).",null,null,null,null,null,false]
[null,null,null,"c)","Experten für Verfahrenssicherheit im Unternehmen werden mit Hinblick auf neue Tools und Techniken in diesem Bereich kontinuierlich geschult.",null,null,null,null,null,false]
[null,null,null,"d)","Nachweise über die Kompetenzen aller Mitarbeiter, die zu Verfahrenssicherheit beitragen, liegen vor.",null,null,null,null,null,false]
[null,null,null,null," ",{"$f":"B66","v":"Verfahrenssicherheit"}]
[null,null,"F2.23","Wie werden Informationen über die Risiken von Stoffen und Zubereitungen gemeinsam genutzt/weitergegeben?",null,null,{"$f":"C140","v":"F2.23"},"Notizen"]
[null,null,{"$f":"IF(COUNTIF(K141:K144,TRUE)=0,\"unvollständig\",IF(COUNTIF(K141:K144,TRUE)=1,\"\",\"uneinheitlich\"))","v":""},"a)","Ein stets aktualisiertes Register von Sicherheitsdatenblättern (SDB) ist vorhanden. Es steht Mitarbeiten von Anlagen, in denen die jeweiligen Stoffe verwendet werden, zur Verfügung.",null,null,null,null,null,false]
[null,null,null,"b)","Wissen über die Eigenschaften aller in den Verfahren relevanter Reaktionen ist verfügbar (einschließlich Flussdiagramme, Materialbilanzen und Energiebilanzen für alle Basisverfahren).",null,null,null,null,null,true]
[null,null,null,"c)","Die Entwicklung von Temperatur und Druck während des gesamten Verfahrens ist bekannt, sowohl unter normalen als auch unter „worst case“-Bedingungen",null,null,null,null,null,false]
[null,null,null,"d)","Sicherheitsdaten für alle Verfahren und Stoffe (einschließlich möglicher Zwischenstoffe, Rückstände usw.) liegen vor.",null,null,null,null,null,false]
[null,null,null,null," "]
[null,null,"F2.24","Wie werden Informationen über das Verfahren gemeinsam genutzt/weitergegeben?",null,null,{"$f":"C146","v":"F2.24"},"Notizen"]
[null,null,{"$f":"IF(COUNTIF(K147:K150,TRUE)=0,\"unvollständig\",IF(COUNTIF(K147:K150,TRUE)=1,\"\",\"uneinheitlich\"))","v":""},"a)","Es gibt eine Liste und aktuelle technische Dokumente, welche die Schalt- und Alarmpunkte der Ausrüstungen / Instrumente / Regelkreise und weitere für Verfahrenssicherheit kritische Elemente enthalten.",null,null,null,null,null,false]
[null,null,null,"b)","Diagramme von Rohrleitungen und Instrumenten sind verfügbar und auf dem neuesten Stand",null,null,null,null,null,false]
[null,null,null,"c)","Herstellungsverfahren und Betriebshandbücher werden bei Bedarf aktualisiert; sie umfassen alle möglichen Betriebsphasen (z. B. Inbetriebnahme, Normalbetrieb, Notabschaltung, außergewöhnliche Arbeiten usw.); Betriebstoleranzen und geplante Maßnahmen werden für Notfälle und Anomalien festgelegt",null,null,null,null,null,true]
[null,null,null,"d)","Alles Obige ist in unmittelbarer Reichweite der an dem Verfahren beteiligten Mitarbeiter vorhanden. Mitarbeiter werden in der Nutzung der Dokumente und in den Maßnahmen, die sich laut dieser Prozesse/Handbücher ergeben, geschult.",null,null,null,null,null,false]
[]
[null,"Vertrieb",null,null,null,{"$f":"B152","v":"Vertrieb"}]
[null,null,null,null," "]
[null,null,"F2.25","In welcher Weise bewertet die Organisation ihre Logistikpartner mit Hinblick auf Gesundheit, Sicherheit, Umwelt & Nachhaltigkeit, Energieeffizienz und Treibhausgas(THG)-Emissionen?",null,null,{"$f":"C154","v":"F2.25"},"Notizen"]
[null,null,{"$f":"IF(COUNTIF(K155:K158,TRUE)=0,\"unvollständig\",IF(COUNTIF(K155:K158,TRUE)=1,\"\",\"uneinheitlich\"))","v":""},"a)","Es erfolgt keine systematische Bewertung",null,null,null,null,null,false]
[null,null,null,"b)","n ihren Spezifikationen für Logistikdienstleister legt die Organisation Mindestanforderungen mit Hinblick auf Gesundheit, Sicherheit, Umwelt & Nachhaltigkeit fest.",null,null,null,null,null,true]
[null,null,null,"c)","Die Organisation bewertet die relevanten Schritte und Sicherheitsmaßnahmen, die in der Beförderung von Chemikalien erforderlich sind",null,null,null,null,null,false]
[null,null,null,"d)","Die Organisation verwendet ein System zur Bewertung von Sicherheit & Qualität oder vergleichbare Systeme/Kriterien zur Bewertung möglicherweise in Frage kommender Logistikdienstleister.",null,null,null,null,null,false]
[null,null,null,null," "]
[null,null,"F2.26","Welche Maßnahmen zur Vermeidung von Transportunfällen bzw. Notfallmaßnahmen im Falle von Transportunfällen ergreift die Organisation?",null,null,{"$f":"C160","v":"F2.26"},"Notizen"]
[null,null,{"$f":"IF(COUNTIF(K161:K164,TRUE)=0,\"unvollständig\",IF(COUNTIF(K161:K164,TRUE)=1,\"\",\"uneinheitlich\"))","v":""},"a)","Checklisten für das Be- und Entladen von Gefahrgütern sind vorhanden.",null,null,null,null,null,true]
[null,null,null,"b)","Es werden systematisch Verfahren zur Einhaltung dieser Checklisten und Anforderungen angewandt.",null,null,null,null,null,false]
[null,null,null,"c)","Es wurde ein System eingerichtet, auf das Logistikdienstleister und weitere externe Dienstleister in Notfällen zugreifen können. 24/7 Kontakttelefonnummern sind vorhanden",null,null,null,null,null,false]
[null,null,null,"d)","Der Notfallplan des Standortes umfasst die Logistik. Das Unternehmen bietet Hilfe bei der Beseitigung von Leckagen im Falle von Transportunfällen, z. B. im Rahmen von ICE (Intervention in Chemical Transport Emergencies) oder TUIS",null,null,null,null,null,false]
[]
[null," Sicherheit",null,null,null,{"$f":"B166","v":" Sicherheit"}]
[null,null,null,null," "]
[null,null,"F2.27","In welcher Weise identifiziert die Organisation Sicherheitsprobleme?",null,null,{"$f":"C168","v":"F2.27"},"Notizen"]
[null,null,{"$f":"IF(COUNTIF(K169:K172,TRUE)=0,\"unvollständig\",IF(COUNTIF(K169:K172,TRUE)=1,\"\",\"uneinheitlich\"))","v":""},"a)","Es gibt kein systematisches Verfahren; es werden nur Beschwerden aufgezeichnet",null,null,null,null,null,true]
[null,null,null,"b)","Analysen von (Be-)Drohungen gegenüber der Organisation werden geplant und regelmäßig durchgeführt.",null,null,null,null,null,false]
[null,null,null,"c)","Maßnahmen für den Umgang mit identifizierten Bedrohungen werden ergriffen. Nachdem ein sicherheitsrelevantes Ereignis stattgefunden hat, wird die Wirksamkeit der Maßnahmen in nachträglichen Analysen bewertet.",null,null,null,null,null,false]
[null,null,null,"d)","Die Wirksamkeit des Verfahrens zum Umgang mit Sicherheitsrisiken wird regelmäßig bewertet",null,null,null,null,null,false]
[null,null,null,null," "]
[null,null,"F2.28","In welcher Weise werden das Betreten/Verlassen des Arbeitsortes und eingeschränkt zugänglicher Bereiche durch Mitarbeiter bzw. der dortige Ein- und Ausgang von Materialien kontrolliert?",null,null,{"$f":"C174","v":"F2.28"},"Notizen"]
[null,null,{"$f":"IF(COUNTIF(K175:K178,TRUE)=0,\"unvollständig\",IF(COUNTIF(K175:K178,TRUE)=1,\"\",\"uneinheitlich\"))","v":""},"a)","Eine Kontrolle ist nicht gewährleistet.",null,null,null,null,null,false]
[null,null,null,"b)","Das Gelände ist für Personen, Fahrzeuge und Güter nur über kontrollierte Zugangspunkte erreichbar. Es werden Aufzeichnungen über Personen, Fahrzeuge und Güter, die das Gelände betreten bzw. dorthin verbracht werden, geführt.",null,null,null,null,null,true]
[null,null,null,"c)","Es besteht ein Zugangsverfahren. Besucher können das Gelände (Gebäude, Bereiche, in denen Verfahren durchgeführt werden …) nur in Begleitung von Mitarbeitern betreten.",null,null,null,null,null,false]
[null,null,null,"d)","Die Wirksamkeit des Zugangsverfahrens wird regelmäßig überprüft",null,null,null,null,null,false]
[null,null,null,null," "]
[null,null,"F2.29","Wie wird Cybersecurity überwacht?",null,null,{"$f":"C180","v":"F2.29"},"Notizen"]
[null,null,{"$f":"IF(COUNTIF(K181:K184,TRUE)=0,\"unvollständig\",IF(COUNTIF(K181:K184,TRUE)=1,\"\",\"uneinheitlich\"))","v":""},"a)","Die Organisation hat keine Informationen über Fragen der Cybersecurity und wüsste nicht, wie sie auf diesbezügliche Probleme reagieren sollte.",null,null,null,null,null,true]
[null,null,null,"b)","Die Organisation nimmt an Arbeitsgruppen zum Thema Cybersecurity teil.",null,null,null,null,null,false]
[null,null,null,"c)","Die Organisation nimmt an Arbeitsgruppen zum Thema Cybersecurity teil; die Mitarbeiter werden im Umgang mit verdächtigen E-Mails geschult.",null,null,null,null,null,false]
[null,null,null,"d)","Indem sie einen risikobasierten Ansatz zur Gefährdungsverringerung anwendet, identifiziert und verfolgt verringert die Organisation Risiken der Cybersecurity, die sich auf den Geschäftsbereich und Systeme in den Bereichen Gesundheit, Sicherheit, Umwelt & Nachhaltigkeit auswirken",null,null,null,null,null,false]
[null,null,null,null," "]
[null,null,"F2.30","Wie sind Kommunikation und Informationsaustausch im Falle einer Sicherheitskrise organisiert?",null,null,{"$f":"C186","v":"F2.30"},"Notizen"]
[null,null,{"$f":"IF(COUNTIF(K187:K190,TRUE)=0,\"unvollständig\",IF(COUNTIF(K187:K190,TRUE)=1,\"\",\"uneinheitlich\"))","v":""},"a)","Der Kommunikationsprozess im Falle einer Sicherheitskrise ist nicht festgelegt.",null,null,null,null,null,true]
[null,null,null,"b)","Eine Liste mit Kontaktdaten der Mitarbeiter wird erstellt, damit sie im Krisenfall sehr rasch erreichbar sind und um sicherzustellen, dass sie keine Hilfe benötigen",null,null,null,null,null,false]
[null,null,null,"c)","Informationen werden bereitgestellt, die es den Behörden ermöglichen, einen besonderen Notfallplan für Sicherheitsvorfälle, die ein hohes Risiko für die Organisation und/oder ihr Umfeld bedeuten, zu erstellen.",null,null,null,null,null,false]
[null,null,null,"d)","Es besteht eine Zusammenarbeit mit öffentlichen Einsatzkräften, um die bei einem Ereignis zu ergreifenden Maßnahmen festzulegen (z. B. Krisenübungen, Schulungen durch die Organisation ).",null,null,null,null,null,false]
[null,null,null,null," ",{"$f":"B166","v":" Sicherheit"}]
[null,null,"F2.31","Wie geht die Organisation mit abnormalem Verhalten (einschließlich Risiken der Radikalisierung) um?",null,null,{"$f":"C192","v":"F2.31"},"Notizen"]
[null,null,{"$f":"IF(COUNTIF(K193:K196,TRUE)=0,\"unvollständig\",IF(COUNTIF(K193:K196,TRUE)=1,\"\",\"uneinheitlich\"))","v":""},"a)","Es ist kein diesbezügliches Verfahren vorhanden.",null,null,null,null,null,false]
[null,null,null,"b)","Die Organisation achtet besonders auf ungewöhnliches Verhalten (und Risiken der Radikalisierung) von Mitarbeitern und Lieferern/Dienstleistern.",null,null,null,null,null,false]
[null,null,null,"c)","Ein Verfahren ist vorhanden, in dem Mitarbeiter ungewöhnliches Verhalten melden können",null,null,null,null,null,true]
[null,null,null,"d)","Die Organisation arbeitet mit Polizeikräften zusammen, um alle Mitarbeiter und Besucher des Standortes zu überprüfen",null,null,null,null,null,false]
[null,null,null,null," "]
[null,null,"F2.32","In welcher Weise weist die Organisation die Mitarbeiter an, in Sicherheitsfragen wachsam zu sein?",null,null,{"$f":"C198","v":"F2.32"},"Notizen"]
[null,null,{"$f":"IF(COUNTIF(K199:K202,TRUE)=0,\"unvollständig\",IF(COUNTIF(K199:K202,TRUE)=1,\"\",\"uneinheitlich\"))","v":""},"a)","Hierauf wird kein Schwerpunkt gelegt.",null,null,null,null,null,true]
[null,null,null,"b)","Es gibt Anweisungen zur Wachsamkeit, um die Mitarbeiter an die vorhandenen Sicherheitsverfahren zu erinnern, falls verdächtige Gegenstände oder Fahrzeuge entdeckt werden.",null,null,null,null,null,false]
[null,null,null,"c)","Es gibt Anweisungen zur Wachsamkeit, um die Mitarbeiter an die vorhandenen Sicherheitsverfahren zu erinnern, falls verdächtige Gegenstände oder Fahrzeuge entdeckt werden. Vierteljährlich Aktualisierungen dieser Anweisungen werden bereitgestellt.",null,null,null,null,null,false]
[null,null,null,"d)","Die Einbeziehung der Mitarbeiter in Maßnahmen zur Verbesserung der Sicherheit wird gefördert.",null,null,null,null,null,false]
[]
[null,"Umwelt",null,null,null,{"$f":"B204","v":"Umwelt"}]
[null,null,null,null," "]
[null,null,"F2.33","In welcher Weise werden die möglichen Umweltauswirkungen der Aktivitäten der Organisation bewertet?",null,null,{"$f":"C206","v":"F2.33"},"Notizen"]
[null,null,{"$f":"IF(COUNTIF(K207:K210,TRUE)=0,\"unvollständig\",IF(COUNTIF(K207:K210,TRUE)=1,\"\",\"uneinheitlich\"))","v":""},"a)","Es erfolgt keine systematische Bewertung der Umweltauswirkungen der Aktivitäten.",null,null,null,null,null,false]
[null,null,null,"b)","Es erfolgt eine regelmäßige, systematische Bewertung der Umweltauswirkungen der Aktivitäten.",null,null,null,null,null,true]
[null,null,null,"c)","Auf der Grundlage dieser Bewertung werden in einem Aktionsplan Prioritäten zur Verringerung der Umweltauswirkungen festgelegt. Das Vorhandensein dieses Aktionsplans wird den Mitarbeitern und der Öffentlichkeit mitgeteilt.",null,null,null,null,null,false]
[null,null,null,"d)","Darüber hinaus werden die Ergebnisse der Folgenabschätzung den Mitarbeitern und der Öffentlichkeit mitgeteilt",null,null,null,null,null,false]
[null,null,null,null," "]
[null,null,"F2.34","In welcher Weise steuert die Organisation ihre Umweltleistung?",null,null,{"$f":"C212","v":"F2.34"},"Notizen"]
[null,null,{"$f":"IF(COUNTIF(K213:K216,TRUE)=0,\"unvollständig\",IF(COUNTIF(K213:K216,TRUE)=1,\"\",\"uneinheitlich\"))","v":""},"a)","Auf die Umweltleistung wird kein Schwerpunkt gelegt. Die Organisation regelt Umweltangelegenheiten entsprechend den gesetzlichen und sonstigen Vorschriften („compliance“).",null,null,null,null,null,true]
[null,null,null,"b)","Die Organisation hat strategische Ziele und unterstützende Maßnahmen definiert, um den ökologischen Fußabdruck der Organisation zu lenken und zu verringern",null,null,null,null,null,false]
[null,null,null,"c)","Die Entwicklung der Umweltleistung (anhand geeigneter Indikatoren für alle wichtigen Aspekte, einschließlich Energie) und die Umsetzung des Aktionsplanes werden regelmäßig analysiert und die Wirksamkeit wird verbessert. Der Plan berücksichtigt die Belange der Gemeinde/Anwohner („community“) sowie mögliche Risiken und Chancen in Zusammenhang mit der Organisation",null,null,null,null,null,false]
[null,null,null,"d)","Das Top Management der Organisation überprüft regelmäßig die Leistung und steht dafür ein, dass die Ziele erreicht werden. Sie gewährleistet, dass angemessene Ressourcen zur Verfügung gestellt werden.",null,null,null,null,null,false]
[null,null,null,null," "]
[null,null,"F2.35","Wie geht die Organisation mit Abfall um?",null,null,{"$f":"C218","v":"F2.35"},"Notizen"]
[null,null,{"$f":"IF(COUNTIF(K219:K222,TRUE)=0,\"unvollständig\",IF(COUNTIF(K219:K222,TRUE)=1,\"\",\"uneinheitlich\"))","v":""},"a)","Der Umgang mit Abfall erfolgt entsprechend den gesetzlichen Vorschriften („compliance“).",null,null,null,null,null,false]
[null,null,null,"b)","Die Einstufung, Sortierung, Lagerung und sichere Entsorgung von Abfall sind darauf ausgerichtet, die Abfallströme zu optimieren und dadurch die Verwertung auf ein Höchstmaß zu steigern",null,null,null,null,null,true]
[null,null,null,"c)","Mit der Betriebstätigkeit und Ausrüstung in Zusammenhang stehende Praktiken des Abfallmanagements werden regelmäßig bewertet und ggf. verbessert",null,null,null,null,null,false]
[null,null,null,"d)","Ein laufendes, mit Partnern durchgeführtes Programm ist auf Verbesserungsmöglichkeiten im Umgang mit Abfall ausgerichtet. Ziele und Indikatoren zur Abfallverringerung und/oder Abfallverwertung sind festgelegt. Fortschritte in der Erreichung der Ziele werden systematisch überprüft.",null,null,null,null,null,false]
[null,null,null,null," ",{"$f":"B204","v":"Umwelt"}]
[null,null,"F2.36","Wie geht die Organisation mit Risiken für das Grundwasser um?",null,null,{"$f":"C224","v":"F2.36"},"Notizen"]
[null,null,{"$f":"IF(COUNTIF(K225:K228,TRUE)=0,\"unvollständig\",IF(COUNTIF(K225:K228,TRUE)=1,\"\",\"uneinheitlich\"))","v":""},"a)","Maßnahmen hinsichtlich der Verschmutzungsgefahr für das Grundwasser werden entsprechend den gesetzlichen Vorschriften getroffen.",null,null,null,null,null,true]
[null,null,null,"b)","Die Arbeiten mit den größten Risiken einer Grundwasserverschmutzung sind identifiziert. Technische und betriebliche Kontrollen werden umgesetzt, um die Freisetzung von Chemikalien in das Grundwasser zu verhindern und zu erkennen.",null,null,null,null,null,false]
[null,null,null,"c)","Die Grundwasserqualität wird regelmäßig bewertet, um eine mögliche Verschmutzung des Grundwassers festzustellen.",null,null,null,null,null,false]
[null,null,null,"d)","Die Organisation trägt zur Entwicklung von Technologien zum Schutz des Grundwassers bei und teilt diese besten Praktiken mit anderen",null,null,null,null,null,false]
[null,null,null,null," "]
[null,null,"F2.37","Wie geht die Organisation mit den Risiken einer Bodenverschmutzung um?",null,null,{"$f":"C230","v":"F2.37"},"Notizen"]
[null,null,{"$f":"IF(COUNTIF(K231:K234,TRUE)=0,\"unvollständig\",IF(COUNTIF(K231:K234,TRUE)=1,\"\",\"uneinheitlich\"))","v":""},"a)","Maßnahmen hinsichtlich der Verschmutzungsgefahr für Böden werden entsprechend den gesetzlichen Vorschriften getroffen",null,null,null,null,null,false]
[null,null,null,"b)","Die Arbeiten mit den größten Risiken einer Bodenverschmutzung sind identifiziert. Technische und betriebliche Kontrollen werden umgesetzt, um Freisetzungen zu verhindern und zu erkennen. Beispielsweise werden alle Gefahrstoffe in Bereichen mit versiegeltem Boden behandelt oder dorthin verbracht und ggf. in flüssigkeitsdichten Tanks gelagert.",null,null,null,null,null,false]
[null,null,null,"c)","Maßnahmen und Verfahren sind vorhanden, um die Folgen unbeabsichtigter Verschüttungen auf den Boden auf ein Mindestmaß zu verringern. Die Bodenqualität wird regelmäßig geprüft, um eine mögliche Verschmutzung des Bodens zu bewerten.",null,null,null,null,null,true]
[null,null,null,"d)","Die Organisation trägt zur Entwicklung von Technologien zum Bodenschutz bei und teilte diese besten Praktiken mit anderen",null,null,null,null,null,false]
[null,null,null,null," "]
[null,null,"F2.38","Wie geht die Organisation mit vorhandenen Bodenverschmutzungen um?",null,null,{"$f":"C236","v":"F2.38"},"Notizen"]
[null,null,{"$f":"IF(COUNTIF(K237:K240,TRUE)=0,\"unvollständig\",IF(COUNTIF(K237:K240,TRUE)=1,\"\",\"uneinheitlich\"))","v":""},"a)","Maßnahmen hinsichtlich jeglicher vorhandener Verschmutzung werden entsprechend den gesetzlichen Vorschriften getroffen.",null,null,null,null,null,true]
[null,null,null,"b)","Die Organisation hat ein Verfahren zur Beseitigung unfallbedingter Verschmutzungen definiert und vorhandene Verschmutzungen am Standort identifiziert.",null,null,null,null,null,false]
[null,null,null,"c)","Die Organisation hat einen Umweltmanagementplan („pollution management plan“) für alle eventuell vorhandenen Altlasten („historic pollution“) erstellt. Dieser Plan umfasst Lösungen für die Sanierung dieser Altlasten.",null,null,null,null,null,false]
[null,null,null,"d)","Der Umweltmanagementplan wird budgetiert und im Rahmen des Standortmanagements umgesetzt.",null,null,null,null,null,false]
[null,null,null,null," "]
[null,null,"F2.39","Wie geht die Organisation mit ihren Emissionen in die Luft um?",null,null,{"$f":"C242","v":"F2.39"},"Notizen"]
[null,null,{"$f":"IF(COUNTIF(K243:K246,TRUE)=0,\"unvollständig\",IF(COUNTIF(K243:K246,TRUE)=1,\"\",\"uneinheitlich\"))","v":""},"a)","Maßnahmen hinsichtlich der Emissionen in die Luft werden entsprechend den gesetzlichen Vorschriften getroffen.",null,null,null,null,null,false]
[null,null,null,"b)","Die Arbeiten mit den größten Auswirkungen auf Luftemissionen sind identifiziert. Technische und betriebliche Kontrollen werden umgesetzt, um Freisetzungen in die Luft auf ein Mindestmaß zu verringern, zu beherrschen und zu überwachen. Maßnahmen sind vorhanden, um Emissionen über die gesetzlichen Vorgaben hinaus zu vermindern",null,null,null,null,null,false]
[null,null,null,"c)","Die Organisation bewertet regelmäßig Möglichkeiten für Verbesserungen. Maßnahmen zur Verminderung von Emissionen werden systematisch geplant",null,null,null,null,null,true]
[null,null,null,"d)","Ziele und Indikatoren für die Verminderung von Emissionen sind vorhanden. Fortschritte bei der Erreichung von Zielen werden systematisch überprüft.",null,null,null,null,null,false]
[null,null,null,null," ",{"$f":"B204","v":"Umwelt"}]
[null,null,"F2.40","Wie geht die Organisation mit ihren Emissionen in Wasser um?",null,null,{"$f":"C248","v":"F2.40"},"Notizen"]
[null,null,{"$f":"IF(COUNTIF(K249:K252,TRUE)=0,\"unvollständig\",IF(COUNTIF(K249:K252,TRUE)=1,\"\",\"uneinheitlich\"))","v":""},"a)","Maßnahmen hinsichtlich der Emissionen in Wasser werden entsprechend der gesetzlichen Vorschriften getroffen.",null,null,null,null,null,true]
[null,null,null,"b)","Die Arbeiten mit den größten Auswirkungen auf Wasseremissionen sind identifiziert. Technische und betriebliche Kontrollen werden umgesetzt, um Freisetzungen in Wasser auf ein Mindestmaß zu verringern, zu beherrschen und zu überwachen. Maßnahmen sind vorhanden, um Emissionen über die gesetzlichen Vorgaben hinaus zu vermindern.",null,null,null,null,null,false]
[null,null,null,"c)","Die Organisation bewertet regelmäßig Möglichkeiten für Verbesserungen. Maßnahmen zur Verminderung von Emissionen werden systematisch geplant",null,null,null,null,null,false]
[null,null,null,"d)","Ziele und Indikatoren für die Verminderung von Emissionen sind vorhanden. Fortschritte bei der Erreichung von Zielen werden systematisch überprüft",null,null,null,null,null,false]
[null,null,null,null," "]
[null,null,"F2.41","Wie geht die Organisation mit Lärmemissionen um?",null,null,{"$f":"C254","v":"F2.41"},"Notizen"]
[null,null,{"$f":"IF(COUNTIF(K255:K258,TRUE)=0,\"unvollständig\",IF(COUNTIF(K255:K258,TRUE)=1,\"\",\"uneinheitlich\"))","v":""},"a)","Maßnahmen hinsichtlich Lärm werden entsprechend der gesetzlichen Vorschriften getroffen",null,null,null,null,null,false]
[null,null,null,"b)","Die Arbeiten mit den größten Auswirkungen auf Lärmemissionen sind identifiziert. Technische und betriebliche Kontrollen werden umgesetzt, um Lärm zu verhindern und zu begrenzen",null,null,null,null,null,false]
[null,null,null,"c)","Regelmäßige Überwachungskampagnen werden durchgeführt. Die Überwachungsdaten werden ausgewertet, um Möglichkeiten für Verbesserungen zu definieren und zu planen. Maßnahmen zur Verminderung von Lärmemissionen werden systematisch geplant.",null,null,null,null,null,true]
[null,null,null,"d)","Ziele und Indikatoren für die Verminderung von Lärmemissionen sind vorhanden. Fortschritte bei der Erreichung von Zielen werden systematisch überprüft",null,null,null,null,null,false]
[null,null,null,null," "]
[null,null,"F2.42","Wie geht die Organisation mit Geruchsemissionen um?",null,null,{"$f":"C260","v":"F2.42"},"Notizen"]
[null,null,{"$f":"IF(COUNTIF(K261:K264,TRUE)=0,\"unvollständig\",IF(COUNTIF(K261:K264,TRUE)=1,\"\",\"uneinheitlich\"))","v":""},"a)","Maßnahmen hinsichtlich Geruch werden entsprechend der gesetzlichen Vorschriften getroffen",null,null,null,null,null,false]
[null,null,null,"b)","Die wichtigsten Aktivitäten, bei denen Gerüche entsteht, sind identifiziert. Technische und betriebliche Kontrollen werden umgesetzt, um diese Emissionen zu verhindern bzw. zu begrenzen",null,null,null,null,null,false]
[null,null,null,"c)","Die Organisation hat eine Ansprechstelle für Geruchsbelästigungen.",null,null,null,null,null,true]
[null,null,null,"d)","Die Organisation hat eine Ansprechstelle für Geruchsbelästigungen. Maßnahmen für Verbesserungen und Begrenzungen hinsichtlich Geruchsemissionen werden systematisch und entsprechend den Anforderungen der betroffenen Kreise („stakeholder“) geplant.",null,null,null,null,null,false]
[null,null,null,null," "]
[null,null,"F2.43","Wie verhindert die Organisation unfallbedingte Emissionen in die Umwelt und wie geht sie ggf. damit um?",null,null,{"$f":"C266","v":"F2.43"},"Notizen"]
[null,null,{"$f":"IF(COUNTIF(K267:K270,TRUE)=0,\"unvollständig\",IF(COUNTIF(K267:K270,TRUE)=1,\"\",\"uneinheitlich\"))","v":""},"a)","Maßnahmen zur Vermeidung unfallbedingter Emissionen sind entsprechend den gesetzlichen Vorschriften vorhanden.",null,null,null,null,null,false]
[null,null,null,"b)","Die Organisation hat systematisch Verfahren und Aktivitäten identifiziert, die zu unfallbedingten Emissionen in die Umwelt führen können. Technische und betrieblich Kontrollen werden umgesetzt, um unfallbedingte Emissionen zu vermeiden bzw. festzustellen (z. B. Deiche, flüssigkeitsdichte Oberflächen, doppelwandige Behälter/Tanks, Sperrsysteme für Abwasservorrichtungen oder Oberflächenwasserabläufe usw.). Die Wirksamkeit der durchgeführten Kontrollen wird regelmäßig bewertet.",null,null,null,null,null,true]
[null,null,null,"c)","Die Organisation verfügt über ein Notfallverfahren für den Fall unfallbedingter Verschmutzungen. Quellen von oder Gründe für unfallbedingte Verschmutzungen wurden im Rahmen der Verfahrenssicherheitsstudie bewertet. Entsprechend dieser Studie sind Gegenmaßnahmen vorhanden",null,null,null,null,null,false]
[null,null,null,"d)","Die Organisation verfügt über eine Einheit für Krisenprävention und führt Krisensimulationsübungen in Zusammenhang mit unfallbedingten Verschmutzungen durch. Darüber hinaus besteht ein Verfahren für die Kommunikation mit örtlichen betroffenen Kreisen (Behörden, Medien, örtliche Bevölkerung/Anwohner …); die Wirksamkeit dieses Verfahrens wird regelmäßig bewertet und verbessert.",null,null,null,null,null,false]
[null,null,null,null," ",{"$f":"B204","v":"Umwelt"}]
[null,null,"F2.44","In welcher Weise stellt die Organisation sicher, dass alle Mitarbeiter hinsichtlich der Umweltanforderungen, die mit ihrer Tätigkeit in Zusammenhang stehen, über die geeigneten Kompetenzen verfügen?",null,null,{"$f":"C272","v":"F2.44"},"Notizen"]
[null,null,{"$f":"IF(COUNTIF(K273:K276,TRUE)=0,\"unvollständig\",IF(COUNTIF(K273:K276,TRUE)=1,\"\",\"uneinheitlich\"))","v":""},"a)","Die Organisation hat Kompetenzanforderungen für Funktionen, die mit wesentlichen Umweltauswirkungen in Zusammenhang stehen, festgelegt. Diese Mitarbeiter werden entsprechend geschult.",null,null,null,null,null,false]
[null,null,null,"b)","Mitarbeiter und Fremdfirmen werden in Umweltfragen entsprechend ihrer diesbezüglichen Verantwortlichkeiten geschult. Ein Schulungsplan ist vorhanden; er umfasst alle wichtigen Umweltaspekte.",null,null,null,null,null,false]
[null,null,null,"c)","Alle Mitarbeiter sind sich zumindest der Umweltziele der Organisation bewusst. Die Mitarbeiter wissen, in welcher Weise sie ihren Beitrag hierzu leisten können und welche Folgen es hat, falls sie nicht zu den Verfahren des Umweltmanagements beitragen. Die Umweltexperten werden mit Hinblick auf neue Tools und Techniken kontinuierlich geschult.",null,null,null,null,null,true]
[null,null,null,"d)","Nachweise über die Kompetenzen aller Beteiligter sind vorhanden; die Wirksamkeit der Schulungsmaßnahmen wird regelmäßig bewertet",null,null,null,null,null,false]
[null,null,null,null," "]
[null,null,"F2.45","Wie werden den Interessensgruppen („stakeholder“) der Organisation die Umweltaspekte und deren mögliche Auswirkungen bewusst gemacht?",null,null,{"$f":"C278","v":"F2.45"},"Notizen"]
[null,null,{"$f":"IF(COUNTIF(K279:K282,TRUE)=0,\"unvollständig\",IF(COUNTIF(K279:K282,TRUE)=1,\"\",\"uneinheitlich\"))","v":""},"a)","Die Organisation informiert ihre Mitarbeiter über zu ergreifende Präventivmaßnahmen und Schritte (z. B. im Fall einer unfallbedingten Verschmutzung).",null,null,null,null,null,false]
[null,null,null,"b)","Die Organisation informiert die örtliche Gemeinde/Anwohner („local community“) regelmäßig über Umweltaspekte in Zusammenhang mit ihren Aktivitäten",null,null,null,null,null,false]
[null,null,null,"c)","Die Organisation baut Partnerschaften mit örtlichen Akteuren und Verbänden auf, um deren Erwartungen berücksichtigen zu können (auch co-build solutions).",null,null,null,null,null,true]
[null,null,null,"d)","d) Die Organisation informiert die Interessensgruppen über die Überwachung der Leistungsindikatoren im Umweltbereich, um die aktive Rolle der Organisation in Umweltfragen in dem geographischen Gebiet, in dem sie ansässig ist, zu unterstreichen.",null,null,null,null,null,false]

{"sheet":"Kapitel 3","index":6,"n_rows":74,"n_cols":15,"rows_kept":74,"cut":false,"hidden":false,"merged":[[13,3,13,4],[21,3,21,4],[5,3,5,4],[3,5,9,5],[11,5,17,5],[40,6,43,9],[48,6,51,9],[27,3,27,4],[33,3,33,4],[39,3,39,4],[19,5,31,5],[32,5,37,5],[38,5,43,5],[6,6,9,9],[14,6,17,9],[22,6,25,9],[28,6,31,9],[34,6,37,9],[56,6,59,9],[62,6,65,9],[70,6,73,9],[47,3,47,4],[45,5,51,5],[55,3,55,4],[61,3,61,4],[53,5,59,5],[60,5,65,5],[69,3,69,4],[67,5,73,5]]}
[null,"KAPITEL 3 : Stärkung von Managementsystemen im Chemikalienbereich",null,null,null,null,null,null,null,null,null,null,null,{"$f":"IF(O1=\"\",\"\",\"Still to do\")","v":""},{"$f":"'Start & voreingestellte Fragen'!$G$9","v":""}]
[null,null,null,null,null,null,"Nur eine der Möglichkeiten auswählen"]
[]
[null,"Produktdesign und -verbesserung",null,null,null,{"$f":"B4","v":"Produktdesign und -verbesserung"}]
[null,null,null,null," "]
[null,{"$f":"COUNTIF(C7:C74,\"uneinheitlich\")","v":0},"F3.1","Verfügt die Organisation über ein Verfahren für das Design\n und die Entwicklung neuer Produkte und Dienstleistungen?",null,null,{"$f":"C6","v":"F3.1"},"Notizen"]
[null,null,{"$f":"IF(COUNTIF(K7:K10,TRUE)=0,\"unvollständig\",IF(COUNTIF(K7:K10,TRUE)=1,\"\",\"uneinheitlich\"))","v":""},"a)","Ja. Dieses Verfahren wird durch Stufen und Kontrollen definiert. Sie werden angewandt und können nach Überprüfung geändert werden, um sicherzustellen, dass die Ergebnisse den Eingangsanforderungen entsprechen. Die Risikoabschätzung erfolgt auf der Grundlage der REACH-Leitlinien, indem die wahrscheinliche/n Anwendergruppe/n, die beabsichtigte Verwendung und vernünftigerweise vorhersehbare Fehlanwendung identifiziert werden.",null,null,null,null,null,true]
[null,null,null,"b)","Die Organisation hat mit einer Überprüfung ihrer Produkte hinsichtlich ihrem ökologischen Design begonnen und die wichtigsten Entscheidungspunkte für die künftige Produktentwicklung festgelegt",null,null,null,null,null,false]
[null,null,null,"c)","Erwägungen hinsichtlich Risikocharakterisierung und Risikomanagement werden im Design neuer Produkte und deren Verwendung in der Wertschöpfungskette berücksichtigt. Vorhandene Produkte werden verbessert, um noch aus der Konzeptionsphase stammende Risiken zu begrenzen. Dies kann sich darin widerspiegeln, dass die Verwendung schädlicher Chemikalien – einschließlich, aber nicht beschränkt auf karzinogene, mutagene, fortpflanzungsschädliche, persistente und bioakkumulierende Stoffe – vermieden wird. Überdies wird das Risiko für jeden identifizierten Anwender oder jede identifizierte Anwendergruppe zusätzlich vermindert.",null,null,null,null,null,false]
[null,null,null,"d)","In der Produktentwicklung berücksichtigt die Organisation Faktoren wie beabsichtigte Verwendung, erwartete Produktlebensdauer, Haltbarkeit, Wiederverwendung, Recyclingfähigkeit oder sinnvolle Entsorgung des Produktes. Möglichkeiten zur Verbesserung der Energieeffizienz werden in der Entwicklung energieverbrauchender Verfahren bedacht. Die Lebenszyklusanalyse des Produktes wird in die Entwicklung neuer bzw. die Verbesserung vorhandener Produkte einbezogen. Die Organisation macht ihr diesbezügliches Engagement öffentlich sichtbar",null,null,null,null,null,false]
[]
[null,"Priorisierung von Produkten",null,null,null,{"$f":"B12","v":"Priorisierung von Produkten"}]
[null,null,null,null," "]
[null,null,"F3.2","Verfügt die Organisation über ein Verfahren, um ihre Produkte mit Hinblick auf Risikocharakterisierung und Risikomanagement zu bewerten und zu priorisieren?",null,null,{"$f":"C14","v":"F3.2"},"Notizen"]
[null,null,{"$f":"IF(COUNTIF(K15:K18,TRUE)=0,\"unvollständig\",IF(COUNTIF(K15:K18,TRUE)=1,\"\",\"uneinheitlich\"))","v":""},"a)","Die Organisation verfügt über ein Verfahren mit einfachen Kriterien für die Priorisierung von Chemikalien, auf die in konsistenter Weise zunächst der Schwerpunkt gelegt werden sollte.",null,null,null,null,null,false]
[null,null,null,"b)","Das Verfahren wird unter Anwendung sorgfältig ausgearbeiteter Kriterien eingesetzt, um Produkte aus jeder Produktfamilie zu priorisieren (Kriterien auf der Grundlage neuer Informationen sowie Verwendungs- und Expositionsmustern in Zusammenhang mit dem Gefahrenprofil eines chemischen Stoffes). Dieses Verfahren ist auf neue und vorhandene Produkte anwendbar/gilt für neue und vorhandene Produkte. Die Kriterien für die Priorisierung werden regelmäßig aktualisiert.",null,null,null,null,null,true]
[null,null,null,"c)","c)\tTools mit Screening-Kriterien zur Priorisierung von Risiken werden kontinuierlich entwickelt und verbessert: Ein Verfahren zur zeitnahen Erfassung neuer, für Priorisierungsentscheidungen notwendiger Informationen ist vorhanden.",null,null,null,null,null,false]
[null,null,null,"d)","d)\tDie Priorisierungsmethode wird extern kommuniziert und bewertet („benchmarked“).",null,null,null,null,null,false]
[]
[null,"Produktinformation",null,null,null,{"$f":"B20","v":"Produktinformation"}]
[null,null,null,null," "]
[null,null,"F3.3","Verfügt die Organisation über ein System, um die Anwendbarkeit sowie Änderungen und Einhaltung von internen und externen Anforderungen in Zusammenhang mit dem Sicherheitsmanagement von Chemikalien zu verfolgen/nachzuverfolgen?",null,null,{"$f":"C22","v":"F3.3"},"Notizen"]
[null,null,{"$f":"IF(COUNTIF(K23:K26,TRUE)=0,\"unvollständig\",IF(COUNTIF(K23:K26,TRUE)=1,\"\",\"uneinheitlich\"))","v":""},"a)","Die Organisation verfügt über ein Verfahren, um die Anwendbarkeit gesetzlicher und anderer Vorschriften, denen die Organisation – zusätzlich zu den RC-Anforderungen – unterliegt, festzustellen und zu prüfen.\nDie Organisation hat ein Inventar zur Chemikaliensicherheit („chemical safety inventory“) erstellt, welches die von der Organisation verwendeten, importierten oder hergestellten chemischen Stoffe und Gemische auflistet.",null,null,null,null,null,true]
[null,null,null,"b)","Für jeden Eintrag in das Inventar hat die Organisation die geltenden Vorschriften und Zertifizierungen festgestellt. Das Inventar wird regelmäßig aktualisiert, um Änderungen der Produktspezifikationen und der geltenden Anforderungen einzuarbeiten. Das Inventar ist ein Schlüsseltool in der Identifizierung und Priorisierung kritischer chemischer Stoffe (besonders besorgniserregende Stoffe, Einschränkungen unterworfene Stoffe).",null,null,null,null,null,false]
[null,null,null,"c)","Die Organisation verfügt über ein Verfahren für Kommunikation in der Lieferkette und zur regelmäßigen Überprüfung der Konformität („compliance“) der von ihren Lieferern erhaltenen Produkte. Informationen über Konformität in der Lieferkette („supply chain compliance“) ist leicht zugänglich; enge Folgekommunikation zur Bestätigung von Konformität ist gewährleistet. Gemeinsam mit externen Partnern verfolgt die Organisation sich abzeichnende regulatorische Entwicklungen zu in ihren Produkten verwendeten Stoffen. Dieses Verfahren beinhaltet den Erhalt ausreichender und rechtzeitiger Informationen über Änderungen in der Gesetzgebung.\nEine proaktive Kommunikation mit der Lieferkette (Management von eingeschränkten Stoffen, Substitution gefährlicher Verbindungen) ist gewährleistet.\n",null,null,null,null,null,false]
[null,null,null,"d)","Gemeinsam mit externen Partnern verfolgt die Organisation sich abzeichnende regulatorische Entwicklungen zu in ihren Produkten verwendeten Stoffen. Dieses Verfahren beinhaltet den Erhalt ausreichender und rechtzeitiger Informationen über Änderungen in der Gesetzgebung.\nEine proaktive Kommunikation mit der Lieferkette (Management von eingeschränkten Stoffen, Substitution gefährlicher Verbindungen) ist gewährleistet.",null,null,null,null,null,false]
[null,null,null,null," "]
[null,null,"F3.4","Verfügt die Organisation über ein Verfahren zum Umgang mit vorhandenen Gefahreninformationen in Zusammenhang mit ihren Produkten?",null,null,{"$f":"C28","v":"F3.4"},"Notizen"]
[null,null,{"$f":"IF(COUNTIF(K29:K32,TRUE)=0,\"unvollständig\",IF(COUNTIF(K29:K32,TRUE)=1,\"\",\"uneinheitlich\"))","v":""},"a)","Ein Verfahren zur Sammlung verfügbarer Informationen über Produktsicherheit, Gesundheit und Umweltgefahren ist vorhanden.",null,null,null,null,null,true]
[null,null,null,"b)","Vorhandene Informationen werden in die Struktur eines dokumentierten Systems gebracht. Dieses System wird regelmäßig aktualisiert und ist leicht zugänglich.",null,null,null,null,null,false]
[null,null,null,"c)","Vorhandene Informationen werden hinsichtlich ihrer Zuverlässigkeit bewertet und in einem Trackingsystem zusammengefasst. Das Trackingsystem wurde entwickelt, um alle Informationsquellen und Überarbeitungen nachzuverfolgen (einschließlich eines Indikators für Zuverlässigkeit).",null,null,null,null,null,false]
[null,null,null,"d)","Die Organisation stellt Dritten so viele ihrer internen Informationen wie möglich zur Verfügung, um die gemeinsame Nutzung von Daten zu fördern. Damit trägt die Organisation z. B. zur Verringerung von Tierversuchen und einer größeren Datenmenge für prädiktive Modelle bei.",null,null,null,null,null,false]
[null,null,null,null," ",{"$f":"B20","v":"Produktinformation"}]
[null,null,"F3.5","Verfügt die Organisation über ein Verfahren für den Umgang mit Informationen über die Verwendung von und die Exposition durch ihre Produkte?",null,null,{"$f":"C34","v":"F3.5"},"Notizen"]
[null,null,{"$f":"IF(COUNTIF(K35:K38,TRUE)=0,\"unvollständig\",IF(COUNTIF(K35:K38,TRUE)=1,\"\",\"uneinheitlich\"))","v":""},"a)","Die Organisation verfügt über ein Verfahren, welches ihre eigenen Verwendungen und ihren eigenen Verbrauch von Produkten dokumentiert. Es gründet sich auf ein System zur Beschreibung der Verwendungen („use descriptor system“), einschließlich Informationen über relevante Betriebsbedingungen (z. B. jährliche Mengen, Dauer der Exposition).",null,null,null,null,null,true]
[null,null,null,"b)","Ein Verfahren zur Erkennung absichtlicher Fehlanwendungen/absichtlichen Missbrauchs oder unsachgemäßen Gebrauchs des Produktes ist entwickelt.\nVorhandene Informationen werden in die Struktur eines dokumentierten Systems gebracht. Dieses System wird regelmäßig aktualisiert und vorgeschaltet kommuniziert („communicated upstream“). In der Lieferkette wird um Informationen zu den Endverwendungen der Kunden gebeten. Generische Expositionsszenarien werden entwickelt; sie berücksichtigen realistische Maßnahmen des operativen Risikomanagements.",null,null,null,null,null,false]
[null,null,null,"c)","Zuverlässige Überwachungsdaten zur Exposition am Arbeitsplatz liegen vor für gefährliche Verbindungen, bei denen die Wahrscheinlichkeit einer Exposition hoch ist und die einer zwingend vorgeschriebenen Überwachung gemäß den gesetzlichen Vorschriften oder einer Genehmigung unterliegen.\nIdentifizierte Verwendungen nachgeschalteter Anwender und Endverwendungen von Kunden werden erfasst und in das Dokumentationssystem eingearbeitet.",null,null,null,null,null,false]
[null,null,null,"d)","Es besteht ein Verfahren eigens für Händlernetze, z. B. ein Vertrag über zugelassene Verwendungen.\nEs besteht ein Verfahren, um in der gesamten Lieferkette proaktiv Informationen über Verwendung und Exposition zu sammeln, zu pflegen und zu aktualisieren („management of change“).\nSensible Informationen über Verwendungen (sachgemäße Verwendungen, absichtliche Fehlanwendungen/absichtlicher Missbrauch) werden identifiziert und geprüft. Ggf. werden entsprechende Maßnahmen getroffen.",null,null,null,null,null,false]
[null,null,null,null," ",{"$f":"B20","v":"Produktinformation"}]
[null,null,"F3.6","Verfügt die Organisation über ein Verfahren für den Umgang mit neuen Informationen?",null,null,{"$f":"C40","v":"F3.6"},"Notizen"]
[null,null,{"$f":"IF(COUNTIF(K41:K44,TRUE)=0,\"unvollständig\",IF(COUNTIF(K41:K44,TRUE)=1,\"\",\"uneinheitlich\"))","v":""},"a)","Es gibt um Verfahren, um\n- Datenlücken hinsichtlich der Datenanforderungen vorhandener und neuer gesetzlicher Vorschriften zu erkennen;\n- Prüfpläne für Chemikalien zu entwickeln und umzusetzen, um ggf. bestehende Informationslücken zu schließen und\n-  Gefahreninformationen, die zur Erfüllung der gesetzlichen Mindestanforderungen benötigt werden, zu generieren und zu pflegen.\nInterne und/oder externe Mitarbeiter sollten grundsätzlich in der Lage sein, Informationen über Gefahren und mögliche Expositionen zu verstehen.",null,null,null,null,null,true]
[null,null,null,"b)","Die Organisation überwacht regelmäßig die Verfügbarkeit neuer, für ihre Produkte relevanter Gefahreninformationen (Literatur, Informationen über ähnliche Produkte für Analogiebeurteilungen / „read across“, gemeinsame Nutzung von Daten mit Dritten). Sie verfügt über ein Verfahren, um neue Informationen über die Gefahren und Risikocharakterisierung ihrer Produkte zu integrieren.",null,null,null,null,null,false]
[null,null,null,"c)","Zusätzlich zu den Gefahreninformationen integriert die Organisation verfügbare Informationen über Verwendungen / Expositionen durch ihre Produkte – einschließlich, aber nicht beschränkt auf:\n- Neue Märkte und Verwendungen mit Änderungen in der Art der Exposition (z. B. Übergang von industrieller zu gewerblicher Verwendung oder Verwendung durch Verbraucher);\n- vorhergesehene Anwendungen und Verwendungen in anderen geographischen Gebieten als ursprünglich erwartet;\n- Fälle von Fehlanwendung/Missbrauch;\n- Beschwerden von Kunden;\n- Unfälle und Vorfälle.\nDie gesammelten obigen Informationen werden ausgewertet. Ggf. wird eine Ursachenbewertung („root-cause evaluation“) durchgeführt. Die hieraus gewonnenen Erkenntnisse („lessons learned“) werden genutzt, um die Risikocharakterisierung zu aktualisieren.",null,null,null,null,null,false]
[null,null,null,"d)","Die Überprüfungs- und Zulassungs-/Genehmigungssysteme berücksichtigen auch alle Änderungen während des gesamten Lebenszyklus eines Produktes (z. B. Änderungen hinsichtlich Herstellungsverfahren, Verpackung, Vertrieb oder neuen Märkten/Verwendungen) und gewährleisten die Kommunikation mit relevanten Gruppen („stakeholder“).",null,null,null,null,null,false]
[]
[null,"Risikocharakterisierung",null,null,null,{"$f":"B46","v":"Risikocharakterisierung"}]
[null,null,null,null," "]
[null,null,"Q3.7","Verfügt die Organisation über ein Verfahren zur Risikocharakterisierung auf der Grundlage der gesammelten Informationen?",null,null,{"$f":"C48","v":"Q3.7"},"Notizen"]
[null,null,{"$f":"IF(COUNTIF(K49:K52,TRUE)=0,\"unvollständig\",IF(COUNTIF(K49:K52,TRUE)=1,\"\",\"uneinheitlich\"))","v":""},"a)","Die Organisation verfügt über ein Verfahren zur Charakterisierung der potentiellen Risiken ihrer Produkte anhand eines iterativen, abgestuften Prozesses, der die Ergebnisse der Priorisierung berücksichtigt. Die Risiken priorisierter Produkte werden bewertet und dokumentiert.\n\nDer zur Risikocharakterisierung berücksichtigt Unternehmensrichtlinien, die das Risiko und den Endverbrauch von Produkten berücksichtigen (z. B. Richtlinien für medizinische Anwendungen, Verwendung von Produkten bei der Herstellung von Konsumgütern usw.). Dieses Verfahren wird regelmäßig aktualisiert, um die neuesten Leitlinieninformationen zu integrieren.",null,null,null,null,null,true]
[null,null,null,"b)","Die Organisation bewertet regelmäßig die Auswirkungen neuer Informationen hinsichtlich Gefahr, Verwendung und Exposition, geltende Vorschriften und Zertifizierungen, neue Märkte oder Anwendungen, berichtete Vorkommnisse aus der gesamten Lieferkette, neue Prüftechnologien sowie sich neu ergebende Belange/Schwierigkeiten („concerns“) mit Hinblick auf Gesundheit oder Umwelt.\n\nNeue Risiken in der Wertschöpfungskette werden durch Überwachungspraktiken („vigilance practices“) erfasst.\nEine Liste mit Ereignissen, die Anlass zu Neubewertungen („re-evaluations“) im Sicherheitsmanagement geben, steht zur Verfügung (z. B. neue Anwendung, neuer Vertriebsbereich, neue Produktdaten usw.). Eine Überprüfung der vorhandenen Risikobewertungen wird bei Bedarf durchgeführt.",null,null,null,null,null,false]
[null,null,null,"c)","Die Organisation verbessert kontinuierlich und proaktiv die Qualität der vorhandenen Sicherheitscharakterisierungen.\n\nDie Risikocharakterisierung wird so weit wie möglich verfeinert; hierbei werden empfindliche Populationen oder Fehlanwendungen/Missbrauch berücksichtigt. Sie wird systematisch für alle verwendeten, eingeführten und hergestellten Produkte, unabhängig von deren Mengen, durchgeführt.\n\nDas Verfahren der Risikocharakterisierung umfasst den gesamten Lebenszykus („cradle to grave“) der Produkte.",null,null,null,null,null,false]
[null,null,null,"d)","Gemeinsam mit Industrie, Regierung/staatlichen Stellen und anderen engagierten Gruppen („stakeholder“) trägt die Organisation zur Verbesserung der Erkenntnisse in der Risikocharakterisierung hinsichtlich der Verwendung von Chemikalien/Produkten bei. Die Organisation beteiligt sich an\n- der Entwicklung und Validierung neuer, alternativer Methoden zur Bewertung von Gefahren und Expositionen und zur Charakterisierung von Risiken;\n- der Verringerung von Tierversuchen auf ein Mindestmaß und der Entwicklung alternativer Methoden zu Tierversuchen;\n- der Veröffentlichung von Sicherheitszusammenfassungen („safety summaries“) in einem der Organisation entsprechenden Umfang",null,null,null,null,null,false]
[]
[null,"Produktrisikomanagement",null,null,null,{"$f":"B54","v":"Produktrisikomanagement"}]
[null,null,null,null," "]
[null,null,"F3.8","Verfügt die Organisation über ein Verfahren zum Risikomanagement auf der Grundlage der gesammelten Informationen?",null,null,{"$f":"C56","v":"F3.8"},"Notizen"]
[null,null,{"$f":"IF(COUNTIF(K57:K60,TRUE)=0,\"unvollständig\",IF(COUNTIF(K57:K60,TRUE)=1,\"\",\"uneinheitlich\"))","v":""},"a)","Die Organisation verfügt über ein Verfahren, um die Umsetzung angemessener Maßnahmen des Risikomanagements auf der Grundlage verfügbarer Informationen sicherzustellen.\nDie Organisation informiert nachgeschaltete Endanwender in der Lieferkette über die Gefahren der Produkte und zu ergreifende Präventions- und Schutzmaßnahmen (Voraussetzungen für Sicherheit in Umgang, Verwendung, Lagerung und Entsorgung). Richtige Kennzeichnung/Etikettierung und angemessene Verpackung werden sichergestellt, um Gefahren wirksam zu kommunizieren.",null,null,null,null,null,true]
[null,null,null,"b)","Es besteht ein Verfahren, um die Maßnahmen des Risikomanagements hinsichtlich Verwendung, Lagerung und Entsorgung von Chemikalien zu überdenken, sobald neue Informationen zu Produktrisiken und Risikocharakterisierung verfügbar werden.",null,null,null,null,null,false]
[null,null,null,"c)","Die Organisation verbessert kontinuierlich ihre Empfehlungen für das Risikomanagement hinsichtlich der Verwendungs-, Transport- und Lagerbedingungen ihrer Produkte und informiert über deren Recyclingfähigkeit (oder sichere Entsorgung). Die Organisation bemüht sich proaktiv um neue Informationen, um die Maßnahmen des Risikomanagements zu verfeinern; sie kommuniziert aktiv mit Kunden, um deren Rückmeldungen („feedback“) zu sammeln und zu verarbeiten. Es werden Maßnahmen ergriffen, um die unsichere Verwendung von Produkten durch die Öffentlichkeit/Verbraucher, welche sich durch unsachgemäße Handhabung oder Lagerung ergeben würde, zu verhindern.",null,null,null,null,null,false]
[null,null,null,"d)","Die Organisation erhöht die Transparenz der Informationen im Rahmen der Produktverantwortung („product stewardship“).\n\nAngemessene Zusammenfassungen der Risikocharakterisierung („risk characterisation summaries“) mit angemessenen Schritten des Risikomanagements werden öffentlich verfügbar gemacht (z. B. Sicherheitsdatenblätter).\n\nSoweit notwendig, werden nachgeschaltete Kunden über die Risiken von Chemikalien und Verfahren des sicheren Umgangs mit ihnen unterrichtet, z. B. mittels organisierter Schulungen und Workshops.\n\nDie Organisation arbeitet mit anderen zusammen, um Informationen über Gruppen von Chemikalien und deren Verwendungen zu erlangen.",null,null,null,null,null,false]
[null,null,null,null," ",{"$f":"B54","v":"Produktrisikomanagement"}]
[null,null,"F3.9","Verfügt die Organisation über ein effizientes Verfahren, um ihre Produkte nach deren Lieferung nachzuverfolgen und Korrekturmaßnahmen durchzuführen?",null,null,{"$f":"C62","v":"F3.9"},"Notizen"]
[null,null,{"$f":"IF(COUNTIF(K63:K66,TRUE)=0,\"unvollständig\",IF(COUNTIF(K63:K66,TRUE)=1,\"\",\"uneinheitlich\"))","v":""},"a)","Ein Verfahren wird umgesetzt, um kontrollierte Bedingungen zu gewährleisten und die Anforderungen an Produkte und Dienstleistungen, die Kunden angeboten werden sollen, zu erfüllen. Die Organisation verfügt über ein Identifizierungssystem für Ergebnisse/Produkte („outputs“) und deren Status hinsichtlich der Überwachung- und Messanforderungen. Dadurch wird ihre eindeutige Identifizierung zu Zwecken der Nachverfolgbarkeit sichergestellt und Verschlechterungen während der Produktion und der Erbringung von Dienstleistungen werden vermieden. Somit ist Konformität gewährleistet.",null,null,null,null,null,false]
[null,null,null,"b)","Die Organisation stellt sicher, das nicht den jeweiligen Anforderungen entsprechende Produkte („outputs“) identifziert und kontrolliert werden, um deren unbeabsichtigte Verwendung oder Lieferung zu verhindern. Diese Maßnahmen werden dokumentiert. Sie werden nachverfolgt und Korrekturmaßnahmen werden umgesetzt.",null,null,null,null,null,true]
[null,null,null,"c)","Verfahren für die Bearbeitung folgender Punkte sind vorhanden und werden umgesetzt:\n- Anfragen und Beschwerden von Kunden;\n- Vorfälle/Unfälle,\n- Rückrufe in der Wertschöpfungskette.\nIm obigen Rahmen werden Präventiv- und Korrekturmaßnahmen umgesetzt, um das Risikomanagement von Produktion kontinuierlich zu verbessern.",null,null,null,null,null,false]
[null,null,null,"d)","Ein Rückruf- oder Rücknahmeverfahren („recall or withdrawal procedure“) ist vorhanden. Ein Team für den Rückruf oder die Rücknahme eines Produktes wird zusammengestellt. Es umfasst einen Rückrufkoordinator, Vertreter des gehobenen Managements („senior management“) und der Bereiche Vertrieb, Kundendienst und weiterer relevanter Abteilungen.\nDie Verantwortlichkeiten sind klar definiert hinsichtlich Entscheidungsfindung, Umsetzung des Notfallplans und Korrekturmaßnahmen. Das Verfahren skizziert die notwendigen Schritte für den Rückruf von Produkten, die im Verdacht stehen, die Gesundheit oder Sicherheit der Anwender zu beeinträchtigen.\n\nHierbei handelt es sich um die folgenden Schritte:\n- Produktbewertung: Die Beschwerden werden gesammelt und der Rückrufkoordinator prüft die Möglichkeit eines Rückrufs. Alle Beteiligten (zuständige Behörden, Lieferkette, interne Kommunikation) werden identifiziert; geeignete Maßnahmen werden ergriffen.\n- Lokalisierung und Identifizierung der betroffenen Produkte.\n- Frühzeitige Benachrichtigung der betroffenen Parteien.\n- Entfernung der Produkte: Die retournierten Produkte werden gesammelt, abgesondert und in einem von anderen Produkten getrennten Bereich gehandhabt. Es wird verhindert, dass diese Produkte vor ihrer Zerstörung, Instandsetzung/Umarbeitung oder Umleitung erneut auf den Markt kommen. Die Identifizierung der Produkte sowie ihre Mengen werden dokumentiert.\nDie Wirksamkeit des Rückrufverfahrens ist zu prüfen (Benachrichtigung von Kunden, Ergreifung angemessener Maßnahmen).\n",null,null,null,null,null,false]
[]
[null,"Management der Wertschöpfungskette",null,null,null,{"$f":"B68","v":"Management der Wertschöpfungskette"}]
[null,null,null,null," "]
[null,null,"F3.10","Kommuniziert die Organisation effizient in der Lieferkette hinsichtlich der für ihre Produkte notwendigen Maßnahmen des Risikomanagements?\n",null,null,{"$f":"C70","v":"F3.10"},"Notizen"]
[null,null,{"$f":"IF(COUNTIF(K71:K74,TRUE)=0,\"unvollständig\",IF(COUNTIF(K71:K74,TRUE)=1,\"\",\"uneinheitlich\"))","v":""},"a)","Die Organisation verfügt über einen aktuellen und vollständigen Satz an Sicherheitsdatenblättern (SDB) für alle am Standort verwendeten oder gelagerten gefährlichen Materialien (Rohstoffe, Zwischenprodukte, Produkte). Die richtige Kennzeichnung/Etikettierung wird vor der Vermarktung oder dem Versand sichergestellt.",null,null,null,null,null,false]
[null,null,null,"b)","Die Organisation verfügt über ein Verfahren zur regelmäßigen Aktualisierung ihrer SDB, um neue (interne oder externe) Informationen und deren Folgen für das Risikomanagement einzuarbeiten.\nDie Organisation prüft regelmäßig die Qualität der von Lieferern erhaltenen SDB.",null,null,null,null,null,true]
[null,null,null,"c)","Es besteht ein Verfahren, um die Verteilung der aktualisierten Fassungen von SDB an nachgeschaltete Anwender und weitere interessierte Kreise zu überwachen. Die Organisation stellt sicher, dass ihre SDB ordnungsgemäß erhalten und richtig verstanden werden. Auf Nachfrage bietet die Organisation für Kunden und Händler Schulungen an, um den sicheren Umgang mit ihren Produkten zu gewährleisten.",null,null,null,null,null,false]
[null,null,null,"d)","SDB sind öffentlich verfügbar; sie sind an die Regionen, in denen das Produkt verwendet wird, angepasst. Sie beinhalten die Kontaktdaten für eine verantwortliche Person innerhalb des Unternehmens, die zur Verfügung steht, um Fragen zu dessen chemischen Produkten zu beantworten. SDS und Kennzeichnung/Etikettierung enthalten eventuell vorhandene Informationen über die Recyclingfähigkeit des Produktes.",null,null,null,null,null,false]

{"sheet":"Kapitel 4","index":7,"n_rows":62,"n_cols":15,"rows_kept":62,"cut":false,"hidden":false,"merged":[[43,3,43,4],[41,5,47,5],[51,3,51,4],[49,5,61,5],[35,3,35,4],[19,5,25,5],[29,3,29,4],[27,5,39,5],[6,6,9,9],[14,6,17,9],[22,6,25,9],[3,5,9,5],[11,5,17,5],[30,6,33,9],[5,3,5,4],[21,3,21,4],[44,6,47,9],[52,6,55,9],[58,6,61,9],[35,6,38,9],[39,6,39,9]]}
[null,"KAPITEL 4: Einbeziehung von Geschäftspartnern",null,null,null,null,null,null,null,null,null,null,null,{"$f":"IF(O1=\"\",\"\",\"Still to do\")","v":""},{"$f":"'Start & voreingestellte Fragen'!$G$9","v":""}]
[null,null,null,null,null,null,"Nur eine der Möglichkeiten auswählen"]
[]
[null,"Verantwortungsvolle Beschaffung (Responsible sourcing)",null,null,null,{"$f":"B4","v":"Verantwortungsvolle Beschaffung (Responsible sourcing)"}]
[null,null,null,null," "]
[null,{"$f":"COUNTIF(C7:C62,\"uneinheitlich\")","v":0},"F4.1","In welcher Form hat sich die Organisation einer verantwortungsvollen Beschaffung verpflichtet?",null,null,{"$f":"C6","v":"F4.1"},"Notizen"]
[null,null,{"$f":"IF(COUNTIF(K7:K10,TRUE)=0,\"unvollständig\",IF(COUNTIF(K7:K10,TRUE)=1,\"\",\"uneinheitlich\"))","v":""},"a)","Die Organisation erfüllt die für sie geltenden gesetzlichen Anforderungen. Es gibt aber keine klare Verpflichtung und kein formelles Verfahren hinsichtlich einer verantwortungsvollen Beschaffung.",null,null,null,null,null,true]
[null,null,null,"b)","In einer unternehmenspolitischen Vorgabe legt die Organisation ihren Ansatz mit Hinblick auf eine verantwortungsvolle Beschaffung fest. Die Organisation verlangt von ihren Lieferern, diese Unternehmenspolitik anzuerkennen und die Strategie der Organisation für soziale Unternehmensverantwortung (Corporate Social Responsibility / CSR) durch ihre Zusammenarbeit zu unterstützen.",null,null,null,null,null,false]
[null,null,null,"c)","Die Organisation hat die Risiken im Bereich Beschaffung dargelegt und berücksichtigt die Auswirkungen auf die Umwelt. Dies geschieht anhand von Umweltkriterien in der Auswahl der beschafften Güter, Ausrüstungen und Dienstleistungen. In der Beschaffung von energieverbrauchenden Produkten, Ausrüstungen oder Dienstleistungen wendet die Organisation deren Energieeffizienz während ihrer erwarteten Lebensdauer als eines der Kriterien an.",null,null,null,null,null,false]
[null,null,null,"d)","Es gibt ein Budget für die Beschaffung der umweltfreundlichsten Güter, Ausrüstungen und Dienstleistungen. Außerdem werden Prioritäten anhand von Verträglichkeitsprüfungen (impact assessements) gesetzt.",null,null,null,null,null,false]
[]
[null,"Zusammenarbeit mit der Wertschöpfungskette ",null,null,null,{"$f":"B12","v":"Zusammenarbeit mit der Wertschöpfungskette "}]
[null,null,null,null," "]
[null,null,"F4.2","In welcher Weise steigert die Organisation die Zusammenarbeit mit der Wertschöpfungskette?",null,null,{"$f":"C14","v":"F4.2"},"Notizen"]
[null,null,{"$f":"IF(COUNTIF(K15:K18,TRUE)=0,\"unvollständig\",IF(COUNTIF(K15:K18,TRUE)=1,\"\",\"uneinheitlich\"))","v":""},"a)","Die Organisation erfüllt die für sie geltenden gesetzlichen Anforderungen, legt jedoch keinen besonderen Schwerpunkt auf dieses Thema.",null,null,null,null,null,false]
[null,null,null,"b)","Die Organisation ermöglicht vertrauenswürdigen Geschäftspartnern die Nutzung bevorzugter Verfahren („preferred processes“) und befragt sie zu ihrer Zufriedenheit, um stets eine gute Zusammenarbeit aufrechtzuerhalten.",null,null,null,null,null,true]
[null,null,null,"c)","Die Organisation verfolgt das Ziel, mit ihren wichtigsten Geschäftspartnern mittelfristige Verträge abzuschließen, um es ihnen ermöglichen, in effizientere und verantwortungsvollere Technologien zu investieren.",null,null,null,null,null,false]
[null,null,null,"d)","F&E-Programme und individuelle Partnerschaften mit Geschäftspartnern aus der gesamten Wertschöpfungskette sind vorhanden, um gemeinsam innovative Produkte und Dienstleistungen zu entwickeln.",null,null,null,null,null,false]
[]
[null,"Geschäftsintegrität",null,null,null,{"$f":"B20","v":"Geschäftsintegrität"}]
[null,null,null,null," "]
[null,null,"F4.3","In welcher Weise bringt die Organisation ihre Verpflichtung mit Hinblick auf Geschäftsethik zum Ausdruck?",null,null,{"$f":"C22","v":"F4.3"},"Notizen"]
[null,null,{"$f":"IF(COUNTIF(K23:K26,TRUE)=0,\"unvollständig\",IF(COUNTIF(K23:K26,TRUE)=1,\"\",\"uneinheitlich\"))","v":""},"a)","Die Organisation erfüllt die für sie geltenden gesetzlichen Anforderungen, legt jedoch keinen besonderen Schwerpunkt auf dieses Thema.",null,null,null,null,null,false]
[null,null,null,"b)","Die Organisation verfügt über eine unternehmenspolitische Vorgabe oder einen Verhaltenskodex („code of conduct“) zu Geschäftsethik (einschließlich wettbewerbswidriger Praktiken und Korruption). Diese Vorgabe/Dieser Kodex wird auf höchster Geschäftsebene formell unterstützt und/oder die Mitarbeiter werden auf richtiges Verhalten in Risikosituationen aufmerksam gemacht.",null,null,null,null,null,true]
[null,null,null,"c)","Die Organisation setzt Verfahren um, die eine Beteiligung oder Teilnahme an Verletzungen des Kartellrechts/der Wettbewerbsregeln verhindern (z. B. durch Einrichtung eines Systems, in dem Mitglieder anonym auf diesbezügliche Risikosituationen hinweisen können).",null,null,null,null,null,false]
[null,null,null,"d)","Die Organisation hat für sie relevante Gruppen („stakeholder“) auf diese Unternehmenspolitik aufmerksam gemacht und ermöglicht ihnen Zugang zu dem System, um auf diesbezügliche Risikosituationen hinzuweisen.",null,null,null,null,null,false]
[]
[null,"Arbeitnehmerrechte ",null,null,null,{"$f":"B28","v":"Arbeitnehmerrechte "}]
[null,null,null,null," "]
[null,null,"F4.4","Wie berücksichtigt die Organisation soziale Fragen und Menschenrechte in ihrer Zusammenarbeit mit Geschäftspartnern?",null,null,{"$f":"C30","v":"F4.4"},"Notizen"]
[null,null,{"$f":"IF(COUNTIF(K31:K34,TRUE)=0,\"unvollständig\",IF(COUNTIF(K31:K34,TRUE)=1,\"\",\"uneinheitlich\"))","v":""},"a)","Auf dieses Thema wird kein Schwerpunkt gelegt.",null,null,null,null,null,false]
[null,null,null,"b)","In ihren Vorgaben/Spezifikationen legt die Organisation Mindestanforderungen hinsichtlich der Menschenrechte fest; sie wählt Geschäftspartner auf der Grundlage dieser Kriterien aus.",null,null,null,null,null,true]
[null,null,null,"c)","Die Organisation hat ein Verfahren für die Bewertung von Geschäftspartnern anhand dieser Kriterien festgelegt.",null,null,null,null,null,false]
[null,null,null,"d)","Geschäftspartner werden regelmäßig auf ihre Fähigkeit überprüft, die Einhaltung von Menschen- und Soziallrechten zu gewährleisten.",null,null,null,null,null,false]
[null,null,null,null," ",null,{"$f":"C36","v":"F4.5"},"Notizen"]
[null,null,"F4.5","In welcher Weise verhindert die Organisation Kinderarbeit?\n\nDie Organisation\n1.\tverfügt über ein System zur Altersprüfung;\n2.\tbeschäftigt keine Kinder unter 15 Jahren (oder älter; die jeweiligen örtlichen Gesetze sind zu beachten). Berufsausbildungen oder Praktika im Rahmen der Schulbildung bzw. bildungsbezogene Praktika sind die einzigen Ausnahmen;\n3.\tstellt sicher, dass die Beschäftigung von Personen unter 18 Jahren nicht deren Schulbesuch beeinträchtigt (die Gesamtzahl der Stunden für den Weg zur Arbeit und Schule und zurück, Schulbesuch und Arbeitstätigkeit beträgt weniger als 10 Stunden täglich);\n4.\tstellt sicher, dass die Tätigkeit junger Arbeitnehmer nicht geistig, körperlich, sozial oder moralisch gefährlich und schädlich ist."]
[null,null,{"$f":"IF(COUNTIF(K37:K40,TRUE)=0,\"unvollständig\",IF(COUNTIF(K37:K40,TRUE)=1,\"\",\"uneinheitlich\"))","v":""},"a)","Keiner der obigen vier Punkte ist zutreffend.",null,null,null,null,null,false]
[null,null,null,"b)","Einer oder zwei der obigen vier Punkte sind zutreffend.",null,null,null,null,null,true]
[null,null,null,"c)","Drei der vier obigen Punkte sind zutreffend.",null,null,null,null,null,false]
[null,null,null,"d)","Alle vier obigen Punkte sind zutreffend.",null,null,null,null,null,false]
[]
[null,"Logistikpartner",null,null,null,{"$f":"B42","v":"Logistikpartner"}]
[null,null,null,null," "]
[null,null,"F4.6","Wie stellt die Organisation sicher, dass ihre Logistikpartner die Anforderungen der Organisation erfüllen?",null,null,{"$f":"C44","v":"F4.6"},"Notizen"]
[null,null,{"$f":"IF(COUNTIF(K45:K48,TRUE)=0,\"unvollständig\",IF(COUNTIF(K45:K48,TRUE)=1,\"\",\"uneinheitlich\"))","v":""},"a)","Die Organisation stellt keine klaren Anforderungen an ihre Logistikpartner.",null,null,null,null,null,false]
[null,null,null,"b)","In ihren Vorgaben/Spezifikationen an ihre Logistikpartner stellt die Organisation Mindestanforderungen mit Hinblick auf Gesundheit, Sicherheit, Umwelt, Energie & Nachhaltigkeit.",null,null,null,null,null,true]
[null,null,null,"c)","Die Organisation hat ein Verfahren definiert, um ihre Logistikpartner hinsichtlich deren Einhaltung der Anforderungen der Organisation zu bewerten.",null,null,null,null,null,false]
[null,null,null,"d)","Die Logistikpartner der Organisation werden regelmäßig auf ihre Fähigkeit überprüft, zuverlässig dafür zu sorgen, dass die Anforderungen der Organisation (einschließlich Energieeffizienz und Emissionen von Treibhausgasen / THG) eingehalten werden.",null,null,null,null,null,false]
[]
[null,"Nachgeschaltete Anwender",null,null,null,{"$f":"B50","v":"Nachgeschaltete Anwender"}]
[null,null,null,null," "]
[null,null,"F4.7","In welcher Weise schützt und sichert die Organisation das Eigentum und die Daten nachgeschalteter Anwender oder externer Anbieter, die zur Nutzung oder Einbeziehung/Einarbeitung in Produkte und Dienstleistungen bereitgestellt werden?",null,null,{"$f":"C52","v":"F4.7"},"Notizen"]
[null,null,{"$f":"IF(COUNTIF(K53:K56,TRUE)=0,\"unvollständig\",IF(COUNTIF(K53:K56,TRUE)=1,\"\",\"uneinheitlich\"))","v":""},"a)","Die Organisation befolgt die örtlichen und internationalen Gesetze des Datenschutzes (Schutz, Einwilligung, Recht zur/auf Löschung), verfügt aber über kein Verfahren eigens zu diesem Zweck",null,null,null,null,null,true]
[null,null,null,"b)","Falls Eigentum oder Daten eines nachgeschalteten Anwenders oder externen Anbieters verloren gehen, beschädigt oder anderweitig als ungeeignet für die Nutzung befunden werden, unterrichtet die Organisation den nachgeschalteten Anwender oder externen Anbieter hierüber und bewahrt dokumentierte Informationen über die Vorkommnisse auf.",null,null,null,null,null,false]
[null,null,null,"c)","Die Organisation hat interne Regeln zum Umgang mit Daten und Eigentum festgelegt und gewährleistet somit deren Schutz (z. B. Daten werden nicht länger als erforderlich aufbewahrt).",null,null,null,null,null,false]
[null,null,null,"d)","Die Organisation führt einen regelmäßigen Dialog mit ihren nachgeschalteten Anwendern und externen Anbietern, um sie über die jeweilige Sachlage und angewandte Verfahren zum bestmöglichen Schutz ihrer Daten und ihres Eigentums zu informieren.",null,null,null,null,null,false]
[null,null,null,null," "]
[null,null,"F4.8","Was beinhaltet der Dialog mit nachgeschalteten Anwendern?",null,null,{"$f":"C58","v":"F4.8"},"Notizen"]
[null,null,{"$f":"IF(COUNTIF(K59:K62,TRUE)=0,\"unvollständig\",IF(COUNTIF(K59:K62,TRUE)=1,\"\",\"uneinheitlich\"))","v":""},"a)","Es Informationen gegeben über Produkte und Dienstleistungen.",null,null,null,null,null,false]
[null,null,null,"b)","Es werden Informationen gegeben über Produkte und Dienstleistungen sowie über die Bearbeitung von Anfragen, Verträgen oder Bestellungen (einschließlich Änderungen).",null,null,null,null,null,true]
[null,null,null,"c)","Es werden Informationen gegeben über Produkte und Dienstleistungen sowie über die Bearbeitung von Anfragen, Verträgen oder Bestellungen (einschließlich Änderungen). Die Resonanz von Kunden zu Produkten und Dienstleistungen (einschließlich Beschwerden nachgeschalteter Anwender) wird erbeten.",null,null,null,null,null,false]
[null,null,null,"d)","Es werden Informationen gegeben über Produkte und Dienstleistungen sowie über die Bearbeitung von Anfragen, Verträgen oder Bestellungen (einschließlich Änderungen). Die Resonanz von Kunden zu Produkten und Dienstleistungen (einschließlich Beschwerden nachgeschalteter Anwender) wird erbeten. Soweit relevant, werden spezifische Anforderungen für Notfallmaßnahmen festgelegt.",null,null,null,null,null,false]

{"sheet":"Kapitel 5","index":8,"n_rows":38,"n_cols":15,"rows_kept":38,"cut":false,"hidden":false,"merged":[[33,3,33,4],[13,3,13,4],[5,3,5,4],[3,5,9,5],[11,5,23,5],[25,5,37,5],[19,3,19,4],[6,6,9,9],[14,6,17,9],[20,6,23,9],[28,6,31,9],[34,6,37,9]]}
[null,"KAPITEL 5: Berücksichtigung von Anspruchsgruppen",null,null,null,null,null,null,null,null,null,null,null,{"$f":"IF(O1=\"\",\"\",\"Still to do\")","v":""},{"$f":"'Start & voreingestellte Fragen'!$G$9","v":""}]
[null,null,null,null,null,null,"Nur eine der Möglichkeiten auswählen"]
[]
[null,"Stakeholder-Bewertung",null,null,null,{"$f":"B4","v":"Stakeholder-Bewertung"}]
[null,null,null,null," "]
[null,{"$f":"COUNTIF(C7:C38,\"uneinheitlich\")","v":0},"F5.1","In welcher Weise bezieht die Organisation die für sie relevanten externen Anspruchsgruppen („stakeholder“) ein und wird deren Erwartungen gerecht?",null,null,{"$f":"C6","v":"F5.1"},"Notizen"]
[null,null,{"$f":"IF(COUNTIF(K7:K10,TRUE)=0,\"unvollständig\",IF(COUNTIF(K7:K10,TRUE)=1,\"\",\"uneinheitlich\"))","v":""},"a)","Die Organisation bewertet ihre eigenen Verpflichtungen hinsichtlich der Einhaltung von Vorschriften („compliance), verfügt aber über kein formelles Verfahren zur Identifizierung der für sie relevanten Stakeholder.",null,null,null,null,null,false]
[null,null,null,"b)","Die Organisation hat die relevanten Interessensgruppen identifiziert und ihre Bedürfnisse und Erwartungen festgestellt.",null,null,null,null,null,true]
[null,null,null,"c)","Die Organisation hat die Perspektiven der relevanten Interessensgruppen bewertet und berücksichtigt sie. Anhand ihres jeweiligen Einflusses hat die Organisation die verschiedenen Stakeholder priorisiert („mapping“).",null,null,null,null,null,false]
[null,null,null,"d)","Die Organisation hat die Bedürfnisse und Erwartungen der prioritären („priority“) Stakeholder in Zusammenarbeit mit den Stakeholdern selbst validiert und nutzt die Perspektiven der Stakeholder im Rahmen von Managementbewertungen („management reviews“).\n",null,null,null,null,null,false]
[]
[null,"Externer Dialog und Transparenz",null,null,null,{"$f":"B12","v":"Externer Dialog und Transparenz"}]
[null,null,null,null," "]
[null,null,"F5.2","In welcher Weise führt die Organisation einen Dialog mit der Öffentlichkeit, Behörden und anderen interessierten Kreisen (einschließlich örtlichen Gemeinden/Anwohnern und Kunden) über die Leistung ihrer Aktivitäten, Produkte und Dienstleistungen in den Bereichen Gesundheit, Sicherheit, Umwelt, Energie & Nachhaltigkeit?\n",null,null,{"$f":"C14","v":"F5.2"},"Notizen"]
[null,null,{"$f":"IF(COUNTIF(K15:K18,TRUE)=0,\"unvollständig\",IF(COUNTIF(K15:K18,TRUE)=1,\"\",\"uneinheitlich\"))","v":""},"a)","Die Organisation führt einen Dialog nur in außergewöhnlichen Umständen oder in Reaktion auf Beschwerden.",null,null,null,null,null,true]
[null,null,null,"b)","Die Organisation informiert die wichtigsten („key“) Stakeholder über ihre Aktivitäten und kommuniziert mit ihnen.",null,null,null,null,null,false]
[null,null,null,"c)","Die Organisation hat formell die relevanten Kanäle für den Dialog mit ihren wichtigsten („key“) Stakeholdern identifiziert und nutzt diese Kanäle regelmäßig.",null,null,null,null,null,false]
[null,null,null,"d)","Die Organisation konsultiert die relevanten Stakeholder systematisch und bindet sie unmittelbar in ihre Aktivitäten ein, indem sie gemeinsame Projekte oder Partnerschaften entwickelt.\n",null,null,null,null,null,false]
[null,null,null,null," "]
[null,null,"F5.3","In welcher Weise vermittelt die Organisation Informationen aus den Bereichen Gesundheit, Sicherheit, Umwelt, Energie & Nachhaltigkeit?",null,null,{"$f":"C20","v":"F5.3"},"Notizen"]
[null,null,{"$f":"IF(COUNTIF(K21:K24,TRUE)=0,\"unvollständig\",IF(COUNTIF(K21:K24,TRUE)=1,\"\",\"uneinheitlich\"))","v":""},"a)","Informationen aus den Bereichen Gesundheit, Sicherheit, Umwelt, Energie & Nachhaltigkeit werden nur auf gezielte Anfrage weitergegeben.",null,null,null,null,null,false]
[null,null,null,"b)","Die Ergebnisse von Leistungsbewertungen der Organisation werden öffentlich gemacht.",null,null,null,null,null,true]
[null,null,null,"c)","Die Ergebnisse von Leistungsbewertungen der Organisation werden jährlich von einem Dritten überprüft, bevor sie veröffentlicht werden.",null,null,null,null,null,false]
[null,null,null,"d)","Die Organisation teilt proaktiv die Ergebnisse ihrer Leistungsbewertungen mit relevanten Stakeholdern; beispielsweise unterrichtet das Management der Organisation die Zivilverwaltung und andere staatliche Behörden oder die örtliche Gemeinde/Anwohner über die erzielten Ergebnisse.",null,null,null,null,null,false]
[]
[null,"Örtliche Gemeinden / Anwohner ",null,null,null,{"$f":"B26","v":"Örtliche Gemeinden / Anwohner "}]
[null,null,null,null," "]
[null,null,"F5.4","In welcher Weise unterstützt die Organisation örtliche Gemeinden/Anwohner („local communities“)?",null,null,{"$f":"C28","v":"F5.4"},"Notizen"]
[null,null,{"$f":"IF(COUNTIF(K29:K32,TRUE)=0,\"unvollständig\",IF(COUNTIF(K29:K32,TRUE)=1,\"\",\"uneinheitlich\"))","v":""},"a)","Die Organisation erfüllt die für sie geltenden gesetzlichen Anforderungen.",null,null,null,null,null,true]
[null,null,null,"b)","Die Organisation reagiert auf die spezifische Forderungen/Anforderungen der örtlichen Gemeinden/Anwohner. Es besteht ein Dialog mit örtlichen Vertretern; die Organisation respektiert das Wohlbefinden ihrer Nachbarn.",null,null,null,null,null,false]
[null,null,null,"c)","Die Organisation unterstützt lokale Projekte und Aktionen (z. B. Beteiligung von Mitarbeitern an lokalen Projekten während der Arbeitszeit, Besuch örtlicher Schulen zwecks Unterricht und Informationen über verschiedene Berufe usw.), um zur lokalen Entwicklung beizutragen.",null,null,null,null,null,false]
[null,null,null,"d)","The organisation contributes to the local community, through participation in various groups, communication means methods, public administration, organisations of companies and representatives of employees, ecological groups, professionals, neighbouring Die Organisation trägt zur örtlichen Gemeinschaft bei. Dies geschieht durch Teilnahme an verschiedenen Gruppen, den Einsatz von Kommunikationsmitteln gegenüber der öffentlichen Verwaltung, Organisationen von Unternehmen und Mitarbeitervertretern, Umweltgruppen, Fachleuten/Freiberuflern, benachbarten Unternehmen, Verbänden in der Nachbarschaft usw. Die Organisation interagiert durch und verfügt über ein Budget für die Entwicklung gemeinsamer Projekte, Aktionen oder Partnerschaften entsprechend den Anforderungen der örtlichen Gemeinde/Anwohner.",null,null,null,null,null,false]
[null,null,null,null," "]
[null,null,"F5.5","In welcher Weise fördert die Organisation Beschäftigung und Bildung vor Ort?",null,null,{"$f":"C34","v":"F5.5"},"Notizen"]
[null,null,{"$f":"IF(COUNTIF(K35:K38,TRUE)=0,\"unvollständig\",IF(COUNTIF(K35:K38,TRUE)=1,\"\",\"uneinheitlich\"))","v":""},"a)","Die Organisation erfüllt die für sie geltenden gesetzlichen Anforderungen.",null,null,null,null,null,false]
[null,null,null,"b)","Die Organisation reagiert auf die spezifischen Forderungen/Anforderungen örtlicher Schulen und Arbeitsorganisationen. Es besteht ein Dialog mit örtlichen Vertretern.",null,null,null,null,null,true]
[null,null,null,"c)","Die Organisation trägt zur lokalen Beschäftigung bei und unterstützt örtliche Schulen. Bei der Einstellung von Mitarbeitern berücksichtigt die Organisation lokale Arbeitsorganisationen, einschließlich Programme zur Wiedereingliederung. Die Organisation beschäftigt Praktikanten aus örtlichen Schulen und beteiligt sich an schulischen Aktivitäten.",null,null,null,null,null,false]
[null,null,null,"d)","Die Organisation hat Partnerschaften mit örtlichen Arbeitsorganisationen sowie Bildungsprogramme mit örtlichen Schulen und wissenschaftlichen Einrichtungen (z. B. Zusammenarbeit mit Universitäten, Stipendien, Forschung usw. …) aufgebaut.",null,null,null,null,null,false]

{"sheet":"Kapitel 6","index":9,"n_rows":124,"n_cols":15,"rows_kept":124,"cut":false,"hidden":false,"merged":[[104,5,115,5],[119,3,119,4],[117,5,123,5],[85,3,85,4],[77,5,89,5],[93,3,93,4],[99,3,99,4],[91,5,103,5],[5,3,5,4],[39,3,39,4],[3,5,11,5],[13,5,19,5],[21,5,27,5],[31,3,31,4],[29,5,35,5],[37,5,49,5],[23,3,23,4],[69,5,75,5],[79,3,79,4],[6,6,11,9],[16,6,19,9],[24,6,27,9],[32,6,35,9],[40,6,43,9],[46,6,49,9],[52,6,55,9],[58,6,61,9],[64,6,67,9],[72,6,75,9],[51,3,51,4],[50,5,67,5],[112,6,115,9],[120,6,123,9],[80,6,83,9],[86,6,89,9],[94,6,97,9],[100,6,103,9],[106,6,109,9]]}
[null,"KAPITEL 6 : Beitrag zur Nachhaltigkeit",null,null,null,null,null,null,null,null,null,null,null,{"$f":"IF(O1=\"\",\"\",\"Still to do\")","v":""},{"$f":"'Start & voreingestellte Fragen'!$G$9","v":""}]
[null,null,null,null,null,null,"Nur eine der Möglichkeiten auswählen"]
[]
[null,"Nachhaltige Entwicklung",null,null,null,{"$f":"B4","v":"Nachhaltige Entwicklung"}]
[null,null,null,null," "]
[null,{"$f":"COUNTIF(C7:C124,\"uneinheitlich\")","v":0},"F6.1","Wie definiert das Unternehmen relevante Themen und Wesentlichkeiten?",null,null,{"$f":"C6","v":"F6.1"},"Notizen"]
[null,null,{"$f":"IF(COUNTIF(K7:K12,TRUE)=0,\"unvollständig\",IF(COUNTIF(K7:K12,TRUE)=1,\"\",\"uneinheitlich\"))","v":""},"a)","Das Unternehmen hat seine relevantesten Themen und Wesentlichkeiten noch nicht identifiziert, erfüllt aber seine regulatorischen Verpflichtungen.",null,null,null,null,null,false]
[null,null,null,"b)","Das Unternehmen hat seine gesellschaftlichen, ökonomischen und ökologischen Themen, die Risiken bzw. Möglichkeiten für das Unternehmen darstellen, identifiziert,  orientiert an den vorhandenen Sektor-Roadmaps \nz.B. die Sektor-Roadmap des WBCSD (Weltwirtschaftsrat für Nachhaltige Entwicklung) :  https://www.wbcsd.org/Programs/People/Sustainable-Development-Goals/SDG-Sector-Roadmaps/Resources/SDG-Sector-Roadmaps.",null,null,null,null,null,true]
[null,null,null,null,"der Cefic-Charta https://cefic.org/app/uploads/2019/01/Cefic-Sustainability-Charter-TeamingUp-For-A-SustainableEurope.pdf"]
[null,null,null,null,"und der AAC-Richtlinien https://www.americanchemistry.com/Sustainability/Principles.html"]
[null,null,null,"c)","Das Unternehmen hat einen vollständigen Wesentlichkeitsbeurteilungsprozess eingerichtet, unter Berücksichtigung der Bedeutung für das Unternehmen und seine externen Anspruchsgruppen (Stakeholder).",null,null,null,null,null,false]
[null,null,null,"d)","Das Unternehmen meldet die Ergebnisse seiner Wesentlichkeitsbewertungen und befolgt dabei die Richtlinien der Global Reporting Initiative (GRI) bzw. entsprechender Einrichtungen.",null,null,null,null,null,false]
[]
[null,"Nachhaltige Entwicklung",null,null,null,{"$f":"B14","v":"Nachhaltige Entwicklung"}]
[null,null,null,null," "]
[null,null,"F6.2","Welche Pläne hat die Organisation zum Beitrag für eine nachhaltige Entwicklung? ",null,null,{"$f":"C16","v":"F6.2"},"Notizen"]
[null,null,{"$f":"IF(COUNTIF(K17:K20,TRUE)=0,\"unvollständig\",IF(COUNTIF(K17:K20,TRUE)=1,\"\",\"uneinheitlich\"))","v":""},"a)","Die Organisation erfüllt ihre gesetzlichen Verpflichtungen, engagiert sich aber nicht für nachhaltige Entwicklung.",null,null,null,null,null,true]
[null,null,null,"b)","Die Organisation hat ihre Beiträge den nachhaltigen Entwicklungszielen (SDGs) zugeordnet.",null,null,null,null,null,false]
[null,null,null,"c)","Die Organisation hat Auswirkungsmöglichkeiten geplante Maßnahmen für Beiträge gemäß der Roadmap zu den SDGs für die chemische Industrie ermittelt.",null,null,null,null,null,false]
[null,null,null,"d)","Die Organisation hat Nachhaltigkeit vollständig in ihre Geschäftsstrategie integriert.",null,null,null,null,null,false]
[]
[null,"Kommunikation",null,null,null,{"$f":"B22","v":"Kommunikation"}]
[null,null,null,null," "]
[null,null,"F6.3","Wie steht es bei der Organisation mit der Einbeziehung von Stakeholdern bei Nachhaltigkeit?",null,null,{"$f":"C24","v":"F6.3"},"Notizen"]
[null,null,{"$f":"IF(COUNTIF(K25:K28,TRUE)=0,\"unvollständig\",IF(COUNTIF(K25:K28,TRUE)=1,\"\",\"uneinheitlich\"))","v":""},"a)","Die Organisation erfüllt ihre gesetzlichen Verpflichtungen, engagiert sich aber nicht für Nachhaltigkeitsthemen.",null,null,null,null,null,true]
[null,null,null,"b)","Die Organisation engagiert sich intern für Nachhaltigkeitsthemen auf einfache, direkte und präzise Art.",null,null,null,null,null,false]
[null,null,null,"c)","Die Organisation engagiert sich extern auf Ad-hoc-Basis für Nachhaltigkeitsthemen mit Kunden, Geschäftspartnern und der Allgemeinheit.",null,null,null,null,null,false]
[null,null,null,"d)"," Die Organisation engagiert sich intern und extern für Nachhaltigkeitsthemen. Die Organisation veröffentlicht jährlich einen umfassenden Nachhaltigkeitsbericht zu allen wesentlichen Fragen, die auf die GRI-Richtlinien für Nachhaltigkeitsberichterstattung verweisen (https://www2.globalreporting.org/standards/g4/Pages/default.aspx) oder etwas Gleichwertiges.",null,null,null,null,null,false]
[]
[null,"Nachhaltiges Portfolio",null,null,null,{"$f":"B30","v":"Nachhaltiges Portfolio"}]
[null,null,null,null," "]
[null,null,"F6.4","Verfügt die Organisation über einen Prozess für die Entwicklung von Produkten mit besseren Nachhaltigkeitsergebnissen?",null,null,{"$f":"C32","v":"F6.4"},"Notizen"]
[null,null,{"$f":"IF(COUNTIF(K33:K36,TRUE)=0,\"unvollständig\",IF(COUNTIF(K33:K36,TRUE)=1,\"\",\"uneinheitlich\"))","v":""},"a)","Überlegungen zur Nachhaltigkeit werden bei der Entwicklung von Produkten nicht systematisch einbezogen.",null,null,null,null,null,true]
[null,null,null,"b)","Die Organisation ist zu einem gemeinsamen Verständnis der Bedeutung von „Nachhaltigkeit“ in den Produktportfolios gelangt und hat die Bedenken wichtiger Stakeholder und zentrale Entscheidungspunkte in der Gestaltung des Produkts erkannt.",null,null,null,null,null,false]
[null,null,null,"c)","Die Organisation hat einen Prozess für die Bewertung der Nachhaltigkeit ihres Portfolios entwickelt: Ziele, Umfang, Prozesse und Bewertungssegmente wurden definiert.  Marktsignale werden erfasst. ",null,null,null,null,null,false]
[null,null,null,"d)","Die Organisation implementiert und überwacht das Bewertungssystem für die Nachhaltigkeitsleistung und berichtet darüber an die Öffentlichkeit, Kunden und andere relevante Stakeholder.",null,null,null,null,null,false]
[]
[null,"Ressourceneffizienz / Kreislaufwirtschaft",null,null,null,{"$f":"B38","v":"Ressourceneffizienz / Kreislaufwirtschaft"}]
[null,null,null,null," "]
[null,null,"F6.5","Wie verbessert die Organisation die Ressourceneffizienz in ihren Produktionsprozessen? ",null,null,{"$f":"C40","v":"F6.5"},"Notizen"]
[null,null,{"$f":"IF(COUNTIF(K41:K44,TRUE)=0,\"unvollständig\",IF(COUNTIF(K41:K44,TRUE)=1,\"\",\"uneinheitlich\"))","v":""},"a)","Die Organisation hält die gesetzlichen Vorschriften zur Überwachung ein, hat aber keinen besonderen Schwerpunkt bei der Verbesserung der Ressourceneffizienz in ihren Produktionsprozessen.",null,null,null,null,null,true]
[null,null,null,"b)","Die Organisation hat ein System zur Messung der Ressourceneffizienz in ihren Produktionsprozessen geschaffen.",null,null,null,null,null,false]
[null,null,null,"c)","Die Organisation verfügt über einen Prozess zur Verbesserung der Ressourceneffizienz in ihren Produktionsprozessen.\nDieser Prozess wurde im Hinblick auf die Bevorzugung von Sekundärrohstoffen aus Recycling und die Wiederverwendung durch die Umsetzung von Kriterien dieser Aspekte bei der Kaufauswahl als Alternative zu nicht erneuerbaren Rohstoffen entwickelt und überprüft.\nDie Effektivität dieses Prozesses wird regelmäßig evaluiert.",null,null,null,null,null,false]
[null,null,null,"d)","Die Organisation hat Partnerschaften zur Verbesserung der Ressourceneffizienz in ihren Produktionsprozessen aufgebaut und tauscht Best Practices mit Geschäftspartnern aus. Die Organisation engagiert sich in industrieller Symbiose. Dazu gehört gemeinsame Entwicklung, wo eine intensive Zusammenarbeit mit Drittunternehmen die Versorgung mit geeigneten Sekundärmaterialien zur Verwendung als Rohstoffe gewährleistet.",null,null,null,null,null,false]
[null,null,null,null," "]
[null,null,"F6.6","Wie fördert die Organisation die Kreislaufwirtschaft durch ihre Produkte?",null,null,{"$f":"C46","v":"F6.6"},"Notizen"]
[null,null,{"$f":"IF(COUNTIF(K47:K50,TRUE)=0,\"unvollständig\",IF(COUNTIF(K47:K50,TRUE)=1,\"\",\"uneinheitlich\"))","v":""},"a)","Die Organisation hält die gesetzlichen Vorschriften zur Überwachung ein, hat aber keinen besonderen Schwerpunkt bei der Kreislaufwirtschaft.",null,null,null,null,null,true]
[null,null,null,"b)","Die Organisation hat die Recycelbarkeit und Langlebigkeit ihrer Produkte untersucht und ermittelt und Pläne eingeleitet, um den Produktentwicklungsprozess im Hinblick auf diese Aspekte zu verbessern.",null,null,null,null,null,false]
[null,null,null,"c)","Produkte und Geschäftsprozesse werden unter Berücksichtigung der Recycelbarkeit und Langlebigkeit der Produkte der Organisation entwickelt und überprüft.\nDie Produkte der Organisation werden für einfacheres Recycling und die Minimierung des Abfallaufkommens entwickelt.",null,null,null,null,null,false]
[null,null,null,"d)","Die Organisation arbeitet mit der Wertschöpfungskette zusammen, um Kreislauflösungen für ihre Produkte zu verbessern. Außerdem tauscht die Organisation Best Practices mit Geschäftspartnern aus.",null,null,null,null,null,false]
[null,null,null,null," ",{"$f":"B38","v":"Ressourceneffizienz / Kreislaufwirtschaft"}]
[null,null,"F6.7","Wie fördert die Organisation Innovation für die Entwicklung von Produkten und Lösungen, die mit den Herausforderungen der Nachhaltigkeit in Einklang stehen?",null,null,{"$f":"C52","v":"F6.7"},"Notizen"]
[null,null,{"$f":"IF(COUNTIF(K53:K56,TRUE)=0,\"unvollständig\",IF(COUNTIF(K53:K56,TRUE)=1,\"\",\"uneinheitlich\"))","v":""},"a)","Innovationsinvestitionen konzentrieren sich auf die nötigen Verbesserungen für die Einhaltung der geltenden gesetzlichen Bestimmungen.",null,null,null,null,null,true]
[null,null,null,"b)","Die Kriterien in Bezug auf die Verbesserung sozialer oder ökologischer Auswirkungen werden auch für die Bewertung von Innovationsprojekten berücksichtigt.",null,null,null,null,null,false]
[null,null,null,"c)","Innovationsprojekte werden anhand von Nachhaltigkeitskriterien bewertet, die ökologische, wirtschaftliche und soziale Überlegungen verbinden.",null,null,null,null,null,false]
[null,null,null,"d)","Die Organisation verfügt über eine Strategie und einen Zeitplan.",null,null,null,null,null,false]
[null,null,null,null," "]
[null,null,"F6.8","Wie fördert die Organisation Innovationspanels und Kooperationen?",null,null,{"$f":"C58","v":"F6.8"},"Notizen"]
[null,null,{"$f":"IF(COUNTIF(K59:K62,TRUE)=0,\"unvollständig\",IF(COUNTIF(K59:K62,TRUE)=1,\"\",\"uneinheitlich\"))","v":""},"a)","Die Organisation erfüllt ihre gesetzlichen Verpflichtungen, hat aber keinen Schwerpunkt zu diesen Themen.",null,null,null,null,null,true]
[null,null,null,"b)","Die Organisation ist nicht aktiv in Innovationspartnerschaften mit Peers oder anderen Akteuren, folgt aber den Ergebnissen von bestehenden Innovationspanels und Kooperationen.",null,null,null,null,null,false]
[null,null,null,"c)","Die Organisation beteiligt sich an Kooperationsinitiativen zur Innovation mit industriellen und wissenschaftlichen Akteuren.",null,null,null,null,null,false]
[null,null,null,"d)","Die Organisation verfügt über Innovationsprogramme mit industriellen oder wissenschaftlichen Akteuren, in denen Mittel geteilt werden (Materialien, Budgets, Ressourcen usw.).",null,null,null,null,null,false]
[null,null,null,null," "]
[null,null,"F6.9","Wie fördert die Organisation nachhaltiges Verbrauchsverhalten?",null,null,{"$f":"C64","v":"F6.9"},"Notizen"]
[null,null,{"$f":"IF(COUNTIF(K65:K68,TRUE)=0,\"unvollständig\",IF(COUNTIF(K65:K68,TRUE)=1,\"\",\"uneinheitlich\"))","v":""},"a)","Die Organisation erfüllt ihre gesetzlichen Verpflichtungen, hat aber keinen Schwerpunkt zu diesen Themen.",null,null,null,null,null,false]
[null,null,null,"b)","Die Organisation kennt die Auswirkungen ihrer Herstellungsvorgänge und informiert ihre Kunden.",null,null,null,null,null,true]
[null,null,null,"c)","Die Organisation arbeitet mit Peers und Partnern in der chemischen Industrie zusammen, um nachhaltiges Verbrauchsverhalten zu unterstützen.",null,null,null,null,null,false]
[null,null,null,"d)","Die Organisation bindet ihre Stakeholder ein, um nachhaltigeren Verbrauch zu fördern (Anleitungen, Whitepapers, Diskussionen usw.).",null,null,null,null,null,false]
[]
[null,"Wasserverbrauch",null,null,null,{"$f":"B70","v":"Wasserverbrauch"}]
[null,null,null,null," "]
[null,null,"F6.10","Wie kontrolliert und optimiert die Organisation den Wasserverbrauch?",null,null,{"$f":"C72","v":"F6.10"},"Notizen"]
[null,null,{"$f":"IF(COUNTIF(K73:K76,TRUE)=0,\"unvollständig\",IF(COUNTIF(K73:K76,TRUE)=1,\"\",\"uneinheitlich\"))","v":""},"a)","Die Organisation erfüllt ihre gesetzlichen Verpflichtungen im Hinblick auf die Überwachung (nur den Verbrauch betreffend).",null,null,null,null,null,true]
[null,null,null,"b)","Die Organisation hat ein Programm zur Reduzierung des Wasserverbrauchs entwickelt und berichtet die Ergebnisse dieses Plans und ihre Aufzeichnungen über den Wasserverbrauch.",null,null,null,null,null,false]
[null,null,null,"c)","Die Organisation hat spezifische Maßnahmen zur Reduzierung ihres Wasserverbrauchs anhand von wichtigen Fragen geplant, die durch Überwachung ermittelt wurden.",null,null,null,null,null,false]
[null,null,null,"d)","Die Organisation wendet Prinzipien der „Water Stewardship“ an (wie „European Water Stewardship“ (EWS) oder ähnliches). Sie berücksichtigt dabei die lokale Wasserempfindlichkeit und -knappheit. Sie investiert regelmäßig in wassersparendere Technologien und sorgt für die Versickerung von Regenwasser am Standort (Dächer, Straßen) in den Boden, um die Neubildung von Grundwasser zu fördern.",null,null,null,null,null,false]
[]
[null,"Landnutzung und Biodiversität",null,null,null,{"$f":"B78","v":"Landnutzung und Biodiversität"}]
[null,null,null,null," "]
[null,null,"F6.11","Wie werden die Auswirkungen der Organisation auf die Biodiversität und die Ökosystemleistungen gehandhabt?",null,null,{"$f":"C80","v":"F6.11"},"Notizen"]
[null,null,{"$f":"IF(COUNTIF(K81:K84,TRUE)=0,\"unvollständig\",IF(COUNTIF(K81:K84,TRUE)=1,\"\",\"uneinheitlich\"))","v":""},"a)","Die Organisation hat abgesehen von den gesetzlichen Vorschriften keinen Schwerpunkt zu diesem Thema.",null,null,null,null,null,true]
[null,null,null,"b)","Die Organisation hat die Auswirkungen ihrer Produktionsstätten und Produkte auf die Biodiversität und die besonderen Empfindlichkeiten der Umgebung erkannt und einen Aktionsplan entwickelt, um die Auswirkungen zu begrenzen (z. B. Verringerung des Papierverbrauchs, um  Abholzung zu vermeiden, Begrünung von Dächern, Insektenhotels usw.).",null,null,null,null,null,false]
[null,null,null,"c)","Die Organisation hat (menschliche, finanzielle und organisatorische) Indikatoren entwickelt, um die Biodiversität zu schützen (z. B. die Entwicklung von Praktiken für die Pflege von Grünflächen – Art des Jätens, Häufigkeit des Mähens, Setzen von Pflanzen, die mit wenig Wasser auskommen usw. –, Anlagen für den Schutz von Vögeln bei hohen Bauten usw.) und evaluiert diese Indikatoren regelmäßig.",null,null,null,null,null,false]
[null,null,null,"d)","Die Organisation arbeitet mit Umweltschutzakteuren zusammen an möglichen Maßnahmen für die Erhaltung der lokalen Biodiversität und mobilisiert ihre Mitarbeiter für dieses Engagement.",null,null,null,null,null,false]
[null,null,null,null," "]
[null,null,"F6.12","Wie berücksichtigt die Organisation ihre Abhängigkeit von Ökosystemleistungen?",null,null,{"$f":"C86","v":"F6.12"},"Notizen"]
[null,null,{"$f":"IF(COUNTIF(K87:K90,TRUE)=0,\"unvollständig\",IF(COUNTIF(K87:K90,TRUE)=1,\"\",\"uneinheitlich\"))","v":""},"a)","Die Organisation hat keinen besonderen Schwerpunkt zu diesem Thema.",null,null,null,null,null,false]
[null,null,null,"b)","Die Organisation hat Maßnahmen zur Sicherung der von den Ökosystemen für seine Tätigkeit geleisteten Dienste (z. B. Abhängigkeit von bestimmten Rohstoffen) ermittelt.",null,null,null,null,null,true]
[null,null,null,"c)","Die Organisation hat einige spezifische Maßnahmen zur Sicherung der von den Ökosystemen für seine Tätigkeit geleisteten Dienste (z. B. Abhängigkeit von bestimmten Rohstoffen) umgesetzt.",null,null,null,null,null,false]
[null,null,null,"d)","Die Organisation verfügt über einen strukturierten Ansatz zur Sicherung der von den umgebenden Ökosystemen geleisteten Dienste (z. B. Abhängigkeit von bestimmten Rohstoffen). Die Organisation kommuniziert die Ergebnisse extern und tauscht Best Practices aus.",null,null,null,null,null,false]
[]
[null,"Klima und Energieverbrauch",null,null,null,{"$f":"B92","v":"Klima und Energieverbrauch"}]
[null,null,null,null," "]
[null,null,"F6.13","Wie handhabt die Organisation ihre Energieeffizienz?",null,null,{"$f":"C94","v":"F6.13"},"Notizen"]
[null,null,{"$f":"IF(COUNTIF(K95:K98,TRUE)=0,\"unvollständig\",IF(COUNTIF(K95:K98,TRUE)=1,\"\",\"uneinheitlich\"))","v":""},"a)","Die Organisation erfüllt ihre gesetzlichen Verpflichtungen und führt Verbesserungen mit fast sofortiger Rendite durch (<2 Jahre).",null,null,null,null,null,true]
[null,null,null,"b)","Die Organisation hat einen Plan zur Sammlung von Energiedaten entsprechend ihrer Größe, Komplexität, Ressourcen und Mess- und Überwachungsgeräte ausgearbeitet und umgesetzt. Der Plan legt die Daten fest, die für die Überwachung der wesentlichen Merkmale nötig sind, und gibt an, mit welcher Häufigkeit die Daten gesammelt und aufbewahrt werden.",null,null,null,null,null,false]
[null,null,null,"c)","Die Organisation hat Indikatoren für die Energieeffizienz (EnPIs) festgelegt, die für die Überwachung ihrer Energieeffizienz angemessen sind und es der Organisation ermöglichen, Verbesserungen bei der Energieeffizienz nachzuweisen. Bei der Festlegung von angemessenen EnPIs wurden Daten berücksichtigt, bei denen relevante Variablen die Energieeffizienz maßgeblich beeinflussen.  Die EnPI-Werte werden mit ihren jeweiligen Energieausgangswerten (EnBs) verglichen.  Anhand dieser Daten hat die Organisation Verbesserungs- und Energieziele festgelegt. Darüber hinaus investiert die Organisation in intelligente Technologien (automatische Beleuchtung, geregelte Heizung, automatisierte Prozesse, Energierückgewinnungssysteme usw.).",null,null,null,null,null,false]
[null,null,null,"d)","Die Organisation erstellt eine Energiebilanz, in der der Energieverbrauch anhand von Messungen und anderen Daten analysiert wird, ermittelt wesentliche Energienutzungen (SEUs) (darunter relevante Variablen, aktuelle Energieeffizienz und Personen, die diese SEUs beeinflussen), bestimmt und priorisiert Möglichkeiten zur Verbesserung der Energieeffizienz und schätzt Energienutzung und Energieverbrauch in Zukunft. Die Wirksamkeit des Plans zur Energieeinsparung wird regelmäßig durch eine Energiebilanz evaluiert und verbessert. ",null,null,null,null,null,false]
[null,null,null,null," "]
[null,null,"F6.14","Wie handhabt die Organisation ihre Emissionen von Treibhausgasen (THG) (anders als durch Energieeinsparung)?",null,null,{"$f":"C100","v":"F6.14"},"Notizen"]
[null,null,{"$f":"IF(COUNTIF(K101:K104,TRUE)=0,\"unvollständig\",IF(COUNTIF(K101:K104,TRUE)=1,\"\",\"uneinheitlich\"))","v":""},"a)","Die Organisation erfüllt ihre gesetzlichen Verpflichtungen, hat aber keinen besonderen Schwerpunkt zu ihren THG-Emissionen.",null,null,null,null,null,false]
[null,null,null,"b)","Die Organisation hat ihre möglichen Quellen zur Energierückgewinnung und die Möglichkeiten für eine Erhöhung des Anteils an erneuerbaren Energien ermittelt.",null,null,null,null,null,true]
[null,null,null,"c)","Die Organisation nutzt ihre möglichen Quellen an erneuerbarer Energie und hat mit ihrem Stromanbieter einen Vertrag zur Lieferung erneuerbarer Energien abgeschlossen.",null,null,null,null,null,false]
[null,null,null,"d)","Die Organisation hat Partnerschaften mit geografisch in der Nähe angesiedelten Organisationen, um „lokale Synergien“ zu entwickeln (d. h. den Verkauf überschüssiger Wärme zwischen zwei Gesellschaften) und Kooperationen wurden umgesetzt.",null,null,null,null,null,false]
[null,null,null,null," ",{"$f":"B92","v":"Klima und Energieverbrauch"}]
[null,null,"F6.15","Welche Strategie hat die Organisation zur Reduzierung von THG-Emissionen?",null,null,{"$f":"C106","v":"F6.15"},"Notizen"]
[null,null,{"$f":"IF(COUNTIF(K107:K110,TRUE)=0,\"unvollständig\",IF(COUNTIF(K107:K110,TRUE)=1,\"\",\"uneinheitlich\"))","v":""},"a)","Die Organisation hat keinen besonderen Schwerpunkt zu ihren THG-Emissionen.",null,null,null,null,null,true]
[null,null,null,"b)","Die Organisation hat eine Gap-Analysedurchgeführt, um das Potenzial für die Reduzierung der Scope-1- und Scope-2-Emissionen zu ermitteln.",null,null,null,null,null,false]
[null,null,null,"c)","Die Organisation hat klare Ziele festgelegt, überprüft die Fortschritte dahin und ergreift Maßnahmen für die Reduzierung der Scope-1- und Scope-2-Emissionen.",null,null,null,null,null,false]
[null,null,null,"d)","Die Organisation hat klare Ziele festgelegt, überprüft die Fortschritte dahin und leistet Kompensationen für ihre verbleibende CO2-Bilanz. Außerdem veröffentlicht die Organisation jedes Jahr  Informationen im Hinblick auf ihre CO2-Bilanz für Scope 3.",null,null,null,null,null,false]
[null,null,null,null," "]
[null,null,"F6.16","Wie bereitet sich die Organisation auf den Klimawandel vor? ",null,null,{"$f":"C112","v":"F6.16"},"Notizen"]
[null,null,{"$f":"IF(COUNTIF(K113:K116,TRUE)=0,\"unvollständig\",IF(COUNTIF(K113:K116,TRUE)=1,\"\",\"uneinheitlich\"))","v":""},"a)","Die Organisation erfüllt ihre gesetzlichen Verpflichtungen, hat aber keinen Schwerpunkt zu diesem Thema.",null,null,null,null,null,false]
[null,null,null,"b)","Die Organisation ist sich der mittelfristigen potenziellen Auswirkungen des Klimawandels auf ihre Tätigkeit bewusst.",null,null,null,null,null,true]
[null,null,null,"c)","Die Organisation hat die Risiken für ihre Tätigkeit im Zusammenhang mit dem Klimawandel und die möglichen Maßnahmen zur Begrenzung dieser Risiken ermittelt.",null,null,null,null,null,false]
[null,null,null,"d)","Die Organisation investiert in Maßnahmen, um dem Klimawandel besser zu begegnen, und evaluiert ihre Wirksamkeit.",null,null,null,null,null,false]
[]
[null,"Diversität",null,null,null,{"$f":"B118","v":"Diversität"}]
[null,null,null,null," "]
[null,null,"F6.17","In welcher Weise gewährleistet die Organisation Chancengleichheit bei der Einstellung und während der gesamten beruflichen Laufbahn aller?",null,null,{"$f":"C120","v":"F6.17"},"Notizen",null,null,false]
[null,null,{"$f":"IF(COUNTIF(K121:K124,TRUE)=0,\"unvollständig\",IF(COUNTIF(K121:K124,TRUE)=1,\"\",\"uneinheitlich\"))","v":""},"a)","In dem Unternehmen besteht keine bestimmte Vorgabe zur Gewährleistung der Chancengleichheit; jedoch hält das Unternehmen die gesetzlichen Verpflichtungen ein.",null,null,null,null,null,true]
[null,null,null,"b)","Die Organisation ist eine Verpflichtung hinsichtlich Chancengleichheit eingegangen (z. B. Unterzeichnung einer “best-practice-Charta”) und hat bestimmte Verfahren eingeführt, um diese zu gewährleisten.",null,null,null,null,null,false]
[null,null,null,"c)","Die Organisation verfügt über einen klaren Aktionsplan mit quantifizierten Zielen zur Gewährleistung von Chancengleichheit und hat Aspekte der Diversität in alle Prozesse in ihrem Personalbereich integriert.",null,null,null,null,null,false]
[null,null,null,"d)","Die Organisation wertet die Ergebnisse regelmäßig aus und kommuniziert sie intern und extern.",null,null,null,null,null,false]

{"sheet":"Allgemeines Ergebnis","index":10,"n_rows":13,"n_cols":14,"rows_kept":13,"cut":false,"hidden":false,"merged":[[1,2,1,8]]}
[null,null,null,null,null,null,null,null,null,null,null,null,{"$f":"IF(N1=\"\",\"\",\"Still to do\")","v":""},{"$f":"'Start & voreingestellte Fragen'!$G$9","v":""}]
[null,null,"ALLGEMEINES ERGEBNIS"]
[]
[null,null,"Teilergebnisse",null,null,"Ergebnis","minimum","maximum"]
[null,null,null,"KAPITEL 1","Führungskultur im Unternehmen",{"$f":"IF('Kapitel 1'!B6=0,'Technische Seite'!AL9,\"answers inconsistent\")","v":2.0000000000000004},1,4,{"$f":"'Technische Seite'!AR27","v":"Schlüsselelemente von RC müssen noch umgesetzt werden; s. Tipps"}]
[null,null,null,"KAPITEL 2","Schutz von Mensch und Umwelt",{"$f":"IF('Kapitel 2'!B6=0,'Technische Seite'!AL123,\"answers inconsistent\")","v":1.9333333333333331},1,4,{"$f":"'Technische Seite'!AR170","v":"Schlüsselelemente von RC müssen noch umgesetzt werden; s. Tipps"}]
[null,null,null,"KAPITEL 3","Stärkung von Managementsystemen im Chemikalienbereich",{"$f":"IF('Kapitel 3'!B6=0,'Technische Seite'!AL405,\"answers inconsistent\")","v":1.416666666666667},1,4,{"$f":"'Technische Seite'!AR417","v":""}]
[null,null,null,"KAPITEL 4","Einbeziehung von Geschäftspartnern",{"$f":"IF('Kapitel 4'!B6=0,'Technische Seite'!AL481,\"answers inconsistent\")","v":1.7500000000000002},1,4,{"$f":"'Technische Seite'!AR491","v":""}]
[null,null,null,"KAPITEL 5","Berücksichtigung von Anspruchsgruppen",{"$f":"IF('Kapitel 5'!B6=0,'Technische Seite'!AL543,\"answers inconsistent\")","v":1.666666666666667},1,4,{"$f":"'Technische Seite'!AR550","v":""}]
[null,null,null,"KAPITEL 6","Beitrag zur Nachhaltigkeit",{"$f":"IF('Kapitel 6'!B6=0,'Technische Seite'!AL583,\"answers inconsistent\")","v":1.2941176470588232},1,4,{"$f":"'Technische Seite'!AR601","v":""}]
[]
[null,null,"Gesamtbewertung"]
[null,null,null,null,null,{"$f":"(F5*'Technische Seite'!G705+'Allgemeines Ergebnis'!F6*'Technische Seite'!G706+'Allgemeines Ergebnis'!F7*'Technische Seite'!G707+'Allgemeines Ergebnis'!F8*'Technische Seite'!G708+'Allgemeines Ergebnis'!F9*'Technische Seite'!G709+'Allgemeines Ergebnis'!F10*'Technische Seite'!G710)/100","v":1.6960431372549019},{"$f":"F13/4*100","v":42.401078431372547},"%",{"$f":"IF(F13>3,\":-) :-) :-)\",IF(F13>2,\":-) :-)\",IF(F13>1,\":-)\",\"\")))","v":":-)"}]

{"sheet":"Tipps","index":11,"n_rows":425,"n_cols":20,"rows_kept":425,"cut":false,"hidden":false,"merged":[[419,13,420,20],[423,13,424,20],[399,13,400,20],[403,13,404,20],[407,13,408,20],[411,13,412,20],[415,13,416,20],[377,13,378,20],[381,13,382,20],[385,13,386,20],[389,13,390,20],[393,13,394,20],[351,13,352,20],[358,13,359,20],[365,13,366,20],[369,13,370,20],[373,13,374,20],[329,13,330,20],[333,13,334,20],[337,13,338,20],[341,13,342,20],[345,13,346,20],[307,13,308,20],[311,13,312,20],[315,13,316,20],[319,13,320,20],[323,13,324,20],[285,13,286,20],[289,13,290,20],[295,13,296,20],[299,13,300,20],[303,13,304,20],[239,13,240,20],[243,13,244,20],[265,13,266,20],[269,13,270,20],[273,13,274,20],[277,13,278,20],[281,13,282,20],[257,13,258,20],[261,13,262,20],[247,13,248,20],[253,13,254,20],[203,13,204,20],[207,13,208,20],[211,13,212,20],[215,13,216,20],[219,13,220,20],[223,13,224,20],[227,13,228,20],[231,13,232,20],[235,13,236,20],[167,13,168,20],[171,13,172,20],[175,13,176,20],[179,13,180,20],[183,13,184,20],[187,13,188,20],[191,13,192,20],[195,13,196,20],[199,13,200,20],[131,13,132,20],[135,13,136,20],[139,13,140,20],[143,13,144,20],[147,13,148,20],[151,13,152,20],[155,13,156,20],[159,13,160,20],[163,13,164,20],[95,13,96,20],[99,13,100,20],[103,13,104,20],[107,13,108,20],[111,13,112,20],[115,13,116,20],[119,13,120,20],[123,13,124,20],[127,13,128,20],[332,4,332,10],[52,4,52,10],[5,13,6,20],[9,13,10,20],[13,13,14,20],[17,13,18,20],[21,13,22,20],[25,13,26,20],[29,13,30,20],[33,13,34,20],[37,13,38,20],[41,13,42,20],[45,13,46,20],[49,13,50,20],[53,13,54,20],[57,13,58,20],[61,13,62,20],[71,13,72,20],[75,13,76,20],[79,13,80,20],[83,13,84,20],[65,13,66,20],[87,13,88,20],[91,13,92,20],[0,1,0,11],[4,4,4,10],[294,4,294,6],[322,4,322,6],[318,4,318,6],[314,4,314,6],[310,4,310,6],[306,4,306,6],[302,4,302,6],[298,4,298,6],[44,4,44,10],[260,4,260,10]]}
[null,"Diese Umsetzungstipps sind nicht als normativ oder obligatorisch aufzufassen. Sie sind beratender Natur, um die Unterzeichner der globalen Responsible Care-Charta in ihren Bemühungen zur Stärkung der Responsible Care-Initiative zu unterstützen.\n\nDie Tipps sind nach Kapiteln gegliedert, scrollen Sie hinunter, um die anderen Kapitel zu finden."]
[null,"Klicken Sie, um einen Tipp zum Aktionsplan hinzuzufügen."]
[null,null,"KAPITEL 1","Eine Kultur der Unternehmensführung",null,null,null,null,null,null,null,null,true]
[null,{"$f":"'Kapitel 1'!B4","v":"Umfang & Verpflichtung"},null,null,null,null,null,null,null,null,null,null,null,{"$f":"IF(L5=8,\"\",\"höhere Punktzahl für :\")","v":""}]
[null,null,{"$f":"IF(VLOOKUP(D5,'Technische Seite'!$AO$10:$AQ$24,3,0)=\"OK\",\"\",\"die wichtigste Frage\")","v":""},{"$f":"'Kapitel 1'!C6","v":"F1.1"},{"$f":"'Kapitel 1'!D6","v":"In welcher Weise wird die Verpflichtung zur Einhaltung gesetzlicher und sonstiger Vorschriften („Compliance“) sowie der Grundsätze von Responsible Care (d. h. Schutz und Förderung der Gesundheit & Sicherheit von Menschen und Umwelt sowie Nachhaltigkeit) auf allen Ebenen der Organisation dargelegt?"},null,null,null,null,null,null,{"$f":"COUNTBLANK(N5:U5)","v":8},true,{"$f":"IF(VLOOKUP(D5,Sonderbericht!$E$6:$H$112,4,FALSE)=\"bewertung erhöhen\",\"ISO 9001\",\"\")","v":""},{"$f":"IF(VLOOKUP(D5,Sonderbericht!$E$116:$H$222,4,FALSE)=\"bewertung erhöhen\",\"ISO 14001\",\"\")","v":""},{"$f":"IF(VLOOKUP(D5,Sonderbericht!$E$226:$H$332,4,FALSE)=\"bewertung erhöhen\",\"ISO 26000\",\"\")","v":""},{"$f":"IF(VLOOKUP(D5,Sonderbericht!$E$336:$H$552,4,FALSE)=\"bewertung erhöhen\",\"ISO 45001\",\"\")","v":""},{"$f":"IF(VLOOKUP(D5,Sonderbericht!$E$556:$H$662,4,FALSE)=\"bewertung erhöhen\",\"EMAS\",\"\")","v":""},{"$f":"IF(VLOOKUP(D5,Sonderbericht!$E$666:$H$772,4,FALSE)=\"bewertung erhöhen\",\"RC14001\",\"\")","v":""},{"$f":"IF(VLOOKUP(D5,Sonderbericht!$E$776:$H$882,4,FALSE)=\"bewertung erhöhen\",\"RCMS\",\"\")","v":""}]
[null,null,null,null,"Ihre Bewertung ",null,{"$f":"VLOOKUP(D5,'Technische Seite'!$B$10:$C$25,2,FALSE)","v":1},null,null,null,null,null,null,{"$f":"CONCATENATE(G6,\" = \",HLOOKUP(\" \",'Kapitel 1'!E5:E10,Tipps!G6+2))","v":"1 = Die oberste Führungsebene („Top Management“) hat sich RC & Compliance verpflichtet, diese Verpflichtung wurde bislang aber noch nicht formell als Unternehmenspolitik zum Ausdruck gebracht."}]
[null,null,null,null,"Streben Sie eine Verbesserung an ",null,{"$f":"VLOOKUP(CONCATENATE(D5,$M$3),'Technische Seite'!$BG$10:$BI$73,3,FALSE)","v":"Die Entwicklung und Umsetzung einer Richtlinie ist ein guter Weg, um die Mitarbeiter zu informieren, was im Bereich HSEE&S (Gesundheit, Sicherheit, Umwelt, Energie) von ihnen erwartet wird.\nDie Richtlinie kann ein eigenständiges Dokument oder Teil der Qualitäts- oder anderer Organisationsrichtlinien sein. Die Geschäftsleitung hat eine Schlüsselrolle bei der Formulierung, Umsetzung und Kommunikation der Richtlinie.\nDie Richtlinie berücksichtigt Folgendes:\n- Mission, Werte und Überzeugungen der Organisation;\n- kontinuierliche Verbesserung;\n- Einhaltung von HSEE&S-Gesetzen und -Vorschriften;\n- Einhaltung anderer HSEE&S-Kriterien, zu denen sich die Organisation verpflichtet;\n- Kommunikation mit Stakeholdern;\n- Koordination mit anderen Organisationsrichtlinien.\nDie Richtlinie soll einfach und verständlich sein. Fragen Sie sich, was Sie erreichen möchten, und wie Sie das in der Organisation am besten kommunizieren können. Testen Sie die Einfachheit und Prägnanz anhand der Frage: „Können unsere Mitarbeiter die Absichten unserer Richtlinie mit höchstens 20 Wörtern beschreiben?“. Passen Sie den Inhalt Ihrer Richtlinie an die Vorgaben und Ziele Ihrer Organisation an, damit die Richtlinie Kohärenz mit diesen Vorgaben und Zielen aufweist.\nDie Verpflichtung zur Einhaltung von Gesetzten und Vorschriften ist eine Selbstverständlichkeit.\nVor der Verpflichtung zur Erfüllung anderer HSEE&S-bezogener Anforderungen, kann die Organisation gegebenenfalls eine Bestandsaufnahme durchführen, um das Ausmaß der Verpflichtung zu verstehen. "}]
[null,null,null,null,null,null,null,null,null,null,null,null,null,{"$f":"IF(L9=8,\"\",\"höhere Punktzahl für :\")","v":""}]
[null,null,{"$f":"IF(VLOOKUP(D9,'Technische Seite'!$AO$10:$AQ$24,3,0)=\"OK\",\"\",\"die wichtigste Frage\")","v":""},{"$f":"'Kapitel 1'!C12","v":"F1.2"},{"$f":"'Kapitel 1'!D12","v":"Wie steuert die Organisation die relevanten Risiken und Chancen?"},null,null,null,null,null,null,{"$f":"COUNTBLANK(N9:U9)","v":8},null,{"$f":"IF(VLOOKUP(D9,Sonderbericht!$E$6:$H$112,4,FALSE)=\"bewertung erhöhen\",\"ISO 9001\",\"\")","v":""},{"$f":"IF(VLOOKUP(D9,Sonderbericht!$E$116:$H$222,4,FALSE)=\"bewertung erhöhen\",\"ISO 14001\",\"\")","v":""},{"$f":"IF(VLOOKUP(D9,Sonderbericht!$E$226:$H$332,4,FALSE)=\"bewertung erhöhen\",\"ISO 26000\",\"\")","v":""},{"$f":"IF(VLOOKUP(D9,Sonderbericht!$E$336:$H$552,4,FALSE)=\"bewertung erhöhen\",\"ISO 45001\",\"\")","v":""},{"$f":"IF(VLOOKUP(D9,Sonderbericht!$E$556:$H$662,4,FALSE)=\"bewertung erhöhen\",\"EMAS\",\"\")","v":""},{"$f":"IF(VLOOKUP(D9,Sonderbericht!$E$666:$H$772,4,FALSE)=\"bewertung erhöhen\",\"RC14001\",\"\")","v":""},{"$f":"IF(VLOOKUP(D9,Sonderbericht!$E$776:$H$882,4,FALSE)=\"bewertung erhöhen\",\"RCMS\",\"\")","v":""}]
[null,null,null,null,"Ihre Bewertung ",null,{"$f":"VLOOKUP(D9,'Technische Seite'!$B$10:$C$25,2,FALSE)","v":1},null,null,null,null,null,null,{"$f":"CONCATENATE(G10,\" = \",HLOOKUP(\" \",'Kapitel 1'!E11:E16,Tipps!G10+2))","v":"1 = Die Organisation steuert Risiken entsprechend den gesetzlichen Anforderungen"}]
[null,null,null,null,"Streben Sie eine Verbesserung an ",null,{"$f":"VLOOKUP(CONCATENATE(D9,$M$3),'Technische Seite'!$BG$10:$BI$73,3,FALSE)","v":"Bestimmen Sie externe und interne Probleme, die für den Zweck der Organisation relevant sind und ihre Fähigkeit zum Erreichen der angestrebten Ergebnisse ihres Managementsystems beeinflussen. Verschiedene Methoden stehen für die Ermittlung dieser Probleme zur Verfügung. Die PESTLE-Kriterien (engl. Abkürzung der Begriffe politisch, wirtschaftlich, sozial, technologisch, rechtlich und ökologisch) beispielsweise liefern einen Rahmen zur Ermittlung von Problemen im jeweiligen Kontext der Organisation. Diese Probleme haben alle Umweltbedingungen zu umfassen, die von der Organisation beeinflusst werden oder in der Lage sind, diese zu beeinflussen. "}]
[null,{"$f":"'Kapitel 1'!B18","v":"Compliance"},null,null,null,null,null,null,null,null,null,null,null,{"$f":"IF(L13=8,\"\",\"höhere Punktzahl für :\")","v":""}]
[null,null,{"$f":"IF(VLOOKUP(D13,'Technische Seite'!$AO$10:$AQ$24,3,0)=\"OK\",\"\",\"die wichtigste Frage\")","v":""},{"$f":"'Kapitel 1'!C20","v":"F1.3"},{"$f":"'Kapitel 1'!D20","v":"In welcher Weise erfüllt die Organisation ihre gesetzlichen Verpflichtungen?"},null,null,null,null,null,null,{"$f":"COUNTBLANK(N13:U13)","v":8},true,{"$f":"IF(VLOOKUP(D13,Sonderbericht!$E$6:$H$112,4,FALSE)=\"bewertung erhöhen\",\"ISO 9001\",\"\")","v":""},{"$f":"IF(VLOOKUP(D13,Sonderbericht!$E$116:$H$222,4,FALSE)=\"bewertung erhöhen\",\"ISO 14001\",\"\")","v":""},{"$f":"IF(VLOOKUP(D13,Sonderbericht!$E$226:$H$332,4,FALSE)=\"bewertung erhöhen\",\"ISO 26000\",\"\")","v":""},{"$f":"IF(VLOOKUP(D13,Sonderbericht!$E$336:$H$552,4,FALSE)=\"bewertung erhöhen\",\"ISO 45001\",\"\")","v":""},{"$f":"IF(VLOOKUP(D13,Sonderbericht!$E$556:$H$662,4,FALSE)=\"bewertung erhöhen\",\"EMAS\",\"\")","v":""},{"$f":"IF(VLOOKUP(D13,Sonderbericht!$E$666:$H$772,4,FALSE)=\"bewertung erhöhen\",\"RC14001\",\"\")","v":""},{"$f":"IF(VLOOKUP(D13,Sonderbericht!$E$776:$H$882,4,FALSE)=\"bewertung erhöhen\",\"RCMS\",\"\")","v":""}]
[null,null,null,null,"Ihre Bewertung ",null,{"$f":"VLOOKUP(D13,'Technische Seite'!$B$10:$C$25,2,FALSE)","v":2},null,null,null,null,null,null,{"$f":"CONCATENATE(G14,\" = \",HLOOKUP(\" \",'Kapitel 1'!E19:E24,Tipps!G14+2))","v":"2 = Die Leitung der Organisation hat eine Abteilung/einen Mitarbeiter benannt, die/der dafür verantwortlich ist, die gesetzlichen Vorschriften in den Bereichen Gesundheit, Sicherheit, Energie und Umweltschutz zu dokumentieren und den Grad zu bewerten, mit dem die Organisation den geltenden Gesetzestexten gerecht wird. Zusätzlich besteht ein Verfahren zur Umsetzung der gesetzlichen Verpflichtungen"}]
[null,null,null,null,"Streben Sie eine Verbesserung an ",null,{"$f":"VLOOKUP(CONCATENATE(D13,$M$3),'Technische Seite'!$BG$10:$BI$73,3,FALSE)","v":"Bringen Sie sich aktiv in die Vorbereitung neuer Rechtsvorschriften auf Bundes- bzw. Länderebene ein."}]
[null,{"$f":"'Kapitel 1'!B26","v":"Management-Strukturen"},null,null,null,null,null,null,null,null,null,null,null,{"$f":"IF(L17=8,\"\",\"höhere Punktzahl für :\")","v":""}]
[null,null,{"$f":"IF(VLOOKUP(D17,'Technische Seite'!$AO$10:$AQ$24,3,0)=\"OK\",\"\",\"die wichtigste Frage\")","v":""},{"$f":"'Kapitel 1'!C28","v":"F1.4"},{"$f":"'Kapitel 1'!D28","v":"Wie stellt die oberste Führungsebene („top management“) sicher, dass Aspekte aus den Bereichen Gesundheit, Sicherheit, Umwelt, Energie & Nachhaltigkeit bestimmten Funktionen zugeordnet sind?"},null,null,null,null,null,null,{"$f":"COUNTBLANK(N17:U17)","v":8},true,{"$f":"IF(VLOOKUP(D17,Sonderbericht!$E$6:$H$112,4,FALSE)=\"bewertung erhöhen\",\"ISO 9001\",\"\")","v":""},{"$f":"IF(VLOOKUP(D17,Sonderbericht!$E$116:$H$222,4,FALSE)=\"bewertung erhöhen\",\"ISO 14001\",\"\")","v":""},{"$f":"IF(VLOOKUP(D17,Sonderbericht!$E$226:$H$332,4,FALSE)=\"bewertung erhöhen\",\"ISO 26000\",\"\")","v":""},{"$f":"IF(VLOOKUP(D17,Sonderbericht!$E$336:$H$552,4,FALSE)=\"bewertung erhöhen\",\"ISO 45001\",\"\")","v":""},{"$f":"IF(VLOOKUP(D17,Sonderbericht!$E$556:$H$662,4,FALSE)=\"bewertung erhöhen\",\"EMAS\",\"\")","v":""},{"$f":"IF(VLOOKUP(D17,Sonderbericht!$E$666:$H$772,4,FALSE)=\"bewertung erhöhen\",\"RC14001\",\"\")","v":""},{"$f":"IF(VLOOKUP(D17,Sonderbericht!$E$776:$H$882,4,FALSE)=\"bewertung erhöhen\",\"RCMS\",\"\")","v":""}]
[null,null,null,null,"Ihre Bewertung ",null,{"$f":"VLOOKUP(D17,'Technische Seite'!$B$10:$C$25,2,FALSE)","v":2},null,null,null,null,null,null,{"$f":"CONCATENATE(G18,\" = \",HLOOKUP(\" \",'Kapitel 1'!E27:E32,Tipps!G18+2))","v":"2 = Mit einem operativen Manager steht eine zentrale Person mit Erfahrung in den genannten Aspekten zur Verfügung. Er/Sie berichtet an die oberste Führungsebene und gewährleistet, dass die Organisation die Anforderungen bestimmter Normen/Standards (Gesundheit, Sicherheit, Umwelt, Energie & Nachhaltigkeit) erfüllt und dass die Verfahren die gewünschten Ergebnisse liefern."}]
[null,null,null,null,"Streben Sie eine Verbesserung an ",null,{"$f":"VLOOKUP(CONCATENATE(D17,$M$3),'Technische Seite'!$BG$10:$BI$73,3,FALSE)","v":"Beauftragen Sie eine Gruppe von Personen mit der Umsetzung eines HSEE&S-Managementsystems und verlangen Sie von ihr einen Bericht an die oberste Geschäftsleitung.\nBedienen Sie sich einer eindeutigen, präzisen und deutlichen Sprache, um allen klar zu machen, was von ihnen erwartet wird.\n- Definition von Zuständigkeiten auf allen Ebenen der Organisation.\n- Übertragung von Zuständigkeiten nur an diejenigen, die innerhalb ihres Zuständigkeitsbereichs mit der Umsetzung, Leitung und Steuerung der Maßnahmen beauftragt sind.\n- Messen Sie die Leistung der Mitarbeiter bei den zugewiesenen Aufgaben.\nSeien Sie sich bewusst, dass die effektivsten Programme zur Einbeziehung der Mitarbeiter damit beginnen, die Mitarbeiter in der Umsetzungsphase des Managementsystems (HSEE&S) einzubeziehen."}]
[null,null,null,null,null,null,null,null,null,null,null,null,null,{"$f":"IF(L21=8,\"\",\"höhere Punktzahl für :\")","v":""}]
[null,null,{"$f":"IF(VLOOKUP(D21,'Technische Seite'!$AO$10:$AQ$24,3,0)=\"OK\",\"\",\"die wichtigste Frage\")","v":""},{"$f":"'Kapitel 1'!C34","v":"F1.5"},{"$f":"'Kapitel 1'!D34","v":"In welcher Weise ist der Vorstand/die Geschäftsleitung der Organisation in den Umgang mit Fragen und Problemen („issues“) in den Bereichen Gesundheit, Sicherheit, Umwelt, Energie & Nachhaltigkeit eingebunden?"},null,null,null,null,null,null,{"$f":"COUNTBLANK(N21:U21)","v":8},true,{"$f":"IF(VLOOKUP(D21,Sonderbericht!$E$6:$H$112,4,FALSE)=\"bewertung erhöhen\",\"ISO 9001\",\"\")","v":""},{"$f":"IF(VLOOKUP(D21,Sonderbericht!$E$116:$H$222,4,FALSE)=\"bewertung erhöhen\",\"ISO 14001\",\"\")","v":""},{"$f":"IF(VLOOKUP(D21,Sonderbericht!$E$226:$H$332,4,FALSE)=\"bewertung erhöhen\",\"ISO 26000\",\"\")","v":""},{"$f":"IF(VLOOKUP(D21,Sonderbericht!$E$336:$H$552,4,FALSE)=\"bewertung erhöhen\",\"ISO 45001\",\"\")","v":""},{"$f":"IF(VLOOKUP(D21,Sonderbericht!$E$556:$H$662,4,FALSE)=\"bewertung erhöhen\",\"EMAS\",\"\")","v":""},{"$f":"IF(VLOOKUP(D21,Sonderbericht!$E$666:$H$772,4,FALSE)=\"bewertung erhöhen\",\"RC14001\",\"\")","v":""},{"$f":"IF(VLOOKUP(D21,Sonderbericht!$E$776:$H$882,4,FALSE)=\"bewertung erhöhen\",\"RCMS\",\"\")","v":""}]
[null,null,null,null,"Ihre Bewertung ",null,{"$f":"VLOOKUP(D21,'Technische Seite'!$B$10:$C$25,2,FALSE)","v":3},null,null,null,null,null,null,{"$f":"CONCATENATE(G22,\" = \",HLOOKUP(\" \",'Kapitel 1'!E33:E38,Tipps!G22+2))","v":"3 = Der Vorstand/Die Geschäftsleitung wird einbezogen. Die möglichen Auswirkungen der Managementsysteme für Gesundheit, Sicherheit, Umwelt, Energie & Nachhaltigkeit auf die Geschäftstätigkeit der Organisation (Markenimage, soziale Akzeptanz der Aktivitäten, Unterscheidung von Wettbewerbern, operative Effizienz …) werden kommuniziert"}]
[null,null,null,null,"Streben Sie eine Verbesserung an ",null,{"$f":"VLOOKUP(CONCATENATE(D21,$M$3),'Technische Seite'!$BG$10:$BI$73,3,FALSE)","v":"Der Vorstand wird zum Botschafter für das Managementsystem (HSEE&S) und geht mit gutem Beispiel voran:\nBinden Sie den Vorstand ein:\n- Beziehen Sie HSEE&S in Neujahrsansprachen, Mitarbeiterfeste, interne Wettbewerbe usw. ein.\n- Gewährleisten Sie die Sichtbarkeit von Umweltschutzrichtlinien, Maßnahmen und Ergebnissen;\n- Vermitteln Sie Kunden die Botschaft;\n- Halten Sie die Kommunikation aufrecht."}]
[null,null,null,null,null,null,null,null,null,null,null,null,null,{"$f":"IF(L25=8,\"\",\"höhere Punktzahl für :\")","v":""}]
[null,null,{"$f":"IF(VLOOKUP(D25,'Technische Seite'!$AO$8:$AQ$30,3,0)=\"OK\",\"\",\"die wichtigste Frage\")","v":""},{"$f":"'Kapitel 1'!C40","v":"F1.6"},{"$f":"'Kapitel 1'!D40","v":"Wie werden Verantwortlichkeiten in den Bereichen Gesundheit, Sicherheit, Umwelt, Energie & Nachhaltigkeit in Arbeitsplatzbeschreibungen oder Jahresziele integriert?"},null,null,null,null,null,null,{"$f":"COUNTBLANK(N25:U25)","v":8},true,{"$f":"IF(VLOOKUP(D25,Sonderbericht!$E$6:$H$112,4,FALSE)=\"bewertung erhöhen\",\"ISO 9001\",\"\")","v":""},{"$f":"IF(VLOOKUP(D25,Sonderbericht!$E$116:$H$222,4,FALSE)=\"bewertung erhöhen\",\"ISO 14001\",\"\")","v":""},{"$f":"IF(VLOOKUP(D25,Sonderbericht!$E$226:$H$332,4,FALSE)=\"bewertung erhöhen\",\"ISO 26000\",\"\")","v":""},{"$f":"IF(VLOOKUP(D25,Sonderbericht!$E$336:$H$552,4,FALSE)=\"bewertung erhöhen\",\"ISO 45001\",\"\")","v":""},{"$f":"IF(VLOOKUP(D25,Sonderbericht!$E$556:$H$662,4,FALSE)=\"bewertung erhöhen\",\"EMAS\",\"\")","v":""},{"$f":"IF(VLOOKUP(D25,Sonderbericht!$E$666:$H$772,4,FALSE)=\"bewertung erhöhen\",\"RC14001\",\"\")","v":""},{"$f":"IF(VLOOKUP(D25,Sonderbericht!$E$776:$H$882,4,FALSE)=\"bewertung erhöhen\",\"RCMS\",\"\")","v":""}]
[null,null,null,null,"Ihre Bewertung ",null,{"$f":"VLOOKUP(D25,'Technische Seite'!$B10:$C$25,2,FALSE)","v":4},null,null,null,null,null,null,{"$f":"CONCATENATE(G26,\" = \",HLOOKUP(\" \",'Kapitel 1'!E39:E44,Tipps!G26+2))","v":"4 = Sie sind in den Arbeitsplatzbeschreibungen oder Jahreszielen aller Mitarbeiter enthalten"}]
[null,null,null,null,"Streben Sie eine Verbesserung an ",null,{"$f":"VLOOKUP(CONCATENATE(D25,$M$3),'Technische Seite'!$BG$10:$BI$73,3,FALSE)","v":"Es wird empfohlen, das System jährlich zu überprüfen und zu entscheiden, was noch benötigt wird, was weggelassen werden kann, welche neuen Probleme entstehen…"}]
[null,null,null,null,null,null,null,null,null,null,null,null,null,{"$f":"IF(L29=8,\"\",\"höhere Punktzahl für :\")","v":""}]
[null,null,{"$f":"IF(VLOOKUP(D29,'Technische Seite'!$AO$8:$AQ$30,3,0)=\"OK\",\"\",\"die wichtigste Frage\")","v":"die wichtigste Frage"},{"$f":"'Kapitel 1'!C46","v":"F1.7"},{"$f":"'Kapitel 1'!D46","v":"Wie werden (Kern-)Prozesse in den Bereichen Gesundheit, Sicherheit, Umwelt, Energie & Nachhaltigkeit gelenkt?"},null,null,null,null,null,null,{"$f":"COUNTBLANK(N29:U29)","v":8},null,{"$f":"IF(VLOOKUP(D29,Sonderbericht!$E$6:$H$112,4,FALSE)=\"bewertung erhöhen\",\"ISO 9001\",\"\")","v":""},{"$f":"IF(VLOOKUP(D29,Sonderbericht!$E$116:$H$222,4,FALSE)=\"bewertung erhöhen\",\"ISO 14001\",\"\")","v":""},{"$f":"IF(VLOOKUP(D29,Sonderbericht!$E$226:$H$332,4,FALSE)=\"bewertung erhöhen\",\"ISO 26000\",\"\")","v":""},{"$f":"IF(VLOOKUP(D29,Sonderbericht!$E$336:$H$552,4,FALSE)=\"bewertung erhöhen\",\"ISO 45001\",\"\")","v":""},{"$f":"IF(VLOOKUP(D29,Sonderbericht!$E$556:$H$662,4,FALSE)=\"bewertung erhöhen\",\"EMAS\",\"\")","v":""},{"$f":"IF(VLOOKUP(D29,Sonderbericht!$E$666:$H$772,4,FALSE)=\"bewertung erhöhen\",\"RC14001\",\"\")","v":""},{"$f":"IF(VLOOKUP(D29,Sonderbericht!$E$776:$H$882,4,FALSE)=\"bewertung erhöhen\",\"RCMS\",\"\")","v":""}]
[null,null,null,null,"Ihre Bewertung ",null,{"$f":"VLOOKUP(D29,'Technische Seite'!$B10:$C$25,2,FALSE)","v":1},null,null,null,null,null,null,{"$f":"CONCATENATE(G30,\" = \",HLOOKUP(\" \",'Kapitel 1'!E45:E50,Tipps!G30+2))","v":"1 = Die Lenkungsstruktur ist nicht definiert"}]
[null,null,null,null,"Streben Sie eine Verbesserung an ",null,{"$f":"VLOOKUP(CONCATENATE(D29,$M$3),'Technische Seite'!$BG$10:$BI$73,3,FALSE)","v":"Definieren Sie die Governance-Struktur für das Management von HSEE&S-Themen. Beauftragen Sie verantwortliche Personen mit  klaren Rollen."}]
[null,{"$f":"'Kapitel 1'!B52","v":"Sicherstellung der kontinuierlichen Verbesserung"},null,null,null,null,null,null,null,null,null,null,null,{"$f":"IF(L33=8,\"\",\"höhere Punktzahl für :\")","v":""}]
[null,null,{"$f":"IF(VLOOKUP(D33,'Technische Seite'!$AO$8:$AQ$30,3,0)=\"OK\",\"\",\"die wichtigste Frage\")","v":""},{"$f":"'Kapitel 1'!C54","v":"F1.8"},{"$f":"'Kapitel 1'!D54","v":"In welche Weise stellt die oberste Führungsebene eine kontinuierliche Verbesserung der Leistung in den Bereichen Gesundheit, Sicherheit, Umwelt, Energie & Nachhaltigkeit sicher?"},null,null,null,null,null,null,{"$f":"COUNTBLANK(N33:U33)","v":8},true,{"$f":"IF(VLOOKUP(D33,Sonderbericht!$E$6:$H$112,4,FALSE)=\"bewertung erhöhen\",\"ISO 9001\",\"\")","v":""},{"$f":"IF(VLOOKUP(D33,Sonderbericht!$E$116:$H$222,4,FALSE)=\"bewertung erhöhen\",\"ISO 14001\",\"\")","v":""},{"$f":"IF(VLOOKUP(D33,Sonderbericht!$E$226:$H$332,4,FALSE)=\"bewertung erhöhen\",\"ISO 26000\",\"\")","v":""},{"$f":"IF(VLOOKUP(D33,Sonderbericht!$E$336:$H$552,4,FALSE)=\"bewertung erhöhen\",\"ISO 45001\",\"\")","v":""},{"$f":"IF(VLOOKUP(D33,Sonderbericht!$E$556:$H$662,4,FALSE)=\"bewertung erhöhen\",\"EMAS\",\"\")","v":""},{"$f":"IF(VLOOKUP(D33,Sonderbericht!$E$666:$H$772,4,FALSE)=\"bewertung erhöhen\",\"RC14001\",\"\")","v":""},{"$f":"IF(VLOOKUP(D33,Sonderbericht!$E$776:$H$882,4,FALSE)=\"bewertung erhöhen\",\"RCMS\",\"\")","v":""}]
[null,null,null,null,"Ihre Bewertung ",null,{"$f":"VLOOKUP(D33,'Technische Seite'!$B10:$C$25,2,FALSE)","v":2},null,null,null,null,null,null,{"$f":"CONCATENATE(G34,\" = \",HLOOKUP(\" \",'Kapitel 1'!E53:E58,Tipps!G34+2))","v":"2 = Die oberste Führungsebene führt jährliche Überprüfungen der RC-Leistung durch; Aktionspläne werden erstellt"}]
[null,null,null,null,"Streben Sie eine Verbesserung an ",null,{"$f":"VLOOKUP(CONCATENATE(D33,$M$3),'Technische Seite'!$BG$10:$BI$73,3,FALSE)","v":"Stellen Sie sicher, dass die relevanten Leistungsindikatoren vorhanden sind und die Aktionspläne im Einklang mit den wesentlichen Risiken und Chancen für die Organisation sowie im Einklang mit der Strategie zur Förderung der kontinuierlichen Verbesserung überprüft werden. Definieren Sie die erforderlichen Ressourcen, um die Umsetzung des Aktionsplans zu ermöglichen."}]
[null,null,null,null,null,null,null,null,null,null,null,null,null,{"$f":"IF(L37=8,\"\",\"höhere Punktzahl für :\")","v":""}]
[null,null,{"$f":"IF(VLOOKUP(D37,'Technische Seite'!$AO$8:$AQ$30,3,0)=\"OK\",\"\",\"die wichtigste Frage\")","v":"die wichtigste Frage"},{"$f":"'Kapitel 1'!C60","v":"F1.9"},{"$f":"'Kapitel 1'!D60","v":"Wie wird das interne Auditprogramm durchgeführt?"},null,null,null,null,null,null,{"$f":"COUNTBLANK(N37:U37)","v":8},true,{"$f":"IF(VLOOKUP(D37,Sonderbericht!$E$6:$H$112,4,FALSE)=\"bewertung erhöhen\",\"ISO 9001\",\"\")","v":""},{"$f":"IF(VLOOKUP(D37,Sonderbericht!$E$116:$H$222,4,FALSE)=\"bewertung erhöhen\",\"ISO 14001\",\"\")","v":""},{"$f":"IF(VLOOKUP(D37,Sonderbericht!$E$226:$H$332,4,FALSE)=\"bewertung erhöhen\",\"ISO 26000\",\"\")","v":""},{"$f":"IF(VLOOKUP(D37,Sonderbericht!$E$336:$H$552,4,FALSE)=\"bewertung erhöhen\",\"ISO 45001\",\"\")","v":""},{"$f":"IF(VLOOKUP(D37,Sonderbericht!$E$556:$H$662,4,FALSE)=\"bewertung erhöhen\",\"EMAS\",\"\")","v":""},{"$f":"IF(VLOOKUP(D37,Sonderbericht!$E$666:$H$772,4,FALSE)=\"bewertung erhöhen\",\"RC14001\",\"\")","v":""},{"$f":"IF(VLOOKUP(D37,Sonderbericht!$E$776:$H$882,4,FALSE)=\"bewertung erhöhen\",\"RCMS\",\"\")","v":""}]
[null,null,null,null,"Ihre Bewertung ",null,{"$f":"VLOOKUP(D37,'Technische Seite'!$B10:$C$25,2,FALSE)","v":1},null,null,null,null,null,null,{"$f":"CONCATENATE(G38,\" = \",HLOOKUP(\" \",'Kapitel 1'!E59:E64,Tipps!G38+2))","v":"1 = Für Ziele und Verfahren in den Bereichen Gesundheit, Sicherheit, Umwelt, Energie & Nachhaltigkeit findet kein interner Audit statt"}]
[null,null,null,null,"Streben Sie eine Verbesserung an ",null,{"$f":"VLOOKUP(CONCATENATE(D37,$M$3),'Technische Seite'!$BG$10:$BI$73,3,FALSE)","v":"Überlegen Sie als ersten Schritt den Einsatz von „Gastauditoren“ von anderen Werken oder Funktionsbereichen."}]
[null,null,null,null,null,null,null,null,null,null,null,null,null,{"$f":"IF(L41=8,\"\",\"höhere Punktzahl für :\")","v":""}]
[null,null,{"$f":"IF(VLOOKUP(D41,'Technische Seite'!$AO$8:$AQ$30,3,0)=\"OK\",\"\",\"die wichtigste Frage\")","v":""},{"$f":"'Kapitel 1'!C66","v":"F1.10"},{"$f":"'Kapitel 1'!D66","v":"Wie werden Vorfälle untersucht?"},null,null,null,null,null,null,{"$f":"COUNTBLANK(N41:U41)","v":8},true,{"$f":"IF(VLOOKUP(D41,Sonderbericht!$E$6:$H$112,4,FALSE)=\"bewertung erhöhen\",\"ISO 9001\",\"\")","v":""},{"$f":"IF(VLOOKUP(D41,Sonderbericht!$E$116:$H$222,4,FALSE)=\"bewertung erhöhen\",\"ISO 14001\",\"\")","v":""},{"$f":"IF(VLOOKUP(D41,Sonderbericht!$E$226:$H$332,4,FALSE)=\"bewertung erhöhen\",\"ISO 26000\",\"\")","v":""},{"$f":"IF(VLOOKUP(D41,Sonderbericht!$E$336:$H$552,4,FALSE)=\"bewertung erhöhen\",\"ISO 45001\",\"\")","v":""},{"$f":"IF(VLOOKUP(D41,Sonderbericht!$E$556:$H$662,4,FALSE)=\"bewertung erhöhen\",\"EMAS\",\"\")","v":""},{"$f":"IF(VLOOKUP(D41,Sonderbericht!$E$666:$H$772,4,FALSE)=\"bewertung erhöhen\",\"RC14001\",\"\")","v":""},{"$f":"IF(VLOOKUP(D41,Sonderbericht!$E$776:$H$882,4,FALSE)=\"bewertung erhöhen\",\"RCMS\",\"\")","v":""}]
[null,null,null,null,"Ihre Bewertung ",null,{"$f":"VLOOKUP(D41,'Technische Seite'!$B10:$C$25,2,FALSE)","v":3},null,null,null,null,null,null,{"$f":"CONCATENATE(G42,\" = \",HLOOKUP(\" \",'Kapitel 1'!E65:E70,Tipps!G42+2))","v":"3 = Alle Vorfälle in den Bereichen Gesundheit, Sicherheit, Gefahrenabwehr & Umwelt (einschließlich z. B. Beinahe-Unfälle, Vorfälle und Unfälle an Standorten/auf dem Gelände, Betriebsstörungen, Austritte/Leckagen …) werden systematisch gemeldet und untersucht, um die grundlegende Ursache zu ermitteln, anschließend Abhilfe zu schaffen und ein erneutes Auftreten des Problems zu verhindern"}]
[null,null,null,null,"Streben Sie eine Verbesserung an ",null,{"$f":"VLOOKUP(CONCATENATE(D41,$M$3),'Technische Seite'!$BG$10:$BI$73,3,FALSE)","v":"Sorgen Sie für den Austausch der aus den Untersuchungen gewonnenen Erkenntnisse außerhalb der Organisation nach Bedarf mit Partnerorganisationen oder  Peers."}]
[null,{"$f":"'Kapitel 1'!B72","v":"Ressourcen, Aus- und Weiterbildung, Einbeziehung der Mitarbeiter"},null,null,null,null,null,null,null,null,null,null,null,{"$f":"IF(L45=8,\"\",\"höhere Punktzahl für :\")","v":""}]
[null,null,{"$f":"IF(VLOOKUP(D45,'Technische Seite'!$AO$8:$AQ$30,3,0)=\"OK\",\"\",\"die wichtigste Frage\")","v":""},{"$f":"'Kapitel 1'!C74","v":"F1.11"},{"$f":"'Kapitel 1'!D74","v":"In welcher Weise stellt die Organisation die benötigten Verfahren, zeitlichen Mittel und Ressourcen bereit, um Management-Prozesse in den Bereichen Gesundheit, Sicherheit, Umwelt, Energie & Nachhaltigkeit zu verbessern?"},null,null,null,null,null,null,{"$f":"COUNTBLANK(N45:U45)","v":8},true,{"$f":"IF(VLOOKUP(D45,Sonderbericht!$E$6:$H$112,4,FALSE)=\"bewertung erhöhen\",\"ISO 9001\",\"\")","v":""},{"$f":"IF(VLOOKUP(D45,Sonderbericht!$E$116:$H$222,4,FALSE)=\"bewertung erhöhen\",\"ISO 14001\",\"\")","v":""},{"$f":"IF(VLOOKUP(D45,Sonderbericht!$E$226:$H$332,4,FALSE)=\"bewertung erhöhen\",\"ISO 26000\",\"\")","v":""},{"$f":"IF(VLOOKUP(D45,Sonderbericht!$E$336:$H$552,4,FALSE)=\"bewertung erhöhen\",\"ISO 45001\",\"\")","v":""},{"$f":"IF(VLOOKUP(D45,Sonderbericht!$E$556:$H$662,4,FALSE)=\"bewertung erhöhen\",\"EMAS\",\"\")","v":""},{"$f":"IF(VLOOKUP(D45,Sonderbericht!$E$666:$H$772,4,FALSE)=\"bewertung erhöhen\",\"RC14001\",\"\")","v":""},{"$f":"IF(VLOOKUP(D45,Sonderbericht!$E$776:$H$882,4,FALSE)=\"bewertung erhöhen\",\"RCMS\",\"\")","v":""}]
[null,null,null,null,"Ihre Bewertung ",null,{"$f":"VLOOKUP(D45,'Technische Seite'!$B10:$C$25,2,FALSE)","v":3},null,null,null,null,null,null,{"$f":"CONCATENATE(G46,\" = \",HLOOKUP(\" \",'Kapitel 1'!E73:E78,Tipps!G46+2))","v":"3 = Es werden systematisch Ressourcen bereitgestellt, um eine kontinuierliche Verbesserung der Verfahren zu gewährleisten. Diese Ressourcen gründen sich auf Bewertungen („assessments“) und die planvolle Festlegung von Prioritäten."}]
[null,null,null,null,"Streben Sie eine Verbesserung an ",null,{"$f":"VLOOKUP(CONCATENATE(D45,$M$3),'Technische Seite'!$BG$10:$BI$73,3,FALSE)","v":"Ressourcen zur Beurteilung der Verbesserungen sind ebenfalls zu planen, zusätzlich zu denjenigen für die Umsetzung von Maßnahmen"}]
[null,null,null,null,null,null,null,null,null,null,null,null,null,{"$f":"IF(L49=8,\"\",\"höhere Punktzahl für :\")","v":""}]
[null,null,{"$f":"IF(VLOOKUP(D49,'Technische Seite'!$AO$8:$AQ$30,3,0)=\"OK\",\"\",\"die wichtigste Frage\")","v":""},{"$f":"'Kapitel 1'!C80","v":"F1.12"},{"$f":"'Kapitel 1'!D80","v":"Wie stellt die Organisation sicher, dass Mitarbeiter über die Unternehmenspolitik und Verfahren in den Bereichen Gesundheit, Sicherheit, Umwelt, Energie & Nachhaltigkeit informiert sind?"},null,null,null,null,null,null,{"$f":"COUNTBLANK(N49:U49)","v":8},true,{"$f":"IF(VLOOKUP(D49,Sonderbericht!$E$6:$H$112,4,FALSE)=\"bewertung erhöhen\",\"ISO 9001\",\"\")","v":""},{"$f":"IF(VLOOKUP(D49,Sonderbericht!$E$116:$H$222,4,FALSE)=\"bewertung erhöhen\",\"ISO 14001\",\"\")","v":""},{"$f":"IF(VLOOKUP(D49,Sonderbericht!$E$226:$H$332,4,FALSE)=\"bewertung erhöhen\",\"ISO 26000\",\"\")","v":""},{"$f":"IF(VLOOKUP(D49,Sonderbericht!$E$336:$H$552,4,FALSE)=\"bewertung erhöhen\",\"ISO 45001\",\"\")","v":""},{"$f":"IF(VLOOKUP(D49,Sonderbericht!$E$556:$H$662,4,FALSE)=\"bewertung erhöhen\",\"EMAS\",\"\")","v":""},{"$f":"IF(VLOOKUP(D49,Sonderbericht!$E$666:$H$772,4,FALSE)=\"bewertung erhöhen\",\"RC14001\",\"\")","v":""},{"$f":"IF(VLOOKUP(D49,Sonderbericht!$E$776:$H$882,4,FALSE)=\"bewertung erhöhen\",\"RCMS\",\"\")","v":""}]
[null,null,null,null,"Ihre Bewertung ",null,{"$f":"VLOOKUP(D49,'Technische Seite'!$B10:$C$25,2,FALSE)","v":2},null,null,null,null,null,null,{"$f":"CONCATENATE(G50,\" = \",HLOOKUP(\" \",'Kapitel 1'!E79:E84,Tipps!G50+2))","v":"2 = Es gibt einige Formen der internen Ad-hoc-Kommunikation zu Themen in den Bereichen Gesundheit, Sicherheit, Umwelt, Energie & Nachhaltigkeit."}]
[null,null,null,null,"Streben Sie eine Verbesserung an ",null,{"$f":"VLOOKUP(CONCATENATE(D49,$M$3),'Technische Seite'!$BG$10:$BI$73,3,FALSE)","v":"Entwerfen und entwickeln Sie HSEE&S-Schulungsmaterialien und -methoden für alle Ebenen der Organisation. Dazu können u. a. Managementbriefings, laufende begleitende Schulungsprogramme, Informationen zu Richtlinien, Verfahren und Programmen in regelmäßig angesetzten Sicherheitsbesprechungen zählen."}]
[null,null,null,null,null,null,null,null,null,null,null,null,null,{"$f":"IF(L53=8,\"\",\"höhere Punktzahl für :\")","v":""}]
[null,null,{"$f":"IF(VLOOKUP(D53,'Technische Seite'!$AO$8:$AQ$30,3,0)=\"OK\",\"\",\"die wichtigste Frage\")","v":"die wichtigste Frage"},{"$f":"'Kapitel 1'!C86","v":"F1.13"},{"$f":"'Kapitel 1'!D86","v":"Wie stellt die Organisation sicher, dass Arbeiter – hinsichtlich der mit ihrer Tätigkeit in Zusammenhang stehenden Aspekten in den Bereichen Gesundheit, Sicherheit, Umwelt, Energie & Nachhaltigkeit – über die erforderlichen Kompetenzen verfügen?"},null,null,null,null,null,null,{"$f":"COUNTBLANK(N53:U53)","v":8},true,{"$f":"IF(VLOOKUP(D53,Sonderbericht!$E$6:$H$112,4,FALSE)=\"bewertung erhöhen\",\"ISO 9001\",\"\")","v":""},{"$f":"IF(VLOOKUP(D53,Sonderbericht!$E$116:$H$222,4,FALSE)=\"bewertung erhöhen\",\"ISO 14001\",\"\")","v":""},{"$f":"IF(VLOOKUP(D53,Sonderbericht!$E$226:$H$332,4,FALSE)=\"bewertung erhöhen\",\"ISO 26000\",\"\")","v":""},{"$f":"IF(VLOOKUP(D53,Sonderbericht!$E$336:$H$552,4,FALSE)=\"bewertung erhöhen\",\"ISO 45001\",\"\")","v":""},{"$f":"IF(VLOOKUP(D53,Sonderbericht!$E$556:$H$662,4,FALSE)=\"bewertung erhöhen\",\"EMAS\",\"\")","v":""},{"$f":"IF(VLOOKUP(D53,Sonderbericht!$E$666:$H$772,4,FALSE)=\"bewertung erhöhen\",\"RC14001\",\"\")","v":""},{"$f":"IF(VLOOKUP(D53,Sonderbericht!$E$776:$H$882,4,FALSE)=\"bewertung erhöhen\",\"RCMS\",\"\")","v":""}]
[null,null,null,null,"Ihre Bewertung ",null,{"$f":"VLOOKUP(D53,'Technische Seite'!$B10:$C$25,2,FALSE)","v":1},null,null,null,null,null,null,{"$f":"CONCATENATE(G54,\" = \",HLOOKUP(\" \",'Kapitel 1'!E85:E90,Tipps!G54+2))","v":"1 = Es sind keine diesbezüglichen Verfahren vorhanden"}]
[null,null,null,null,"Streben Sie eine Verbesserung an ",null,{"$f":"VLOOKUP(CONCATENATE(D53,$M$3),'Technische Seite'!$BG$10:$BI$73,3,FALSE)","v":"Schulung ist ein Instrument, um Mitarbeitern und Geschäftspartnern entsprechende Kenntnisse und Informationen zu vermitteln.\n\nSchulung muss für jeden Aufgabenbereich in der gesamten Organisation dokumentiert werden. In der Regel wird eine Schulungsmatrix oder -datenbank verwendet, um den Schulungsbedarf für jeden Mitarbeiter auf Basis der Tätigkeitskategorie und des Aufgabenbereichs zu ermitteln.\nDie Schulungsanforderungen können von den gesamten Prozessen für Korrektur- und Vorbeugemaßnahmen des Managementsystems beeinflusst werden. Erkenntnisse aus einem Vorfall oder einer Nichtkonformität im System können zu Änderungen bei bestimmten Schulungsanforderungen führen."}]
[null,null,null,null,null,null,null,null,null,null,null,null,null,{"$f":"IF(L57=8,\"\",\"höhere Punktzahl für :\")","v":""}]
[null,null,{"$f":"IF(VLOOKUP(D57,'Technische Seite'!$AO$8:$AQ$30,3,0)=\"OK\",\"\",\"die wichtigste Frage\")","v":""},{"$f":"'Kapitel 1'!C92","v":"F1.14"},{"$f":"'Kapitel 1'!D92","v":"Wie ist die Einbeziehung der Mitarbeiter strukturiert?"},null,null,null,null,null,null,{"$f":"COUNTBLANK(N57:U57)","v":8},true,{"$f":"IF(VLOOKUP(D57,Sonderbericht!$E$6:$H$112,4,FALSE)=\"bewertung erhöhen\",\"ISO 9001\",\"\")","v":""},{"$f":"IF(VLOOKUP(D57,Sonderbericht!$E$116:$H$222,4,FALSE)=\"bewertung erhöhen\",\"ISO 14001\",\"\")","v":""},{"$f":"IF(VLOOKUP(D57,Sonderbericht!$E$226:$H$332,4,FALSE)=\"bewertung erhöhen\",\"ISO 26000\",\"\")","v":""},{"$f":"IF(VLOOKUP(D57,Sonderbericht!$E$336:$H$552,4,FALSE)=\"bewertung erhöhen\",\"ISO 45001\",\"\")","v":""},{"$f":"IF(VLOOKUP(D57,Sonderbericht!$E$556:$H$662,4,FALSE)=\"bewertung erhöhen\",\"EMAS\",\"\")","v":""},{"$f":"IF(VLOOKUP(D57,Sonderbericht!$E$666:$H$772,4,FALSE)=\"bewertung erhöhen\",\"RC14001\",\"\")","v":""},{"$f":"IF(VLOOKUP(D57,Sonderbericht!$E$776:$H$882,4,FALSE)=\"bewertung erhöhen\",\"RCMS\",\"\")","v":""}]
[null,null,null,null,"Ihre Bewertung ",null,{"$f":"VLOOKUP(D57,'Technische Seite'!$B10:$C$25,2,FALSE)","v":4},null,null,null,null,null,null,{"$f":"CONCATENATE(G58,\" = \",HLOOKUP(\" \",'Kapitel 1'!E91:E96,Tipps!G58+2))","v":"4 = Der Dialog wird in seiner Struktur umgesetzt und seine Wirksamkeit wird regelmäßig bewertet. Vertreter der Arbeiter sind Schlüsselpartner in allen Entscheidungen"}]
[null,null,null,null,"Streben Sie eine Verbesserung an ",null,{"$f":"VLOOKUP(CONCATENATE(D57,$M$3),'Technische Seite'!$BG$10:$BI$73,3,FALSE)","v":"Es wird empfohlen, das System jährlich zu überprüfen und zu entscheiden, was noch benötigt wird, was weggelassen werden kann, welche neuen Probleme entstehen…"}]
[null,{"$f":"'Kapitel 1'!B98","v":"Dokumentenmanagement"},null,null,null,null,null,null,null,null,null,null,null,{"$f":"IF(L61=8,\"\",\"höhere Punktzahl für :\")","v":""}]
[null,null,{"$f":"IF(VLOOKUP(D61,'Technische Seite'!$AO$8:$AQ$30,3,0)=\"OK\",\"\",\"die wichtigste Frage\")","v":""},{"$f":"'Kapitel 1'!C100","v":"F1.15"},{"$f":"'Kapitel 1'!D100","v":"Wie werden Dokumente aus den Bereichen Gesundheit, Sicherheit, Umwelt, Energie & Nachhaltigkeit verwaltet?"},null,null,null,null,null,null,{"$f":"COUNTBLANK(N61:U61)","v":8},true,{"$f":"IF(VLOOKUP(D61,Sonderbericht!$E$6:$H$112,4,FALSE)=\"bewertung erhöhen\",\"ISO 9001\",\"\")","v":""},{"$f":"IF(VLOOKUP(D61,Sonderbericht!$E$116:$H$222,4,FALSE)=\"bewertung erhöhen\",\"ISO 14001\",\"\")","v":""},{"$f":"IF(VLOOKUP(D61,Sonderbericht!$E$226:$H$332,4,FALSE)=\"bewertung erhöhen\",\"ISO 26000\",\"\")","v":""},{"$f":"IF(VLOOKUP(D61,Sonderbericht!$E$336:$H$552,4,FALSE)=\"bewertung erhöhen\",\"ISO 45001\",\"\")","v":""},{"$f":"IF(VLOOKUP(D61,Sonderbericht!$E$556:$H$662,4,FALSE)=\"bewertung erhöhen\",\"EMAS\",\"\")","v":""},{"$f":"IF(VLOOKUP(D61,Sonderbericht!$E$666:$H$772,4,FALSE)=\"bewertung erhöhen\",\"RC14001\",\"\")","v":""},{"$f":"IF(VLOOKUP(D61,Sonderbericht!$E$776:$H$882,4,FALSE)=\"bewertung erhöhen\",\"RCMS\",\"\")","v":""}]
[null,null,null,null,"Ihre Bewertung ",null,{"$f":"VLOOKUP(D61,'Technische Seite'!$B10:$C$25,2,FALSE)","v":2},null,null,null,null,null,null,{"$f":"CONCATENATE(G62,\" = \",HLOOKUP(\" \",'Kapitel 1'!E99:E104,Tipps!G62+2))","v":"2 = Die Aktivitäten der Organisation unterliegen einem umfassenden Paket interner Vorgaben für Abteilungen und Mitarbeiter, welche für Arbeitsschutz, Sicherheit und Umwelt zuständig sind"}]
[null,null,null,null,"Streben Sie eine Verbesserung an ",null,{"$f":"VLOOKUP(CONCATENATE(D61,$M$3),'Technische Seite'!$BG$10:$BI$73,3,FALSE)","v":"Es wird empfohlen, die Dokumente systematisch zu verwalten, sie aktuell zu halten und ungültige Dokumentation zu beseitigen.\nEs ist wichtig, dass Mitarbeiter je nach ihrer Position entsprechenden Zugang zu Dokumentation haben."}]
[null,{"$f":"'Kapitel 1'!B106","v":"Management des Wandels („Management of change“ / MoC"},null,null,null,null,null,null,null,null,null,null,null,{"$f":"IF(L65=8,\"\",\"höhere Punktzahl für :\")","v":""}]
[null,null,{"$f":"IF(VLOOKUP(D65,'Technische Seite'!$AO$8:$AQ$30,3,0)=\"OK\",\"\",\"die wichtigste Frage\")","v":""},{"$f":"'Kapitel 1'!C108","v":"F1.16"},{"$f":"'Kapitel 1'!D108","v":"In welcher Weise werden Änderungen, die möglicherweise Auswirkungen auf die Bereiche Gesundheit, Sicherheit, Umwelt, Energie & Nachhaltigkeit haben könnten, gesteuert?"},null,null,null,null,null,null,{"$f":"COUNTBLANK(N65:U65)","v":8},true,{"$f":"IF(VLOOKUP(D65,Sonderbericht!$E$6:$H$112,4,FALSE)=\"bewertung erhöhen\",\"ISO 9001\",\"\")","v":""},{"$f":"IF(VLOOKUP(D65,Sonderbericht!$E$116:$H$222,4,FALSE)=\"bewertung erhöhen\",\"ISO 14001\",\"\")","v":""},{"$f":"IF(VLOOKUP(D65,Sonderbericht!$E$226:$H$332,4,FALSE)=\"bewertung erhöhen\",\"ISO 26000\",\"\")","v":""},{"$f":"IF(VLOOKUP(D65,Sonderbericht!$E$336:$H$552,4,FALSE)=\"bewertung erhöhen\",\"ISO 45001\",\"\")","v":""},{"$f":"IF(VLOOKUP(D65,Sonderbericht!$E$556:$H$662,4,FALSE)=\"bewertung erhöhen\",\"EMAS\",\"\")","v":""},{"$f":"IF(VLOOKUP(D65,Sonderbericht!$E$666:$H$772,4,FALSE)=\"bewertung erhöhen\",\"RC14001\",\"\")","v":""},{"$f":"IF(VLOOKUP(D65,Sonderbericht!$E$776:$H$882,4,FALSE)=\"bewertung erhöhen\",\"RCMS\",\"\")","v":""}]
[null,null,null,null,"Ihre Bewertung ",null,{"$f":"VLOOKUP(D65,'Technische Seite'!$B10:$C$25,2,FALSE)","v":2},null,null,null,null,null,null,{"$f":"CONCATENATE(G66,\" = \",HLOOKUP(\" \",'Kapitel 1'!E107:E112,Tipps!G66+2))","v":"2 = Die Organisation verfügt über ein entsprechendes Verfahren. In dessen Rahmen erfolgen eine Definition der Änderung, Klärung der erforderlichen Dokumente und der Methodik zur Untersuchung der Risikoauswirkung für Anwendung, Aktualisierung, Billigung und Abschluss der Änderung für das Personal. Das Verfahren umfasst Änderungen wie z. B. Einführung eines neuen Stoffes in einen Prozess, Bewertung der spezifischen Risiken sowie der Wechselwirkungen mit anderen Stoffen und mögliche Auswirkungen der Änderung auf Risiken in den Bereichen Technik, Gesundheit, Sicherheit, Umwelt, Energie & Nachhaltigkeit"}]
[null,null,null,null,"Streben Sie eine Verbesserung an ",null,{"$f":"VLOOKUP(CONCATENATE(D65,$M$3),'Technische Seite'!$BG$10:$BI$73,3,FALSE)","v":"Entwickeln Sie ein Management-of-Change-Verfahren, um eine Überprüfung im Hinblick auf die Risikobewertung (A&GS, Umweltschutz und Prozesssicherheit) von Betriebsanleitungen, Genehmigungen und sonstigen Unterlagen zu gewährleisten, die gegebenenfalls von der Änderung betroffen sind."}]
[]
[null,null,"KAPITEL 2","Schutz von Menschen und Umwelt"]
[null,{"$f":"'Kapitel 2'!B4","v":"Arbeits- und Gesundheitsschutz"},null,null,null,null,null,null,null,null,null,null,null,{"$f":"IF(L71=8,\"\",\"höhere Punktzahl für :\")","v":""}]
[null,null,{"$f":"IF(VLOOKUP(D71,'Technische Seite'!$AO$124:$AQ$168,3,0)=\"OK\",\"\",\"die wichtigste Frage\")","v":""},{"$f":"'Kapitel 2'!C6","v":"F2.1"},{"$f":"'Kapitel 2'!D6","v":"In welcher Weise verpflichtet sich die Führung der Organisation zu Arbeits- und Gesundheitsschutz?"},null,null,null,null,null,null,{"$f":"COUNTBLANK(N71:U71)","v":8},true,{"$f":"IF(VLOOKUP(D71,Sonderbericht!$E$6:$H$112,4,FALSE)=\"bewertung erhöhen\",\"ISO 9001\",\"\")","v":""},{"$f":"IF(VLOOKUP(D71,Sonderbericht!$E$116:$H$222,4,FALSE)=\"bewertung erhöhen\",\"ISO 14001\",\"\")","v":""},{"$f":"IF(VLOOKUP(D71,Sonderbericht!$E$226:$H$332,4,FALSE)=\"bewertung erhöhen\",\"ISO 26000\",\"\")","v":""},{"$f":"IF(VLOOKUP(D71,Sonderbericht!$E$336:$H$552,4,FALSE)=\"bewertung erhöhen\",\"ISO 45001\",\"\")","v":""},{"$f":"IF(VLOOKUP(D71,Sonderbericht!$E$556:$H$662,4,FALSE)=\"bewertung erhöhen\",\"EMAS\",\"\")","v":""},{"$f":"IF(VLOOKUP(D71,Sonderbericht!$E$666:$H$772,4,FALSE)=\"bewertung erhöhen\",\"RC14001\",\"\")","v":""},{"$f":"IF(VLOOKUP(D71,Sonderbericht!$E$776:$H$882,4,FALSE)=\"bewertung erhöhen\",\"RCMS\",\"\")","v":""}]
[null,null,null,null,"Ihre Bewertung ",null,{"$f":"VLOOKUP(D71,'Technische Seite'!$B$124:$C$168,2,FALSE)","v":1},null,null,null,null,null,null,{"$f":"CONCATENATE(G72,\" = \",HLOOKUP(\" \",'Kapitel 2'!D5:E10,Tipps!G72+2))","v":"1 = Eine Unternehmenspolitik mit einer Verpflichtung zur kontinuierlichen Verbesserung des Schutzes von Gesundheit & Sicherheit ist schriftlich dargelegt"}]
[null,null,null,null,"Streben Sie eine Verbesserung an ",null,{"$f":"VLOOKUP(CONCATENATE(D71,$M$3),'Technische Seite'!$BG$124:$BI$303,3,FALSE)","v":"Definition von Rollen und Ressourcen\nWenden Sie die Richtlinie auf allen Ebenen der Organisation an.\nDefinieren Sie bestimmte Ziele und verfolgen Sie diese Ziele mit Indikatoren nach.\nApply the policy for all levels in the organisation.\nDefine specific objectives and track these objectives with indicators."}]
[null,null,null,null,null,null,null,null,null,null,null,null,null,{"$f":"IF(L75=8,\"\",\"höhere Punktzahl für :\")","v":""}]
[null,null,{"$f":"IF(VLOOKUP(D75,'Technische Seite'!$AO$124:$AQ$168,3,0)=\"OK\",\"\",\"die wichtigste Frage\")","v":""},{"$f":"'Kapitel 2'!C12","v":"F2.2"},{"$f":"'Kapitel 2'!D12","v":"In welcher Weise werden Risiken und Expositionen in den Bereichen Gesundheit & Sicherheit festgestellt?"},null,null,null,null,null,null,{"$f":"COUNTBLANK(N75:U75)","v":8},true,{"$f":"IF(VLOOKUP(D75,Sonderbericht!$E$6:$H$112,4,FALSE)=\"bewertung erhöhen\",\"ISO 9001\",\"\")","v":""},{"$f":"IF(VLOOKUP(D75,Sonderbericht!$E$116:$H$222,4,FALSE)=\"bewertung erhöhen\",\"ISO 14001\",\"\")","v":""},{"$f":"IF(VLOOKUP(D75,Sonderbericht!$E$226:$H$332,4,FALSE)=\"bewertung erhöhen\",\"ISO 26000\",\"\")","v":""},{"$f":"IF(VLOOKUP(D75,Sonderbericht!$E$336:$H$552,4,FALSE)=\"bewertung erhöhen\",\"ISO 45001\",\"\")","v":""},{"$f":"IF(VLOOKUP(D75,Sonderbericht!$E$556:$H$662,4,FALSE)=\"bewertung erhöhen\",\"EMAS\",\"\")","v":""},{"$f":"IF(VLOOKUP(D75,Sonderbericht!$E$666:$H$772,4,FALSE)=\"bewertung erhöhen\",\"RC14001\",\"\")","v":""},{"$f":"IF(VLOOKUP(D75,Sonderbericht!$E$776:$H$882,4,FALSE)=\"bewertung erhöhen\",\"RCMS\",\"\")","v":""}]
[null,null,null,null,"Ihre Bewertung ",null,{"$f":"VLOOKUP(D75,'Technische Seite'!$B$124:$C$168,2,FALSE)","v":1},null,null,null,null,null,null,{"$f":"CONCATENATE(G76,\" = \",HLOOKUP(\" \",'Kapitel 2'!D11:E16,Tipps!G76+2))","v":"1 = Nicht systematisch, aber in Einklang mit den geltenden gesetzlichen Vorschriften"}]
[null,null,null,null,"Streben Sie eine Verbesserung an ",null,{"$f":"VLOOKUP(CONCATENATE(D75,$M$3),'Technische Seite'!$BG$124:$BI$303,3,FALSE)","v":"Ermitteln und beschreiben Sie die potenziellen Risiken für die öffentliche Gesundheit und Sicherheit im normalen Betrieb und in einer verschlechterten Situation im Kontext eines geänderten oder abnormalen Betriebs für den Betrieb aller Prozesse, Anlagen und Standorte.\nEntwickeln Sie einen Gefahrenbeurteilungsplan und setzen Sie diesen um.\n• Verwenden Sie systematische Ansätze (z. B. Arbeitssicherheitsanalyse, vorläufige Gefahrenanalyse, Analyse der Fehlermöglichkeiten und -wirkungen usw.) zur Analyse von Arbeiten oder Tätigkeiten, die im Werk durchgeführt werden, um die Gesundheits- oder Sicherheitsrisiken im Zusammenhang mit diesen Arbeiten oder Tätigkeiten zu ermitteln; \n• Führen Sie industrielle Hygienebeurteilungen für die Belastung von Arbeitskräften durch chemische, physikalische und biologische Wirkstoffe durch; \n• Entwickeln Sie Systeme, die die schnelle Beurteilung von potenziellen Gesundheits- und Sicherheitsrisiken auslösen."}]
[null,null,null,null,null,null,null,null,null,null,null,null,null,{"$f":"IF(L79=8,\"\",\"höhere Punktzahl für :\")","v":""}]
[null,null,{"$f":"IF(VLOOKUP(D79,'Technische Seite'!$AO$124:$AQ$168,3,0)=\"OK\",\"\",\"die wichtigste Frage\")","v":""},{"$f":"'Kapitel 2'!C18","v":"F2.3"},{"$f":"'Kapitel 2'!D18","v":"In welcher Weise werden die medizinischen Anforderungen bewertet?"},null,null,null,null,null,null,{"$f":"COUNTBLANK(N79:U79)","v":8},true,{"$f":"IF(VLOOKUP(D79,Sonderbericht!$E$6:$H$112,4,FALSE)=\"bewertung erhöhen\",\"ISO 9001\",\"\")","v":""},{"$f":"IF(VLOOKUP(D79,Sonderbericht!$E$116:$H$222,4,FALSE)=\"bewertung erhöhen\",\"ISO 14001\",\"\")","v":""},{"$f":"IF(VLOOKUP(D79,Sonderbericht!$E$226:$H$332,4,FALSE)=\"bewertung erhöhen\",\"ISO 26000\",\"\")","v":""},{"$f":"IF(VLOOKUP(D79,Sonderbericht!$E$336:$H$552,4,FALSE)=\"bewertung erhöhen\",\"ISO 45001\",\"\")","v":""},{"$f":"IF(VLOOKUP(D79,Sonderbericht!$E$556:$H$662,4,FALSE)=\"bewertung erhöhen\",\"EMAS\",\"\")","v":""},{"$f":"IF(VLOOKUP(D79,Sonderbericht!$E$666:$H$772,4,FALSE)=\"bewertung erhöhen\",\"RC14001\",\"\")","v":""},{"$f":"IF(VLOOKUP(D79,Sonderbericht!$E$776:$H$882,4,FALSE)=\"bewertung erhöhen\",\"RCMS\",\"\")","v":""}]
[null,null,null,null,"Ihre Bewertung ",null,{"$f":"VLOOKUP(D79,'Technische Seite'!$B$124:$C$168,2,FALSE)","v":4},null,null,null,null,null,null,{"$f":"CONCATENATE(G80,\" = \",HLOOKUP(\" \",'Kapitel 2'!D17:E22,Tipps!G80+2))","v":"4 = Zusätzlich bietet die Organisation weitere Leistungen, um Mitarbeiter für eine gesündere und sicherere Lebensführung aufzuklären und zu unterstützen."}]
[null,null,null,null,"Streben Sie eine Verbesserung an ",null,{"$f":"VLOOKUP(CONCATENATE(D79,$M$3),'Technische Seite'!$BG$124:$BI$303,3,FALSE)","v":"Kein Bedarf für sofortige Strategieänderung, aber Verbesserungen sind immer im Auge zu behalten."}]
[null,null,null,null,null,null,null,null,null,null,null,null,null,{"$f":"IF(L83=8,\"\",\"höhere Punktzahl für :\")","v":""}]
[null,null,{"$f":"IF(VLOOKUP(D83,'Technische Seite'!$AO$124:$AQ$168,3,0)=\"OK\",\"\",\"die wichtigste Frage\")","v":""},{"$f":"'Kapitel 2'!C24","v":"F2.4"},{"$f":"'Kapitel 2'!D24","v":"In welcher Weise verbessert die Organisation ihre Leistung in den Bereichen Gesundheit und Sicherheit?"},null,null,null,null,null,null,{"$f":"COUNTBLANK(N83:U83)","v":8},true,{"$f":"IF(VLOOKUP(D83,Sonderbericht!$E$6:$H$112,4,FALSE)=\"bewertung erhöhen\",\"ISO 9001\",\"\")","v":""},{"$f":"IF(VLOOKUP(D83,Sonderbericht!$E$116:$H$222,4,FALSE)=\"bewertung erhöhen\",\"ISO 14001\",\"\")","v":""},{"$f":"IF(VLOOKUP(D83,Sonderbericht!$E$226:$H$332,4,FALSE)=\"bewertung erhöhen\",\"ISO 26000\",\"\")","v":""},{"$f":"IF(VLOOKUP(D83,Sonderbericht!$E$336:$H$552,4,FALSE)=\"bewertung erhöhen\",\"ISO 45001\",\"\")","v":""},{"$f":"IF(VLOOKUP(D83,Sonderbericht!$E$556:$H$662,4,FALSE)=\"bewertung erhöhen\",\"EMAS\",\"\")","v":""},{"$f":"IF(VLOOKUP(D83,Sonderbericht!$E$666:$H$772,4,FALSE)=\"bewertung erhöhen\",\"RC14001\",\"\")","v":""},{"$f":"IF(VLOOKUP(D83,Sonderbericht!$E$776:$H$882,4,FALSE)=\"bewertung erhöhen\",\"RCMS\",\"\")","v":""}]
[null,null,null,null,"Ihre Bewertung ",null,{"$f":"VLOOKUP(D83,'Technische Seite'!$B$124:$C$168,2,FALSE)","v":1},null,null,null,null,null,null,{"$f":"CONCATENATE(G84,\" = \",HLOOKUP(\" \",'Kapitel 2'!D23:E28,Tipps!G84+2))","v":"1 = In den Bereichen Gesundheit und Sicherheit gibt es weder ein Programm noch Ziele. Wenn ein Vorfall stattfindet, ergreift die Organisation die gesetzlich vorgeschriebenen Maßnahmen."}]
[null,null,null,null,"Streben Sie eine Verbesserung an ",null,{"$f":"VLOOKUP(CONCATENATE(D83,$M$3),'Technische Seite'!$BG$124:$BI$303,3,FALSE)","v":"Entwicklung eines Gesundheits- und Sicherheitsprogramms durch das Management der Organisation."}]
[null,null,null,null,null,null,null,null,null,null,null,null,null,{"$f":"IF(L87=8,\"\",\"höhere Punktzahl für :\")","v":""}]
[null,null,{"$f":"IF(VLOOKUP(D87,'Technische Seite'!$AO$124:$AQ$168,3,0)=\"OK\",\"\",\"die wichtigste Frage\")","v":""},{"$f":"'Kapitel 2'!C30","v":"F2.5"},{"$f":"'Kapitel 2'!D30","v":"In welcher Weise werden Wartung und Pflege („maintenance and housekeeping“) gestaltet, um die Sicherheit von Einrichtungen, Anlagen, Werkzeugen und\n(Sicherheits-) Ausrüstungen aufrechtzuerhalten?"},null,null,null,null,null,null,{"$f":"COUNTBLANK(N87:U87)","v":8},true,{"$f":"IF(VLOOKUP(D87,Sonderbericht!$E$6:$H$112,4,FALSE)=\"bewertung erhöhen\",\"ISO 9001\",\"\")","v":""},{"$f":"IF(VLOOKUP(D87,Sonderbericht!$E$116:$H$222,4,FALSE)=\"bewertung erhöhen\",\"ISO 14001\",\"\")","v":""},{"$f":"IF(VLOOKUP(D87,Sonderbericht!$E$226:$H$332,4,FALSE)=\"bewertung erhöhen\",\"ISO 26000\",\"\")","v":""},{"$f":"IF(VLOOKUP(D87,Sonderbericht!$E$336:$H$552,4,FALSE)=\"bewertung erhöhen\",\"ISO 45001\",\"\")","v":""},{"$f":"IF(VLOOKUP(D87,Sonderbericht!$E$556:$H$662,4,FALSE)=\"bewertung erhöhen\",\"EMAS\",\"\")","v":""},{"$f":"IF(VLOOKUP(D87,Sonderbericht!$E$666:$H$772,4,FALSE)=\"bewertung erhöhen\",\"RC14001\",\"\")","v":""},{"$f":"IF(VLOOKUP(D87,Sonderbericht!$E$776:$H$882,4,FALSE)=\"bewertung erhöhen\",\"RCMS\",\"\")","v":""}]
[null,null,null,null,"Ihre Bewertung ",null,{"$f":"VLOOKUP(D87,'Technische Seite'!$B$124:$C$168,2,FALSE)","v":2},null,null,null,null,null,null,{"$f":"CONCATENATE(G88,\" = \",HLOOKUP(\" \",'Kapitel 2'!D29:E34,Tipps!G88+2))","v":"2 = Eine proaktive Wartungsstrategie/ein proaktiver Wartungsplan ist vorhanden und wird befolgt"}]
[null,null,null,null,"Streben Sie eine Verbesserung an ",null,{"$f":"VLOOKUP(CONCATENATE(D87,$M$3),'Technische Seite'!$BG$124:$BI$303,3,FALSE)","v":"Evaluieren Sie regelmäßig die Effektivität des Wartungsprogramms, messen Sie den Erfolg und verbessern Sie die Wartungspläne."}]
[null,null,null,null,null,null,null,null,null,null,null,null,null,{"$f":"IF(L91=8,\"\",\"höhere Punktzahl für :\")","v":""}]
[null,null,{"$f":"IF(VLOOKUP(D91,'Technische Seite'!$AO$124:$AQ$168,3,0)=\"OK\",\"\",\"die wichtigste Frage\")","v":""},{"$f":"'Kapitel 2'!C36","v":"F2.6"},{"$f":"'Kapitel 2'!D36","v":"Wie werden die geeignete Auswahl, Wartung und Verwendung von Ausrüstungen in den Bereichen Gesundheit und Sicherheit (z. B. persönliche Schutzausrüstung/PSA) überprüft?"},null,null,null,null,null,null,{"$f":"COUNTBLANK(N91:U91)","v":8},true,{"$f":"IF(VLOOKUP(D91,Sonderbericht!$E$6:$H$112,4,FALSE)=\"bewertung erhöhen\",\"ISO 9001\",\"\")","v":""},{"$f":"IF(VLOOKUP(D91,Sonderbericht!$E$116:$H$222,4,FALSE)=\"bewertung erhöhen\",\"ISO 14001\",\"\")","v":""},{"$f":"IF(VLOOKUP(D91,Sonderbericht!$E$226:$H$332,4,FALSE)=\"bewertung erhöhen\",\"ISO 26000\",\"\")","v":""},{"$f":"IF(VLOOKUP(D91,Sonderbericht!$E$336:$H$552,4,FALSE)=\"bewertung erhöhen\",\"ISO 45001\",\"\")","v":""},{"$f":"IF(VLOOKUP(D91,Sonderbericht!$E$556:$H$662,4,FALSE)=\"bewertung erhöhen\",\"EMAS\",\"\")","v":""},{"$f":"IF(VLOOKUP(D91,Sonderbericht!$E$666:$H$772,4,FALSE)=\"bewertung erhöhen\",\"RC14001\",\"\")","v":""},{"$f":"IF(VLOOKUP(D91,Sonderbericht!$E$776:$H$882,4,FALSE)=\"bewertung erhöhen\",\"RCMS\",\"\")","v":""}]
[null,null,null,null,"Ihre Bewertung ",null,{"$f":"VLOOKUP(D91,'Technische Seite'!$B$124:$C$168,2,FALSE)","v":3},null,null,null,null,null,null,{"$f":"CONCATENATE(G92,\" = \",HLOOKUP(\" \",'Kapitel 2'!D35:E40,Tipps!G92+2))","v":"3 = Die Mitarbeiter werden geschult, um zu wissen und zu verstehen, wenn und welche PSA notwendig ist und um Bewertungen von PSA durchzuführen. Die Mitarbeiter sind sich der Folgen bewusst, falls keine PSA verwendet wird. Die Verwendung geeigneter PSA betrifft alle Ebenen der Organisation"}]
[null,null,null,null,"Streben Sie eine Verbesserung an ",null,{"$f":"VLOOKUP(CONCATENATE(D91,$M$3),'Technische Seite'!$BG$124:$BI$303,3,FALSE)","v":"Machen Sie die Mitarbeiter aufmerksam, dass sie die „Arbeitsstoppbefugnis“ besitzen, wenn die persönliche Schutzausrüstung (PSA) als ungeeignet betrachtet wird, um eine Gefahr im Griff zu haben. "}]
[null,null,null,null,null,null,null,null,null,null,null,null,null,{"$f":"IF(L95=8,\"\",\"höhere Punktzahl für :\")","v":""}]
[null,null,{"$f":"IF(VLOOKUP(D95,'Technische Seite'!$AO$124:$AQ$168,3,0)=\"OK\",\"\",\"die wichtigste Frage\")","v":"die wichtigste Frage"},{"$f":"'Kapitel 2'!C42","v":"F2.7"},{"$f":"'Kapitel 2'!D42","v":"Wie geht die Organisation mit Stress und Wohlbefinden um?"},null,null,null,null,null,null,{"$f":"COUNTBLANK(N95:U95)","v":8},true,{"$f":"IF(VLOOKUP(D95,Sonderbericht!$E$6:$H$112,4,FALSE)=\"bewertung erhöhen\",\"ISO 9001\",\"\")","v":""},{"$f":"IF(VLOOKUP(D95,Sonderbericht!$E$116:$H$222,4,FALSE)=\"bewertung erhöhen\",\"ISO 14001\",\"\")","v":""},{"$f":"IF(VLOOKUP(D95,Sonderbericht!$E$226:$H$332,4,FALSE)=\"bewertung erhöhen\",\"ISO 26000\",\"\")","v":""},{"$f":"IF(VLOOKUP(D95,Sonderbericht!$E$336:$H$552,4,FALSE)=\"bewertung erhöhen\",\"ISO 45001\",\"\")","v":""},{"$f":"IF(VLOOKUP(D95,Sonderbericht!$E$556:$H$662,4,FALSE)=\"bewertung erhöhen\",\"EMAS\",\"\")","v":""},{"$f":"IF(VLOOKUP(D95,Sonderbericht!$E$666:$H$772,4,FALSE)=\"bewertung erhöhen\",\"RC14001\",\"\")","v":""},{"$f":"IF(VLOOKUP(D95,Sonderbericht!$E$776:$H$882,4,FALSE)=\"bewertung erhöhen\",\"RCMS\",\"\")","v":""}]
[null,null,null,null,"Ihre Bewertung ",null,{"$f":"VLOOKUP(D95,'Technische Seite'!$B$124:$C$168,2,FALSE)","v":1},null,null,null,null,null,null,{"$f":"CONCATENATE(G96,\" = \",HLOOKUP(\" \",'Kapitel 2'!D41:E46,Tipps!G96+2))","v":"1 = Gemäß den gesetzlichen Vorschriften"}]
[null,null,null,null,"Streben Sie eine Verbesserung an ",null,{"$f":"VLOOKUP(CONCATENATE(D95,$M$3),'Technische Seite'!$BG$124:$BI$303,3,FALSE)","v":"Fördern Sie eine ausgeglichene Work-Life-Balance, sorgen Sie dafür, dass Beschäftigte die Möglichkeit für Vorschläge haben und die Organisation diese berücksichtigt.\nSorgen Sie im Hinblick auf die Ergonomie dafür, dass es eine systematische Evaluierung für alle Arbeitsplätze gibt."}]
[null,null,null,null,null,null,null,null,null,null,null,null,null,{"$f":"IF(L99=8,\"\",\"höhere Punktzahl für :\")","v":""}]
[null,null,{"$f":"IF(VLOOKUP(D99,'Technische Seite'!$AO$124:$AQ$168,3,0)=\"OK\",\"\",\"die wichtigste Frage\")","v":""},{"$f":"'Kapitel 2'!C48","v":"F2.8"},{"$f":"'Kapitel 2'!D48","v":"In welcher Weise werden Verletzungen am Arbeitsplatz, Vorfälle und Beinahe-Vorfälle untersucht?"},null,null,null,null,null,null,{"$f":"COUNTBLANK(N99:U99)","v":8},null,{"$f":"IF(VLOOKUP(D99,Sonderbericht!$E$6:$H$112,4,FALSE)=\"bewertung erhöhen\",\"ISO 9001\",\"\")","v":""},{"$f":"IF(VLOOKUP(D99,Sonderbericht!$E$116:$H$222,4,FALSE)=\"bewertung erhöhen\",\"ISO 14001\",\"\")","v":""},{"$f":"IF(VLOOKUP(D99,Sonderbericht!$E$226:$H$332,4,FALSE)=\"bewertung erhöhen\",\"ISO 26000\",\"\")","v":""},{"$f":"IF(VLOOKUP(D99,Sonderbericht!$E$336:$H$552,4,FALSE)=\"bewertung erhöhen\",\"ISO 45001\",\"\")","v":""},{"$f":"IF(VLOOKUP(D99,Sonderbericht!$E$556:$H$662,4,FALSE)=\"bewertung erhöhen\",\"EMAS\",\"\")","v":""},{"$f":"IF(VLOOKUP(D99,Sonderbericht!$E$666:$H$772,4,FALSE)=\"bewertung erhöhen\",\"RC14001\",\"\")","v":""},{"$f":"IF(VLOOKUP(D99,Sonderbericht!$E$776:$H$882,4,FALSE)=\"bewertung erhöhen\",\"RCMS\",\"\")","v":""}]
[null,null,null,null,"Ihre Bewertung ",null,{"$f":"VLOOKUP(D99,'Technische Seite'!$B$124:$C$168,2,FALSE)","v":1},null,null,null,null,null,null,{"$f":"CONCATENATE(G100,\" = \",HLOOKUP(\" \",'Kapitel 2'!D47:E52,Tipps!G100+2))","v":"1 = Unfälle und Vorfälle werden entsprechend den gesetzlichen Vorschriften gemeldet"}]
[null,null,null,null,"Streben Sie eine Verbesserung an ",null,{"$f":"VLOOKUP(CONCATENATE(D99,$M$3),'Technische Seite'!$BG$124:$BI$303,3,FALSE)","v":"Ordnen Sie den Risiken eine Wichtigkeit zu."}]
[null,null,null,null,null,null,null,null,null,null,null,null,null,{"$f":"IF(L103=8,\"\",\"höhere Punktzahl für :\")","v":""}]
[null,null,{"$f":"IF(VLOOKUP(D103,'Technische Seite'!$AO$124:$AQ$168,3,0)=\"OK\",\"\",\"die wichtigste Frage\")","v":""},{"$f":"'Kapitel 2'!C54","v":"F2.9"},{"$f":"'Kapitel 2'!D54","v":"Wie ist die Organisation auf Notfälle vorbereitet?"},null,null,null,null,null,null,{"$f":"COUNTBLANK(N103:U103)","v":8},true,{"$f":"IF(VLOOKUP(D103,Sonderbericht!$E$6:$H$112,4,FALSE)=\"bewertung erhöhen\",\"ISO 9001\",\"\")","v":""},{"$f":"IF(VLOOKUP(D103,Sonderbericht!$E$116:$H$222,4,FALSE)=\"bewertung erhöhen\",\"ISO 14001\",\"\")","v":""},{"$f":"IF(VLOOKUP(D103,Sonderbericht!$E$226:$H$332,4,FALSE)=\"bewertung erhöhen\",\"ISO 26000\",\"\")","v":""},{"$f":"IF(VLOOKUP(D103,Sonderbericht!$E$336:$H$552,4,FALSE)=\"bewertung erhöhen\",\"ISO 45001\",\"\")","v":""},{"$f":"IF(VLOOKUP(D103,Sonderbericht!$E$556:$H$662,4,FALSE)=\"bewertung erhöhen\",\"EMAS\",\"\")","v":""},{"$f":"IF(VLOOKUP(D103,Sonderbericht!$E$666:$H$772,4,FALSE)=\"bewertung erhöhen\",\"RC14001\",\"\")","v":""},{"$f":"IF(VLOOKUP(D103,Sonderbericht!$E$776:$H$882,4,FALSE)=\"bewertung erhöhen\",\"RCMS\",\"\")","v":""}]
[null,null,null,null,"Ihre Bewertung ",null,{"$f":"VLOOKUP(D103,'Technische Seite'!$B$124:$C$168,2,FALSE)","v":4},null,null,null,null,null,null,{"$f":"CONCATENATE(G104,\" = \",HLOOKUP(\" \",'Kapitel 2'!D53:E58,Tipps!G104+2))","v":"4 = Eine enge Zusammenarbeit mit und die Einbeziehung von externen Helfern/Einsatzkräften, Feuerwehren usw. sind gegeben. Der Notfallplan des Standortes ist externen Helfern/Einsatzkräften zugänglich und wird ihnen zur Verfügung gestellt"}]
[null,null,null,null,"Streben Sie eine Verbesserung an ",null,{"$f":"VLOOKUP(CONCATENATE(D103,$M$3),'Technische Seite'!$BG$124:$BI$303,3,FALSE)","v":"Kein Bedarf für sofortige Strategieänderung, aber Verbesserungen sind immer im Auge zu behalten."}]
[null,null,null,null,null,null,null,null,null,null,null,null,null,{"$f":"IF(L107=8,\"\",\"höhere Punktzahl für :\")","v":""}]
[null,null,{"$f":"IF(VLOOKUP(D107,'Technische Seite'!$AO$124:$AQ$168,3,0)=\"OK\",\"\",\"die wichtigste Frage\")","v":""},{"$f":"'Kapitel 2'!C60","v":"F2.10"},{"$f":"'Kapitel 2'!D60","v":"In welcher Weise stellt die Organisation sicher, dass alle Mitarbeiter hinsichtlich der Gesundheits- und Sicherheitsanforderungen, die mit ihrer Tätigkeit in Zusammenhang stehen, über die geeigneten Kompetenzen verfügen?"},null,null,null,null,null,null,{"$f":"COUNTBLANK(N107:U107)","v":8},true,{"$f":"IF(VLOOKUP(D107,Sonderbericht!$E$6:$H$112,4,FALSE)=\"bewertung erhöhen\",\"ISO 9001\",\"\")","v":""},{"$f":"IF(VLOOKUP(D107,Sonderbericht!$E$116:$H$222,4,FALSE)=\"bewertung erhöhen\",\"ISO 14001\",\"\")","v":""},{"$f":"IF(VLOOKUP(D107,Sonderbericht!$E$226:$H$332,4,FALSE)=\"bewertung erhöhen\",\"ISO 26000\",\"\")","v":""},{"$f":"IF(VLOOKUP(D107,Sonderbericht!$E$336:$H$552,4,FALSE)=\"bewertung erhöhen\",\"ISO 45001\",\"\")","v":""},{"$f":"IF(VLOOKUP(D107,Sonderbericht!$E$556:$H$662,4,FALSE)=\"bewertung erhöhen\",\"EMAS\",\"\")","v":""},{"$f":"IF(VLOOKUP(D107,Sonderbericht!$E$666:$H$772,4,FALSE)=\"bewertung erhöhen\",\"RC14001\",\"\")","v":""},{"$f":"IF(VLOOKUP(D107,Sonderbericht!$E$776:$H$882,4,FALSE)=\"bewertung erhöhen\",\"RCMS\",\"\")","v":""}]
[null,null,null,null,"Ihre Bewertung ",null,{"$f":"VLOOKUP(D107,'Technische Seite'!$B$124:$C$168,2,FALSE)","v":1},null,null,null,null,null,null,{"$f":"CONCATENATE(G108,\" = \",HLOOKUP(\" \",'Kapitel 2'!D59:E64,Tipps!G108+2))","v":"1 = Anweisungen und Warnungen hinsichtlich Gesundheit & Sicherheit werden sichtbar und zugänglich gemacht (z. B. durch Poster und Schilder) und spezifische Schulungen werden durchgeführt. Beschilderung gemäß den Anforderungen – z. B. in Sicherheitsdatenblättern, als Ergebnis einer Arbeitsplatzbewertung oder den Empfehlungen von Lieferern von Ausrüstungsgegenständen – ist vorhanden."}]
[null,null,null,null,"Streben Sie eine Verbesserung an ",null,{"$f":"VLOOKUP(CONCATENATE(D107,$M$3),'Technische Seite'!$BG$124:$BI$303,3,FALSE)","v":"Bieten Sie neuen Mitarbeitern Schulungen in Bezug auf A&GS. Geben Sie ihnen die Möglichkeit zur Teilnahme an Diskussionen über die A&GS-Richtlinie."}]
[null,{"$f":"'Kapitel 2'!B66","v":"Verfahrenssicherheit"},null,null,null,null,null,null,null,null,null,null,null,{"$f":"IF(L111=8,\"\",\"höhere Punktzahl für :\")","v":""}]
[null,null,{"$f":"IF(VLOOKUP(D111,'Technische Seite'!$AO$124:$AQ$168,3,0)=\"OK\",\"\",\"die wichtigste Frage\")","v":""},{"$f":"'Kapitel 2'!C68","v":"F2.11"},{"$f":"'Kapitel 2'!D68","v":"Wie verpflichtet sich die Unternehmensleitung zur Verfahrenssicherheit?"},null,null,null,null,null,null,{"$f":"COUNTBLANK(N111:U111)","v":8},true,{"$f":"IF(VLOOKUP(D111,Sonderbericht!$E$6:$H$112,4,FALSE)=\"bewertung erhöhen\",\"ISO 9001\",\"\")","v":""},{"$f":"IF(VLOOKUP(D111,Sonderbericht!$E$116:$H$222,4,FALSE)=\"bewertung erhöhen\",\"ISO 14001\",\"\")","v":""},{"$f":"IF(VLOOKUP(D111,Sonderbericht!$E$226:$H$332,4,FALSE)=\"bewertung erhöhen\",\"ISO 26000\",\"\")","v":""},{"$f":"IF(VLOOKUP(D111,Sonderbericht!$E$336:$H$552,4,FALSE)=\"bewertung erhöhen\",\"ISO 45001\",\"\")","v":""},{"$f":"IF(VLOOKUP(D111,Sonderbericht!$E$556:$H$662,4,FALSE)=\"bewertung erhöhen\",\"EMAS\",\"\")","v":""},{"$f":"IF(VLOOKUP(D111,Sonderbericht!$E$666:$H$772,4,FALSE)=\"bewertung erhöhen\",\"RC14001\",\"\")","v":""},{"$f":"IF(VLOOKUP(D111,Sonderbericht!$E$776:$H$882,4,FALSE)=\"bewertung erhöhen\",\"RCMS\",\"\")","v":""}]
[null,null,null,null,"Ihre Bewertung ",null,{"$f":"VLOOKUP(D111,'Technische Seite'!$B$124:$C$168,2,FALSE)","v":2},null,null,null,null,null,null,{"$f":"CONCATENATE(G112,\" = \",HLOOKUP(\" \",'Kapitel 2'!D67:E72,Tipps!G112+2))","v":"2 = Funktionen und Ressourcen werden definiert und bereitgestellt, um zu gewährleisten, dass die Unternehmenspolitik für allen Beteiligten (einschließlich Fremdfirmen) angewandt wird. Ebenso wurden spezifische Ziele definiert; diese werden mit messbaren Spät- oder Frühindikatoren beobachtet"}]
[null,null,null,null,"Streben Sie eine Verbesserung an ",null,{"$f":"VLOOKUP(CONCATENATE(D111,$M$3),'Technische Seite'!$BG$124:$BI$303,3,FALSE)","v":"Definieren Sie auf allen Ebenen der Organisation deutlich Zuständigkeiten zur Verhinderung von Unfällen.\nWenden Sie die Richtlinie des Unternehmens an.\nDem Prozesssicherheitspersonal werden klare Ziele vorgegeben, um gemäß dem jeweiligen Grad an Verantwortung zur Leistung beitragen zu können."}]
[null,null,null,null,null,null,null,null,null,null,null,null,null,{"$f":"IF(L115=8,\"\",\"höhere Punktzahl für :\")","v":""}]
[null,null,{"$f":"IF(VLOOKUP(D115,'Technische Seite'!$AO$124:$AQ$168,3,0)=\"OK\",\"\",\"die wichtigste Frage\")","v":""},{"$f":"'Kapitel 2'!C74","v":"F2.12"},{"$f":"'Kapitel 2'!D74","v":"In welcher Weise werden die Identifizierung und Beschreibung der Sicherheit von Verfahren, Ausrüstungen und Standorten der Organisation vorbereitet?"},null,null,null,null,null,null,{"$f":"COUNTBLANK(N115:U115)","v":8},true,{"$f":"IF(VLOOKUP(D115,Sonderbericht!$E$6:$H$112,4,FALSE)=\"bewertung erhöhen\",\"ISO 9001\",\"\")","v":""},{"$f":"IF(VLOOKUP(D115,Sonderbericht!$E$116:$H$222,4,FALSE)=\"bewertung erhöhen\",\"ISO 14001\",\"\")","v":""},{"$f":"IF(VLOOKUP(D115,Sonderbericht!$E$226:$H$332,4,FALSE)=\"bewertung erhöhen\",\"ISO 26000\",\"\")","v":""},{"$f":"IF(VLOOKUP(D115,Sonderbericht!$E$336:$H$552,4,FALSE)=\"bewertung erhöhen\",\"ISO 45001\",\"\")","v":""},{"$f":"IF(VLOOKUP(D115,Sonderbericht!$E$556:$H$662,4,FALSE)=\"bewertung erhöhen\",\"EMAS\",\"\")","v":""},{"$f":"IF(VLOOKUP(D115,Sonderbericht!$E$666:$H$772,4,FALSE)=\"bewertung erhöhen\",\"RC14001\",\"\")","v":""},{"$f":"IF(VLOOKUP(D115,Sonderbericht!$E$776:$H$882,4,FALSE)=\"bewertung erhöhen\",\"RCMS\",\"\")","v":""}]
[null,null,null,null,"Ihre Bewertung ",null,{"$f":"VLOOKUP(D115,'Technische Seite'!$B$124:$C$168,2,FALSE)","v":1},null,null,null,null,null,null,{"$f":"CONCATENATE(G116,\" = \",HLOOKUP(\" \",'Kapitel 2'!D73:E78,Tipps!G116+2))","v":"1 = Es werden eingehende Gefährdungsstudien über die Sicherheit der Verfahren, Ausrüstungen und Standorte der Organisation durchgeführt"}]
[null,null,null,null,"Streben Sie eine Verbesserung an ",null,{"$f":"VLOOKUP(CONCATENATE(D115,$M$3),'Technische Seite'!$BG$124:$BI$303,3,FALSE)","v":"Ermitteln Sie im Detail Folgendes für alle Prozesse/Anlagen/Standorte: \n- Die potenziellen Risiken für die öffentliche Gesundheit und Sicherheit im Normalbetrieb;\n- Die potenziellen Risiken für die öffentliche Gesundheit und Sicherheit in einer verschlechterten Situation im Kontext eines geänderten oder abnormalen Betriebs.\n- The potential risks to public health and safety in normal course of operation;\n- The potential risks to public health and safety in a degraded situation in the context of altered or abnormal operation."}]
[null,null,null,null,null,null,null,null,null,null,null,null,null,{"$f":"IF(L119=8,\"\",\"höhere Punktzahl für :\")","v":""}]
[null,null,{"$f":"IF(VLOOKUP(D119,'Technische Seite'!$AO$124:$AQ$168,3,0)=\"OK\",\"\",\"die wichtigste Frage\")","v":""},{"$f":"'Kapitel 2'!C80","v":"F2.13"},{"$f":"'Kapitel 2'!D80","v":"In welcher Weise werden Verbesserungen im Bereich Verfahrenssicherheit aufgrund von Vorfällen und Unfällen vorgenommen?"},null,null,null,null,null,null,{"$f":"COUNTBLANK(N119:U119)","v":8},true,{"$f":"IF(VLOOKUP(D119,Sonderbericht!$E$6:$H$112,4,FALSE)=\"bewertung erhöhen\",\"ISO 9001\",\"\")","v":""},{"$f":"IF(VLOOKUP(D119,Sonderbericht!$E$116:$H$222,4,FALSE)=\"bewertung erhöhen\",\"ISO 14001\",\"\")","v":""},{"$f":"IF(VLOOKUP(D119,Sonderbericht!$E$226:$H$332,4,FALSE)=\"bewertung erhöhen\",\"ISO 26000\",\"\")","v":""},{"$f":"IF(VLOOKUP(D119,Sonderbericht!$E$336:$H$552,4,FALSE)=\"bewertung erhöhen\",\"ISO 45001\",\"\")","v":""},{"$f":"IF(VLOOKUP(D119,Sonderbericht!$E$556:$H$662,4,FALSE)=\"bewertung erhöhen\",\"EMAS\",\"\")","v":""},{"$f":"IF(VLOOKUP(D119,Sonderbericht!$E$666:$H$772,4,FALSE)=\"bewertung erhöhen\",\"RC14001\",\"\")","v":""},{"$f":"IF(VLOOKUP(D119,Sonderbericht!$E$776:$H$882,4,FALSE)=\"bewertung erhöhen\",\"RCMS\",\"\")","v":""}]
[null,null,null,null,"Ihre Bewertung ",null,{"$f":"VLOOKUP(D119,'Technische Seite'!$B$124:$C$168,2,FALSE)","v":2},null,null,null,null,null,null,{"$f":"CONCATENATE(G120,\" = \",HLOOKUP(\" \",'Kapitel 2'!D79:E84,Tipps!G120+2))","v":"2 = Es gibt Klassifizierungskriterien für Unfälle anhand deren Art/Folgen und möglichen Risiken. Eindeutig mit Verfahrenssicherheit in Zusammenhang stehende Unfälle werden identifiziert; hierbei werden mindestens die Definitionen gemäß ICCA Indicator of Performance of Process Safety (LoPC) angewandt."}]
[null,null,null,null,"Streben Sie eine Verbesserung an ",null,{"$f":"VLOOKUP(CONCATENATE(D119,$M$3),'Technische Seite'!$BG$124:$BI$303,3,FALSE)","v":"Definieren Sie die Kriterien für das Team als Teil der Analyse von Vorfällen/Unfällen, darunter ein Koordinator und ein Zeitrahmen für Schlussfolgerungen."}]
[null,null,null,null,null,null,null,null,null,null,null,null,null,{"$f":"IF(L123=8,\"\",\"höhere Punktzahl für :\")","v":""}]
[null,null,{"$f":"IF(VLOOKUP(D123,'Technische Seite'!$AO$124:$AQ$168,3,0)=\"OK\",\"\",\"die wichtigste Frage\")","v":""},{"$f":"'Kapitel 2'!C86","v":"F2.14"},{"$f":"'Kapitel 2'!D86","v":"Wie werden Audits und Inspektionen im Bereich Verfahrenssicherheit durchgeführt?"},null,null,null,null,null,null,{"$f":"COUNTBLANK(N123:U123)","v":8},true,{"$f":"IF(VLOOKUP(D123,Sonderbericht!$E$6:$H$112,4,FALSE)=\"bewertung erhöhen\",\"ISO 9001\",\"\")","v":""},{"$f":"IF(VLOOKUP(D123,Sonderbericht!$E$116:$H$222,4,FALSE)=\"bewertung erhöhen\",\"ISO 14001\",\"\")","v":""},{"$f":"IF(VLOOKUP(D123,Sonderbericht!$E$226:$H$332,4,FALSE)=\"bewertung erhöhen\",\"ISO 26000\",\"\")","v":""},{"$f":"IF(VLOOKUP(D123,Sonderbericht!$E$336:$H$552,4,FALSE)=\"bewertung erhöhen\",\"ISO 45001\",\"\")","v":""},{"$f":"IF(VLOOKUP(D123,Sonderbericht!$E$556:$H$662,4,FALSE)=\"bewertung erhöhen\",\"EMAS\",\"\")","v":""},{"$f":"IF(VLOOKUP(D123,Sonderbericht!$E$666:$H$772,4,FALSE)=\"bewertung erhöhen\",\"RC14001\",\"\")","v":""},{"$f":"IF(VLOOKUP(D123,Sonderbericht!$E$776:$H$882,4,FALSE)=\"bewertung erhöhen\",\"RCMS\",\"\")","v":""}]
[null,null,null,null,"Ihre Bewertung ",null,{"$f":"VLOOKUP(D123,'Technische Seite'!$B$124:$C$168,2,FALSE)","v":3},null,null,null,null,null,null,{"$f":"CONCATENATE(G124,\" = \",HLOOKUP(\" \",'Kapitel 2'!D85:E90,Tipps!G124+2))","v":"3 = Sich aus den Audits und Inspektionen ergebende Korrekturen werden priorisiert; künftige Ziele werden anhand von Auditergebnissen definiert."}]
[null,null,null,null,"Streben Sie eine Verbesserung an ",null,{"$f":"VLOOKUP(CONCATENATE(D123,$M$3),'Technische Seite'!$BG$124:$BI$303,3,FALSE)","v":"Überprüfen Sie regelmäßig die gesamte Dokumentation im Zusammenhang mit Prozesssicherheit, um zu gewährleisten, dass sie auf dem neuesten Stand ist (z. B. alle Änderungen werden berücksichtigt und bewertet)."}]
[null,null,null,null,null,null,null,null,null,null,null,null,null,{"$f":"IF(L127=8,\"\",\"höhere Punktzahl für :\")","v":""}]
[null,null,{"$f":"IF(VLOOKUP(D127,'Technische Seite'!$AO$124:$AQ$168,3,0)=\"OK\",\"\",\"die wichtigste Frage\")","v":""},{"$f":"'Kapitel 2'!C92","v":"F2.15"},{"$f":"'Kapitel 2'!D92","v":"Wie werden Arbeitsanweisungen kontrolliert und verbessert?"},null,null,null,null,null,null,{"$f":"COUNTBLANK(N127:U127)","v":8},true,{"$f":"IF(VLOOKUP(D127,Sonderbericht!$E$6:$H$112,4,FALSE)=\"bewertung erhöhen\",\"ISO 9001\",\"\")","v":""},{"$f":"IF(VLOOKUP(D127,Sonderbericht!$E$116:$H$222,4,FALSE)=\"bewertung erhöhen\",\"ISO 14001\",\"\")","v":""},{"$f":"IF(VLOOKUP(D127,Sonderbericht!$E$226:$H$332,4,FALSE)=\"bewertung erhöhen\",\"ISO 26000\",\"\")","v":""},{"$f":"IF(VLOOKUP(D127,Sonderbericht!$E$336:$H$552,4,FALSE)=\"bewertung erhöhen\",\"ISO 45001\",\"\")","v":""},{"$f":"IF(VLOOKUP(D127,Sonderbericht!$E$556:$H$662,4,FALSE)=\"bewertung erhöhen\",\"EMAS\",\"\")","v":""},{"$f":"IF(VLOOKUP(D127,Sonderbericht!$E$666:$H$772,4,FALSE)=\"bewertung erhöhen\",\"RC14001\",\"\")","v":""},{"$f":"IF(VLOOKUP(D127,Sonderbericht!$E$776:$H$882,4,FALSE)=\"bewertung erhöhen\",\"RCMS\",\"\")","v":""}]
[null,null,null,null,"Ihre Bewertung ",null,{"$f":"VLOOKUP(D127,'Technische Seite'!$B$124:$C$168,2,FALSE)","v":1},null,null,null,null,null,null,{"$f":"CONCATENATE(G128,\" = \",HLOOKUP(\" \",'Kapitel 2'!D91:E96,Tipps!G128+2))","v":"1 = Für jede Phase des Betriebes mit Einfluss auf Verfahrenssicherheit sind ein Betriebshandbuch und schriftlich festgelegte Vorgehensweisen vorhanden und werden aktualisiert"}]
[null,null,null,null,"Streben Sie eine Verbesserung an ",null,{"$f":"VLOOKUP(CONCATENATE(D127,$M$3),'Technische Seite'!$BG$124:$BI$303,3,FALSE)","v":"Entwickeln Sie ein kontinuierliches Kommunikationssystem vor Ort oder ein Kontrollsystem für die Anwesenheit von Beschäftigten an kritischen Orten oder bei isolierten Tätigkeiten.\nÜberprüfen Sie regelmäßig die Anweisungen für die kritischen Arbeiten.\nEntwickeln Sie ein System von Arbeitsgenehmigungen für kritische Anlagen und Installationen. "}]
[null,null,null,null,null,null,null,null,null,null,null,null,null,{"$f":"IF(L131=8,\"\",\"höhere Punktzahl für :\")","v":""}]
[null,null,{"$f":"IF(VLOOKUP(D131,'Technische Seite'!$AO$124:$AQ$168,3,0)=\"OK\",\"\",\"die wichtigste Frage\")","v":""},{"$f":"'Kapitel 2'!C98","v":"F2.16"},{"$f":"'Kapitel 2'!D98","v":"Wie wird die Anlagenplanung durchgeführt und dokumentiert?"},null,null,null,null,null,null,{"$f":"COUNTBLANK(N131:U131)","v":8},true,{"$f":"IF(VLOOKUP(D131,Sonderbericht!$E$6:$H$112,4,FALSE)=\"bewertung erhöhen\",\"ISO 9001\",\"\")","v":""},{"$f":"IF(VLOOKUP(D131,Sonderbericht!$E$116:$H$222,4,FALSE)=\"bewertung erhöhen\",\"ISO 14001\",\"\")","v":""},{"$f":"IF(VLOOKUP(D131,Sonderbericht!$E$226:$H$332,4,FALSE)=\"bewertung erhöhen\",\"ISO 26000\",\"\")","v":""},{"$f":"IF(VLOOKUP(D131,Sonderbericht!$E$336:$H$552,4,FALSE)=\"bewertung erhöhen\",\"ISO 45001\",\"\")","v":""},{"$f":"IF(VLOOKUP(D131,Sonderbericht!$E$556:$H$662,4,FALSE)=\"bewertung erhöhen\",\"EMAS\",\"\")","v":""},{"$f":"IF(VLOOKUP(D131,Sonderbericht!$E$666:$H$772,4,FALSE)=\"bewertung erhöhen\",\"RC14001\",\"\")","v":""},{"$f":"IF(VLOOKUP(D131,Sonderbericht!$E$776:$H$882,4,FALSE)=\"bewertung erhöhen\",\"RCMS\",\"\")","v":""}]
[null,null,null,null,"Ihre Bewertung ",null,{"$f":"VLOOKUP(D131,'Technische Seite'!$B$124:$C$168,2,FALSE)","v":1},null,null,null,null,null,null,{"$f":"CONCATENATE(G132,\" = \",HLOOKUP(\" \",'Kapitel 2'!D97:E102,Tipps!G132+2))","v":"1 = Für jeden Ausrüstungsgegenstand mit möglichen Auswirkungen auf Verfahrenssicherheit liegen Unterlagen, Handbücher und Sicherheitsbewertungen vor (gemäß den gesetzlichen und weiteren Anforderungen)."}]
[null,null,null,null,"Streben Sie eine Verbesserung an ",null,{"$f":"VLOOKUP(CONCATENATE(D131,$M$3),'Technische Seite'!$BG$124:$BI$303,3,FALSE)","v":"Es wird empfohlen, einen detaillierten Plan für den Aufstellungsort zu haben. Diese Pläne existieren für den Standort, die Gebäude, die Grundrisse, die Fluchtwege und bei Bedarf für Bereiche mit besonderen Sicherheitsanforderungen (z. B. Abstand in Bezug auf andere Anforderungen (ATEX; Fluchtwege, angrenzende Gebäude usw.))."}]
[null,null,null,null,null,null,null,null,null,null,null,null,null,{"$f":"IF(L135=8,\"\",\"höhere Punktzahl für :\")","v":""}]
[null,null,{"$f":"IF(VLOOKUP(D135,'Technische Seite'!$AO$124:$AQ$168,3,0)=\"OK\",\"\",\"die wichtigste Frage\")","v":""},{"$f":"'Kapitel 2'!C104","v":"F2.17"},{"$f":"'Kapitel 2'!D104","v":"In welcher Weise wird der Aufbau der Anlage kontrolliert?"},null,null,null,null,null,null,{"$f":"COUNTBLANK(N135:U135)","v":8},true,{"$f":"IF(VLOOKUP(D135,Sonderbericht!$E$6:$H$112,4,FALSE)=\"bewertung erhöhen\",\"ISO 9001\",\"\")","v":""},{"$f":"IF(VLOOKUP(D135,Sonderbericht!$E$116:$H$222,4,FALSE)=\"bewertung erhöhen\",\"ISO 14001\",\"\")","v":""},{"$f":"IF(VLOOKUP(D135,Sonderbericht!$E$226:$H$332,4,FALSE)=\"bewertung erhöhen\",\"ISO 26000\",\"\")","v":""},{"$f":"IF(VLOOKUP(D135,Sonderbericht!$E$336:$H$552,4,FALSE)=\"bewertung erhöhen\",\"ISO 45001\",\"\")","v":""},{"$f":"IF(VLOOKUP(D135,Sonderbericht!$E$556:$H$662,4,FALSE)=\"bewertung erhöhen\",\"EMAS\",\"\")","v":""},{"$f":"IF(VLOOKUP(D135,Sonderbericht!$E$666:$H$772,4,FALSE)=\"bewertung erhöhen\",\"RC14001\",\"\")","v":""},{"$f":"IF(VLOOKUP(D135,Sonderbericht!$E$776:$H$882,4,FALSE)=\"bewertung erhöhen\",\"RCMS\",\"\")","v":""}]
[null,null,null,null,"Ihre Bewertung ",null,{"$f":"VLOOKUP(D135,'Technische Seite'!$B$124:$C$168,2,FALSE)","v":4},null,null,null,null,null,null,{"$f":"CONCATENATE(G136,\" = \",HLOOKUP(\" \",'Kapitel 2'!D103:E108,Tipps!G136+2))","v":"4 = Für Planung, Bau, Wartung und Aktualisierungen steht eine Dokumentation zur Verfügung"}]
[null,null,null,null,"Streben Sie eine Verbesserung an ",null,{"$f":"VLOOKUP(CONCATENATE(D135,$M$3),'Technische Seite'!$BG$124:$BI$303,3,FALSE)","v":"Kein Bedarf für sofortige Strategieänderung, aber Verbesserungen sind immer im Auge zu behalten."}]
[null,null,null,null,null,null,null,null,null,null,null,null,null,{"$f":"IF(L139=8,\"\",\"höhere Punktzahl für :\")","v":""}]
[null,null,{"$f":"IF(VLOOKUP(D139,'Technische Seite'!$AO$124:$AQ$168,3,0)=\"OK\",\"\",\"die wichtigste Frage\")","v":""},{"$f":"'Kapitel 2'!C110","v":"F2.18"},{"$f":"'Kapitel 2'!D110","v":"Wie wird „Schutz“ in Anlagen integriert, um zuverlässig zu verhindern, dass ein einziger Fehler katastrophale Folgen hat?"},null,null,null,null,null,null,{"$f":"COUNTBLANK(N139:U139)","v":8},true,{"$f":"IF(VLOOKUP(D139,Sonderbericht!$E$6:$H$112,4,FALSE)=\"bewertung erhöhen\",\"ISO 9001\",\"\")","v":""},{"$f":"IF(VLOOKUP(D139,Sonderbericht!$E$116:$H$222,4,FALSE)=\"bewertung erhöhen\",\"ISO 14001\",\"\")","v":""},{"$f":"IF(VLOOKUP(D139,Sonderbericht!$E$226:$H$332,4,FALSE)=\"bewertung erhöhen\",\"ISO 26000\",\"\")","v":""},{"$f":"IF(VLOOKUP(D139,Sonderbericht!$E$336:$H$552,4,FALSE)=\"bewertung erhöhen\",\"ISO 45001\",\"\")","v":""},{"$f":"IF(VLOOKUP(D139,Sonderbericht!$E$556:$H$662,4,FALSE)=\"bewertung erhöhen\",\"EMAS\",\"\")","v":""},{"$f":"IF(VLOOKUP(D139,Sonderbericht!$E$666:$H$772,4,FALSE)=\"bewertung erhöhen\",\"RC14001\",\"\")","v":""},{"$f":"IF(VLOOKUP(D139,Sonderbericht!$E$776:$H$882,4,FALSE)=\"bewertung erhöhen\",\"RCMS\",\"\")","v":""}]
[null,null,null,null,"Ihre Bewertung ",null,{"$f":"VLOOKUP(D139,'Technische Seite'!$B$124:$C$168,2,FALSE)","v":2},null,null,null,null,null,null,{"$f":"CONCATENATE(G140,\" = \",HLOOKUP(\" \",'Kapitel 2'!D109:E114,Tipps!G140+2))","v":"2 = Die für Verfahrenssicherheit kritischen Elemente sind identifiziert und es wurde definiert, welches Maß an Zuverlässigkeit diese Elemente aufweisen sollten"}]
[null,null,null,null,"Streben Sie eine Verbesserung an ",null,{"$f":"VLOOKUP(CONCATENATE(D139,$M$3),'Technische Seite'!$BG$124:$BI$303,3,FALSE)","v":"Es wird empfohlen, bei Abweichungen im Prozess an dauerhaft besetzten Orten über Alarme zu verfügen."}]
[null,null,null,null,null,null,null,null,null,null,null,null,null,{"$f":"IF(L143=8,\"\",\"höhere Punktzahl für :\")","v":""}]
[null,null,{"$f":"IF(VLOOKUP(D143,'Technische Seite'!$AO$124:$AQ$168,3,0)=\"OK\",\"\",\"die wichtigste Frage\")","v":""},{"$f":"'Kapitel 2'!C116","v":"F2.19"},{"$f":"'Kapitel 2'!D116","v":"Gibt es ein vorbeugendes Wartungs- und Pflegeprogramm („maintenance and housekeeping programme“), um die Sicherheit von Einrichtungen, Werkzeugen/Tools und Ausrüstungen aufrechtzuerhalten?"},null,null,null,null,null,null,{"$f":"COUNTBLANK(N143:U143)","v":8},true,{"$f":"IF(VLOOKUP(D143,Sonderbericht!$E$6:$H$112,4,FALSE)=\"bewertung erhöhen\",\"ISO 9001\",\"\")","v":""},{"$f":"IF(VLOOKUP(D143,Sonderbericht!$E$116:$H$222,4,FALSE)=\"bewertung erhöhen\",\"ISO 14001\",\"\")","v":""},{"$f":"IF(VLOOKUP(D143,Sonderbericht!$E$226:$H$332,4,FALSE)=\"bewertung erhöhen\",\"ISO 26000\",\"\")","v":""},{"$f":"IF(VLOOKUP(D143,Sonderbericht!$E$336:$H$552,4,FALSE)=\"bewertung erhöhen\",\"ISO 45001\",\"\")","v":""},{"$f":"IF(VLOOKUP(D143,Sonderbericht!$E$556:$H$662,4,FALSE)=\"bewertung erhöhen\",\"EMAS\",\"\")","v":""},{"$f":"IF(VLOOKUP(D143,Sonderbericht!$E$666:$H$772,4,FALSE)=\"bewertung erhöhen\",\"RC14001\",\"\")","v":""},{"$f":"IF(VLOOKUP(D143,Sonderbericht!$E$776:$H$882,4,FALSE)=\"bewertung erhöhen\",\"RCMS\",\"\")","v":""}]
[null,null,null,null,"Ihre Bewertung ",null,{"$f":"VLOOKUP(D143,'Technische Seite'!$B$124:$C$168,2,FALSE)","v":2},null,null,null,null,null,null,{"$f":"CONCATENATE(G144,\" = \",HLOOKUP(\" \",'Kapitel 2'!D115:E120,Tipps!G144+2))","v":"2 = Das Programm beinhaltet klare Kriterien hinsichtlich der nachstehenden Punkte:\nAktualisierungen bei Nichtkonformitäten, zeitliche Intervalle, Ziele und spezifische Wartungsanweisungen für alle Ausrüstungen mit Einfluss auf Verfahrenssicherheit. Für mit Hinblick auf Verfahrenssicherheit kritische Teile gibt es ein eigenes Programm."}]
[null,null,null,null,"Streben Sie eine Verbesserung an ",null,{"$f":"VLOOKUP(CONCATENATE(D143,$M$3),'Technische Seite'!$BG$124:$BI$303,3,FALSE)","v":"Benennen Sie die verantwortlichen Mitarbeiter für die Umsetzung des Wartungsprogramms. Indikatoren werden zur Überwachung der Wartungsarbeiten festgelegt (Prozentsatz der Fertigstellung, aufgetretene Probleme usw.)."}]
[null,null,null,null,null,null,null,null,null,null,null,null,null,{"$f":"IF(L147=8,\"\",\"höhere Punktzahl für :\")","v":""}]
[null,null,{"$f":"IF(VLOOKUP(D147,'Technische Seite'!$AO$124:$AQ$168,3,0)=\"OK\",\"\",\"die wichtigste Frage\")","v":""},{"$f":"'Kapitel 2'!C122","v":"F2.20"},{"$f":"'Kapitel 2'!D122","v":"Im Fall von Energie- oder Betriebsunterbrechungen – wie werden Verfahren in Notfällen gesteuert?"},null,null,null,null,null,null,{"$f":"COUNTBLANK(N147:U147)","v":8},true,{"$f":"IF(VLOOKUP(D147,Sonderbericht!$E$6:$H$112,4,FALSE)=\"bewertung erhöhen\",\"ISO 9001\",\"\")","v":""},{"$f":"IF(VLOOKUP(D147,Sonderbericht!$E$116:$H$222,4,FALSE)=\"bewertung erhöhen\",\"ISO 14001\",\"\")","v":""},{"$f":"IF(VLOOKUP(D147,Sonderbericht!$E$226:$H$332,4,FALSE)=\"bewertung erhöhen\",\"ISO 26000\",\"\")","v":""},{"$f":"IF(VLOOKUP(D147,Sonderbericht!$E$336:$H$552,4,FALSE)=\"bewertung erhöhen\",\"ISO 45001\",\"\")","v":""},{"$f":"IF(VLOOKUP(D147,Sonderbericht!$E$556:$H$662,4,FALSE)=\"bewertung erhöhen\",\"EMAS\",\"\")","v":""},{"$f":"IF(VLOOKUP(D147,Sonderbericht!$E$666:$H$772,4,FALSE)=\"bewertung erhöhen\",\"RC14001\",\"\")","v":""},{"$f":"IF(VLOOKUP(D147,Sonderbericht!$E$776:$H$882,4,FALSE)=\"bewertung erhöhen\",\"RCMS\",\"\")","v":""}]
[null,null,null,null,"Ihre Bewertung ",null,{"$f":"VLOOKUP(D147,'Technische Seite'!$B$124:$C$168,2,FALSE)","v":1},null,null,null,null,null,null,{"$f":"CONCATENATE(G148,\" = \",HLOOKUP(\" \",'Kapitel 2'!D121:E126,Tipps!G148+2))","v":"1 = Die Auslegung der Anlagen berücksichtigt die Widerstandsfähigkeit gegenüber anormalen, durch interne Faktoren (Notfälle in angrenzenden Anlagen, Dominoeffkte …) verursachte Situationen sowie gegenüber von externen Faktoren (z. B. Naturkatastrophen wie Überschwemmungen, starke Winde, Erdbeben, Hitze, Kälte usw.) verursachte Situationen"}]
[null,null,null,null,"Streben Sie eine Verbesserung an ",null,{"$f":"VLOOKUP(CONCATENATE(D147,$M$3),'Technische Seite'!$BG$124:$BI$303,3,FALSE)","v":"Evaluieren Sie den Bedarf für die sichere Versorgung von Energie/Vorräten. Entwickeln Sie alternative Lösungen für die verfügbaren Hauptenergieservices."}]
[null,null,null,null,null,null,null,null,null,null,null,null,null,{"$f":"IF(L151=8,\"\",\"höhere Punktzahl für :\")","v":""}]
[null,null,{"$f":"IF(VLOOKUP(D151,'Technische Seite'!$AO$124:$AQ$168,3,0)=\"OK\",\"\",\"die wichtigste Frage\")","v":""},{"$f":"'Kapitel 2'!C128","v":"F2.21"},{"$f":"'Kapitel 2'!D128","v":"Wie werden Notfallpläne erstellt?"},null,null,null,null,null,null,{"$f":"COUNTBLANK(N151:U151)","v":8},true,{"$f":"IF(VLOOKUP(D151,Sonderbericht!$E$6:$H$112,4,FALSE)=\"bewertung erhöhen\",\"ISO 9001\",\"\")","v":""},{"$f":"IF(VLOOKUP(D151,Sonderbericht!$E$116:$H$222,4,FALSE)=\"bewertung erhöhen\",\"ISO 14001\",\"\")","v":""},{"$f":"IF(VLOOKUP(D151,Sonderbericht!$E$226:$H$332,4,FALSE)=\"bewertung erhöhen\",\"ISO 26000\",\"\")","v":""},{"$f":"IF(VLOOKUP(D151,Sonderbericht!$E$336:$H$552,4,FALSE)=\"bewertung erhöhen\",\"ISO 45001\",\"\")","v":""},{"$f":"IF(VLOOKUP(D151,Sonderbericht!$E$556:$H$662,4,FALSE)=\"bewertung erhöhen\",\"EMAS\",\"\")","v":""},{"$f":"IF(VLOOKUP(D151,Sonderbericht!$E$666:$H$772,4,FALSE)=\"bewertung erhöhen\",\"RC14001\",\"\")","v":""},{"$f":"IF(VLOOKUP(D151,Sonderbericht!$E$776:$H$882,4,FALSE)=\"bewertung erhöhen\",\"RCMS\",\"\")","v":""}]
[null,null,null,null,"Ihre Bewertung ",null,{"$f":"VLOOKUP(D151,'Technische Seite'!$B$124:$C$168,2,FALSE)","v":3},null,null,null,null,null,null,{"$f":"CONCATENATE(G152,\" = \",HLOOKUP(\" \",'Kapitel 2'!D127:E132,Tipps!G152+2))","v":"3 = Falls notwendig: Der Notfallplan wurde erstellt und in Zusammenarbeit mit Partner- und Nachbarschaftsorganisationen in einen externen Notfallplan integriert."}]
[null,null,null,null,"Streben Sie eine Verbesserung an ",null,{"$f":"VLOOKUP(CONCATENATE(D151,$M$3),'Technische Seite'!$BG$124:$BI$303,3,FALSE)","v":"Entwickeln Sie ein Verfahren für die Planung der Landnutzung zur Evaluierung und zum Einholen von Kenntnissen über das benachbarte Gemeinwesen (z. B. Schulen, Kindergärten, Krankenhäuser, Pflegeheime, Einkaufs- und Sportzentren) und zur Evaluierung des Bedarfs an Bereitschaft, Kommunikation und Evakuierung im Notfall und – bei Bedarf – zur Evaluierung der Einstellung der Produktion."}]
[null,null,null,null,null,null,null,null,null,null,null,null,null,{"$f":"IF(L155=8,\"\",\"höhere Punktzahl für :\")","v":""}]
[null,null,{"$f":"IF(VLOOKUP(D155,'Technische Seite'!$AO$124:$AQ$168,3,0)=\"OK\",\"\",\"die wichtigste Frage\")","v":""},{"$f":"'Kapitel 2'!C134","v":"F2.22"},{"$f":"'Kapitel 2'!D134","v":"In welcher Weise werden die Kompetenz und Schulung von an den Prozessen beteiligten Mitarbeitern und Fremdfirmen sichergestellt?"},null,null,null,null,null,null,{"$f":"COUNTBLANK(N155:U155)","v":8},true,{"$f":"IF(VLOOKUP(D155,Sonderbericht!$E$6:$H$112,4,FALSE)=\"bewertung erhöhen\",\"ISO 9001\",\"\")","v":""},{"$f":"IF(VLOOKUP(D155,Sonderbericht!$E$116:$H$222,4,FALSE)=\"bewertung erhöhen\",\"ISO 14001\",\"\")","v":""},{"$f":"IF(VLOOKUP(D155,Sonderbericht!$E$226:$H$332,4,FALSE)=\"bewertung erhöhen\",\"ISO 26000\",\"\")","v":""},{"$f":"IF(VLOOKUP(D155,Sonderbericht!$E$336:$H$552,4,FALSE)=\"bewertung erhöhen\",\"ISO 45001\",\"\")","v":""},{"$f":"IF(VLOOKUP(D155,Sonderbericht!$E$556:$H$662,4,FALSE)=\"bewertung erhöhen\",\"EMAS\",\"\")","v":""},{"$f":"IF(VLOOKUP(D155,Sonderbericht!$E$666:$H$772,4,FALSE)=\"bewertung erhöhen\",\"RC14001\",\"\")","v":""},{"$f":"IF(VLOOKUP(D155,Sonderbericht!$E$776:$H$882,4,FALSE)=\"bewertung erhöhen\",\"RCMS\",\"\")","v":""}]
[null,null,null,null,"Ihre Bewertung ",null,{"$f":"VLOOKUP(D155,'Technische Seite'!$B$124:$C$168,2,FALSE)","v":1},null,null,null,null,null,null,{"$f":"CONCATENATE(G156,\" = \",HLOOKUP(\" \",'Kapitel 2'!D133:E138,Tipps!G156+2))","v":"1 = Für Führungskräfte, technisches und Betriebspersonal, Fremdfirmen und dritte Dienstleister werden Kompetenzanforderungen im Bereich Verfahrenssicherheit festgelegt, dokumentiert und umgesetzt, entsprechend der von ihnen durchgeführten Tätigkeiten"}]
[null,null,null,null,"Streben Sie eine Verbesserung an ",null,{"$f":"VLOOKUP(CONCATENATE(D155,$M$3),'Technische Seite'!$BG$124:$BI$303,3,FALSE)","v":"Sorgen Sie für die Schulung von Mitarbeitern und Auftragnehmern zu Prozesssicherheit. Es ist ein Schulungsplan vorhanden, der alle Aspekte der Prozess- und Werkssicherheit abdeckt, darunter ein Zeitplan zur regelmäßigen Wiederholung dieser Schulungen. Außerdem gibt es ein Nachschulungsprogramm für Mitarbeiter mit Verantwortung für Prozess- und Werkssicherheitsaufgaben, die längere Zeit abwesend waren (z. B. Schwangerschaft, Krankheit, Sabbatical…). "}]
[null,null,null,null,null,null,null,null,null,null,null,null,null,{"$f":"IF(L159=8,\"\",\"höhere Punktzahl für :\")","v":""}]
[null,null,{"$f":"IF(VLOOKUP(D159,'Technische Seite'!$AO$124:$AQ$168,3,0)=\"OK\",\"\",\"die wichtigste Frage\")","v":""},{"$f":"'Kapitel 2'!C140","v":"F2.23"},{"$f":"'Kapitel 2'!D140","v":"Wie werden Informationen über die Risiken von Stoffen und Zubereitungen gemeinsam genutzt/weitergegeben?"},null,null,null,null,null,null,{"$f":"COUNTBLANK(N159:U159)","v":8},true,{"$f":"IF(VLOOKUP(D159,Sonderbericht!$E$6:$H$112,4,FALSE)=\"bewertung erhöhen\",\"ISO 9001\",\"\")","v":""},{"$f":"IF(VLOOKUP(D159,Sonderbericht!$E$116:$H$222,4,FALSE)=\"bewertung erhöhen\",\"ISO 14001\",\"\")","v":""},{"$f":"IF(VLOOKUP(D159,Sonderbericht!$E$226:$H$332,4,FALSE)=\"bewertung erhöhen\",\"ISO 26000\",\"\")","v":""},{"$f":"IF(VLOOKUP(D159,Sonderbericht!$E$336:$H$552,4,FALSE)=\"bewertung erhöhen\",\"ISO 45001\",\"\")","v":""},{"$f":"IF(VLOOKUP(D159,Sonderbericht!$E$556:$H$662,4,FALSE)=\"bewertung erhöhen\",\"EMAS\",\"\")","v":""},{"$f":"IF(VLOOKUP(D159,Sonderbericht!$E$666:$H$772,4,FALSE)=\"bewertung erhöhen\",\"RC14001\",\"\")","v":""},{"$f":"IF(VLOOKUP(D159,Sonderbericht!$E$776:$H$882,4,FALSE)=\"bewertung erhöhen\",\"RCMS\",\"\")","v":""}]
[null,null,null,null,"Ihre Bewertung ",null,{"$f":"VLOOKUP(D159,'Technische Seite'!$B$124:$C$168,2,FALSE)","v":2},null,null,null,null,null,null,{"$f":"CONCATENATE(G160,\" = \",HLOOKUP(\" \",'Kapitel 2'!D139:E144,Tipps!G160+2))","v":"2 = Wissen über die Eigenschaften aller in den Verfahren relevanter Reaktionen ist verfügbar (einschließlich Flussdiagramme, Materialbilanzen und Energiebilanzen für alle Basisverfahren)."}]
[null,null,null,null,"Streben Sie eine Verbesserung an ",null,{"$f":"VLOOKUP(CONCATENATE(D159,$M$3),'Technische Seite'!$BG$124:$BI$303,3,FALSE)","v":"Überwachen Sie die Entwicklung der Temperatur und des Drucks im gesamten Prozess in normalen und Worst-Case-Situationen."}]
[null,null,null,null,null,null,null,null,null,null,null,null,null,{"$f":"IF(L163=8,\"\",\"höhere Punktzahl für :\")","v":""}]
[null,null,{"$f":"IF(VLOOKUP(D163,'Technische Seite'!$AO$124:$AQ$168,3,0)=\"OK\",\"\",\"die wichtigste Frage\")","v":""},{"$f":"'Kapitel 2'!C146","v":"F2.24"},{"$f":"'Kapitel 2'!D146","v":"Wie werden Informationen über das Verfahren gemeinsam genutzt/weitergegeben?"},null,null,null,null,null,null,{"$f":"COUNTBLANK(N163:U163)","v":8},true,{"$f":"IF(VLOOKUP(D163,Sonderbericht!$E$6:$H$112,4,FALSE)=\"bewertung erhöhen\",\"ISO 9001\",\"\")","v":""},{"$f":"IF(VLOOKUP(D163,Sonderbericht!$E$116:$H$222,4,FALSE)=\"bewertung erhöhen\",\"ISO 14001\",\"\")","v":""},{"$f":"IF(VLOOKUP(D163,Sonderbericht!$E$226:$H$332,4,FALSE)=\"bewertung erhöhen\",\"ISO 26000\",\"\")","v":""},{"$f":"IF(VLOOKUP(D163,Sonderbericht!$E$336:$H$552,4,FALSE)=\"bewertung erhöhen\",\"ISO 45001\",\"\")","v":""},{"$f":"IF(VLOOKUP(D163,Sonderbericht!$E$556:$H$662,4,FALSE)=\"bewertung erhöhen\",\"EMAS\",\"\")","v":""},{"$f":"IF(VLOOKUP(D163,Sonderbericht!$E$666:$H$772,4,FALSE)=\"bewertung erhöhen\",\"RC14001\",\"\")","v":""},{"$f":"IF(VLOOKUP(D163,Sonderbericht!$E$776:$H$882,4,FALSE)=\"bewertung erhöhen\",\"RCMS\",\"\")","v":""}]
[null,null,null,null,"Ihre Bewertung ",null,{"$f":"VLOOKUP(D163,'Technische Seite'!$B$124:$C$168,2,FALSE)","v":3},null,null,null,null,null,null,{"$f":"CONCATENATE(G164,\" = \",HLOOKUP(\" \",'Kapitel 2'!D145:E150,Tipps!G164+2))","v":"3 = Herstellungsverfahren und Betriebshandbücher werden bei Bedarf aktualisiert; sie umfassen alle möglichen Betriebsphasen (z. B. Inbetriebnahme, Normalbetrieb, Notabschaltung, außergewöhnliche Arbeiten usw.); Betriebstoleranzen und geplante Maßnahmen werden für Notfälle und Anomalien festgelegt"}]
[null,null,null,null,"Streben Sie eine Verbesserung an ",null,{"$f":"VLOOKUP(CONCATENATE(D163,$M$3),'Technische Seite'!$BG$124:$BI$303,3,FALSE)","v":"Stellen Sie diese Elemente sofort allen Mitarbeitern zur Verfügung, die an dem Prozess arbeiten. Schulen Sie die Mitarbeiter zur Nutzung der Dokumentation und zu den Maßnahmen im Zusammenhang mit diesen Verfahren/Handbüchern."}]
[null,{"$f":"'Kapitel 2'!B152","v":"Vertrieb"},null,null,null,null,null,null,null,null,null,null,null,{"$f":"IF(L167=8,\"\",\"höhere Punktzahl für :\")","v":""}]
[null,null,{"$f":"IF(VLOOKUP(D167,'Technische Seite'!$AO$124:$AQ$168,3,0)=\"OK\",\"\",\"die wichtigste Frage\")","v":""},{"$f":"'Kapitel 2'!C154","v":"F2.25"},{"$f":"'Kapitel 2'!D154","v":"In welcher Weise bewertet die Organisation ihre Logistikpartner mit Hinblick auf Gesundheit, Sicherheit, Umwelt & Nachhaltigkeit, Energieeffizienz und Treibhausgas(THG)-Emissionen?"},null,null,null,null,null,null,{"$f":"COUNTBLANK(N167:U167)","v":8},true,{"$f":"IF(VLOOKUP(D167,Sonderbericht!$E$6:$H$112,4,FALSE)=\"bewertung erhöhen\",\"ISO 9001\",\"\")","v":""},{"$f":"IF(VLOOKUP(D167,Sonderbericht!$E$116:$H$222,4,FALSE)=\"bewertung erhöhen\",\"ISO 14001\",\"\")","v":""},{"$f":"IF(VLOOKUP(D167,Sonderbericht!$E$226:$H$332,4,FALSE)=\"bewertung erhöhen\",\"ISO 26000\",\"\")","v":""},{"$f":"IF(VLOOKUP(D167,Sonderbericht!$E$336:$H$552,4,FALSE)=\"bewertung erhöhen\",\"ISO 45001\",\"\")","v":""},{"$f":"IF(VLOOKUP(D167,Sonderbericht!$E$556:$H$662,4,FALSE)=\"bewertung erhöhen\",\"EMAS\",\"\")","v":""},{"$f":"IF(VLOOKUP(D167,Sonderbericht!$E$666:$H$772,4,FALSE)=\"bewertung erhöhen\",\"RC14001\",\"\")","v":""},{"$f":"IF(VLOOKUP(D167,Sonderbericht!$E$776:$H$882,4,FALSE)=\"bewertung erhöhen\",\"RCMS\",\"\")","v":""}]
[null,null,null,null,"Ihre Bewertung ",null,{"$f":"VLOOKUP(D167,'Technische Seite'!$B$124:$C$168,2,FALSE)","v":2},null,null,null,null,null,null,{"$f":"CONCATENATE(G168,\" = \",HLOOKUP(\" \",'Kapitel 2'!D153:E158,Tipps!G168+2))","v":"2 = n ihren Spezifikationen für Logistikdienstleister legt die Organisation Mindestanforderungen mit Hinblick auf Gesundheit, Sicherheit, Umwelt & Nachhaltigkeit fest."}]
[null,null,null,null,"Streben Sie eine Verbesserung an ",null,{"$f":"VLOOKUP(CONCATENATE(D167,$M$3),'Technische Seite'!$BG$124:$BI$303,3,FALSE)","v":"Evaluieren Sie die relevanten Sicherheitsmaßnahmen, die bei Transportvorgängen erforderlich sind."}]
[null,null,null,null,null,null,null,null,null,null,null,null,null,{"$f":"IF(L171=8,\"\",\"höhere Punktzahl für :\")","v":""}]
[null,null,{"$f":"IF(VLOOKUP(D171,'Technische Seite'!$AO$124:$AQ$168,3,0)=\"OK\",\"\",\"die wichtigste Frage\")","v":""},{"$f":"'Kapitel 2'!C160","v":"F2.26"},{"$f":"'Kapitel 2'!D160","v":"Welche Maßnahmen zur Vermeidung von Transportunfällen bzw. Notfallmaßnahmen im Falle von Transportunfällen ergreift die Organisation?"},null,null,null,null,null,null,{"$f":"COUNTBLANK(N171:U171)","v":8},true,{"$f":"IF(VLOOKUP(D171,Sonderbericht!$E$6:$H$112,4,FALSE)=\"bewertung erhöhen\",\"ISO 9001\",\"\")","v":""},{"$f":"IF(VLOOKUP(D171,Sonderbericht!$E$116:$H$222,4,FALSE)=\"bewertung erhöhen\",\"ISO 14001\",\"\")","v":""},{"$f":"IF(VLOOKUP(D171,Sonderbericht!$E$226:$H$332,4,FALSE)=\"bewertung erhöhen\",\"ISO 26000\",\"\")","v":""},{"$f":"IF(VLOOKUP(D171,Sonderbericht!$E$336:$H$552,4,FALSE)=\"bewertung erhöhen\",\"ISO 45001\",\"\")","v":""},{"$f":"IF(VLOOKUP(D171,Sonderbericht!$E$556:$H$662,4,FALSE)=\"bewertung erhöhen\",\"EMAS\",\"\")","v":""},{"$f":"IF(VLOOKUP(D171,Sonderbericht!$E$666:$H$772,4,FALSE)=\"bewertung erhöhen\",\"RC14001\",\"\")","v":""},{"$f":"IF(VLOOKUP(D171,Sonderbericht!$E$776:$H$882,4,FALSE)=\"bewertung erhöhen\",\"RCMS\",\"\")","v":""}]
[null,null,null,null,"Ihre Bewertung ",null,{"$f":"VLOOKUP(D171,'Technische Seite'!$B$124:$C$168,2,FALSE)","v":1},null,null,null,null,null,null,{"$f":"CONCATENATE(G172,\" = \",HLOOKUP(\" \",'Kapitel 2'!D159:E164,Tipps!G172+2))","v":"1 = Checklisten für das Be- und Entladen von Gefahrgütern sind vorhanden."}]
[null,null,null,null,"Streben Sie eine Verbesserung an ",null,{"$f":"VLOOKUP(CONCATENATE(D171,$M$3),'Technische Seite'!$BG$124:$BI$303,3,FALSE)","v":"Entwickeln Sie Verfahren für das systematische und geeignete Be- und Entladen von gefährlichen Gütern anhand von Checklisten."}]
[null,{"$f":"'Kapitel 2'!B166","v":" Sicherheit"},null,null,null,null,null,null,null,null,null,null,null,{"$f":"IF(L175=8,\"\",\"höhere Punktzahl für :\")","v":""}]
[null,null,{"$f":"IF(VLOOKUP(D175,'Technische Seite'!$AO$124:$AQ$168,3,0)=\"OK\",\"\",\"die wichtigste Frage\")","v":""},{"$f":"'Kapitel 2'!C168","v":"F2.27"},{"$f":"'Kapitel 2'!D168","v":"In welcher Weise identifiziert die Organisation Sicherheitsprobleme?"},null,null,null,null,null,null,{"$f":"COUNTBLANK(N175:U175)","v":8},true,{"$f":"IF(VLOOKUP(D175,Sonderbericht!$E$6:$H$112,4,FALSE)=\"bewertung erhöhen\",\"ISO 9001\",\"\")","v":""},{"$f":"IF(VLOOKUP(D175,Sonderbericht!$E$116:$H$222,4,FALSE)=\"bewertung erhöhen\",\"ISO 14001\",\"\")","v":""},{"$f":"IF(VLOOKUP(D175,Sonderbericht!$E$226:$H$332,4,FALSE)=\"bewertung erhöhen\",\"ISO 26000\",\"\")","v":""},{"$f":"IF(VLOOKUP(D175,Sonderbericht!$E$336:$H$552,4,FALSE)=\"bewertung erhöhen\",\"ISO 45001\",\"\")","v":""},{"$f":"IF(VLOOKUP(D175,Sonderbericht!$E$556:$H$662,4,FALSE)=\"bewertung erhöhen\",\"EMAS\",\"\")","v":""},{"$f":"IF(VLOOKUP(D175,Sonderbericht!$E$666:$H$772,4,FALSE)=\"bewertung erhöhen\",\"RC14001\",\"\")","v":""},{"$f":"IF(VLOOKUP(D175,Sonderbericht!$E$776:$H$882,4,FALSE)=\"bewertung erhöhen\",\"RCMS\",\"\")","v":""}]
[null,null,null,null,"Ihre Bewertung ",null,{"$f":"VLOOKUP(D175,'Technische Seite'!$B$124:$C$168,2,FALSE)","v":1},null,null,null,null,null,null,{"$f":"CONCATENATE(G176,\" = \",HLOOKUP(\" \",'Kapitel 2'!D167:E172,Tipps!G176+2))","v":"1 = Es gibt kein systematisches Verfahren; es werden nur Beschwerden aufgezeichnet"}]
[null,null,null,null,"Streben Sie eine Verbesserung an ",null,{"$f":"VLOOKUP(CONCATENATE(D175,$M$3),'Technische Seite'!$BG$124:$BI$303,3,FALSE)","v":"Führen Sie eine Bewertung der Bedrohungen im Hinblick auf die guten Praktiken Ihrer Organisation durch."}]
[null,null,null,null,null,null,null,null,null,null,null,null,null,{"$f":"IF(L179=8,\"\",\"höhere Punktzahl für :\")","v":""}]
[null,null,{"$f":"IF(VLOOKUP(D179,'Technische Seite'!$AO$124:$AQ$168,3,0)=\"OK\",\"\",\"die wichtigste Frage\")","v":""},{"$f":"'Kapitel 2'!C174","v":"F2.28"},{"$f":"'Kapitel 2'!D174","v":"In welcher Weise werden das Betreten/Verlassen des Arbeitsortes und eingeschränkt zugänglicher Bereiche durch Mitarbeiter bzw. der dortige Ein- und Ausgang von Materialien kontrolliert?"},null,null,null,null,null,null,{"$f":"COUNTBLANK(N179:U179)","v":8},true,{"$f":"IF(VLOOKUP(D179,Sonderbericht!$E$6:$H$112,4,FALSE)=\"bewertung erhöhen\",\"ISO 9001\",\"\")","v":""},{"$f":"IF(VLOOKUP(D179,Sonderbericht!$E$116:$H$222,4,FALSE)=\"bewertung erhöhen\",\"ISO 14001\",\"\")","v":""},{"$f":"IF(VLOOKUP(D179,Sonderbericht!$E$226:$H$332,4,FALSE)=\"bewertung erhöhen\",\"ISO 26000\",\"\")","v":""},{"$f":"IF(VLOOKUP(D179,Sonderbericht!$E$336:$H$552,4,FALSE)=\"bewertung erhöhen\",\"ISO 45001\",\"\")","v":""},{"$f":"IF(VLOOKUP(D179,Sonderbericht!$E$556:$H$662,4,FALSE)=\"bewertung erhöhen\",\"EMAS\",\"\")","v":""},{"$f":"IF(VLOOKUP(D179,Sonderbericht!$E$666:$H$772,4,FALSE)=\"bewertung erhöhen\",\"RC14001\",\"\")","v":""},{"$f":"IF(VLOOKUP(D179,Sonderbericht!$E$776:$H$882,4,FALSE)=\"bewertung erhöhen\",\"RCMS\",\"\")","v":""}]
[null,null,null,null,"Ihre Bewertung ",null,{"$f":"VLOOKUP(D179,'Technische Seite'!$B$124:$C$168,2,FALSE)","v":2},null,null,null,null,null,null,{"$f":"CONCATENATE(G180,\" = \",HLOOKUP(\" \",'Kapitel 2'!D173:E178,Tipps!G180+2))","v":"2 = Das Gelände ist für Personen, Fahrzeuge und Güter nur über kontrollierte Zugangspunkte erreichbar. Es werden Aufzeichnungen über Personen, Fahrzeuge und Güter, die das Gelände betreten bzw. dorthin verbracht werden, geführt."}]
[null,null,null,null,"Streben Sie eine Verbesserung an ",null,{"$f":"VLOOKUP(CONCATENATE(D179,$M$3),'Technische Seite'!$BG$124:$BI$303,3,FALSE)","v":"Entwickeln Sie ein Zugangsverfahren, bei dem Besucher den Standort nur in Begleitung von Mitarbeitern betreten können."}]
[null,null,null,null,null,null,null,null,null,null,null,null,null,{"$f":"IF(L183=8,\"\",\"höhere Punktzahl für :\")","v":""}]
[null,null,{"$f":"IF(VLOOKUP(D183,'Technische Seite'!$AO$124:$AQ$168,3,0)=\"OK\",\"\",\"die wichtigste Frage\")","v":"die wichtigste Frage"},{"$f":"'Kapitel 2'!C180","v":"F2.29"},{"$f":"'Kapitel 2'!D180","v":"Wie wird Cybersecurity überwacht?"},null,null,null,null,null,null,{"$f":"COUNTBLANK(N183:U183)","v":8},true,{"$f":"IF(VLOOKUP(D183,Sonderbericht!$E$6:$H$112,4,FALSE)=\"bewertung erhöhen\",\"ISO 9001\",\"\")","v":""},{"$f":"IF(VLOOKUP(D183,Sonderbericht!$E$116:$H$222,4,FALSE)=\"bewertung erhöhen\",\"ISO 14001\",\"\")","v":""},{"$f":"IF(VLOOKUP(D183,Sonderbericht!$E$226:$H$332,4,FALSE)=\"bewertung erhöhen\",\"ISO 26000\",\"\")","v":""},{"$f":"IF(VLOOKUP(D183,Sonderbericht!$E$336:$H$552,4,FALSE)=\"bewertung erhöhen\",\"ISO 45001\",\"\")","v":""},{"$f":"IF(VLOOKUP(D183,Sonderbericht!$E$556:$H$662,4,FALSE)=\"bewertung erhöhen\",\"EMAS\",\"\")","v":""},{"$f":"IF(VLOOKUP(D183,Sonderbericht!$E$666:$H$772,4,FALSE)=\"bewertung erhöhen\",\"RC14001\",\"\")","v":""},{"$f":"IF(VLOOKUP(D183,Sonderbericht!$E$776:$H$882,4,FALSE)=\"bewertung erhöhen\",\"RCMS\",\"\")","v":""}]
[null,null,null,null,"Ihre Bewertung ",null,{"$f":"VLOOKUP(D183,'Technische Seite'!$B$124:$C$168,2,FALSE)","v":1},null,null,null,null,null,null,{"$f":"CONCATENATE(G184,\" = \",HLOOKUP(\" \",'Kapitel 2'!D179:E184,Tipps!G184+2))","v":"1 = Die Organisation hat keine Informationen über Fragen der Cybersecurity und wüsste nicht, wie sie auf diesbezügliche Probleme reagieren sollte."}]
[null,null,null,null,"Streben Sie eine Verbesserung an ",null,{"$f":"VLOOKUP(CONCATENATE(D183,$M$3),'Technische Seite'!$BG$124:$BI$303,3,FALSE)","v":"Nehmen Sie an Arbeitsgruppen zur Cybersicherheit teil."}]
[null,null,null,null,null,null,null,null,null,null,null,null,null,{"$f":"IF(L187=8,\"\",\"höhere Punktzahl für :\")","v":""}]
[null,null,{"$f":"IF(VLOOKUP(D187,'Technische Seite'!$AO$124:$AQ$168,3,0)=\"OK\",\"\",\"die wichtigste Frage\")","v":"die wichtigste Frage"},{"$f":"'Kapitel 2'!C186","v":"F2.30"},{"$f":"'Kapitel 2'!D186","v":"Wie sind Kommunikation und Informationsaustausch im Falle einer Sicherheitskrise organisiert?"},null,null,null,null,null,null,{"$f":"COUNTBLANK(N187:U187)","v":8},true,{"$f":"IF(VLOOKUP(D187,Sonderbericht!$E$6:$H$112,4,FALSE)=\"bewertung erhöhen\",\"ISO 9001\",\"\")","v":""},{"$f":"IF(VLOOKUP(D187,Sonderbericht!$E$116:$H$222,4,FALSE)=\"bewertung erhöhen\",\"ISO 14001\",\"\")","v":""},{"$f":"IF(VLOOKUP(D187,Sonderbericht!$E$226:$H$332,4,FALSE)=\"bewertung erhöhen\",\"ISO 26000\",\"\")","v":""},{"$f":"IF(VLOOKUP(D187,Sonderbericht!$E$336:$H$552,4,FALSE)=\"bewertung erhöhen\",\"ISO 45001\",\"\")","v":""},{"$f":"IF(VLOOKUP(D187,Sonderbericht!$E$556:$H$662,4,FALSE)=\"bewertung erhöhen\",\"EMAS\",\"\")","v":""},{"$f":"IF(VLOOKUP(D187,Sonderbericht!$E$666:$H$772,4,FALSE)=\"bewertung erhöhen\",\"RC14001\",\"\")","v":""},{"$f":"IF(VLOOKUP(D187,Sonderbericht!$E$776:$H$882,4,FALSE)=\"bewertung erhöhen\",\"RCMS\",\"\")","v":""}]
[null,null,null,null,"Ihre Bewertung ",null,{"$f":"VLOOKUP(D187,'Technische Seite'!$B$124:$C$168,2,FALSE)","v":1},null,null,null,null,null,null,{"$f":"CONCATENATE(G188,\" = \",HLOOKUP(\" \",'Kapitel 2'!D185:E190,Tipps!G188+2))","v":"1 = Der Kommunikationsprozess im Falle einer Sicherheitskrise ist nicht festgelegt."}]
[null,null,null,null,"Streben Sie eine Verbesserung an ",null,{"$f":"VLOOKUP(CONCATENATE(D187,$M$3),'Technische Seite'!$BG$124:$BI$303,3,FALSE)","v":"Erstellen Sie eine Liste der Kontaktdaten von Mitarbeitern, damit Sie sie im Fall einer Krise rasch kontaktieren können und um sicher zu sein, dass sie keine Hilfe brauchen. Stellen Sie sicher, dass die Liste auf dem neuesten Stand ist!"}]
[null,null,null,null,null,null,null,null,null,null,null,null,null,{"$f":"IF(L191=8,\"\",\"höhere Punktzahl für :\")","v":""}]
[null,null,{"$f":"IF(VLOOKUP(D191,'Technische Seite'!$AO$124:$AQ$168,3,0)=\"OK\",\"\",\"die wichtigste Frage\")","v":""},{"$f":"'Kapitel 2'!C192","v":"F2.31"},{"$f":"'Kapitel 2'!D192","v":"Wie geht die Organisation mit abnormalem Verhalten (einschließlich Risiken der Radikalisierung) um?"},null,null,null,null,null,null,{"$f":"COUNTBLANK(N191:U191)","v":8},true,{"$f":"IF(VLOOKUP(D191,Sonderbericht!$E$6:$H$112,4,FALSE)=\"bewertung erhöhen\",\"ISO 9001\",\"\")","v":""},{"$f":"IF(VLOOKUP(D191,Sonderbericht!$E$116:$H$222,4,FALSE)=\"bewertung erhöhen\",\"ISO 14001\",\"\")","v":""},{"$f":"IF(VLOOKUP(D191,Sonderbericht!$E$226:$H$332,4,FALSE)=\"bewertung erhöhen\",\"ISO 26000\",\"\")","v":""},{"$f":"IF(VLOOKUP(D191,Sonderbericht!$E$336:$H$552,4,FALSE)=\"bewertung erhöhen\",\"ISO 45001\",\"\")","v":""},{"$f":"IF(VLOOKUP(D191,Sonderbericht!$E$556:$H$662,4,FALSE)=\"bewertung erhöhen\",\"EMAS\",\"\")","v":""},{"$f":"IF(VLOOKUP(D191,Sonderbericht!$E$666:$H$772,4,FALSE)=\"bewertung erhöhen\",\"RC14001\",\"\")","v":""},{"$f":"IF(VLOOKUP(D191,Sonderbericht!$E$776:$H$882,4,FALSE)=\"bewertung erhöhen\",\"RCMS\",\"\")","v":""}]
[null,null,null,null,"Ihre Bewertung ",null,{"$f":"VLOOKUP(D191,'Technische Seite'!$B$124:$C$168,2,FALSE)","v":3},null,null,null,null,null,null,{"$f":"CONCATENATE(G192,\" = \",HLOOKUP(\" \",'Kapitel 2'!D191:E196,Tipps!G192+2))","v":"3 = Ein Verfahren ist vorhanden, in dem Mitarbeiter ungewöhnliches Verhalten melden können"}]
[null,null,null,null,"Streben Sie eine Verbesserung an ",null,{"$f":"VLOOKUP(CONCATENATE(D191,$M$3),'Technische Seite'!$BG$124:$BI$303,3,FALSE)","v":"Überprüfen Sie alle Arbeitnehmer und Besucher des Standorts."}]
[null,null,null,null,null,null,null,null,null,null,null,null,null,{"$f":"IF(L195=8,\"\",\"höhere Punktzahl für :\")","v":""}]
[null,null,{"$f":"IF(VLOOKUP(D195,'Technische Seite'!$AO$124:$AQ$168,3,0)=\"OK\",\"\",\"die wichtigste Frage\")","v":"die wichtigste Frage"},{"$f":"'Kapitel 2'!C198","v":"F2.32"},{"$f":"'Kapitel 2'!D198","v":"In welcher Weise weist die Organisation die Mitarbeiter an, in Sicherheitsfragen wachsam zu sein?"},null,null,null,null,null,null,{"$f":"COUNTBLANK(N195:U195)","v":8},true,{"$f":"IF(VLOOKUP(D195,Sonderbericht!$E$6:$H$112,4,FALSE)=\"bewertung erhöhen\",\"ISO 9001\",\"\")","v":""},{"$f":"IF(VLOOKUP(D195,Sonderbericht!$E$116:$H$222,4,FALSE)=\"bewertung erhöhen\",\"ISO 14001\",\"\")","v":""},{"$f":"IF(VLOOKUP(D195,Sonderbericht!$E$226:$H$332,4,FALSE)=\"bewertung erhöhen\",\"ISO 26000\",\"\")","v":""},{"$f":"IF(VLOOKUP(D195,Sonderbericht!$E$336:$H$552,4,FALSE)=\"bewertung erhöhen\",\"ISO 45001\",\"\")","v":""},{"$f":"IF(VLOOKUP(D195,Sonderbericht!$E$556:$H$662,4,FALSE)=\"bewertung erhöhen\",\"EMAS\",\"\")","v":""},{"$f":"IF(VLOOKUP(D195,Sonderbericht!$E$666:$H$772,4,FALSE)=\"bewertung erhöhen\",\"RC14001\",\"\")","v":""},{"$f":"IF(VLOOKUP(D195,Sonderbericht!$E$776:$H$882,4,FALSE)=\"bewertung erhöhen\",\"RCMS\",\"\")","v":""}]
[null,null,null,null,"Ihre Bewertung ",null,{"$f":"VLOOKUP(D195,'Technische Seite'!$B$124:$C$168,2,FALSE)","v":1},null,null,null,null,null,null,{"$f":"CONCATENATE(G196,\" = \",HLOOKUP(\" \",'Kapitel 2'!D197:E202,Tipps!G196+2))","v":"1 = Hierauf wird kein Schwerpunkt gelegt."}]
[null,null,null,null,"Streben Sie eine Verbesserung an ",null,{"$f":"VLOOKUP(CONCATENATE(D195,$M$3),'Technische Seite'!$BG$124:$BI$303,3,FALSE)","v":"Erinnern Sie die Mitarbeiter an die Anweisungen zur Wachsamkeit und an die Sicherheitsverfahren, falls sie verdächtige Objekte oder Fahrzeuge wahrnehmen."}]
[null,{"$f":"'Kapitel 2'!B204","v":"Umwelt"},null,null,null,null,null,null,null,null,null,null,null,{"$f":"IF(L199=8,\"\",\"höhere Punktzahl für :\")","v":""}]
[null,null,{"$f":"IF(VLOOKUP(D199,'Technische Seite'!$AO$124:$AQ$168,3,0)=\"OK\",\"\",\"die wichtigste Frage\")","v":""},{"$f":"'Kapitel 2'!C206","v":"F2.33"},{"$f":"'Kapitel 2'!D206","v":"In welcher Weise werden die möglichen Umweltauswirkungen der Aktivitäten der Organisation bewertet?"},null,null,null,null,null,null,{"$f":"COUNTBLANK(N199:U199)","v":8},true,{"$f":"IF(VLOOKUP(D199,Sonderbericht!$E$6:$H$112,4,FALSE)=\"bewertung erhöhen\",\"ISO 9001\",\"\")","v":""},{"$f":"IF(VLOOKUP(D199,Sonderbericht!$E$116:$H$222,4,FALSE)=\"bewertung erhöhen\",\"ISO 14001\",\"\")","v":""},{"$f":"IF(VLOOKUP(D199,Sonderbericht!$E$226:$H$332,4,FALSE)=\"bewertung erhöhen\",\"ISO 26000\",\"\")","v":""},{"$f":"IF(VLOOKUP(D199,Sonderbericht!$E$336:$H$552,4,FALSE)=\"bewertung erhöhen\",\"ISO 45001\",\"\")","v":""},{"$f":"IF(VLOOKUP(D199,Sonderbericht!$E$556:$H$662,4,FALSE)=\"bewertung erhöhen\",\"EMAS\",\"\")","v":""},{"$f":"IF(VLOOKUP(D199,Sonderbericht!$E$666:$H$772,4,FALSE)=\"bewertung erhöhen\",\"RC14001\",\"\")","v":""},{"$f":"IF(VLOOKUP(D199,Sonderbericht!$E$776:$H$882,4,FALSE)=\"bewertung erhöhen\",\"RCMS\",\"\")","v":""}]
[null,null,null,null,"Ihre Bewertung ",null,{"$f":"VLOOKUP(D199,'Technische Seite'!$B$124:$C$168,2,FALSE)","v":2},null,null,null,null,null,null,{"$f":"CONCATENATE(G200,\" = \",HLOOKUP(\" \",'Kapitel 2'!D205:E210,Tipps!G200+2))","v":"2 = Es erfolgt eine regelmäßige, systematische Bewertung der Umweltauswirkungen der Aktivitäten."}]
[null,null,null,null,"Streben Sie eine Verbesserung an ",null,{"$f":"VLOOKUP(CONCATENATE(D199,$M$3),'Technische Seite'!$BG$124:$BI$303,3,FALSE)","v":"Setzen Sie Prioritäten zur Reduzierung auf Basis der Evaluierung. Kommunizieren Sie die Bestandsaufnahme den Mitarbeitern und der Öffentlichkeit."}]
[null,null,null,null,null,null,null,null,null,null,null,null,null,{"$f":"IF(L203=8,\"\",\"höhere Punktzahl für :\")","v":""}]
[null,null,{"$f":"IF(VLOOKUP(D203,'Technische Seite'!$AO$124:$AQ$168,3,0)=\"OK\",\"\",\"die wichtigste Frage\")","v":""},{"$f":"'Kapitel 2'!C212","v":"F2.34"},{"$f":"'Kapitel 2'!D212","v":"In welcher Weise steuert die Organisation ihre Umweltleistung?"},null,null,null,null,null,null,{"$f":"COUNTBLANK(N203:U203)","v":8},true,{"$f":"IF(VLOOKUP(D203,Sonderbericht!$E$6:$H$112,4,FALSE)=\"bewertung erhöhen\",\"ISO 9001\",\"\")","v":""},{"$f":"IF(VLOOKUP(D203,Sonderbericht!$E$116:$H$222,4,FALSE)=\"bewertung erhöhen\",\"ISO 14001\",\"\")","v":""},{"$f":"IF(VLOOKUP(D203,Sonderbericht!$E$226:$H$332,4,FALSE)=\"bewertung erhöhen\",\"ISO 26000\",\"\")","v":""},{"$f":"IF(VLOOKUP(D203,Sonderbericht!$E$336:$H$552,4,FALSE)=\"bewertung erhöhen\",\"ISO 45001\",\"\")","v":""},{"$f":"IF(VLOOKUP(D203,Sonderbericht!$E$556:$H$662,4,FALSE)=\"bewertung erhöhen\",\"EMAS\",\"\")","v":""},{"$f":"IF(VLOOKUP(D203,Sonderbericht!$E$666:$H$772,4,FALSE)=\"bewertung erhöhen\",\"RC14001\",\"\")","v":""},{"$f":"IF(VLOOKUP(D203,Sonderbericht!$E$776:$H$882,4,FALSE)=\"bewertung erhöhen\",\"RCMS\",\"\")","v":""}]
[null,null,null,null,"Ihre Bewertung ",null,{"$f":"VLOOKUP(D203,'Technische Seite'!$B$124:$C$168,2,FALSE)","v":1},null,null,null,null,null,null,{"$f":"CONCATENATE(G204,\" = \",HLOOKUP(\" \",'Kapitel 2'!D211:E216,Tipps!G204+2))","v":"1 = Auf die Umweltleistung wird kein Schwerpunkt gelegt. Die Organisation regelt Umweltangelegenheiten entsprechend den gesetzlichen und sonstigen Vorschriften („compliance“)."}]
[null,null,null,null,"Streben Sie eine Verbesserung an ",null,{"$f":"VLOOKUP(CONCATENATE(D203,$M$3),'Technische Seite'!$BG$124:$BI$303,3,FALSE)","v":"Legen Sie strategische Ziele fest und unterstützen Sie Maßnahmen zur Kontrolle und Reduzierung des ökologischen Fußabdrucks der Organisation."}]
[null,null,null,null,null,null,null,null,null,null,null,null,null,{"$f":"IF(L207=8,\"\",\"höhere Punktzahl für :\")","v":""}]
[null,null,{"$f":"IF(VLOOKUP(D207,'Technische Seite'!$AO$124:$AQ$168,3,0)=\"OK\",\"\",\"die wichtigste Frage\")","v":""},{"$f":"'Kapitel 2'!C218","v":"F2.35"},{"$f":"'Kapitel 2'!D218","v":"Wie geht die Organisation mit Abfall um?"},null,null,null,null,null,null,{"$f":"COUNTBLANK(N207:U207)","v":8},true,{"$f":"IF(VLOOKUP(D207,Sonderbericht!$E$6:$H$112,4,FALSE)=\"bewertung erhöhen\",\"ISO 9001\",\"\")","v":""},{"$f":"IF(VLOOKUP(D207,Sonderbericht!$E$116:$H$222,4,FALSE)=\"bewertung erhöhen\",\"ISO 14001\",\"\")","v":""},{"$f":"IF(VLOOKUP(D207,Sonderbericht!$E$226:$H$332,4,FALSE)=\"bewertung erhöhen\",\"ISO 26000\",\"\")","v":""},{"$f":"IF(VLOOKUP(D207,Sonderbericht!$E$336:$H$552,4,FALSE)=\"bewertung erhöhen\",\"ISO 45001\",\"\")","v":""},{"$f":"IF(VLOOKUP(D207,Sonderbericht!$E$556:$H$662,4,FALSE)=\"bewertung erhöhen\",\"EMAS\",\"\")","v":""},{"$f":"IF(VLOOKUP(D207,Sonderbericht!$E$666:$H$772,4,FALSE)=\"bewertung erhöhen\",\"RC14001\",\"\")","v":""},{"$f":"IF(VLOOKUP(D207,Sonderbericht!$E$776:$H$882,4,FALSE)=\"bewertung erhöhen\",\"RCMS\",\"\")","v":""}]
[null,null,null,null,"Ihre Bewertung ",null,{"$f":"VLOOKUP(D207,'Technische Seite'!$B$124:$C$168,2,FALSE)","v":2},null,null,null,null,null,null,{"$f":"CONCATENATE(G208,\" = \",HLOOKUP(\" \",'Kapitel 2'!D217:E222,Tipps!G208+2))","v":"2 = Die Einstufung, Sortierung, Lagerung und sichere Entsorgung von Abfall sind darauf ausgerichtet, die Abfallströme zu optimieren und dadurch die Verwertung auf ein Höchstmaß zu steigern"}]
[null,null,null,null,"Streben Sie eine Verbesserung an ",null,{"$f":"VLOOKUP(CONCATENATE(D207,$M$3),'Technische Seite'!$BG$124:$BI$303,3,FALSE)","v":"Überprüfen Sie regelmäßig die Praktiken der Abfallentsorgung."}]
[null,null,null,null,null,null,null,null,null,null,null,null,null,{"$f":"IF(L211=8,\"\",\"höhere Punktzahl für :\")","v":""}]
[null,null,{"$f":"IF(VLOOKUP(D211,'Technische Seite'!$AO$124:$AQ$168,3,0)=\"OK\",\"\",\"die wichtigste Frage\")","v":""},{"$f":"'Kapitel 2'!C224","v":"F2.36"},{"$f":"'Kapitel 2'!D224","v":"Wie geht die Organisation mit Risiken für das Grundwasser um?"},null,null,null,null,null,null,{"$f":"COUNTBLANK(N211:U211)","v":8},true,{"$f":"IF(VLOOKUP(D211,Sonderbericht!$E$6:$H$112,4,FALSE)=\"bewertung erhöhen\",\"ISO 9001\",\"\")","v":""},{"$f":"IF(VLOOKUP(D211,Sonderbericht!$E$116:$H$222,4,FALSE)=\"bewertung erhöhen\",\"ISO 14001\",\"\")","v":""},{"$f":"IF(VLOOKUP(D211,Sonderbericht!$E$226:$H$332,4,FALSE)=\"bewertung erhöhen\",\"ISO 26000\",\"\")","v":""},{"$f":"IF(VLOOKUP(D211,Sonderbericht!$E$336:$H$552,4,FALSE)=\"bewertung erhöhen\",\"ISO 45001\",\"\")","v":""},{"$f":"IF(VLOOKUP(D211,Sonderbericht!$E$556:$H$662,4,FALSE)=\"bewertung erhöhen\",\"EMAS\",\"\")","v":""},{"$f":"IF(VLOOKUP(D211,Sonderbericht!$E$666:$H$772,4,FALSE)=\"bewertung erhöhen\",\"RC14001\",\"\")","v":""},{"$f":"IF(VLOOKUP(D211,Sonderbericht!$E$776:$H$882,4,FALSE)=\"bewertung erhöhen\",\"RCMS\",\"\")","v":""}]
[null,null,null,null,"Ihre Bewertung ",null,{"$f":"VLOOKUP(D211,'Technische Seite'!$B$124:$C$168,2,FALSE)","v":1},null,null,null,null,null,null,{"$f":"CONCATENATE(G212,\" = \",HLOOKUP(\" \",'Kapitel 2'!D223:E228,Tipps!G212+2))","v":"1 = Maßnahmen hinsichtlich der Verschmutzungsgefahr für das Grundwasser werden entsprechend den gesetzlichen Vorschriften getroffen."}]
[null,null,null,null,"Streben Sie eine Verbesserung an ",null,{"$f":"VLOOKUP(CONCATENATE(D211,$M$3),'Technische Seite'!$BG$124:$BI$303,3,FALSE)","v":"Ermitteln Sie risikoreiche Aktivitäten im Zusammenhang mit Grundwasserverschmutzung. Ermitteln Sie technische und betriebliche Kontrollen und setzen Sie diese um."}]
[null,null,null,null,null,null,null,null,null,null,null,null,null,{"$f":"IF(L215=8,\"\",\"höhere Punktzahl für :\")","v":""}]
[null,null,{"$f":"IF(VLOOKUP(D215,'Technische Seite'!$AO$124:$AQ$168,3,0)=\"OK\",\"\",\"die wichtigste Frage\")","v":""},{"$f":"'Kapitel 2'!C230","v":"F2.37"},{"$f":"'Kapitel 2'!D230","v":"Wie geht die Organisation mit den Risiken einer Bodenverschmutzung um?"},null,null,null,null,null,null,{"$f":"COUNTBLANK(N215:U215)","v":8},true,{"$f":"IF(VLOOKUP(D215,Sonderbericht!$E$6:$H$112,4,FALSE)=\"bewertung erhöhen\",\"ISO 9001\",\"\")","v":""},{"$f":"IF(VLOOKUP(D215,Sonderbericht!$E$116:$H$222,4,FALSE)=\"bewertung erhöhen\",\"ISO 14001\",\"\")","v":""},{"$f":"IF(VLOOKUP(D215,Sonderbericht!$E$226:$H$332,4,FALSE)=\"bewertung erhöhen\",\"ISO 26000\",\"\")","v":""},{"$f":"IF(VLOOKUP(D215,Sonderbericht!$E$336:$H$552,4,FALSE)=\"bewertung erhöhen\",\"ISO 45001\",\"\")","v":""},{"$f":"IF(VLOOKUP(D215,Sonderbericht!$E$556:$H$662,4,FALSE)=\"bewertung erhöhen\",\"EMAS\",\"\")","v":""},{"$f":"IF(VLOOKUP(D215,Sonderbericht!$E$666:$H$772,4,FALSE)=\"bewertung erhöhen\",\"RC14001\",\"\")","v":""},{"$f":"IF(VLOOKUP(D215,Sonderbericht!$E$776:$H$882,4,FALSE)=\"bewertung erhöhen\",\"RCMS\",\"\")","v":""}]
[null,null,null,null,"Ihre Bewertung ",null,{"$f":"VLOOKUP(D215,'Technische Seite'!$B$124:$C$168,2,FALSE)","v":3},null,null,null,null,null,null,{"$f":"CONCATENATE(G216,\" = \",HLOOKUP(\" \",'Kapitel 2'!D229:E234,Tipps!G216+2))","v":"3 = Maßnahmen und Verfahren sind vorhanden, um die Folgen unbeabsichtigter Verschüttungen auf den Boden auf ein Mindestmaß zu verringern. Die Bodenqualität wird regelmäßig geprüft, um eine mögliche Verschmutzung des Bodens zu bewerten."}]
[null,null,null,null,"Streben Sie eine Verbesserung an ",null,{"$f":"VLOOKUP(CONCATENATE(D215,$M$3),'Technische Seite'!$BG$124:$BI$303,3,FALSE)","v":"Entwickeln Sie Technologien, um die Risiken einer Verschmutzung des Bodens zu verhindern. Sorgen Sie dafür, dass diese Technologien und Best Practices innerhalb des Sektors ausgetauscht werden, um auch anderen zu helfen, sich zu verbessern."}]
[null,null,null,null,null,null,null,null,null,null,null,null,null,{"$f":"IF(L219=8,\"\",\"höhere Punktzahl für :\")","v":""}]
[null,null,{"$f":"IF(VLOOKUP(D219,'Technische Seite'!$AO$124:$AQ$168,3,0)=\"OK\",\"\",\"die wichtigste Frage\")","v":""},{"$f":"'Kapitel 2'!C236","v":"F2.38"},{"$f":"'Kapitel 2'!D236","v":"Wie geht die Organisation mit vorhandenen Bodenverschmutzungen um?"},null,null,null,null,null,null,{"$f":"COUNTBLANK(N219:U219)","v":8},true,{"$f":"IF(VLOOKUP(D219,Sonderbericht!$E$6:$H$112,4,FALSE)=\"bewertung erhöhen\",\"ISO 9001\",\"\")","v":""},{"$f":"IF(VLOOKUP(D219,Sonderbericht!$E$116:$H$222,4,FALSE)=\"bewertung erhöhen\",\"ISO 14001\",\"\")","v":""},{"$f":"IF(VLOOKUP(D219,Sonderbericht!$E$226:$H$332,4,FALSE)=\"bewertung erhöhen\",\"ISO 26000\",\"\")","v":""},{"$f":"IF(VLOOKUP(D219,Sonderbericht!$E$336:$H$552,4,FALSE)=\"bewertung erhöhen\",\"ISO 45001\",\"\")","v":""},{"$f":"IF(VLOOKUP(D219,Sonderbericht!$E$556:$H$662,4,FALSE)=\"bewertung erhöhen\",\"EMAS\",\"\")","v":""},{"$f":"IF(VLOOKUP(D219,Sonderbericht!$E$666:$H$772,4,FALSE)=\"bewertung erhöhen\",\"RC14001\",\"\")","v":""},{"$f":"IF(VLOOKUP(D219,Sonderbericht!$E$776:$H$882,4,FALSE)=\"bewertung erhöhen\",\"RCMS\",\"\")","v":""}]
[null,null,null,null,"Ihre Bewertung ",null,{"$f":"VLOOKUP(D219,'Technische Seite'!$B$124:$C$168,2,FALSE)","v":1},null,null,null,null,null,null,{"$f":"CONCATENATE(G220,\" = \",HLOOKUP(\" \",'Kapitel 2'!D235:E240,Tipps!G220+2))","v":"1 = Maßnahmen hinsichtlich jeglicher vorhandener Verschmutzung werden entsprechend den gesetzlichen Vorschriften getroffen."}]
[null,null,null,null,"Streben Sie eine Verbesserung an ",null,{"$f":"VLOOKUP(CONCATENATE(D219,$M$3),'Technische Seite'!$BG$124:$BI$303,3,FALSE)","v":"Definieren Sie den Prozess und die Zuständigkeiten für die Sanierung von versehentlichen Verunreinigungen.\nUntersuchen Sie den Standort, um die Situation in Bezug auf bestehende Verunreinigungen zu verstehen."}]
[null,null,null,null,null,null,null,null,null,null,null,null,null,{"$f":"IF(L223=8,\"\",\"höhere Punktzahl für :\")","v":""}]
[null,null,{"$f":"IF(VLOOKUP(D223,'Technische Seite'!$AO$124:$AQ$168,3,0)=\"OK\",\"\",\"die wichtigste Frage\")","v":""},{"$f":"'Kapitel 2'!C242","v":"F2.39"},{"$f":"'Kapitel 2'!D242","v":"Wie geht die Organisation mit ihren Emissionen in die Luft um?"},null,null,null,null,null,null,{"$f":"COUNTBLANK(N223:U223)","v":8},true,{"$f":"IF(VLOOKUP(D223,Sonderbericht!$E$6:$H$112,4,FALSE)=\"bewertung erhöhen\",\"ISO 9001\",\"\")","v":""},{"$f":"IF(VLOOKUP(D223,Sonderbericht!$E$116:$H$222,4,FALSE)=\"bewertung erhöhen\",\"ISO 14001\",\"\")","v":""},{"$f":"IF(VLOOKUP(D223,Sonderbericht!$E$226:$H$332,4,FALSE)=\"bewertung erhöhen\",\"ISO 26000\",\"\")","v":""},{"$f":"IF(VLOOKUP(D223,Sonderbericht!$E$336:$H$552,4,FALSE)=\"bewertung erhöhen\",\"ISO 45001\",\"\")","v":""},{"$f":"IF(VLOOKUP(D223,Sonderbericht!$E$556:$H$662,4,FALSE)=\"bewertung erhöhen\",\"EMAS\",\"\")","v":""},{"$f":"IF(VLOOKUP(D223,Sonderbericht!$E$666:$H$772,4,FALSE)=\"bewertung erhöhen\",\"RC14001\",\"\")","v":""},{"$f":"IF(VLOOKUP(D223,Sonderbericht!$E$776:$H$882,4,FALSE)=\"bewertung erhöhen\",\"RCMS\",\"\")","v":""}]
[null,null,null,null,"Ihre Bewertung ",null,{"$f":"VLOOKUP(D223,'Technische Seite'!$B$124:$C$168,2,FALSE)","v":3},null,null,null,null,null,null,{"$f":"CONCATENATE(G224,\" = \",HLOOKUP(\" \",'Kapitel 2'!D241:E246,Tipps!G224+2))","v":"3 = Die Organisation bewertet regelmäßig Möglichkeiten für Verbesserungen. Maßnahmen zur Verminderung von Emissionen werden systematisch geplant"}]
[null,null,null,null,"Streben Sie eine Verbesserung an ",null,{"$f":"VLOOKUP(CONCATENATE(D223,$M$3),'Technische Seite'!$BG$124:$BI$303,3,FALSE)","v":"Legen Sie Ziele und Indikatoren für die Emissionsreduzierung fest. Überprüfen Sie systematisch den Fortschritt in Richtung dieser Ziele."}]
[null,null,null,null,null,null,null,null,null,null,null,null,null,{"$f":"IF(L227=8,\"\",\"höhere Punktzahl für :\")","v":""}]
[null,null,{"$f":"IF(VLOOKUP(D227,'Technische Seite'!$AO$124:$AQ$168,3,0)=\"OK\",\"\",\"die wichtigste Frage\")","v":""},{"$f":"'Kapitel 2'!C248","v":"F2.40"},{"$f":"'Kapitel 2'!D248","v":"Wie geht die Organisation mit ihren Emissionen in Wasser um?"},null,null,null,null,null,null,{"$f":"COUNTBLANK(N227:U227)","v":8},true,{"$f":"IF(VLOOKUP(D227,Sonderbericht!$E$6:$H$112,4,FALSE)=\"bewertung erhöhen\",\"ISO 9001\",\"\")","v":""},{"$f":"IF(VLOOKUP(D227,Sonderbericht!$E$116:$H$222,4,FALSE)=\"bewertung erhöhen\",\"ISO 14001\",\"\")","v":""},{"$f":"IF(VLOOKUP(D227,Sonderbericht!$E$226:$H$332,4,FALSE)=\"bewertung erhöhen\",\"ISO 26000\",\"\")","v":""},{"$f":"IF(VLOOKUP(D227,Sonderbericht!$E$336:$H$552,4,FALSE)=\"bewertung erhöhen\",\"ISO 45001\",\"\")","v":""},{"$f":"IF(VLOOKUP(D227,Sonderbericht!$E$556:$H$662,4,FALSE)=\"bewertung erhöhen\",\"EMAS\",\"\")","v":""},{"$f":"IF(VLOOKUP(D227,Sonderbericht!$E$666:$H$772,4,FALSE)=\"bewertung erhöhen\",\"RC14001\",\"\")","v":""},{"$f":"IF(VLOOKUP(D227,Sonderbericht!$E$776:$H$882,4,FALSE)=\"bewertung erhöhen\",\"RCMS\",\"\")","v":""}]
[null,null,null,null,"Ihre Bewertung ",null,{"$f":"VLOOKUP(D227,'Technische Seite'!$B$124:$C$168,2,FALSE)","v":1},null,null,null,null,null,null,{"$f":"CONCATENATE(G228,\" = \",HLOOKUP(\" \",'Kapitel 2'!D247:E252,Tipps!G228+2))","v":"1 = Maßnahmen hinsichtlich der Emissionen in Wasser werden entsprechend der gesetzlichen Vorschriften getroffen."}]
[null,null,null,null,"Streben Sie eine Verbesserung an ",null,{"$f":"VLOOKUP(CONCATENATE(D227,$M$3),'Technische Seite'!$BG$124:$BI$303,3,FALSE)","v":"Setzen Sie technische und betriebliche Kontrollen um, um diese Emissionen zu verhindern und zu überwachen."}]
[null,null,null,null,null,null,null,null,null,null,null,null,null,{"$f":"IF(L231=8,\"\",\"höhere Punktzahl für :\")","v":""}]
[null,null,{"$f":"IF(VLOOKUP(D231,'Technische Seite'!$AO$124:$AQ$168,3,0)=\"OK\",\"\",\"die wichtigste Frage\")","v":""},{"$f":"'Kapitel 2'!C254","v":"F2.41"},{"$f":"'Kapitel 2'!D254","v":"Wie geht die Organisation mit Lärmemissionen um?"},null,null,null,null,null,null,{"$f":"COUNTBLANK(N231:U231)","v":8},null,{"$f":"IF(VLOOKUP(D231,Sonderbericht!$E$6:$H$112,4,FALSE)=\"bewertung erhöhen\",\"ISO 9001\",\"\")","v":""},{"$f":"IF(VLOOKUP(D231,Sonderbericht!$E$116:$H$222,4,FALSE)=\"bewertung erhöhen\",\"ISO 14001\",\"\")","v":""},{"$f":"IF(VLOOKUP(D231,Sonderbericht!$E$226:$H$332,4,FALSE)=\"bewertung erhöhen\",\"ISO 26000\",\"\")","v":""},{"$f":"IF(VLOOKUP(D231,Sonderbericht!$E$336:$H$552,4,FALSE)=\"bewertung erhöhen\",\"ISO 45001\",\"\")","v":""},{"$f":"IF(VLOOKUP(D231,Sonderbericht!$E$556:$H$662,4,FALSE)=\"bewertung erhöhen\",\"EMAS\",\"\")","v":""},{"$f":"IF(VLOOKUP(D231,Sonderbericht!$E$666:$H$772,4,FALSE)=\"bewertung erhöhen\",\"RC14001\",\"\")","v":""},{"$f":"IF(VLOOKUP(D231,Sonderbericht!$E$776:$H$882,4,FALSE)=\"bewertung erhöhen\",\"RCMS\",\"\")","v":""}]
[null,null,null,null,"Ihre Bewertung ",null,{"$f":"VLOOKUP(D231,'Technische Seite'!$B$124:$C$168,2,FALSE)","v":3},null,null,null,null,null,null,{"$f":"CONCATENATE(G232,\" = \",HLOOKUP(\" \",'Kapitel 2'!D253:E258,Tipps!G232+2))","v":"3 = Regelmäßige Überwachungskampagnen werden durchgeführt. Die Überwachungsdaten werden ausgewertet, um Möglichkeiten für Verbesserungen zu definieren und zu planen. Maßnahmen zur Verminderung von Lärmemissionen werden systematisch geplant."}]
[null,null,null,null,"Streben Sie eine Verbesserung an ",null,{"$f":"VLOOKUP(CONCATENATE(D231,$M$3),'Technische Seite'!$BG$124:$BI$303,3,FALSE)","v":"Legen Sie Ziele und Indikatoren für die Emissionsreduzierung fest. Überprüfen Sie systematisch den Fortschritt in Richtung dieser Ziele."}]
[null,null,null,null,null,null,null,null,null,null,null,null,null,{"$f":"IF(L235=8,\"\",\"höhere Punktzahl für :\")","v":""}]
[null,null,{"$f":"IF(VLOOKUP(D235,'Technische Seite'!$AO$124:$AQ$168,3,0)=\"OK\",\"\",\"die wichtigste Frage\")","v":""},{"$f":"'Kapitel 2'!C260","v":"F2.42"},{"$f":"'Kapitel 2'!D260","v":"Wie geht die Organisation mit Geruchsemissionen um?"},null,null,null,null,null,null,{"$f":"COUNTBLANK(N235:U235)","v":8},true,{"$f":"IF(VLOOKUP(D235,Sonderbericht!$E$6:$H$112,4,FALSE)=\"bewertung erhöhen\",\"ISO 9001\",\"\")","v":""},{"$f":"IF(VLOOKUP(D235,Sonderbericht!$E$116:$H$222,4,FALSE)=\"bewertung erhöhen\",\"ISO 14001\",\"\")","v":""},{"$f":"IF(VLOOKUP(D235,Sonderbericht!$E$226:$H$332,4,FALSE)=\"bewertung erhöhen\",\"ISO 26000\",\"\")","v":""},{"$f":"IF(VLOOKUP(D235,Sonderbericht!$E$336:$H$552,4,FALSE)=\"bewertung erhöhen\",\"ISO 45001\",\"\")","v":""},{"$f":"IF(VLOOKUP(D235,Sonderbericht!$E$556:$H$662,4,FALSE)=\"bewertung erhöhen\",\"EMAS\",\"\")","v":""},{"$f":"IF(VLOOKUP(D235,Sonderbericht!$E$666:$H$772,4,FALSE)=\"bewertung erhöhen\",\"RC14001\",\"\")","v":""},{"$f":"IF(VLOOKUP(D235,Sonderbericht!$E$776:$H$882,4,FALSE)=\"bewertung erhöhen\",\"RCMS\",\"\")","v":""}]
[null,null,null,null,"Ihre Bewertung ",null,{"$f":"VLOOKUP(D235,'Technische Seite'!$B$124:$C$168,2,FALSE)","v":3},null,null,null,null,null,null,{"$f":"CONCATENATE(G236,\" = \",HLOOKUP(\" \",'Kapitel 2'!D259:E264,Tipps!G236+2))","v":"3 = Die Organisation hat eine Ansprechstelle für Geruchsbelästigungen."}]
[null,null,null,null,"Streben Sie eine Verbesserung an ",null,{"$f":"VLOOKUP(CONCATENATE(D235,$M$3),'Technische Seite'!$BG$124:$BI$303,3,FALSE)","v":"Legen Sie Ziele und Indikatoren für die Emissionsreduzierung fest. Überprüfen Sie systematisch den Fortschritt in Richtung dieser Ziele."}]
[null,null,null,null,null,null,null,null,null,null,null,null,null,{"$f":"IF(L239=8,\"\",\"höhere Punktzahl für :\")","v":""}]
[null,null,{"$f":"IF(VLOOKUP(D239,'Technische Seite'!$AO$124:$AQ$168,3,0)=\"OK\",\"\",\"die wichtigste Frage\")","v":""},{"$f":"'Kapitel 2'!C266","v":"F2.43"},{"$f":"'Kapitel 2'!D266","v":"Wie verhindert die Organisation unfallbedingte Emissionen in die Umwelt und wie geht sie ggf. damit um?"},null,null,null,null,null,null,{"$f":"COUNTBLANK(N239:U239)","v":8},true,{"$f":"IF(VLOOKUP(D239,Sonderbericht!$E$6:$H$112,4,FALSE)=\"bewertung erhöhen\",\"ISO 9001\",\"\")","v":""},{"$f":"IF(VLOOKUP(D239,Sonderbericht!$E$116:$H$222,4,FALSE)=\"bewertung erhöhen\",\"ISO 14001\",\"\")","v":""},{"$f":"IF(VLOOKUP(D239,Sonderbericht!$E$226:$H$332,4,FALSE)=\"bewertung erhöhen\",\"ISO 26000\",\"\")","v":""},{"$f":"IF(VLOOKUP(D239,Sonderbericht!$E$336:$H$552,4,FALSE)=\"bewertung erhöhen\",\"ISO 45001\",\"\")","v":""},{"$f":"IF(VLOOKUP(D239,Sonderbericht!$E$556:$H$662,4,FALSE)=\"bewertung erhöhen\",\"EMAS\",\"\")","v":""},{"$f":"IF(VLOOKUP(D239,Sonderbericht!$E$666:$H$772,4,FALSE)=\"bewertung erhöhen\",\"RC14001\",\"\")","v":""},{"$f":"IF(VLOOKUP(D239,Sonderbericht!$E$776:$H$882,4,FALSE)=\"bewertung erhöhen\",\"RCMS\",\"\")","v":""}]
[null,null,null,null,"Ihre Bewertung ",null,{"$f":"VLOOKUP(D239,'Technische Seite'!$B$124:$C$168,2,FALSE)","v":2},null,null,null,null,null,null,{"$f":"CONCATENATE(G240,\" = \",HLOOKUP(\" \",'Kapitel 2'!D265:E270,Tipps!G240+2))","v":"2 = Die Organisation hat systematisch Verfahren und Aktivitäten identifiziert, die zu unfallbedingten Emissionen in die Umwelt führen können. Technische und betrieblich Kontrollen werden umgesetzt, um unfallbedingte Emissionen zu vermeiden bzw. festzustellen (z. B. Deiche, flüssigkeitsdichte Oberflächen, doppelwandige Behälter/Tanks, Sperrsysteme für Abwasservorrichtungen oder Oberflächenwasserabläufe usw.). Die Wirksamkeit der durchgeführten Kontrollen wird regelmäßig bewertet."}]
[null,null,null,null,"Streben Sie eine Verbesserung an ",null,{"$f":"VLOOKUP(CONCATENATE(D239,$M$3),'Technische Seite'!$BG$124:$BI$303,3,FALSE)","v":"Entwickeln Sie ein Notfallverfahren für versehentliche Verunreinigungen. Beurteilen Sie die Quellen oder Gründe von/für versehentliche Verunreinigungen als Teil der Prozesssicherheitsuntersuchung. "}]
[null,null,null,null,null,null,null,null,null,null,null,null,null,{"$f":"IF(L243=8,\"\",\"höhere Punktzahl für :\")","v":""}]
[null,null,{"$f":"IF(VLOOKUP(D243,'Technische Seite'!$AO$124:$AQ$168,3,0)=\"OK\",\"\",\"die wichtigste Frage\")","v":""},{"$f":"'Kapitel 2'!C272","v":"F2.44"},{"$f":"'Kapitel 2'!D272","v":"In welcher Weise stellt die Organisation sicher, dass alle Mitarbeiter hinsichtlich der Umweltanforderungen, die mit ihrer Tätigkeit in Zusammenhang stehen, über die geeigneten Kompetenzen verfügen?"},null,null,null,null,null,null,{"$f":"COUNTBLANK(N243:U243)","v":8},true,{"$f":"IF(VLOOKUP(D243,Sonderbericht!$E$6:$H$112,4,FALSE)=\"bewertung erhöhen\",\"ISO 9001\",\"\")","v":""},{"$f":"IF(VLOOKUP(D243,Sonderbericht!$E$116:$H$222,4,FALSE)=\"bewertung erhöhen\",\"ISO 14001\",\"\")","v":""},{"$f":"IF(VLOOKUP(D243,Sonderbericht!$E$226:$H$332,4,FALSE)=\"bewertung erhöhen\",\"ISO 26000\",\"\")","v":""},{"$f":"IF(VLOOKUP(D243,Sonderbericht!$E$336:$H$552,4,FALSE)=\"bewertung erhöhen\",\"ISO 45001\",\"\")","v":""},{"$f":"IF(VLOOKUP(D243,Sonderbericht!$E$556:$H$662,4,FALSE)=\"bewertung erhöhen\",\"EMAS\",\"\")","v":""},{"$f":"IF(VLOOKUP(D243,Sonderbericht!$E$666:$H$772,4,FALSE)=\"bewertung erhöhen\",\"RC14001\",\"\")","v":""},{"$f":"IF(VLOOKUP(D243,Sonderbericht!$E$776:$H$882,4,FALSE)=\"bewertung erhöhen\",\"RCMS\",\"\")","v":""}]
[null,null,null,null,"Ihre Bewertung ",null,{"$f":"VLOOKUP(D243,'Technische Seite'!$B$124:$C$168,2,FALSE)","v":3},null,null,null,null,null,null,{"$f":"CONCATENATE(G244,\" = \",HLOOKUP(\" \",'Kapitel 2'!D271:E276,Tipps!G244+2))","v":"3 = Alle Mitarbeiter sind sich zumindest der Umweltziele der Organisation bewusst. Die Mitarbeiter wissen, in welcher Weise sie ihren Beitrag hierzu leisten können und welche Folgen es hat, falls sie nicht zu den Verfahren des Umweltmanagements beitragen. Die Umweltexperten werden mit Hinblick auf neue Tools und Techniken kontinuierlich geschult."}]
[null,null,null,null,"Streben Sie eine Verbesserung an ",null,{"$f":"VLOOKUP(CONCATENATE(D243,$M$3),'Technische Seite'!$BG$124:$BI$303,3,FALSE)","v":"Führen Sie einen Nachweis der verfügbaren Schulungen und evaluieren Sie regelmäßig die Effektivität der Schulungen."}]
[null,null,null,null,null,null,null,null,null,null,null,null,null,{"$f":"IF(L247=8,\"\",\"höhere Punktzahl für :\")","v":""}]
[null,null,{"$f":"IF(VLOOKUP(D247,'Technische Seite'!$AO$124:$AQ$168,3,0)=\"OK\",\"\",\"die wichtigste Frage\")","v":""},{"$f":"'Kapitel 2'!C278","v":"F2.45"},{"$f":"'Kapitel 2'!D278","v":"Wie werden den Interessensgruppen („stakeholder“) der Organisation die Umweltaspekte und deren mögliche Auswirkungen bewusst gemacht?"},null,null,null,null,null,null,{"$f":"COUNTBLANK(N247:U247)","v":8},true,{"$f":"IF(VLOOKUP(D247,Sonderbericht!$E$6:$H$112,4,FALSE)=\"bewertung erhöhen\",\"ISO 9001\",\"\")","v":""},{"$f":"IF(VLOOKUP(D247,Sonderbericht!$E$116:$H$222,4,FALSE)=\"bewertung erhöhen\",\"ISO 14001\",\"\")","v":""},{"$f":"IF(VLOOKUP(D247,Sonderbericht!$E$226:$H$332,4,FALSE)=\"bewertung erhöhen\",\"ISO 26000\",\"\")","v":""},{"$f":"IF(VLOOKUP(D247,Sonderbericht!$E$336:$H$552,4,FALSE)=\"bewertung erhöhen\",\"ISO 45001\",\"\")","v":""},{"$f":"IF(VLOOKUP(D247,Sonderbericht!$E$556:$H$662,4,FALSE)=\"bewertung erhöhen\",\"EMAS\",\"\")","v":""},{"$f":"IF(VLOOKUP(D247,Sonderbericht!$E$666:$H$772,4,FALSE)=\"bewertung erhöhen\",\"RC14001\",\"\")","v":""},{"$f":"IF(VLOOKUP(D247,Sonderbericht!$E$776:$H$882,4,FALSE)=\"bewertung erhöhen\",\"RCMS\",\"\")","v":""}]
[null,null,null,null,"Ihre Bewertung ",null,{"$f":"VLOOKUP(D247,'Technische Seite'!$B$124:$C$168,2,FALSE)","v":3},null,null,null,null,null,null,{"$f":"CONCATENATE(G248,\" = \",HLOOKUP(\" \",'Kapitel 2'!D277:E282,Tipps!G248+2))","v":"3 = Die Organisation baut Partnerschaften mit örtlichen Akteuren und Verbänden auf, um deren Erwartungen berücksichtigen zu können (auch co-build solutions)."}]
[null,null,null,null,"Streben Sie eine Verbesserung an ",null,{"$f":"VLOOKUP(CONCATENATE(D247,$M$3),'Technische Seite'!$BG$124:$BI$303,3,FALSE)","v":"Kommunizieren Sie die Überwachung der Umweltleistungsindikatoren an Stakeholder, um das Engagement der Organisation für die Umweltbelange des geografischen Gebiets zu unterstreichen, in dem sie angesiedelt ist."}]
[]
[null,null,"KAPITEL 3","Stärkung des Chemikalien-Managementsystems"]
[null,{"$f":"'Kapitel 3'!B4","v":"Produktdesign und -verbesserung"},null,null,null,null,null,null,null,null,null,null,null,{"$f":"IF(L253=8,\"\",\"höhere Punktzahl für :\")","v":""}]
[null,null,{"$f":"IF(VLOOKUP(D253,'Technische Seite'!$AO$406:$AQ$418,3,0)=\"OK\",\"\",\"die wichtigste Frage\")","v":""},{"$f":"'Kapitel 3'!C6","v":"F3.1"},{"$f":"'Kapitel 3'!D6","v":"Verfügt die Organisation über ein Verfahren für das Design\n und die Entwicklung neuer Produkte und Dienstleistungen?"},null,null,null,null,null,null,{"$f":"COUNTBLANK(N253:U253)","v":8},true,{"$f":"IF(VLOOKUP(D253,Sonderbericht!$E$6:$H$112,4,FALSE)=\"bewertung erhöhen\",\"ISO 9001\",\"\")","v":""},{"$f":"IF(VLOOKUP(D253,Sonderbericht!$E$116:$H$222,4,FALSE)=\"bewertung erhöhen\",\"ISO 14001\",\"\")","v":""},{"$f":"IF(VLOOKUP(D253,Sonderbericht!$E$226:$H$332,4,FALSE)=\"bewertung erhöhen\",\"ISO 26000\",\"\")","v":""},{"$f":"IF(VLOOKUP(D253,Sonderbericht!$E$336:$H$552,4,FALSE)=\"bewertung erhöhen\",\"ISO 45001\",\"\")","v":""},{"$f":"IF(VLOOKUP(D253,Sonderbericht!$E$556:$H$662,4,FALSE)=\"bewertung erhöhen\",\"EMAS\",\"\")","v":""},{"$f":"IF(VLOOKUP(D253,Sonderbericht!$E$666:$H$772,4,FALSE)=\"bewertung erhöhen\",\"RC14001\",\"\")","v":""},{"$f":"IF(VLOOKUP(D253,Sonderbericht!$E$776:$H$882,4,FALSE)=\"bewertung erhöhen\",\"RCMS\",\"\")","v":""}]
[null,null,null,null,"Ihre Bewertung ",null,{"$f":"VLOOKUP(D253,'Technische Seite'!$B$406:$C$418,2,FALSE)","v":1},null,null,null,null,null,null,{"$f":"CONCATENATE(G254,\" = \",HLOOKUP(\" \",'Kapitel 3'!D5:E10,Tipps!G254+2))","v":"1 = Ja. Dieses Verfahren wird durch Stufen und Kontrollen definiert. Sie werden angewandt und können nach Überprüfung geändert werden, um sicherzustellen, dass die Ergebnisse den Eingangsanforderungen entsprechen. Die Risikoabschätzung erfolgt auf der Grundlage der REACH-Leitlinien, indem die wahrscheinliche/n Anwendergruppe/n, die beabsichtigte Verwendung und vernünftigerweise vorhersehbare Fehlanwendung identifiziert werden."}]
[null,null,null,null,"Streben Sie eine Verbesserung an ",null,{"$f":"VLOOKUP(CONCATENATE(D253,$M$3),'Technische Seite'!$BG$406:$BI$452,3,FALSE)","v":"Berücksichtigen Sie die menschliche Gesundheit und die Umwelt früh im Produktentwicklungsprozess: Sie können systematische Screening-Tests früh im Planungsprozess durchführen. \nVersammeln Sie relevante Akteure innerhalb der Organisation und externe Partner, wenn Sie die funktionalen Spezifikationen von neuen Produkten erarbeiten, um mögliche Designwege zu ermitteln.\nMobilisieren Sie personelle und finanzielle Ressourcen, um mögliche Designwege zu untersuchen, die auch die EU-Vorschriften für chemische Produkte (REACH, BPR...) berücksichtigen.  "}]
[null,{"$f":"'Kapitel 3'!B12","v":"Priorisierung von Produkten"},null,null,null,null,null,null,null,null,null,null,null,{"$f":"IF(L257=8,\"\",\"höhere Punktzahl für :\")","v":""}]
[null,null,{"$f":"IF(VLOOKUP(D257,'Technische Seite'!$AO$406:$AQ$418,3,0)=\"OK\",\"\",\"die wichtigste Frage\")","v":""},{"$f":"'Kapitel 3'!C14","v":"F3.2"},{"$f":"'Kapitel 3'!D14","v":"Verfügt die Organisation über ein Verfahren, um ihre Produkte mit Hinblick auf Risikocharakterisierung und Risikomanagement zu bewerten und zu priorisieren?"},null,null,null,null,null,null,{"$f":"COUNTBLANK(N257:U257)","v":8},true,{"$f":"IF(VLOOKUP(D257,Sonderbericht!$E$6:$H$112,4,FALSE)=\"bewertung erhöhen\",\"ISO 9001\",\"\")","v":""},{"$f":"IF(VLOOKUP(D257,Sonderbericht!$E$116:$H$222,4,FALSE)=\"bewertung erhöhen\",\"ISO 14001\",\"\")","v":""},{"$f":"IF(VLOOKUP(D257,Sonderbericht!$E$226:$H$332,4,FALSE)=\"bewertung erhöhen\",\"ISO 26000\",\"\")","v":""},{"$f":"IF(VLOOKUP(D257,Sonderbericht!$E$336:$H$552,4,FALSE)=\"bewertung erhöhen\",\"ISO 45001\",\"\")","v":""},{"$f":"IF(VLOOKUP(D257,Sonderbericht!$E$556:$H$662,4,FALSE)=\"bewertung erhöhen\",\"EMAS\",\"\")","v":""},{"$f":"IF(VLOOKUP(D257,Sonderbericht!$E$666:$H$772,4,FALSE)=\"bewertung erhöhen\",\"RC14001\",\"\")","v":""},{"$f":"IF(VLOOKUP(D257,Sonderbericht!$E$776:$H$882,4,FALSE)=\"bewertung erhöhen\",\"RCMS\",\"\")","v":""}]
[null,null,null,null,"Ihre Bewertung ",null,{"$f":"VLOOKUP(D257,'Technische Seite'!$B$406:$C$418,2,FALSE)","v":2},null,null,null,null,null,null,{"$f":"CONCATENATE(G258,\" = \",HLOOKUP(\" \",'Kapitel 3'!D13:E18,Tipps!G258+2))","v":"2 = Das Verfahren wird unter Anwendung sorgfältig ausgearbeiteter Kriterien eingesetzt, um Produkte aus jeder Produktfamilie zu priorisieren (Kriterien auf der Grundlage neuer Informationen sowie Verwendungs- und Expositionsmustern in Zusammenhang mit dem Gefahrenprofil eines chemischen Stoffes). Dieses Verfahren ist auf neue und vorhandene Produkte anwendbar/gilt für neue und vorhandene Produkte. Die Kriterien für die Priorisierung werden regelmäßig aktualisiert."}]
[null,null,null,null,"Streben Sie eine Verbesserung an ",null,{"$f":"VLOOKUP(CONCATENATE(D257,$M$3),'Technische Seite'!$BG$406:$BI$452,3,FALSE)","v":"Der Prozess ist verfeinert und wird auf kontinuierlicher Basis ausgeführt. Automatische Benachrichtigungen für neu veröffentlichte Informationen zu Stoffen und Produkten sind vorhanden (z. B. RSS-Feed von wissenschaftlichen Zeitschriften). "}]
[null,{"$f":"'Kapitel 3'!B20","v":"Produktinformation"},null,null,null,null,null,null,null,null,null,null,null,{"$f":"IF(L261=8,\"\",\"höhere Punktzahl für :\")","v":""}]
[null,null,{"$f":"IF(VLOOKUP(D261,'Technische Seite'!$AO$406:$AQ$418,3,0)=\"OK\",\"\",\"die wichtigste Frage\")","v":""},{"$f":"'Kapitel 3'!C22","v":"F3.3"},{"$f":"'Kapitel 3'!D22","v":"Verfügt die Organisation über ein System, um die Anwendbarkeit sowie Änderungen und Einhaltung von internen und externen Anforderungen in Zusammenhang mit dem Sicherheitsmanagement von Chemikalien zu verfolgen/nachzuverfolgen?"},null,null,null,null,null,null,{"$f":"COUNTBLANK(N261:U261)","v":8},true,{"$f":"IF(VLOOKUP(D261,Sonderbericht!$E$6:$H$112,4,FALSE)=\"bewertung erhöhen\",\"ISO 9001\",\"\")","v":""},{"$f":"IF(VLOOKUP(D261,Sonderbericht!$E$116:$H$222,4,FALSE)=\"bewertung erhöhen\",\"ISO 14001\",\"\")","v":""},{"$f":"IF(VLOOKUP(D261,Sonderbericht!$E$226:$H$332,4,FALSE)=\"bewertung erhöhen\",\"ISO 26000\",\"\")","v":""},{"$f":"IF(VLOOKUP(D261,Sonderbericht!$E$336:$H$552,4,FALSE)=\"bewertung erhöhen\",\"ISO 45001\",\"\")","v":""},{"$f":"IF(VLOOKUP(D261,Sonderbericht!$E$556:$H$662,4,FALSE)=\"bewertung erhöhen\",\"EMAS\",\"\")","v":""},{"$f":"IF(VLOOKUP(D261,Sonderbericht!$E$666:$H$772,4,FALSE)=\"bewertung erhöhen\",\"RC14001\",\"\")","v":""},{"$f":"IF(VLOOKUP(D261,Sonderbericht!$E$776:$H$882,4,FALSE)=\"bewertung erhöhen\",\"RCMS\",\"\")","v":""}]
[null,null,null,null,"Ihre Bewertung ",null,{"$f":"VLOOKUP(D261,'Technische Seite'!$B$406:$C$418,2,FALSE)","v":1},null,null,null,null,null,null,{"$f":"CONCATENATE(G262,\" = \",HLOOKUP(\" \",'Kapitel 3'!D21:E26,Tipps!G262+2))","v":"1 = Die Organisation verfügt über ein Verfahren, um die Anwendbarkeit gesetzlicher und anderer Vorschriften, denen die Organisation – zusätzlich zu den RC-Anforderungen – unterliegt, festzustellen und zu prüfen.\nDie Organisation hat ein Inventar zur Chemikaliensicherheit („chemical safety inventory“) erstellt, welches die von der Organisation verwendeten, importierten oder hergestellten chemischen Stoffe und Gemische auflistet."}]
[null,null,null,null,"Streben Sie eine Verbesserung an ",null,{"$f":"VLOOKUP(CONCATENATE(D261,$M$3),'Technische Seite'!$BG$406:$BI$452,3,FALSE)","v":"Achten Sie darauf, dass Ihre Bestandsaufnahme Informationen über gekaufte, verwendete und hergestellte Stoffe umfassen, die Standardparameter über die Stoff- und Produkteigenschaften aufführen. Weisen Sie verantwortliche Ressourcen für die Aktualisierungen zu und bestimmen Sie die Häufigkeit der Aktualisierungen. Verknüpfen Sie Stoffe/Produkte und Anforderungen. Fragen, die sich aus den aktualisierten Informationen ergeben, sollten erkannt und behandelt werden.  "}]
[null,null,null,null,null,null,null,null,null,null,null,null,null,{"$f":"IF(L265=8,\"\",\"höhere Punktzahl für :\")","v":""}]
[null,null,{"$f":"IF(VLOOKUP(D265,'Technische Seite'!$AO$406:$AQ$418,3,0)=\"OK\",\"\",\"die wichtigste Frage\")","v":""},{"$f":"'Kapitel 3'!C28","v":"F3.4"},{"$f":"'Kapitel 3'!D28","v":"Verfügt die Organisation über ein Verfahren zum Umgang mit vorhandenen Gefahreninformationen in Zusammenhang mit ihren Produkten?"},null,null,null,null,null,null,{"$f":"COUNTBLANK(N265:U265)","v":8},true,{"$f":"IF(VLOOKUP(D265,Sonderbericht!$E$6:$H$112,4,FALSE)=\"bewertung erhöhen\",\"ISO 9001\",\"\")","v":""},{"$f":"IF(VLOOKUP(D265,Sonderbericht!$E$116:$H$222,4,FALSE)=\"bewertung erhöhen\",\"ISO 14001\",\"\")","v":""},{"$f":"IF(VLOOKUP(D265,Sonderbericht!$E$226:$H$332,4,FALSE)=\"bewertung erhöhen\",\"ISO 26000\",\"\")","v":""},{"$f":"IF(VLOOKUP(D265,Sonderbericht!$E$336:$H$552,4,FALSE)=\"bewertung erhöhen\",\"ISO 45001\",\"\")","v":""},{"$f":"IF(VLOOKUP(D265,Sonderbericht!$E$556:$H$662,4,FALSE)=\"bewertung erhöhen\",\"EMAS\",\"\")","v":""},{"$f":"IF(VLOOKUP(D265,Sonderbericht!$E$666:$H$772,4,FALSE)=\"bewertung erhöhen\",\"RC14001\",\"\")","v":""},{"$f":"IF(VLOOKUP(D265,Sonderbericht!$E$776:$H$882,4,FALSE)=\"bewertung erhöhen\",\"RCMS\",\"\")","v":""}]
[null,null,null,null,"Ihre Bewertung ",null,{"$f":"VLOOKUP(D265,'Technische Seite'!$B$406:$C$418,2,FALSE)","v":1},null,null,null,null,null,null,{"$f":"CONCATENATE(G266,\" = \",HLOOKUP(\" \",'Kapitel 3'!D27:E32,Tipps!G266+2))","v":"1 = Ein Verfahren zur Sammlung verfügbarer Informationen über Produktsicherheit, Gesundheit und Umweltgefahren ist vorhanden."}]
[null,null,null,null,"Streben Sie eine Verbesserung an ",null,{"$f":"VLOOKUP(CONCATENATE(D265,$M$3),'Technische Seite'!$BG$406:$BI$452,3,FALSE)","v":"Entwickeln Sie eine Plattform zum Speichern von vorhandenen Informationen. Implementieren Sie ein Verfahren zur Klassifizierung und Ermittlung der Art von Informationen, um verfügbare Informationen leicht nachzuverfolgen und abzurufen. "}]
[null,null,null,null,null,null,null,null,null,null,null,null,null,{"$f":"IF(L269=8,\"\",\"höhere Punktzahl für :\")","v":""}]
[null,null,{"$f":"IF(VLOOKUP(D269,'Technische Seite'!$AO$406:$AQ$418,3,0)=\"OK\",\"\",\"die wichtigste Frage\")","v":""},{"$f":"'Kapitel 3'!C34","v":"F3.5"},{"$f":"'Kapitel 3'!D34","v":"Verfügt die Organisation über ein Verfahren für den Umgang mit Informationen über die Verwendung von und die Exposition durch ihre Produkte?"},null,null,null,null,null,null,{"$f":"COUNTBLANK(N269:U269)","v":8},true,{"$f":"IF(VLOOKUP(D269,Sonderbericht!$E$6:$H$112,4,FALSE)=\"bewertung erhöhen\",\"ISO 9001\",\"\")","v":""},{"$f":"IF(VLOOKUP(D269,Sonderbericht!$E$116:$H$222,4,FALSE)=\"bewertung erhöhen\",\"ISO 14001\",\"\")","v":""},{"$f":"IF(VLOOKUP(D269,Sonderbericht!$E$226:$H$332,4,FALSE)=\"bewertung erhöhen\",\"ISO 26000\",\"\")","v":""},{"$f":"IF(VLOOKUP(D269,Sonderbericht!$E$336:$H$552,4,FALSE)=\"bewertung erhöhen\",\"ISO 45001\",\"\")","v":""},{"$f":"IF(VLOOKUP(D269,Sonderbericht!$E$556:$H$662,4,FALSE)=\"bewertung erhöhen\",\"EMAS\",\"\")","v":""},{"$f":"IF(VLOOKUP(D269,Sonderbericht!$E$666:$H$772,4,FALSE)=\"bewertung erhöhen\",\"RC14001\",\"\")","v":""},{"$f":"IF(VLOOKUP(D269,Sonderbericht!$E$776:$H$882,4,FALSE)=\"bewertung erhöhen\",\"RCMS\",\"\")","v":""}]
[null,null,null,null,"Ihre Bewertung ",null,{"$f":"VLOOKUP(D269,'Technische Seite'!$B$406:$C$418,2,FALSE)","v":1},null,null,null,null,null,null,{"$f":"CONCATENATE(G270,\" = \",HLOOKUP(\" \",'Kapitel 3'!D33:E38,Tipps!G270+2))","v":"1 = Die Organisation verfügt über ein Verfahren, welches ihre eigenen Verwendungen und ihren eigenen Verbrauch von Produkten dokumentiert. Es gründet sich auf ein System zur Beschreibung der Verwendungen („use descriptor system“), einschließlich Informationen über relevante Betriebsbedingungen (z. B. jährliche Mengen, Dauer der Exposition)."}]
[null,null,null,null,"Streben Sie eine Verbesserung an ",null,{"$f":"VLOOKUP(CONCATENATE(D269,$M$3),'Technische Seite'!$BG$406:$BI$452,3,FALSE)","v":"Erfassen Sie zusätzlich zu den bestimmungsgemäßen Verwendungen eines Produkts absichtliche Fehlanwendungen und unsachgemäße Anwendungen und integrieren Sie diese in ein Dokumentationssystem, das die Anwendungen nachverfolgt. \nSorgen Sie für die Erfassung von Informationen über Anwendungen von nachgeschalteten Anwendern. "}]
[null,null,null,null,null,null,null,null,null,null,null,null,null,{"$f":"IF(L273=8,\"\",\"höhere Punktzahl für :\")","v":""}]
[null,null,{"$f":"IF(VLOOKUP(D273,'Technische Seite'!$AO$406:$AQ$418,3,0)=\"OK\",\"\",\"die wichtigste Frage\")","v":""},{"$f":"'Kapitel 3'!C40","v":"F3.6"},{"$f":"'Kapitel 3'!D40","v":"Verfügt die Organisation über ein Verfahren für den Umgang mit neuen Informationen?"},null,null,null,null,null,null,{"$f":"COUNTBLANK(N273:U273)","v":8},true,{"$f":"IF(VLOOKUP(D273,Sonderbericht!$E$6:$H$112,4,FALSE)=\"bewertung erhöhen\",\"ISO 9001\",\"\")","v":""},{"$f":"IF(VLOOKUP(D273,Sonderbericht!$E$116:$H$222,4,FALSE)=\"bewertung erhöhen\",\"ISO 14001\",\"\")","v":""},{"$f":"IF(VLOOKUP(D273,Sonderbericht!$E$226:$H$332,4,FALSE)=\"bewertung erhöhen\",\"ISO 26000\",\"\")","v":""},{"$f":"IF(VLOOKUP(D273,Sonderbericht!$E$336:$H$552,4,FALSE)=\"bewertung erhöhen\",\"ISO 45001\",\"\")","v":""},{"$f":"IF(VLOOKUP(D273,Sonderbericht!$E$556:$H$662,4,FALSE)=\"bewertung erhöhen\",\"EMAS\",\"\")","v":""},{"$f":"IF(VLOOKUP(D273,Sonderbericht!$E$666:$H$772,4,FALSE)=\"bewertung erhöhen\",\"RC14001\",\"\")","v":""},{"$f":"IF(VLOOKUP(D273,Sonderbericht!$E$776:$H$882,4,FALSE)=\"bewertung erhöhen\",\"RCMS\",\"\")","v":""}]
[null,null,null,null,"Ihre Bewertung ",null,{"$f":"VLOOKUP(D273,'Technische Seite'!$B$406:$C$418,2,FALSE)","v":1},null,null,null,null,null,null,{"$f":"CONCATENATE(G274,\" = \",HLOOKUP(\" \",'Kapitel 3'!D39:E44,Tipps!G274+2))","v":"1 = Es gibt um Verfahren, um\n- Datenlücken hinsichtlich der Datenanforderungen vorhandener und neuer gesetzlicher Vorschriften zu erkennen;\n- Prüfpläne für Chemikalien zu entwickeln und umzusetzen, um ggf. bestehende Informationslücken zu schließen und\n-  Gefahreninformationen, die zur Erfüllung der gesetzlichen Mindestanforderungen benötigt werden, zu generieren und zu pflegen.\nInterne und/oder externe Mitarbeiter sollten grundsätzlich in der Lage sein, Informationen über Gefahren und mögliche Expositionen zu verstehen."}]
[null,null,null,null,"Streben Sie eine Verbesserung an ",null,{"$f":"VLOOKUP(CONCATENATE(D273,$M$3),'Technische Seite'!$BG$406:$BI$452,3,FALSE)","v":"Bestimmen Sie Ressourcen zum Überwachen von neuen Informationen. Überprüfen Sie regelmäßig in der Literatur vorhandene oder in REACH-Dossiers verbreitete Informationen, die möglicherweise für Ihre Produkte oder ähnliche Produkte oder den Tätigkeitsbereich relevant sein könnten. Implementieren Sie ein Verfahren zur Bewertung und Integration neuer Informationen in die vorhandenen Informationen für den möglichen Einschluss als Basis für Risikobeschreibung und -management."}]
[null,{"$f":"'Kapitel 3'!B46","v":"Risikocharakterisierung"},null,null,null,null,null,null,null,null,null,null,null,{"$f":"IF(L277=8,\"\",\"höhere Punktzahl für :\")","v":""}]
[null,null,{"$f":"IF(VLOOKUP(D277,'Technische Seite'!$AO$406:$AQ$418,3,0)=\"OK\",\"\",\"die wichtigste Frage\")","v":""},{"$f":"'Kapitel 3'!C48","v":"Q3.7"},{"$f":"'Kapitel 3'!D48","v":"Verfügt die Organisation über ein Verfahren zur Risikocharakterisierung auf der Grundlage der gesammelten Informationen?"},null,null,null,null,null,null,{"$f":"COUNTBLANK(N277:U277)","v":8},true,{"$f":"IF(VLOOKUP(D277,Sonderbericht!$E$6:$H$112,4,FALSE)=\"bewertung erhöhen\",\"ISO 9001\",\"\")","v":""},{"$f":"IF(VLOOKUP(D277,Sonderbericht!$E$116:$H$222,4,FALSE)=\"bewertung erhöhen\",\"ISO 14001\",\"\")","v":""},{"$f":"IF(VLOOKUP(D277,Sonderbericht!$E$226:$H$332,4,FALSE)=\"bewertung erhöhen\",\"ISO 26000\",\"\")","v":""},{"$f":"IF(VLOOKUP(D277,Sonderbericht!$E$336:$H$552,4,FALSE)=\"bewertung erhöhen\",\"ISO 45001\",\"\")","v":""},{"$f":"IF(VLOOKUP(D277,Sonderbericht!$E$556:$H$662,4,FALSE)=\"bewertung erhöhen\",\"EMAS\",\"\")","v":""},{"$f":"IF(VLOOKUP(D277,Sonderbericht!$E$666:$H$772,4,FALSE)=\"bewertung erhöhen\",\"RC14001\",\"\")","v":""},{"$f":"IF(VLOOKUP(D277,Sonderbericht!$E$776:$H$882,4,FALSE)=\"bewertung erhöhen\",\"RCMS\",\"\")","v":""}]
[null,null,null,null,"Ihre Bewertung ",null,{"$f":"VLOOKUP(D277,'Technische Seite'!$B$406:$C$418,2,FALSE)","v":1},null,null,null,null,null,null,{"$f":"CONCATENATE(G278,\" = \",HLOOKUP(\" \",'Kapitel 3'!D47:E52,Tipps!G278+2))","v":"1 = Die Organisation verfügt über ein Verfahren zur Charakterisierung der potentiellen Risiken ihrer Produkte anhand eines iterativen, abgestuften Prozesses, der die Ergebnisse der Priorisierung berücksichtigt. Die Risiken priorisierter Produkte werden bewertet und dokumentiert.\n\nDer zur Risikocharakterisierung berücksichtigt Unternehmensrichtlinien, die das Risiko und den Endverbrauch von Produkten berücksichtigen (z. B. Richtlinien für medizinische Anwendungen, Verwendung von Produkten bei der Herstellung von Konsumgütern usw.). Dieses Verfahren wird regelmäßig aktualisiert, um die neuesten Leitlinieninformationen zu integrieren."}]
[null,null,null,null,"Streben Sie eine Verbesserung an ",null,{"$f":"VLOOKUP(CONCATENATE(D277,$M$3),'Technische Seite'!$BG$406:$BI$452,3,FALSE)","v":"Erstellen Sie eine klare Übersicht der wichtigsten Parameter, die die Risikobeschreibung beeinflussen können: Gefahr, Anwendung und Exposition, geltende Vorschriften und Zulassungen, neue Märkte oder Anwendungen, aus der Lieferkette gemeldete Ereignisse, neue Testverfahren und sich abzeichnende Gesundheits- oder Umweltbedenken.\nBestimmen Sie Kriterien, die eine Neueinschätzung der Risikobewertung auf Basis der neuen verfügbaren Informationen auslösen. "}]
[null,{"$f":"'Kapitel 3'!B54","v":"Produktrisikomanagement"},null,null,null,null,null,null,null,null,null,null,null,{"$f":"IF(L281=8,\"\",\"höhere Punktzahl für :\")","v":""}]
[null,null,{"$f":"IF(VLOOKUP(D281,'Technische Seite'!$AO$406:$AQ$418,3,0)=\"OK\",\"\",\"die wichtigste Frage\")","v":""},{"$f":"'Kapitel 3'!C56","v":"F3.8"},{"$f":"'Kapitel 3'!D56","v":"Verfügt die Organisation über ein Verfahren zum Risikomanagement auf der Grundlage der gesammelten Informationen?"},null,null,null,null,null,null,{"$f":"COUNTBLANK(N281:U281)","v":8},true,{"$f":"IF(VLOOKUP(D281,Sonderbericht!$E$6:$H$112,4,FALSE)=\"bewertung erhöhen\",\"ISO 9001\",\"\")","v":""},{"$f":"IF(VLOOKUP(D281,Sonderbericht!$E$116:$H$222,4,FALSE)=\"bewertung erhöhen\",\"ISO 14001\",\"\")","v":""},{"$f":"IF(VLOOKUP(D281,Sonderbericht!$E$226:$H$332,4,FALSE)=\"bewertung erhöhen\",\"ISO 26000\",\"\")","v":""},{"$f":"IF(VLOOKUP(D281,Sonderbericht!$E$336:$H$552,4,FALSE)=\"bewertung erhöhen\",\"ISO 45001\",\"\")","v":""},{"$f":"IF(VLOOKUP(D281,Sonderbericht!$E$556:$H$662,4,FALSE)=\"bewertung erhöhen\",\"EMAS\",\"\")","v":""},{"$f":"IF(VLOOKUP(D281,Sonderbericht!$E$666:$H$772,4,FALSE)=\"bewertung erhöhen\",\"RC14001\",\"\")","v":""},{"$f":"IF(VLOOKUP(D281,Sonderbericht!$E$776:$H$882,4,FALSE)=\"bewertung erhöhen\",\"RCMS\",\"\")","v":""}]
[null,null,null,null,"Ihre Bewertung ",null,{"$f":"VLOOKUP(D281,'Technische Seite'!$B$406:$C$418,2,FALSE)","v":1},null,null,null,null,null,null,{"$f":"CONCATENATE(G282,\" = \",HLOOKUP(\" \",'Kapitel 3'!D55:E60,Tipps!G282+2))","v":"1 = Die Organisation verfügt über ein Verfahren, um die Umsetzung angemessener Maßnahmen des Risikomanagements auf der Grundlage verfügbarer Informationen sicherzustellen.\nDie Organisation informiert nachgeschaltete Endanwender in der Lieferkette über die Gefahren der Produkte und zu ergreifende Präventions- und Schutzmaßnahmen (Voraussetzungen für Sicherheit in Umgang, Verwendung, Lagerung und Entsorgung). Richtige Kennzeichnung/Etikettierung und angemessene Verpackung werden sichergestellt, um Gefahren wirksam zu kommunizieren."}]
[null,null,null,null,"Streben Sie eine Verbesserung an ",null,{"$f":"VLOOKUP(CONCATENATE(D281,$M$3),'Technische Seite'!$BG$406:$BI$452,3,FALSE)","v":"Bewerten Sie die Risikomanagementmaßnahmen für Anwendung, Lagerung und Entsorgung von Chemikalien neu, wenn neue Informationen zu Produktgefahren und Risikobeschreibung verfügbar sind. Die erwarteten Kenntnisse und Fähigkeiten von möglichen Anwendern von (End-)Produkten müssen in die Bewertungen einfließen.  "}]
[null,null,null,null,null,null,null,null,null,null,null,null,null,{"$f":"IF(L285=8,\"\",\"höhere Punktzahl für :\")","v":""}]
[null,null,{"$f":"IF(VLOOKUP(D285,'Technische Seite'!$AO$406:$AQ$418,3,0)=\"OK\",\"\",\"die wichtigste Frage\")","v":""},{"$f":"'Kapitel 3'!C62","v":"F3.9"},{"$f":"'Kapitel 3'!D62","v":"Verfügt die Organisation über ein effizientes Verfahren, um ihre Produkte nach deren Lieferung nachzuverfolgen und Korrekturmaßnahmen durchzuführen?"},null,null,null,null,null,null,{"$f":"COUNTBLANK(N285:U285)","v":8},true,{"$f":"IF(VLOOKUP(D285,Sonderbericht!$E$6:$H$112,4,FALSE)=\"bewertung erhöhen\",\"ISO 9001\",\"\")","v":""},{"$f":"IF(VLOOKUP(D285,Sonderbericht!$E$116:$H$222,4,FALSE)=\"bewertung erhöhen\",\"ISO 14001\",\"\")","v":""},{"$f":"IF(VLOOKUP(D285,Sonderbericht!$E$226:$H$332,4,FALSE)=\"bewertung erhöhen\",\"ISO 26000\",\"\")","v":""},{"$f":"IF(VLOOKUP(D285,Sonderbericht!$E$336:$H$552,4,FALSE)=\"bewertung erhöhen\",\"ISO 45001\",\"\")","v":""},{"$f":"IF(VLOOKUP(D285,Sonderbericht!$E$556:$H$662,4,FALSE)=\"bewertung erhöhen\",\"EMAS\",\"\")","v":""},{"$f":"IF(VLOOKUP(D285,Sonderbericht!$E$666:$H$772,4,FALSE)=\"bewertung erhöhen\",\"RC14001\",\"\")","v":""},{"$f":"IF(VLOOKUP(D285,Sonderbericht!$E$776:$H$882,4,FALSE)=\"bewertung erhöhen\",\"RCMS\",\"\")","v":""}]
[null,null,null,null,"Ihre Bewertung ",null,{"$f":"VLOOKUP(D285,'Technische Seite'!$B$406:$C$418,2,FALSE)","v":2},null,null,null,null,null,null,{"$f":"CONCATENATE(G286,\" = \",HLOOKUP(\" \",'Kapitel 3'!D61:E66,Tipps!G286+2))","v":"2 = Die Organisation stellt sicher, das nicht den jeweiligen Anforderungen entsprechende Produkte („outputs“) identifziert und kontrolliert werden, um deren unbeabsichtigte Verwendung oder Lieferung zu verhindern. Diese Maßnahmen werden dokumentiert. Sie werden nachverfolgt und Korrekturmaßnahmen werden umgesetzt."}]
[null,null,null,null,"Streben Sie eine Verbesserung an ",null,{"$f":"VLOOKUP(CONCATENATE(D285,$M$3),'Technische Seite'!$BG$406:$BI$452,3,FALSE)","v":"Überwachen Sie ständig Informationen über die Auswirkungen ähnlicher Produkte auf Gesundheit und Umwelt während ihrer Verwendung und nach ihrer Elimination.\nRegistrieren und verfolgen Sie sicherheitsrelevante Vorfälle/Unfälle, die von Kunden und Endanwendern gemeldet werden."}]
[null,{"$f":"'Kapitel 3'!B68","v":"Management der Wertschöpfungskette"},null,null,null,null,null,null,null,null,null,null,null,{"$f":"IF(L289=8,\"\",\"höhere Punktzahl für :\")","v":""}]
[null,null,{"$f":"IF(VLOOKUP(D289,'Technische Seite'!$AO$406:$AQ$418,3,0)=\"OK\",\"\",\"die wichtigste Frage\")","v":""},{"$f":"'Kapitel 3'!C70","v":"F3.10"},{"$f":"'Kapitel 3'!D70","v":"Kommuniziert die Organisation effizient in der Lieferkette hinsichtlich der für ihre Produkte notwendigen Maßnahmen des Risikomanagements?\n"},null,null,null,null,null,null,{"$f":"COUNTBLANK(N289:U289)","v":8},true,{"$f":"IF(VLOOKUP(D289,Sonderbericht!$E$6:$H$112,4,FALSE)=\"bewertung erhöhen\",\"ISO 9001\",\"\")","v":""},{"$f":"IF(VLOOKUP(D289,Sonderbericht!$E$116:$H$222,4,FALSE)=\"bewertung erhöhen\",\"ISO 14001\",\"\")","v":""},{"$f":"IF(VLOOKUP(D289,Sonderbericht!$E$226:$H$332,4,FALSE)=\"bewertung erhöhen\",\"ISO 26000\",\"\")","v":""},{"$f":"IF(VLOOKUP(D289,Sonderbericht!$E$336:$H$552,4,FALSE)=\"bewertung erhöhen\",\"ISO 45001\",\"\")","v":""},{"$f":"IF(VLOOKUP(D289,Sonderbericht!$E$556:$H$662,4,FALSE)=\"bewertung erhöhen\",\"EMAS\",\"\")","v":""},{"$f":"IF(VLOOKUP(D289,Sonderbericht!$E$666:$H$772,4,FALSE)=\"bewertung erhöhen\",\"RC14001\",\"\")","v":""},{"$f":"IF(VLOOKUP(D289,Sonderbericht!$E$776:$H$882,4,FALSE)=\"bewertung erhöhen\",\"RCMS\",\"\")","v":""}]
[null,null,null,null,"Ihre Bewertung ",null,{"$f":"VLOOKUP(D289,'Technische Seite'!$B$406:$C$418,2,FALSE)","v":2},null,null,null,null,null,null,{"$f":"CONCATENATE(G290,\" = \",HLOOKUP(\" \",'Kapitel 3'!D69:E74,Tipps!G290+2))","v":"2 = Die Organisation verfügt über ein Verfahren zur regelmäßigen Aktualisierung ihrer SDB, um neue (interne oder externe) Informationen und deren Folgen für das Risikomanagement einzuarbeiten.\nDie Organisation prüft regelmäßig die Qualität der von Lieferern erhaltenen SDB."}]
[null,null,null,null,"Streben Sie eine Verbesserung an ",null,{"$f":"VLOOKUP(CONCATENATE(D289,$M$3),'Technische Seite'!$BG$406:$BI$452,3,FALSE)","v":"Tauschen Sie aktualisierte Versionen von Sicherheitsdatenblättern proaktiv mit nachgeschalteten Anwendern aus und achten Sie darauf, dass sie sie erhalten und den Inhalt verstehen. Seien Sie bereit, zusätzliche Anleitungen/Anweisungen zu liefern, wenn diese gewünscht oder als notwendig erachtet werden. "}]
[]
[null,null,"KAPITEL 4","Influencing Business Partners"]
[null,{"$f":"'Kapitel 4'!B4","v":"Verantwortungsvolle Beschaffung (Responsible sourcing)"},null,null,null,null,null,null,null,null,null,null,null,{"$f":"IF(L295=8,\"\",\"höhere Punktzahl für :\")","v":""}]
[null,null,{"$f":"IF(VLOOKUP(D295,'Technische Seite'!$AO$482:$AQ$489,3,0)=\"OK\",\"\",\"die wichtigste Frage\")","v":""},{"$f":"'Kapitel 4'!C6","v":"F4.1"},{"$f":"'Kapitel 4'!D6","v":"In welcher Form hat sich die Organisation einer verantwortungsvollen Beschaffung verpflichtet?"},null,null,null,null,null,null,{"$f":"COUNTBLANK(N295:U295)","v":8},true,{"$f":"IF(VLOOKUP(D295,Sonderbericht!$E$6:$H$112,4,FALSE)=\"bewertung erhöhen\",\"ISO 9001\",\"\")","v":""},{"$f":"IF(VLOOKUP(D295,Sonderbericht!$E$116:$H$222,4,FALSE)=\"bewertung erhöhen\",\"ISO 14001\",\"\")","v":""},{"$f":"IF(VLOOKUP(D295,Sonderbericht!$E$226:$H$332,4,FALSE)=\"bewertung erhöhen\",\"ISO 26000\",\"\")","v":""},{"$f":"IF(VLOOKUP(D295,Sonderbericht!$E$336:$H$552,4,FALSE)=\"bewertung erhöhen\",\"ISO 45001\",\"\")","v":""},{"$f":"IF(VLOOKUP(D295,Sonderbericht!$E$556:$H$662,4,FALSE)=\"bewertung erhöhen\",\"EMAS\",\"\")","v":""},{"$f":"IF(VLOOKUP(D295,Sonderbericht!$E$666:$H$772,4,FALSE)=\"bewertung erhöhen\",\"RC14001\",\"\")","v":""},{"$f":"IF(VLOOKUP(D295,Sonderbericht!$E$776:$H$882,4,FALSE)=\"bewertung erhöhen\",\"RCMS\",\"\")","v":""}]
[null,null,null,null,"Ihre Bewertung ",null,{"$f":"VLOOKUP(D295,'Technische Seite'!$B$482:$C$489,2,FALSE)","v":1},null,null,null,null,null,null,{"$f":"CONCATENATE(G296,\" = \",HLOOKUP(\" \",'Kapitel 4'!E5:E10,Tipps!G296+2))","v":"1 = Die Organisation erfüllt die für sie geltenden gesetzlichen Anforderungen. Es gibt aber keine klare Verpflichtung und kein formelles Verfahren hinsichtlich einer verantwortungsvollen Beschaffung."}]
[null,null,null,null,"Streben Sie eine Verbesserung an ",null,{"$f":"VLOOKUP(CONCATENATE(D295,$M$3),'Technische Seite'!$BG$482:$BI$513,3,FALSE)","v":"Entwickeln Sie eine Richtlinie zur Verpflichtung der Organisation zu einer verantwortungsvollen Beschaffung. \nInformieren Sie beim Kauf von Geräten, Waren und Dienstleistungen die Anbieter über die Umweltrichtlinie und -anforderungen Ihrer Organisation und unterstützen Sie den CSR-Ansatz durch ihre Kooperation.\nEine beispielhafte Regelung die (ganz oder teilweise) verwendet werden kann, ist TfS (https://tfs-initiative.com/). Unternehmen können sich gegebenenfalls für andere Regelungen oder Systeme/Kriterien entscheiden.  Ein guter Leitfaden (entwickelt vom VCI) zu „Nachhaltiges Lieferkettenmanagement für mittelständische Unternehmen der chemischen Industrie“ ist https://www.chemiehoch3.de/fileadmin/user_upload/News/Chemie3_Guide_Supply_Chain_eng.pdf"}]
[null,{"$f":"'Kapitel 4'!B12","v":"Zusammenarbeit mit der Wertschöpfungskette "},null,null,null,null,null,null,null,null,null,null,null,{"$f":"IF(L299=8,\"\",\"höhere Punktzahl für :\")","v":""}]
[null,null,{"$f":"IF(VLOOKUP(D299,'Technische Seite'!$AO$482:$AQ$489,3,0)=\"OK\",\"\",\"die wichtigste Frage\")","v":""},{"$f":"'Kapitel 4'!C14","v":"F4.2"},{"$f":"'Kapitel 4'!D14","v":"In welcher Weise steigert die Organisation die Zusammenarbeit mit der Wertschöpfungskette?"},null,null,null,null,null,null,{"$f":"COUNTBLANK(N299:U299)","v":8},true,{"$f":"IF(VLOOKUP(D299,Sonderbericht!$E$6:$H$112,4,FALSE)=\"bewertung erhöhen\",\"ISO 9001\",\"\")","v":""},{"$f":"IF(VLOOKUP(D299,Sonderbericht!$E$116:$H$222,4,FALSE)=\"bewertung erhöhen\",\"ISO 14001\",\"\")","v":""},{"$f":"IF(VLOOKUP(D299,Sonderbericht!$E$226:$H$332,4,FALSE)=\"bewertung erhöhen\",\"ISO 26000\",\"\")","v":""},{"$f":"IF(VLOOKUP(D299,Sonderbericht!$E$336:$H$552,4,FALSE)=\"bewertung erhöhen\",\"ISO 45001\",\"\")","v":""},{"$f":"IF(VLOOKUP(D299,Sonderbericht!$E$556:$H$662,4,FALSE)=\"bewertung erhöhen\",\"EMAS\",\"\")","v":""},{"$f":"IF(VLOOKUP(D299,Sonderbericht!$E$666:$H$772,4,FALSE)=\"bewertung erhöhen\",\"RC14001\",\"\")","v":""},{"$f":"IF(VLOOKUP(D299,Sonderbericht!$E$776:$H$882,4,FALSE)=\"bewertung erhöhen\",\"RCMS\",\"\")","v":""}]
[null,null,null,null,"Ihre Bewertung ",null,{"$f":"VLOOKUP(D299,'Technische Seite'!$B$482:$C$489,2,FALSE)","v":2},null,null,null,null,null,null,{"$f":"CONCATENATE(G300,\" = \",HLOOKUP(\" \",'Kapitel 4'!E13:E18,Tipps!G300+2))","v":"2 = Die Organisation ermöglicht vertrauenswürdigen Geschäftspartnern die Nutzung bevorzugter Verfahren („preferred processes“) und befragt sie zu ihrer Zufriedenheit, um stets eine gute Zusammenarbeit aufrechtzuerhalten."}]
[null,null,null,null,"Streben Sie eine Verbesserung an ",null,{"$f":"VLOOKUP(CONCATENATE(D299,$M$3),'Technische Seite'!$BG$482:$BI$513,3,FALSE)","v":"Fördern Sie die wichtigsten Geschäftspartner der Organisation mit mittel- bis langfristigen Verträgen, damit sie in effizientere und verantwortungsvollere Technologien investieren können."}]
[null,{"$f":"'Kapitel 4'!B20","v":"Geschäftsintegrität"},null,null,null,null,null,null,null,null,null,null,null,{"$f":"IF(L303=8,\"\",\"höhere Punktzahl für :\")","v":""}]
[null,null,{"$f":"IF(VLOOKUP(D303,'Technische Seite'!$AO$482:$AQ$489,3,0)=\"OK\",\"\",\"die wichtigste Frage\")","v":""},{"$f":"'Kapitel 4'!C22","v":"F4.3"},{"$f":"'Kapitel 4'!D22","v":"In welcher Weise bringt die Organisation ihre Verpflichtung mit Hinblick auf Geschäftsethik zum Ausdruck?"},null,null,null,null,null,null,{"$f":"COUNTBLANK(N303:U303)","v":8},true,{"$f":"IF(VLOOKUP(D303,Sonderbericht!$E$6:$H$112,4,FALSE)=\"bewertung erhöhen\",\"ISO 9001\",\"\")","v":""},{"$f":"IF(VLOOKUP(D303,Sonderbericht!$E$116:$H$222,4,FALSE)=\"bewertung erhöhen\",\"ISO 14001\",\"\")","v":""},{"$f":"IF(VLOOKUP(D303,Sonderbericht!$E$226:$H$332,4,FALSE)=\"bewertung erhöhen\",\"ISO 26000\",\"\")","v":""},{"$f":"IF(VLOOKUP(D303,Sonderbericht!$E$336:$H$552,4,FALSE)=\"bewertung erhöhen\",\"ISO 45001\",\"\")","v":""},{"$f":"IF(VLOOKUP(D303,Sonderbericht!$E$556:$H$662,4,FALSE)=\"bewertung erhöhen\",\"EMAS\",\"\")","v":""},{"$f":"IF(VLOOKUP(D303,Sonderbericht!$E$666:$H$772,4,FALSE)=\"bewertung erhöhen\",\"RC14001\",\"\")","v":""},{"$f":"IF(VLOOKUP(D303,Sonderbericht!$E$776:$H$882,4,FALSE)=\"bewertung erhöhen\",\"RCMS\",\"\")","v":""}]
[null,null,null,null,"Ihre Bewertung ",null,{"$f":"VLOOKUP(D303,'Technische Seite'!$B$482:$C$489,2,FALSE)","v":2},null,null,null,null,null,null,{"$f":"CONCATENATE(G304,\" = \",HLOOKUP(\" \",'Kapitel 4'!E21:E26,Tipps!G304+2))","v":"2 = Die Organisation verfügt über eine unternehmenspolitische Vorgabe oder einen Verhaltenskodex („code of conduct“) zu Geschäftsethik (einschließlich wettbewerbswidriger Praktiken und Korruption). Diese Vorgabe/Dieser Kodex wird auf höchster Geschäftsebene formell unterstützt und/oder die Mitarbeiter werden auf richtiges Verhalten in Risikosituationen aufmerksam gemacht."}]
[null,null,null,null,"Streben Sie eine Verbesserung an ",null,{"$f":"VLOOKUP(CONCATENATE(D303,$M$3),'Technische Seite'!$BG$482:$BI$513,3,FALSE)","v":"Implementieren Sie Prozesse, um die Verwicklung in oder die Beteiligung an kartell- und wettbewerbsrechtlichen Fragen und Bestechlichkeit zu verhindern, z. B. durch die Implementierung eines Systems für Mitarbeiter, das die anonyme Meldung von Situationen mit einem entsprechenden Risiko ermöglicht."}]
[null,{"$f":"'Kapitel 4'!B28","v":"Arbeitnehmerrechte "},null,null,null,null,null,null,null,null,null,null,null,{"$f":"IF(L307=8,\"\",\"höhere Punktzahl für :\")","v":""}]
[null,null,{"$f":"IF(VLOOKUP(D307,'Technische Seite'!$AO$482:$AQ$489,3,0)=\"OK\",\"\",\"die wichtigste Frage\")","v":""},{"$f":"'Kapitel 4'!C30","v":"F4.4"},{"$f":"'Kapitel 4'!D30","v":"Wie berücksichtigt die Organisation soziale Fragen und Menschenrechte in ihrer Zusammenarbeit mit Geschäftspartnern?"},null,null,null,null,null,null,{"$f":"COUNTBLANK(N307:U307)","v":8},true,{"$f":"IF(VLOOKUP(D307,Sonderbericht!$E$6:$H$112,4,FALSE)=\"bewertung erhöhen\",\"ISO 9001\",\"\")","v":""},{"$f":"IF(VLOOKUP(D307,Sonderbericht!$E$116:$H$222,4,FALSE)=\"bewertung erhöhen\",\"ISO 14001\",\"\")","v":""},{"$f":"IF(VLOOKUP(D307,Sonderbericht!$E$226:$H$332,4,FALSE)=\"bewertung erhöhen\",\"ISO 26000\",\"\")","v":""},{"$f":"IF(VLOOKUP(D307,Sonderbericht!$E$336:$H$552,4,FALSE)=\"bewertung erhöhen\",\"ISO 45001\",\"\")","v":""},{"$f":"IF(VLOOKUP(D307,Sonderbericht!$E$556:$H$662,4,FALSE)=\"bewertung erhöhen\",\"EMAS\",\"\")","v":""},{"$f":"IF(VLOOKUP(D307,Sonderbericht!$E$666:$H$772,4,FALSE)=\"bewertung erhöhen\",\"RC14001\",\"\")","v":""},{"$f":"IF(VLOOKUP(D307,Sonderbericht!$E$776:$H$882,4,FALSE)=\"bewertung erhöhen\",\"RCMS\",\"\")","v":""}]
[null,null,null,null,"Ihre Bewertung ",null,{"$f":"VLOOKUP(D307,'Technische Seite'!$B$482:$C$489,2,FALSE)","v":2},null,null,null,null,null,null,{"$f":"CONCATENATE(G308,\" = \",HLOOKUP(\" \",'Kapitel 4'!E29:E34,Tipps!G308+2))","v":"2 = In ihren Vorgaben/Spezifikationen legt die Organisation Mindestanforderungen hinsichtlich der Menschenrechte fest; sie wählt Geschäftspartner auf der Grundlage dieser Kriterien aus."}]
[null,null,null,null,"Streben Sie eine Verbesserung an ",null,{"$f":"VLOOKUP(CONCATENATE(D307,$M$3),'Technische Seite'!$BG$482:$BI$513,3,FALSE)","v":"Definieren Sie einen Prozess für die Evaluierung von Geschäftspartnern anhand der Kriterien für soziale Fragen und Menschenrechte.\nEine beispielhafte Regelung die (ganz oder teilweise) verwendet werden kann, ist TfS (https://tfs-initiative.com/).\nUnternehmen können sich gegebenenfalls für andere Regelungen oder Systeme/Kriterien entscheiden."}]
[null,null,null,null,null,null,null,null,null,null,null,null,null,{"$f":"IF(L311=8,\"\",\"höhere Punktzahl für :\")","v":""}]
[null,null,{"$f":"IF(VLOOKUP(D311,'Technische Seite'!$AO$482:$AQ$489,3,0)=\"OK\",\"\",\"die wichtigste Frage\")","v":""},{"$f":"'Kapitel 4'!C36","v":"F4.5"},{"$f":"'Kapitel 4'!D36","v":"In welcher Weise verhindert die Organisation Kinderarbeit?\n\nDie Organisation\n1.\tverfügt über ein System zur Altersprüfung;\n2.\tbeschäftigt keine Kinder unter 15 Jahren (oder älter; die jeweiligen örtlichen Gesetze sind zu beachten). Berufsausbildungen oder Praktika im Rahmen der Schulbildung bzw. bildungsbezogene Praktika sind die einzigen Ausnahmen;\n3.\tstellt sicher, dass die Beschäftigung von Personen unter 18 Jahren nicht deren Schulbesuch beeinträchtigt (die Gesamtzahl der Stunden für den Weg zur Arbeit und Schule und zurück, Schulbesuch und Arbeitstätigkeit beträgt weniger als 10 Stunden täglich);\n4.\tstellt sicher, dass die Tätigkeit junger Arbeitnehmer nicht geistig, körperlich, sozial oder moralisch gefährlich und schädlich ist."},null,null,null,null,null,null,{"$f":"COUNTBLANK(N311:U311)","v":8},true,{"$f":"IF(VLOOKUP(D311,Sonderbericht!$E$6:$H$112,4,FALSE)=\"bewertung erhöhen\",\"ISO 9001\",\"\")","v":""},{"$f":"IF(VLOOKUP(D311,Sonderbericht!$E$116:$H$222,4,FALSE)=\"bewertung erhöhen\",\"ISO 14001\",\"\")","v":""},{"$f":"IF(VLOOKUP(D311,Sonderbericht!$E$226:$H$332,4,FALSE)=\"bewertung erhöhen\",\"ISO 26000\",\"\")","v":""},{"$f":"IF(VLOOKUP(D311,Sonderbericht!$E$336:$H$552,4,FALSE)=\"bewertung erhöhen\",\"ISO 45001\",\"\")","v":""},{"$f":"IF(VLOOKUP(D311,Sonderbericht!$E$556:$H$662,4,FALSE)=\"bewertung erhöhen\",\"EMAS\",\"\")","v":""},{"$f":"IF(VLOOKUP(D311,Sonderbericht!$E$666:$H$772,4,FALSE)=\"bewertung erhöhen\",\"RC14001\",\"\")","v":""},{"$f":"IF(VLOOKUP(D311,Sonderbericht!$E$776:$H$882,4,FALSE)=\"bewertung erhöhen\",\"RCMS\",\"\")","v":""}]
[null,null,null,null,"Ihre Bewertung ",null,{"$f":"VLOOKUP(D311,'Technische Seite'!$B$482:$C$489,2,FALSE)","v":2},null,null,null,null,null,null,{"$f":"CONCATENATE(G312,\" = \",HLOOKUP(\" \",'Kapitel 4'!E35:E40,Tipps!G312+2))","v":"2 = Einer oder zwei der obigen vier Punkte sind zutreffend."}]
[null,null,null,null,"Streben Sie eine Verbesserung an ",null,{"$f":"VLOOKUP(CONCATENATE(D311,$M$3),'Technische Seite'!$BG$482:$BI$513,3,FALSE)","v":"Ergreifen Sie drei der folgenden Maßnahmen, um Kinderarbeit in Ihrer Organisation sicher zu verhindern:\n- Sorgen Sie für ein System zum Altersnachweis;\n- Keine Kinder unter 15 Jahren beschäftigen (einschlägige Gesetzgebung beachten). (Auszubildende, schul- oder ausbildungsbezogene Praktika sind die einzige Ausnahme);\n- Achten Sie darauf, dass die Beschäftigung von Unter-18-Jährigen nicht mit dem Schulbesuch der Kinder kollidiert (Summe der Stunden des Transports zu und von Arbeit und Schule, Schulbesuch und Arbeit weniger als 10 Stunden pro Tag);\n- Sorgen Sie dafür, dass die Arbeit junger Beschäftigter nicht geistig, physisch, sozial oder moralisch gefährlich und schädlich ist"}]
[null,{"$f":"'Kapitel 4'!B42","v":"Logistikpartner"},null,null,null,null,null,null,null,null,null,null,null,{"$f":"IF(L315=8,\"\",\"höhere Punktzahl für :\")","v":""}]
[null,null,{"$f":"IF(VLOOKUP(D315,'Technische Seite'!$AO$482:$AQ$489,3,0)=\"OK\",\"\",\"die wichtigste Frage\")","v":""},{"$f":"'Kapitel 4'!C44","v":"F4.6"},{"$f":"'Kapitel 4'!D44","v":"Wie stellt die Organisation sicher, dass ihre Logistikpartner die Anforderungen der Organisation erfüllen?"},null,null,null,null,null,null,{"$f":"COUNTBLANK(N315:U315)","v":8},true,{"$f":"IF(VLOOKUP(D315,Sonderbericht!$E$6:$H$112,4,FALSE)=\"bewertung erhöhen\",\"ISO 9001\",\"\")","v":""},{"$f":"IF(VLOOKUP(D315,Sonderbericht!$E$116:$H$222,4,FALSE)=\"bewertung erhöhen\",\"ISO 14001\",\"\")","v":""},{"$f":"IF(VLOOKUP(D315,Sonderbericht!$E$226:$H$332,4,FALSE)=\"bewertung erhöhen\",\"ISO 26000\",\"\")","v":""},{"$f":"IF(VLOOKUP(D315,Sonderbericht!$E$336:$H$552,4,FALSE)=\"bewertung erhöhen\",\"ISO 45001\",\"\")","v":""},{"$f":"IF(VLOOKUP(D315,Sonderbericht!$E$556:$H$662,4,FALSE)=\"bewertung erhöhen\",\"EMAS\",\"\")","v":""},{"$f":"IF(VLOOKUP(D315,Sonderbericht!$E$666:$H$772,4,FALSE)=\"bewertung erhöhen\",\"RC14001\",\"\")","v":""},{"$f":"IF(VLOOKUP(D315,Sonderbericht!$E$776:$H$882,4,FALSE)=\"bewertung erhöhen\",\"RCMS\",\"\")","v":""}]
[null,null,null,null,"Ihre Bewertung ",null,{"$f":"VLOOKUP(D315,'Technische Seite'!$B$482:$C$489,2,FALSE)","v":2},null,null,null,null,null,null,{"$f":"CONCATENATE(G316,\" = \",HLOOKUP(\" \",'Kapitel 4'!E43:E48,Tipps!G316+2))","v":"2 = In ihren Vorgaben/Spezifikationen an ihre Logistikpartner stellt die Organisation Mindestanforderungen mit Hinblick auf Gesundheit, Sicherheit, Umwelt, Energie & Nachhaltigkeit."}]
[null,null,null,null,"Streben Sie eine Verbesserung an ",null,{"$f":"VLOOKUP(CONCATENATE(D315,$M$3),'Technische Seite'!$BG$482:$BI$513,3,FALSE)","v":"Definieren Sie einen Prozess für die Evaluierung der Logistikpartner anhand ihrer Einhaltung der Anforderungen der Organisation."}]
[null,{"$f":"'Kapitel 4'!B50","v":"Nachgeschaltete Anwender"},null,null,null,null,null,null,null,null,null,null,null,{"$f":"IF(L319=8,\"\",\"höhere Punktzahl für :\")","v":""}]
[null,null,{"$f":"IF(VLOOKUP(D319,'Technische Seite'!$AO$482:$AQ$489,3,0)=\"OK\",\"\",\"die wichtigste Frage\")","v":""},{"$f":"'Kapitel 4'!C52","v":"F4.7"},{"$f":"'Kapitel 4'!D52","v":"In welcher Weise schützt und sichert die Organisation das Eigentum und die Daten nachgeschalteter Anwender oder externer Anbieter, die zur Nutzung oder Einbeziehung/Einarbeitung in Produkte und Dienstleistungen bereitgestellt werden?"},null,null,null,null,null,null,{"$f":"COUNTBLANK(N319:U319)","v":8},true,{"$f":"IF(VLOOKUP(D319,Sonderbericht!$E$6:$H$112,4,FALSE)=\"bewertung erhöhen\",\"ISO 9001\",\"\")","v":""},{"$f":"IF(VLOOKUP(D319,Sonderbericht!$E$116:$H$222,4,FALSE)=\"bewertung erhöhen\",\"ISO 14001\",\"\")","v":""},{"$f":"IF(VLOOKUP(D319,Sonderbericht!$E$226:$H$332,4,FALSE)=\"bewertung erhöhen\",\"ISO 26000\",\"\")","v":""},{"$f":"IF(VLOOKUP(D319,Sonderbericht!$E$336:$H$552,4,FALSE)=\"bewertung erhöhen\",\"ISO 45001\",\"\")","v":""},{"$f":"IF(VLOOKUP(D319,Sonderbericht!$E$556:$H$662,4,FALSE)=\"bewertung erhöhen\",\"EMAS\",\"\")","v":""},{"$f":"IF(VLOOKUP(D319,Sonderbericht!$E$666:$H$772,4,FALSE)=\"bewertung erhöhen\",\"RC14001\",\"\")","v":""},{"$f":"IF(VLOOKUP(D319,Sonderbericht!$E$776:$H$882,4,FALSE)=\"bewertung erhöhen\",\"RCMS\",\"\")","v":""}]
[null,null,null,null,"Ihre Bewertung ",null,{"$f":"VLOOKUP(D319,'Technische Seite'!$B$482:$C$489,2,FALSE)","v":1},null,null,null,null,null,null,{"$f":"CONCATENATE(G320,\" = \",HLOOKUP(\" \",'Kapitel 4'!E51:E56,Tipps!G320+2))","v":"1 = Die Organisation befolgt die örtlichen und internationalen Gesetze des Datenschutzes (Schutz, Einwilligung, Recht zur/auf Löschung), verfügt aber über kein Verfahren eigens zu diesem Zweck"}]
[null,null,null,null,"Streben Sie eine Verbesserung an ",null,{"$f":"VLOOKUP(CONCATENATE(D319,$M$3),'Technische Seite'!$BG$482:$BI$513,3,FALSE)","v":"Wenn Eigentum oder Daten eines nachgeschalteten Anwenders oder externen Anbieters verloren geht, beschädigt wird oder anderweitig nicht mehr zur Verwendung geeignet ist, sorgen Sie dafür, dass die Organisation dies dem nachgeschalteten Anwender oder externen Anbieter meldet und dokumentierte Informationen über das Geschehene aufbewahrt."}]
[null,null,null,null,null,null,null,null,null,null,null,null,null,{"$f":"IF(L323=8,\"\",\"höhere Punktzahl für :\")","v":""}]
[null,null,{"$f":"IF(VLOOKUP(D323,'Technische Seite'!$AO$482:$AQ$489,3,0)=\"OK\",\"\",\"die wichtigste Frage\")","v":""},{"$f":"'Kapitel 4'!C58","v":"F4.8"},{"$f":"'Kapitel 4'!D58","v":"Was beinhaltet der Dialog mit nachgeschalteten Anwendern?"},null,null,null,null,null,null,{"$f":"COUNTBLANK(N323:U323)","v":8},true,{"$f":"IF(VLOOKUP(D323,Sonderbericht!$E$6:$H$112,4,FALSE)=\"bewertung erhöhen\",\"ISO 9001\",\"\")","v":""},{"$f":"IF(VLOOKUP(D323,Sonderbericht!$E$116:$H$222,4,FALSE)=\"bewertung erhöhen\",\"ISO 14001\",\"\")","v":""},{"$f":"IF(VLOOKUP(D323,Sonderbericht!$E$226:$H$332,4,FALSE)=\"bewertung erhöhen\",\"ISO 26000\",\"\")","v":""},{"$f":"IF(VLOOKUP(D323,Sonderbericht!$E$336:$H$552,4,FALSE)=\"bewertung erhöhen\",\"ISO 45001\",\"\")","v":""},{"$f":"IF(VLOOKUP(D323,Sonderbericht!$E$556:$H$662,4,FALSE)=\"bewertung erhöhen\",\"EMAS\",\"\")","v":""},{"$f":"IF(VLOOKUP(D323,Sonderbericht!$E$666:$H$772,4,FALSE)=\"bewertung erhöhen\",\"RC14001\",\"\")","v":""},{"$f":"IF(VLOOKUP(D323,Sonderbericht!$E$776:$H$882,4,FALSE)=\"bewertung erhöhen\",\"RCMS\",\"\")","v":""}]
[null,null,null,null,"Ihre Bewertung ",null,{"$f":"VLOOKUP(D323,'Technische Seite'!$B$482:$C$489,2,FALSE)","v":2},null,null,null,null,null,null,{"$f":"CONCATENATE(G324,\" = \",HLOOKUP(\" \",'Kapitel 4'!E57:E62,Tipps!G324+2))","v":"2 = Es werden Informationen gegeben über Produkte und Dienstleistungen sowie über die Bearbeitung von Anfragen, Verträgen oder Bestellungen (einschließlich Änderungen)."}]
[null,null,null,null,"Streben Sie eine Verbesserung an ",null,{"$f":"VLOOKUP(CONCATENATE(D323,$M$3),'Technische Seite'!$BG$482:$BI$513,3,FALSE)","v":"Schließen Sie Folgendes in den Dialog mit den nachgeschalteten Anwendern der Organisation ein:\n- Einholen von Kundenfeedback zu Produkten und Dienstleistungen, einschließlich Beschwerden von nachgeschalteten Anwendern.\n- Obtaining customer feedback relating to products and services, including downstream users' complaints.\n"}]
[]
[null,null,"KAPITEL 5","Einbeziehung von Stakeholdern"]
[null,{"$f":"'Kapitel 5'!B4","v":"Stakeholder-Bewertung"},null,null,null,null,null,null,null,null,null,null,null,{"$f":"IF(L329=8,\"\",\"höhere Punktzahl für :\")","v":""}]
[null,null,null,{"$f":"'Kapitel 5'!C6","v":"F5.1"},{"$f":"'Kapitel 5'!D6","v":"In welcher Weise bezieht die Organisation die für sie relevanten externen Anspruchsgruppen („stakeholder“) ein und wird deren Erwartungen gerecht?"},null,null,null,null,null,null,{"$f":"COUNTBLANK(N329:U329)","v":8},true,{"$f":"IF(VLOOKUP(D329,Sonderbericht!$E$6:$H$112,4,FALSE)=\"bewertung erhöhen\",\"ISO 9001\",\"\")","v":""},{"$f":"IF(VLOOKUP(D329,Sonderbericht!$E$116:$H$222,4,FALSE)=\"bewertung erhöhen\",\"ISO 14001\",\"\")","v":""},{"$f":"IF(VLOOKUP(D329,Sonderbericht!$E$226:$H$332,4,FALSE)=\"bewertung erhöhen\",\"ISO 26000\",\"\")","v":""},{"$f":"IF(VLOOKUP(D329,Sonderbericht!$E$336:$H$552,4,FALSE)=\"bewertung erhöhen\",\"ISO 45001\",\"\")","v":""},{"$f":"IF(VLOOKUP(D329,Sonderbericht!$E$556:$H$662,4,FALSE)=\"bewertung erhöhen\",\"EMAS\",\"\")","v":""},{"$f":"IF(VLOOKUP(D329,Sonderbericht!$E$666:$H$772,4,FALSE)=\"bewertung erhöhen\",\"RC14001\",\"\")","v":""},{"$f":"IF(VLOOKUP(D329,Sonderbericht!$E$776:$H$882,4,FALSE)=\"bewertung erhöhen\",\"RCMS\",\"\")","v":""}]
[null,null,null,null,"Ihre Bewertung ",null,{"$f":"VLOOKUP(D329,'Technische Seite'!$B$544:$C$548,2,FALSE)","v":2},null,null,null,null,null,null,{"$f":"CONCATENATE(G330,\" = \",HLOOKUP(\" \",'Kapitel 5'!D5:E10,Tipps!G330+2))","v":"2 = Die Organisation hat die relevanten Interessensgruppen identifiziert und ihre Bedürfnisse und Erwartungen festgestellt."}]
[null,null,null,null,"Streben Sie eine Verbesserung an ",null,{"$f":"VLOOKUP(CONCATENATE(D329,$M$3),'Technische Seite'!$BG$544:$BI$563,3,FALSE)","v":"Die Organisation kann ihre Stakeholder einteilen und je nach Einfluss auf Ihre Tätigkeit und ihr Interesse daran in einem Einfluss-/Interesse-Raster für die Priorisierung von Stakeholdern klassifizieren.\nDie Bewertung von Bedürfnissen und Erwartungen von Stakeholdern verlangt die aktive Prüfung von Stakeholder-Interessen und positives Feedback in Bezug auf die Organisation sowie die Berücksichtigung dieses Feedbacks bei der Festlegung von Zielen und Vorgaben."}]
[null,{"$f":"'Kapitel 5'!B12","v":"Externer Dialog und Transparenz"},null,null,null,null,null,null,null,null,null,null,null,{"$f":"IF(L333=8,\"\",\"höhere Punktzahl für :\")","v":""}]
[null,null,null,{"$f":"'Kapitel 5'!C14","v":"F5.2"},{"$f":"'Kapitel 5'!D14","v":"In welcher Weise führt die Organisation einen Dialog mit der Öffentlichkeit, Behörden und anderen interessierten Kreisen (einschließlich örtlichen Gemeinden/Anwohnern und Kunden) über die Leistung ihrer Aktivitäten, Produkte und Dienstleistungen in den Bereichen Gesundheit, Sicherheit, Umwelt, Energie & Nachhaltigkeit?\n"},null,null,null,null,null,null,{"$f":"COUNTBLANK(N333:U333)","v":8},true,{"$f":"IF(VLOOKUP(D333,Sonderbericht!$E$6:$H$112,4,FALSE)=\"bewertung erhöhen\",\"ISO 9001\",\"\")","v":""},{"$f":"IF(VLOOKUP(D333,Sonderbericht!$E$116:$H$222,4,FALSE)=\"bewertung erhöhen\",\"ISO 14001\",\"\")","v":""},{"$f":"IF(VLOOKUP(D333,Sonderbericht!$E$226:$H$332,4,FALSE)=\"bewertung erhöhen\",\"ISO 26000\",\"\")","v":""},{"$f":"IF(VLOOKUP(D333,Sonderbericht!$E$336:$H$552,4,FALSE)=\"bewertung erhöhen\",\"ISO 45001\",\"\")","v":""},{"$f":"IF(VLOOKUP(D333,Sonderbericht!$E$556:$H$662,4,FALSE)=\"bewertung erhöhen\",\"EMAS\",\"\")","v":""},{"$f":"IF(VLOOKUP(D333,Sonderbericht!$E$666:$H$772,4,FALSE)=\"bewertung erhöhen\",\"RC14001\",\"\")","v":""},{"$f":"IF(VLOOKUP(D333,Sonderbericht!$E$776:$H$882,4,FALSE)=\"bewertung erhöhen\",\"RCMS\",\"\")","v":""}]
[null,null,null,null,"Ihre Bewertung ",null,{"$f":"VLOOKUP(D333,'Technische Seite'!$B$544:$C$548,2,FALSE)","v":1},null,null,null,null,null,null,{"$f":"CONCATENATE(G334,\" = \",HLOOKUP(\" \",'Kapitel 5'!D13:E18,Tipps!G334+2))","v":"1 = Die Organisation führt einen Dialog nur in außergewöhnlichen Umständen oder in Reaktion auf Beschwerden."}]
[null,null,null,null,"Streben Sie eine Verbesserung an ",null,{"$f":"VLOOKUP(CONCATENATE(D333,$M$3),'Technische Seite'!$BG$544:$BI$563,3,FALSE)","v":"Im Austausch mit den Stakeholdern ist es für eine Organisation empfehlenswert, einen Dialog mit ihren Stakeholdern zu etablieren, um die Interessen, das Engagement und die mögliche Beteiligung von relevanten Akteuren im entsprechenden Tätigkeitsbereich der Organisation herauszufinden. Das erlaubt es der Organisation, Möglichkeiten für die Ausübung ihrer Tätigkeiten zu erkunden und sie anhand des von den Stakeholdern erhaltenen Feedbacks weiterzuentwickeln."}]
[null,null,null,null,null,null,null,null,null,null,null,null,null,{"$f":"IF(L337=8,\"\",\"höhere Punktzahl für :\")","v":""}]
[null,null,null,{"$f":"'Kapitel 5'!C20","v":"F5.3"},{"$f":"'Kapitel 5'!D20","v":"In welcher Weise vermittelt die Organisation Informationen aus den Bereichen Gesundheit, Sicherheit, Umwelt, Energie & Nachhaltigkeit?"},null,null,null,null,null,null,{"$f":"COUNTBLANK(N337:U337)","v":8},true,{"$f":"IF(VLOOKUP(D337,Sonderbericht!$E$6:$H$112,4,FALSE)=\"bewertung erhöhen\",\"ISO 9001\",\"\")","v":""},{"$f":"IF(VLOOKUP(D337,Sonderbericht!$E$116:$H$222,4,FALSE)=\"bewertung erhöhen\",\"ISO 14001\",\"\")","v":""},{"$f":"IF(VLOOKUP(D337,Sonderbericht!$E$226:$H$332,4,FALSE)=\"bewertung erhöhen\",\"ISO 26000\",\"\")","v":""},{"$f":"IF(VLOOKUP(D337,Sonderbericht!$E$336:$H$552,4,FALSE)=\"bewertung erhöhen\",\"ISO 45001\",\"\")","v":""},{"$f":"IF(VLOOKUP(D337,Sonderbericht!$E$556:$H$662,4,FALSE)=\"bewertung erhöhen\",\"EMAS\",\"\")","v":""},{"$f":"IF(VLOOKUP(D337,Sonderbericht!$E$666:$H$772,4,FALSE)=\"bewertung erhöhen\",\"RC14001\",\"\")","v":""},{"$f":"IF(VLOOKUP(D337,Sonderbericht!$E$776:$H$882,4,FALSE)=\"bewertung erhöhen\",\"RCMS\",\"\")","v":""}]
[null,null,null,null,"Ihre Bewertung ",null,{"$f":"VLOOKUP(D337,'Technische Seite'!$B$544:$C$548,2,FALSE)","v":2},null,null,null,null,null,null,{"$f":"CONCATENATE(G338,\" = \",HLOOKUP(\" \",'Kapitel 5'!D19:E24,Tipps!G338+2))","v":"2 = Die Ergebnisse von Leistungsbewertungen der Organisation werden öffentlich gemacht."}]
[null,null,null,null,"Streben Sie eine Verbesserung an ",null,{"$f":"VLOOKUP(CONCATENATE(D337,$M$3),'Technische Seite'!$BG$544:$BI$563,3,FALSE)","v":"Lassen Sie die Ergebnisse der Leistungsbewertung der Organisation jährlich vor der Veröffentlichung von Dritten prüfen."}]
[null,{"$f":"'Kapitel 5'!B26","v":"Örtliche Gemeinden / Anwohner "},null,null,null,null,null,null,null,null,null,null,null,{"$f":"IF(L341=8,\"\",\"höhere Punktzahl für :\")","v":""}]
[null,null,null,{"$f":"'Kapitel 5'!C28","v":"F5.4"},{"$f":"'Kapitel 5'!D28","v":"In welcher Weise unterstützt die Organisation örtliche Gemeinden/Anwohner („local communities“)?"},null,null,null,null,null,null,{"$f":"COUNTBLANK(N341:U341)","v":8},true,{"$f":"IF(VLOOKUP(D341,Sonderbericht!$E$6:$H$112,4,FALSE)=\"bewertung erhöhen\",\"ISO 9001\",\"\")","v":""},{"$f":"IF(VLOOKUP(D341,Sonderbericht!$E$116:$H$222,4,FALSE)=\"bewertung erhöhen\",\"ISO 14001\",\"\")","v":""},{"$f":"IF(VLOOKUP(D341,Sonderbericht!$E$226:$H$332,4,FALSE)=\"bewertung erhöhen\",\"ISO 26000\",\"\")","v":""},{"$f":"IF(VLOOKUP(D341,Sonderbericht!$E$336:$H$552,4,FALSE)=\"bewertung erhöhen\",\"ISO 45001\",\"\")","v":""},{"$f":"IF(VLOOKUP(D341,Sonderbericht!$E$556:$H$662,4,FALSE)=\"bewertung erhöhen\",\"EMAS\",\"\")","v":""},{"$f":"IF(VLOOKUP(D341,Sonderbericht!$E$666:$H$772,4,FALSE)=\"bewertung erhöhen\",\"RC14001\",\"\")","v":""},{"$f":"IF(VLOOKUP(D341,Sonderbericht!$E$776:$H$882,4,FALSE)=\"bewertung erhöhen\",\"RCMS\",\"\")","v":""}]
[null,null,null,null,"Ihre Bewertung ",null,{"$f":"VLOOKUP(D341,'Technische Seite'!$B$544:$C$548,2,FALSE)","v":1},null,null,null,null,null,null,{"$f":"CONCATENATE(G342,\" = \",HLOOKUP(\" \",'Kapitel 5'!D27:E32,Tipps!G342+2))","v":"1 = Die Organisation erfüllt die für sie geltenden gesetzlichen Anforderungen."}]
[null,null,null,null,"Streben Sie eine Verbesserung an ",null,{"$f":"VLOOKUP(CONCATENATE(D341,$M$3),'Technische Seite'!$BG$544:$BI$563,3,FALSE)","v":"Ermitteln Sie die Ansprüche der lokalen Allgemeinheit und reagieren Sie darauf. Entwickeln Sie einen Dialog mit den lokalen Vertretern in Bezug auf das Wohlbefinden der Anrainer."}]
[null,null,null,null,null,null,null,null,null,null,null,null,null,{"$f":"IF(L345=8,\"\",\"höhere Punktzahl für :\")","v":""}]
[null,null,null,{"$f":"'Kapitel 5'!C34","v":"F5.5"},{"$f":"'Kapitel 5'!D34","v":"In welcher Weise fördert die Organisation Beschäftigung und Bildung vor Ort?"},null,null,null,null,null,null,{"$f":"COUNTBLANK(N345:U345)","v":8},true,{"$f":"IF(VLOOKUP(D345,Sonderbericht!$E$6:$H$112,4,FALSE)=\"bewertung erhöhen\",\"ISO 9001\",\"\")","v":""},{"$f":"IF(VLOOKUP(D345,Sonderbericht!$E$116:$H$222,4,FALSE)=\"bewertung erhöhen\",\"ISO 14001\",\"\")","v":""},{"$f":"IF(VLOOKUP(D345,Sonderbericht!$E$226:$H$332,4,FALSE)=\"bewertung erhöhen\",\"ISO 26000\",\"\")","v":""},{"$f":"IF(VLOOKUP(D345,Sonderbericht!$E$336:$H$552,4,FALSE)=\"bewertung erhöhen\",\"ISO 45001\",\"\")","v":""},{"$f":"IF(VLOOKUP(D345,Sonderbericht!$E$556:$H$662,4,FALSE)=\"bewertung erhöhen\",\"EMAS\",\"\")","v":""},{"$f":"IF(VLOOKUP(D345,Sonderbericht!$E$666:$H$772,4,FALSE)=\"bewertung erhöhen\",\"RC14001\",\"\")","v":""},{"$f":"IF(VLOOKUP(D345,Sonderbericht!$E$776:$H$882,4,FALSE)=\"bewertung erhöhen\",\"RCMS\",\"\")","v":""}]
[null,null,null,null,"Ihre Bewertung ",null,{"$f":"VLOOKUP(D345,'Technische Seite'!$B$544:$C$548,2,FALSE)","v":2},null,null,null,null,null,null,{"$f":"CONCATENATE(G346,\" = \",HLOOKUP(\" \",'Kapitel 5'!D33:E38,Tipps!G346+2))","v":"2 = Die Organisation reagiert auf die spezifischen Forderungen/Anforderungen örtlicher Schulen und Arbeitsorganisationen. Es besteht ein Dialog mit örtlichen Vertretern."}]
[null,null,null,null,"Streben Sie eine Verbesserung an ",null,{"$f":"VLOOKUP(CONCATENATE(D345,$M$3),'Technische Seite'!$BG$544:$BI$563,3,FALSE)","v":"Leisten Sie einen Beitrag zur lokalen Beschäftigung und unterstützen Sie lokale Schulen: bei Rekrutierungen, durch die Einstellung von Praktikanten aus lokalen Schulen, durch die Teilnahme an schulischen Aktivitäten…"}]
[]
[null,null,"KAPITEL 6","Beitrag zur Nachhaltigkeit"]
[null,{"$f":"'Kapitel 6'!B4","v":"Nachhaltige Entwicklung"},null,null,null,null,null,null,null,null,null,null,null,{"$f":"IF(L351=8,\"\",\"höhere Punktzahl für :\")","v":""}]
[null,null,{"$f":"IF(VLOOKUP(D351,'Technische Seite'!$AO$584:$AQ$600,3,0)=\"OK\",\"\",\"die wichtigste Frage\")","v":""},{"$f":"'Kapitel 6'!C6","v":"F6.1"},{"$f":"'Kapitel 6'!D6","v":"Wie definiert das Unternehmen relevante Themen und Wesentlichkeiten?"},null,null,null,null,null,null,{"$f":"COUNTBLANK(N351:U351)","v":8},true,{"$f":"IF(VLOOKUP(D351,Sonderbericht!$E$6:$H$112,4,FALSE)=\"bewertung erhöhen\",\"ISO 9001\",\"\")","v":""},{"$f":"IF(VLOOKUP(D351,Sonderbericht!$E$116:$H$222,4,FALSE)=\"bewertung erhöhen\",\"ISO 14001\",\"\")","v":""},{"$f":"IF(VLOOKUP(D351,Sonderbericht!$E$226:$H$332,4,FALSE)=\"bewertung erhöhen\",\"ISO 26000\",\"\")","v":""},{"$f":"IF(VLOOKUP(D351,Sonderbericht!$E$336:$H$552,4,FALSE)=\"bewertung erhöhen\",\"ISO 45001\",\"\")","v":""},{"$f":"IF(VLOOKUP(D351,Sonderbericht!$E$556:$H$662,4,FALSE)=\"bewertung erhöhen\",\"EMAS\",\"\")","v":""},{"$f":"IF(VLOOKUP(D351,Sonderbericht!$E$666:$H$772,4,FALSE)=\"bewertung erhöhen\",\"RC14001\",\"\")","v":""},{"$f":"IF(VLOOKUP(D351,Sonderbericht!$E$776:$H$882,4,FALSE)=\"bewertung erhöhen\",\"RCMS\",\"\")","v":""}]
[null,null,null,null,"Ihre Bewertung ",null,{"$f":"VLOOKUP(D351,'Technische Seite'!$B$584:$C$600,2,FALSE)","v":2},null,null,null,null,null,null,{"$f":"CONCATENATE(G352,\" = \",HLOOKUP(\" \",'Kapitel 6'!D5:E12,Tipps!G352+2))","v":"2 = Das Unternehmen hat seine gesellschaftlichen, ökonomischen und ökologischen Themen, die Risiken bzw. Möglichkeiten für das Unternehmen darstellen, identifiziert,  orientiert an den vorhandenen Sektor-Roadmaps \nz.B. die Sektor-Roadmap des WBCSD (Weltwirtschaftsrat für Nachhaltige Entwicklung) :  https://www.wbcsd.org/Programs/People/Sustainable-Development-Goals/SDG-Sector-Roadmaps/Resources/SDG-Sector-Roadmaps."}]
[null,null,null,null,"Streben Sie eine Verbesserung an ",null,{"$f":"VLOOKUP(CONCATENATE(D351,$M$3),'Technische Seite'!$BG$584:$BI$651,3,FALSE)","v":"Nachdem Sie die Stakeholder identifiziert und diese einbezogen haben, legen Sie fest, welche (gesellschaftlichen, wirtschaftlichen und ökologischen) Nachhaltigkeitsindikatoren gemessen werden sollen, sodass Sie tatsächlich die gewünschten und notwendigen Erkenntnisse erhalten; Sie können zu diesem Zweck die vorhandenen Sektor-Roadmaps (Link zum Sektor-Roadmap des WBCSD: https://www.wbcsd.org/Programs/People/Sustainable-Development-Goals/SDG-Sector-Roadmaps/Resources/SDG-Sector-Roadmaps), die Nachhaltigkeitscharta (Link zur Cefic-Charta: https://chemistrycan.com/app/uploads/2017/10/Cefic-Sustainability-Charter-signed.pdf) und die Grundsätze (Link zu ACC-Grundsätzen: https://www.americanchemistry.com/Sustainability/Principles.html) nutzen."}]
[null,null,null,null,null,null,null,null,null,null,null,null,null,{"$f":"IF($G$352=2,'Technische Seite'!$BL$585,\"\")","v":"https://www.wbcsd.org/Programs/People/Sustainable-Development-Goals/SDG-Sector-Roadmaps/Resources/SDG-Sector-Roadmaps"}]
[null,null,null,null,null,null,null,null,null,null,null,null,null,{"$f":"IF($G$352=2,'Technische Seite'!$BL$586,\"\")","v":"https://cefic.org/app/uploads/2019/01/Cefic-Sustainability-Charter-TeamingUp-For-A-SustainableEurope.pdf"}]
[null,null,null,null,null,null,null,null,null,null,null,null,null,{"$f":"IF($G$352=2,'Technische Seite'!$BL$587,\"\")","v":"https://www.americanchemistry.com/Sustainability/Principles.html"}]
[null,{"$f":"'Kapitel 6'!B14","v":"Nachhaltige Entwicklung"},null,null,null,null,null,null,null,null,null,null,null,{"$f":"IF(L358=8,\"\",\"höhere Punktzahl für :\")","v":""}]
[null,null,{"$f":"IF(VLOOKUP(D358,'Technische Seite'!$AO$584:$AQ$600,3,0)=\"OK\",\"\",\"die wichtigste Frage\")","v":""},{"$f":"'Kapitel 6'!C16","v":"F6.2"},{"$f":"'Kapitel 6'!D16","v":"Welche Pläne hat die Organisation zum Beitrag für eine nachhaltige Entwicklung? "},null,null,null,null,null,null,{"$f":"COUNTBLANK(N358:U358)","v":8},true,{"$f":"IF(VLOOKUP(D358,Sonderbericht!$E$6:$H$112,4,FALSE)=\"bewertung erhöhen\",\"ISO 9001\",\"\")","v":""},{"$f":"IF(VLOOKUP(D358,Sonderbericht!$E$116:$H$222,4,FALSE)=\"bewertung erhöhen\",\"ISO 14001\",\"\")","v":""},{"$f":"IF(VLOOKUP(D358,Sonderbericht!$E$226:$H$332,4,FALSE)=\"bewertung erhöhen\",\"ISO 26000\",\"\")","v":""},{"$f":"IF(VLOOKUP(D358,Sonderbericht!$E$336:$H$552,4,FALSE)=\"bewertung erhöhen\",\"ISO 45001\",\"\")","v":""},{"$f":"IF(VLOOKUP(D358,Sonderbericht!$E$556:$H$662,4,FALSE)=\"bewertung erhöhen\",\"EMAS\",\"\")","v":""},{"$f":"IF(VLOOKUP(D358,Sonderbericht!$E$666:$H$772,4,FALSE)=\"bewertung erhöhen\",\"RC14001\",\"\")","v":""},{"$f":"IF(VLOOKUP(D358,Sonderbericht!$E$776:$H$882,4,FALSE)=\"bewertung erhöhen\",\"RCMS\",\"\")","v":""}]
[null,null,null,null,"Ihre Bewertung ",null,{"$f":"VLOOKUP(D358,'Technische Seite'!$B$584:$C$600,2,FALSE)","v":1},null,null,null,null,null,null,{"$f":"CONCATENATE(G359,\" = \",HLOOKUP(\" \",'Kapitel 6'!D15:E20,Tipps!G359+2))","v":"1 = Die Organisation erfüllt ihre gesetzlichen Verpflichtungen, engagiert sich aber nicht für nachhaltige Entwicklung."}]
[null,null,null,null,"Streben Sie eine Verbesserung an ",null,{"$f":"VLOOKUP(CONCATENATE(D358,$M$3),'Technische Seite'!$BG$584:$BI$651,3,FALSE)","v":"Bilden Sie die Beiträge der Organisation zu den SDG ab."}]
[null,null,null,null,null,null,null,null,null,null,null,null,null,{"$f":"IF($G$359=2,'Technische Seite'!$BL$589,\"\")","v":""}]
[null,null,null,null,null,null,null,null,null,null,null,null,null,{"$f":"IF($G$359=2,'Technische Seite'!$BL$590,\"\")","v":""}]
[null,null,null,null,null,null,null,null,null,null,null,null,null,{"$f":"IF($G$359=2,'Technische Seite'!$BL$591,\"\")","v":""}]
[null,{"$f":"'Kapitel 6'!B22","v":"Kommunikation"},null,null,null,null,null,null,null,null,null,null,null,{"$f":"IF(L365=8,\"\",\"höhere Punktzahl für :\")","v":""}]
[null,null,{"$f":"IF(VLOOKUP(D365,'Technische Seite'!$AO$584:$AQ$600,3,0)=\"OK\",\"\",\"die wichtigste Frage\")","v":""},{"$f":"'Kapitel 6'!C24","v":"F6.3"},{"$f":"'Kapitel 6'!D24","v":"Wie steht es bei der Organisation mit der Einbeziehung von Stakeholdern bei Nachhaltigkeit?"},null,null,null,null,null,null,{"$f":"COUNTBLANK(N365:U365)","v":8},true,{"$f":"IF(VLOOKUP(D365,Sonderbericht!$E$6:$H$112,4,FALSE)=\"bewertung erhöhen\",\"ISO 9001\",\"\")","v":""},{"$f":"IF(VLOOKUP(D365,Sonderbericht!$E$116:$H$222,4,FALSE)=\"bewertung erhöhen\",\"ISO 14001\",\"\")","v":""},{"$f":"IF(VLOOKUP(D365,Sonderbericht!$E$226:$H$332,4,FALSE)=\"bewertung erhöhen\",\"ISO 26000\",\"\")","v":""},{"$f":"IF(VLOOKUP(D365,Sonderbericht!$E$336:$H$552,4,FALSE)=\"bewertung erhöhen\",\"ISO 45001\",\"\")","v":""},{"$f":"IF(VLOOKUP(D365,Sonderbericht!$E$556:$H$662,4,FALSE)=\"bewertung erhöhen\",\"EMAS\",\"\")","v":""},{"$f":"IF(VLOOKUP(D365,Sonderbericht!$E$666:$H$772,4,FALSE)=\"bewertung erhöhen\",\"RC14001\",\"\")","v":""},{"$f":"IF(VLOOKUP(D365,Sonderbericht!$E$776:$H$882,4,FALSE)=\"bewertung erhöhen\",\"RCMS\",\"\")","v":""}]
[null,null,null,null,"Ihre Bewertung ",null,{"$f":"VLOOKUP(D365,'Technische Seite'!$B$584:$C$600,2,FALSE)","v":1},null,null,null,null,null,null,{"$f":"CONCATENATE(G366,\" = \",HLOOKUP(\" \",'Kapitel 6'!D23:E28,Tipps!G366+2))","v":"1 = Die Organisation erfüllt ihre gesetzlichen Verpflichtungen, engagiert sich aber nicht für Nachhaltigkeitsthemen."}]
[null,null,null,null,"Streben Sie eine Verbesserung an ",null,{"$f":"VLOOKUP(CONCATENATE(D365,$M$3),'Technische Seite'!$BG$584:$BI$651,3,FALSE)","v":"Engagieren Sie sich intern für Nachhaltigkeitsthemen auf einfache, direkte und präzise Weise.\nDurch klare und konsistente interne Kommunikation wird Nachhaltigkeit zu einem festen Bestandteil Ihrer Unternehmenskultur — einer Kultur, auf die Ihre Mitarbeiter stolz sein können und die ihre Zufriedenheit erhöht.\n\nBy communicating internally in a clear and consistent fashion, sustainability becomes an ingrained part of your organisation's culture — one that your employees can take pride in, increasing their satisfaction."}]
[null,{"$f":"'Kapitel 6'!B30","v":"Nachhaltiges Portfolio"},null,null,null,null,null,null,null,null,null,null,null,{"$f":"IF(L369=8,\"\",\"höhere Punktzahl für :\")","v":""}]
[null,null,{"$f":"IF(VLOOKUP(D369,'Technische Seite'!$AO$584:$AQ$600,3,0)=\"OK\",\"\",\"die wichtigste Frage\")","v":""},{"$f":"'Kapitel 6'!C32","v":"F6.4"},{"$f":"'Kapitel 6'!D32","v":"Verfügt die Organisation über einen Prozess für die Entwicklung von Produkten mit besseren Nachhaltigkeitsergebnissen?"},null,null,null,null,null,null,{"$f":"COUNTBLANK(N369:U369)","v":8},true,{"$f":"IF(VLOOKUP(D369,Sonderbericht!$E$6:$H$112,4,FALSE)=\"bewertung erhöhen\",\"ISO 9001\",\"\")","v":""},{"$f":"IF(VLOOKUP(D369,Sonderbericht!$E$116:$H$222,4,FALSE)=\"bewertung erhöhen\",\"ISO 14001\",\"\")","v":""},{"$f":"IF(VLOOKUP(D369,Sonderbericht!$E$226:$H$332,4,FALSE)=\"bewertung erhöhen\",\"ISO 26000\",\"\")","v":""},{"$f":"IF(VLOOKUP(D369,Sonderbericht!$E$336:$H$552,4,FALSE)=\"bewertung erhöhen\",\"ISO 45001\",\"\")","v":""},{"$f":"IF(VLOOKUP(D369,Sonderbericht!$E$556:$H$662,4,FALSE)=\"bewertung erhöhen\",\"EMAS\",\"\")","v":""},{"$f":"IF(VLOOKUP(D369,Sonderbericht!$E$666:$H$772,4,FALSE)=\"bewertung erhöhen\",\"RC14001\",\"\")","v":""},{"$f":"IF(VLOOKUP(D369,Sonderbericht!$E$776:$H$882,4,FALSE)=\"bewertung erhöhen\",\"RCMS\",\"\")","v":""}]
[null,null,null,null,"Ihre Bewertung ",null,{"$f":"VLOOKUP(D369,'Technische Seite'!$B$584:$C$600,2,FALSE)","v":1},null,null,null,null,null,null,{"$f":"CONCATENATE(G370,\" = \",HLOOKUP(\" \",'Kapitel 6'!D31:E36,Tipps!G370+2))","v":"1 = Überlegungen zur Nachhaltigkeit werden bei der Entwicklung von Produkten nicht systematisch einbezogen."}]
[null,null,null,null,"Streben Sie eine Verbesserung an ",null,{"$f":"VLOOKUP(CONCATENATE(D369,$M$3),'Technische Seite'!$BG$584:$BI$651,3,FALSE)","v":"Eine Anleitung, wie ein Prozess zur Gestaltung von Produkten mit verbesserten Nachhaltigkeitsergebnissen eingerichtet werden kann, ist unter https://www.wbcsd.org/contentwbc/download/5870/80216 zu finden"}]
[null,{"$f":"'Kapitel 6'!B38","v":"Ressourceneffizienz / Kreislaufwirtschaft"},null,null,null,null,null,null,null,null,null,null,null,{"$f":"IF(L373=8,\"\",\"höhere Punktzahl für :\")","v":""}]
[null,null,{"$f":"IF(VLOOKUP(D373,'Technische Seite'!$AO$584:$AQ$600,3,0)=\"OK\",\"\",\"die wichtigste Frage\")","v":""},{"$f":"'Kapitel 6'!C40","v":"F6.5"},{"$f":"'Kapitel 6'!D40","v":"Wie verbessert die Organisation die Ressourceneffizienz in ihren Produktionsprozessen? "},null,null,null,null,null,null,{"$f":"COUNTBLANK(N373:U373)","v":8},true,{"$f":"IF(VLOOKUP(D373,Sonderbericht!$E$6:$H$112,4,FALSE)=\"bewertung erhöhen\",\"ISO 9001\",\"\")","v":""},{"$f":"IF(VLOOKUP(D373,Sonderbericht!$E$116:$H$222,4,FALSE)=\"bewertung erhöhen\",\"ISO 14001\",\"\")","v":""},{"$f":"IF(VLOOKUP(D373,Sonderbericht!$E$226:$H$332,4,FALSE)=\"bewertung erhöhen\",\"ISO 26000\",\"\")","v":""},{"$f":"IF(VLOOKUP(D373,Sonderbericht!$E$336:$H$552,4,FALSE)=\"bewertung erhöhen\",\"ISO 45001\",\"\")","v":""},{"$f":"IF(VLOOKUP(D373,Sonderbericht!$E$556:$H$662,4,FALSE)=\"bewertung erhöhen\",\"EMAS\",\"\")","v":""},{"$f":"IF(VLOOKUP(D373,Sonderbericht!$E$666:$H$772,4,FALSE)=\"bewertung erhöhen\",\"RC14001\",\"\")","v":""},{"$f":"IF(VLOOKUP(D373,Sonderbericht!$E$776:$H$882,4,FALSE)=\"bewertung erhöhen\",\"RCMS\",\"\")","v":""}]
[null,null,null,null,"Ihre Bewertung ",null,{"$f":"VLOOKUP(D373,'Technische Seite'!$B$584:$C$600,2,FALSE)","v":1},null,null,null,null,null,null,{"$f":"CONCATENATE(G374,\" = \",HLOOKUP(\" \",'Kapitel 6'!D39:E44,Tipps!G374+2))","v":"1 = Die Organisation hält die gesetzlichen Vorschriften zur Überwachung ein, hat aber keinen besonderen Schwerpunkt bei der Verbesserung der Ressourceneffizienz in ihren Produktionsprozessen."}]
[null,null,null,null,"Streben Sie eine Verbesserung an ",null,{"$f":"VLOOKUP(CONCATENATE(D373,$M$3),'Technische Seite'!$BG$584:$BI$651,3,FALSE)","v":"Einführung eines Systems zur Messung der Ressourceneffizienz in den Produktions-prozessen des Unternehmens.\nEinführung einer Einkaufspolitik, die eine Kreislaufwirtschaft begünstigt (z. B. Bevorzugung von Produkten mit Ökodesign, biobasierten oder sekundären Rohstoffen sowie Förderung der Wiederverwendung)."}]
[null,null,null,null,null,null,null,null,null,null,null,null,null,{"$f":"IF(L377=8,\"\",\"höhere Punktzahl für :\")","v":""}]
[null,null,{"$f":"IF(VLOOKUP(D377,'Technische Seite'!$AO$584:$AQ$600,3,0)=\"OK\",\"\",\"die wichtigste Frage\")","v":""},{"$f":"'Kapitel 6'!C46","v":"F6.6"},{"$f":"'Kapitel 6'!D46","v":"Wie fördert die Organisation die Kreislaufwirtschaft durch ihre Produkte?"},null,null,null,null,null,null,{"$f":"COUNTBLANK(N377:U377)","v":8},true,{"$f":"IF(VLOOKUP(D377,Sonderbericht!$E$6:$H$112,4,FALSE)=\"bewertung erhöhen\",\"ISO 9001\",\"\")","v":""},{"$f":"IF(VLOOKUP(D377,Sonderbericht!$E$116:$H$222,4,FALSE)=\"bewertung erhöhen\",\"ISO 14001\",\"\")","v":""},{"$f":"IF(VLOOKUP(D377,Sonderbericht!$E$226:$H$332,4,FALSE)=\"bewertung erhöhen\",\"ISO 26000\",\"\")","v":""},{"$f":"IF(VLOOKUP(D377,Sonderbericht!$E$336:$H$552,4,FALSE)=\"bewertung erhöhen\",\"ISO 45001\",\"\")","v":""},{"$f":"IF(VLOOKUP(D377,Sonderbericht!$E$556:$H$662,4,FALSE)=\"bewertung erhöhen\",\"EMAS\",\"\")","v":""},{"$f":"IF(VLOOKUP(D377,Sonderbericht!$E$666:$H$772,4,FALSE)=\"bewertung erhöhen\",\"RC14001\",\"\")","v":""},{"$f":"IF(VLOOKUP(D377,Sonderbericht!$E$776:$H$882,4,FALSE)=\"bewertung erhöhen\",\"RCMS\",\"\")","v":""}]
[null,null,null,null,"Ihre Bewertung ",null,{"$f":"VLOOKUP(D377,'Technische Seite'!$B$584:$C$600,2,FALSE)","v":1},null,null,null,null,null,null,{"$f":"CONCATENATE(G378,\" = \",HLOOKUP(\" \",'Kapitel 6'!D45:E50,Tipps!G378+2))","v":"1 = Die Organisation hält die gesetzlichen Vorschriften zur Überwachung ein, hat aber keinen besonderen Schwerpunkt bei der Kreislaufwirtschaft."}]
[null,null,null,null,"Streben Sie eine Verbesserung an ",null,{"$f":"VLOOKUP(CONCATENATE(D377,$M$3),'Technische Seite'!$BG$584:$BI$651,3,FALSE)","v":"Untersuchen und identifizieren Sie die Recyclingfähigkeit und Haltbarkeit der Produkte und planen Sie Verbesserungen im Produktdesignprozess zu diesen Aspekten."}]
[null,null,null,null,null,null,null,null,null,null,null,null,null,{"$f":"IF(L381=8,\"\",\"höhere Punktzahl für :\")","v":""}]
[null,null,{"$f":"IF(VLOOKUP(D381,'Technische Seite'!$AO$584:$AQ$600,3,0)=\"OK\",\"\",\"die wichtigste Frage\")","v":""},{"$f":"'Kapitel 6'!C52","v":"F6.7"},{"$f":"'Kapitel 6'!D52","v":"Wie fördert die Organisation Innovation für die Entwicklung von Produkten und Lösungen, die mit den Herausforderungen der Nachhaltigkeit in Einklang stehen?"},null,null,null,null,null,null,{"$f":"COUNTBLANK(N381:U381)","v":8},true,{"$f":"IF(VLOOKUP(D381,Sonderbericht!$E$6:$H$112,4,FALSE)=\"bewertung erhöhen\",\"ISO 9001\",\"\")","v":""},{"$f":"IF(VLOOKUP(D381,Sonderbericht!$E$116:$H$222,4,FALSE)=\"bewertung erhöhen\",\"ISO 14001\",\"\")","v":""},{"$f":"IF(VLOOKUP(D381,Sonderbericht!$E$226:$H$332,4,FALSE)=\"bewertung erhöhen\",\"ISO 26000\",\"\")","v":""},{"$f":"IF(VLOOKUP(D381,Sonderbericht!$E$336:$H$552,4,FALSE)=\"bewertung erhöhen\",\"ISO 45001\",\"\")","v":""},{"$f":"IF(VLOOKUP(D381,Sonderbericht!$E$556:$H$662,4,FALSE)=\"bewertung erhöhen\",\"EMAS\",\"\")","v":""},{"$f":"IF(VLOOKUP(D381,Sonderbericht!$E$666:$H$772,4,FALSE)=\"bewertung erhöhen\",\"RC14001\",\"\")","v":""},{"$f":"IF(VLOOKUP(D381,Sonderbericht!$E$776:$H$882,4,FALSE)=\"bewertung erhöhen\",\"RCMS\",\"\")","v":""}]
[null,null,null,null,"Ihre Bewertung ",null,{"$f":"VLOOKUP(D381,'Technische Seite'!$B$584:$C$600,2,FALSE)","v":1},null,null,null,null,null,null,{"$f":"CONCATENATE(G382,\" = \",HLOOKUP(\" \",'Kapitel 6'!D51:E56,Tipps!G382+2))","v":"1 = Innovationsinvestitionen konzentrieren sich auf die nötigen Verbesserungen für die Einhaltung der geltenden gesetzlichen Bestimmungen."}]
[null,null,null,null,"Streben Sie eine Verbesserung an ",null,{"$f":"VLOOKUP(CONCATENATE(D381,$M$3),'Technische Seite'!$BG$584:$BI$651,3,FALSE)","v":"Berücksichtigen Sie bei der Bewertung von Innovationsprojekten die Kriterien zur Verbesserung der sozialen oder ökologischen Auswirkungen."}]
[null,null,null,null,null,null,null,null,null,null,null,null,null,{"$f":"IF(L385=8,\"\",\"höhere Punktzahl für :\")","v":""}]
[null,null,{"$f":"IF(VLOOKUP(D385,'Technische Seite'!$AO$584:$AQ$600,3,0)=\"OK\",\"\",\"die wichtigste Frage\")","v":""},{"$f":"'Kapitel 6'!C58","v":"F6.8"},{"$f":"'Kapitel 6'!D58","v":"Wie fördert die Organisation Innovationspanels und Kooperationen?"},null,null,null,null,null,null,{"$f":"COUNTBLANK(N385:U385)","v":8},true,{"$f":"IF(VLOOKUP(D385,Sonderbericht!$E$6:$H$112,4,FALSE)=\"bewertung erhöhen\",\"ISO 9001\",\"\")","v":""},{"$f":"IF(VLOOKUP(D385,Sonderbericht!$E$116:$H$222,4,FALSE)=\"bewertung erhöhen\",\"ISO 14001\",\"\")","v":""},{"$f":"IF(VLOOKUP(D385,Sonderbericht!$E$226:$H$332,4,FALSE)=\"bewertung erhöhen\",\"ISO 26000\",\"\")","v":""},{"$f":"IF(VLOOKUP(D385,Sonderbericht!$E$336:$H$552,4,FALSE)=\"bewertung erhöhen\",\"ISO 45001\",\"\")","v":""},{"$f":"IF(VLOOKUP(D385,Sonderbericht!$E$556:$H$662,4,FALSE)=\"bewertung erhöhen\",\"EMAS\",\"\")","v":""},{"$f":"IF(VLOOKUP(D385,Sonderbericht!$E$666:$H$772,4,FALSE)=\"bewertung erhöhen\",\"RC14001\",\"\")","v":""},{"$f":"IF(VLOOKUP(D385,Sonderbericht!$E$776:$H$882,4,FALSE)=\"bewertung erhöhen\",\"RCMS\",\"\")","v":""}]
[null,null,null,null,"Ihre Bewertung ",null,{"$f":"VLOOKUP(D385,'Technische Seite'!$B$584:$C$600,2,FALSE)","v":1},null,null,null,null,null,null,{"$f":"CONCATENATE(G386,\" = \",HLOOKUP(\" \",'Kapitel 6'!D57:E62,Tipps!G386+2))","v":"1 = Die Organisation erfüllt ihre gesetzlichen Verpflichtungen, hat aber keinen Schwerpunkt zu diesen Themen."}]
[null,null,null,null,"Streben Sie eine Verbesserung an ",null,{"$f":"VLOOKUP(CONCATENATE(D385,$M$3),'Technische Seite'!$BG$584:$BI$651,3,FALSE)","v":"Verfolgen Sie die Ergebnisse der bestehenden Innovationspanels und Kooperationen."}]
[null,null,null,null,null,null,null,null,null,null,null,null,null,{"$f":"IF(L389=8,\"\",\"höhere Punktzahl für :\")","v":""}]
[null,null,{"$f":"IF(VLOOKUP(D389,'Technische Seite'!$AO$584:$AQ$600,3,0)=\"OK\",\"\",\"die wichtigste Frage\")","v":""},{"$f":"'Kapitel 6'!C64","v":"F6.9"},{"$f":"'Kapitel 6'!D64","v":"Wie fördert die Organisation nachhaltiges Verbrauchsverhalten?"},null,null,null,null,null,null,{"$f":"COUNTBLANK(N389:U389)","v":8},true,{"$f":"IF(VLOOKUP(D389,Sonderbericht!$E$6:$H$112,4,FALSE)=\"bewertung erhöhen\",\"ISO 9001\",\"\")","v":""},{"$f":"IF(VLOOKUP(D389,Sonderbericht!$E$116:$H$222,4,FALSE)=\"bewertung erhöhen\",\"ISO 14001\",\"\")","v":""},{"$f":"IF(VLOOKUP(D389,Sonderbericht!$E$226:$H$332,4,FALSE)=\"bewertung erhöhen\",\"ISO 26000\",\"\")","v":""},{"$f":"IF(VLOOKUP(D389,Sonderbericht!$E$336:$H$552,4,FALSE)=\"bewertung erhöhen\",\"ISO 45001\",\"\")","v":""},{"$f":"IF(VLOOKUP(D389,Sonderbericht!$E$556:$H$662,4,FALSE)=\"bewertung erhöhen\",\"EMAS\",\"\")","v":""},{"$f":"IF(VLOOKUP(D389,Sonderbericht!$E$666:$H$772,4,FALSE)=\"bewertung erhöhen\",\"RC14001\",\"\")","v":""},{"$f":"IF(VLOOKUP(D389,Sonderbericht!$E$776:$H$882,4,FALSE)=\"bewertung erhöhen\",\"RCMS\",\"\")","v":""}]
[null,null,null,null,"Ihre Bewertung ",null,{"$f":"VLOOKUP(D389,'Technische Seite'!$B$584:$C$600,2,FALSE)","v":2},null,null,null,null,null,null,{"$f":"CONCATENATE(G390,\" = \",HLOOKUP(\" \",'Kapitel 6'!D63:E68,Tipps!G390+2))","v":"2 = Die Organisation kennt die Auswirkungen ihrer Herstellungsvorgänge und informiert ihre Kunden."}]
[null,null,null,null,"Streben Sie eine Verbesserung an ",null,{"$f":"VLOOKUP(CONCATENATE(D389,$M$3),'Technische Seite'!$BG$584:$BI$651,3,FALSE)","v":"Arbeiten Sie mit Kollegen und Partnern der chemischen Industrie zusammen, um nachhaltige Verbrauchsmuster zu unterstützen."}]
[null,{"$f":"'Kapitel 6'!B70","v":"Wasserverbrauch"},null,null,null,null,null,null,null,null,null,null,null,{"$f":"IF(L393=8,\"\",\"höhere Punktzahl für :\")","v":""}]
[null,null,{"$f":"IF(VLOOKUP(D393,'Technische Seite'!$AO$584:$AQ$600,3,0)=\"OK\",\"\",\"die wichtigste Frage\")","v":""},{"$f":"'Kapitel 6'!C72","v":"F6.10"},{"$f":"'Kapitel 6'!D72","v":"Wie kontrolliert und optimiert die Organisation den Wasserverbrauch?"},null,null,null,null,null,null,{"$f":"COUNTBLANK(N393:U393)","v":8},true,{"$f":"IF(VLOOKUP(D393,Sonderbericht!$E$6:$H$112,4,FALSE)=\"bewertung erhöhen\",\"ISO 9001\",\"\")","v":""},{"$f":"IF(VLOOKUP(D393,Sonderbericht!$E$116:$H$222,4,FALSE)=\"bewertung erhöhen\",\"ISO 14001\",\"\")","v":""},{"$f":"IF(VLOOKUP(D393,Sonderbericht!$E$226:$H$332,4,FALSE)=\"bewertung erhöhen\",\"ISO 26000\",\"\")","v":""},{"$f":"IF(VLOOKUP(D393,Sonderbericht!$E$336:$H$552,4,FALSE)=\"bewertung erhöhen\",\"ISO 45001\",\"\")","v":""},{"$f":"IF(VLOOKUP(D393,Sonderbericht!$E$556:$H$662,4,FALSE)=\"bewertung erhöhen\",\"EMAS\",\"\")","v":""},{"$f":"IF(VLOOKUP(D393,Sonderbericht!$E$666:$H$772,4,FALSE)=\"bewertung erhöhen\",\"RC14001\",\"\")","v":""},{"$f":"IF(VLOOKUP(D393,Sonderbericht!$E$776:$H$882,4,FALSE)=\"bewertung erhöhen\",\"RCMS\",\"\")","v":""}]
[null,null,null,null,"Ihre Bewertung ",null,{"$f":"VLOOKUP(D393,'Technische Seite'!$B$584:$C$600,2,FALSE)","v":1},null,null,null,null,null,null,{"$f":"CONCATENATE(G394,\" = \",HLOOKUP(\" \",'Kapitel 6'!D71:E76,Tipps!G394+2))","v":"1 = Die Organisation erfüllt ihre gesetzlichen Verpflichtungen im Hinblick auf die Überwachung (nur den Verbrauch betreffend)."}]
[null,null,null,null,"Streben Sie eine Verbesserung an ",null,{"$f":"VLOOKUP(CONCATENATE(D393,$M$3),'Technische Seite'!$BG$584:$BI$651,3,FALSE)","v":"Bauen Sie ein Programm zur Reduzierung des Wasserverbrauchs auf und berichten Sie über die Ergebnisse dieses Plans und Aufzeichnungen Ihrer Organisation über den Wasserverbrauch.\nZu guten Ansätzen für den Umgang mit Wasser gehören u. a.: EWS-https://ews.info/ und CDP – Wasser- https://www.cdp.net/en/water"}]
[null,null,null,null,null,null,null,null,null,null,null,null,null,{"$f":"IF(G394<4,'Technische Seite'!$BL$621,\"\")","v":"https://ews.info/"}]
[null,null,null,null,null,null,null,null,null,null,null,null,null,{"$f":"IF(G394<4,'Technische Seite'!$BL$622,\"\")","v":"https://www.cdp.net/en/water"}]
[null,{"$f":"'Kapitel 6'!B78","v":"Landnutzung und Biodiversität"},null,null,null,null,null,null,null,null,null,null,null,{"$f":"IF(L399=8,\"\",\"höhere Punktzahl für :\")","v":""}]
[null,null,{"$f":"IF(VLOOKUP(D399,'Technische Seite'!$AO$584:$AQ$600,3,0)=\"OK\",\"\",\"die wichtigste Frage\")","v":""},{"$f":"'Kapitel 6'!C80","v":"F6.11"},{"$f":"'Kapitel 6'!D80","v":"Wie werden die Auswirkungen der Organisation auf die Biodiversität und die Ökosystemleistungen gehandhabt?"},null,null,null,null,null,null,{"$f":"COUNTBLANK(N399:U399)","v":8},true,{"$f":"IF(VLOOKUP(D399,Sonderbericht!$E$6:$H$112,4,FALSE)=\"bewertung erhöhen\",\"ISO 9001\",\"\")","v":""},{"$f":"IF(VLOOKUP(D399,Sonderbericht!$E$116:$H$222,4,FALSE)=\"bewertung erhöhen\",\"ISO 14001\",\"\")","v":""},{"$f":"IF(VLOOKUP(D399,Sonderbericht!$E$226:$H$332,4,FALSE)=\"bewertung erhöhen\",\"ISO 26000\",\"\")","v":""},{"$f":"IF(VLOOKUP(D399,Sonderbericht!$E$336:$H$552,4,FALSE)=\"bewertung erhöhen\",\"ISO 45001\",\"\")","v":""},{"$f":"IF(VLOOKUP(D399,Sonderbericht!$E$556:$H$662,4,FALSE)=\"bewertung erhöhen\",\"EMAS\",\"\")","v":""},{"$f":"IF(VLOOKUP(D399,Sonderbericht!$E$666:$H$772,4,FALSE)=\"bewertung erhöhen\",\"RC14001\",\"\")","v":""},{"$f":"IF(VLOOKUP(D399,Sonderbericht!$E$776:$H$882,4,FALSE)=\"bewertung erhöhen\",\"RCMS\",\"\")","v":""}]
[null,null,null,null,"Ihre Bewertung ",null,{"$f":"VLOOKUP(D399,'Technische Seite'!$B$584:$C$600,2,FALSE)","v":1},null,null,null,null,null,null,{"$f":"CONCATENATE(G400,\" = \",HLOOKUP(\" \",'Kapitel 6'!D79:E84,Tipps!G400+2))","v":"1 = Die Organisation hat abgesehen von den gesetzlichen Vorschriften keinen Schwerpunkt zu diesem Thema."}]
[null,null,null,null,"Streben Sie eine Verbesserung an ",null,{"$f":"VLOOKUP(CONCATENATE(D399,$M$3),'Technische Seite'!$BG$584:$BI$651,3,FALSE)","v":"Analysieren Sie die Auswirkungen der Produktion und der Produkte an dem bzw. den Standorten Ihrer Organisation auf die biologische Vielfalt und stellen Sie einen Aktionsplan auf, um diese Auswirkungen zu beschränken (einschließlich der Auswirkungen Ihrer Organisation auf die Zerstörung des Waldes, wie z. B. durch Reduzierung des Papierverbrauchs). Erstellen Sie eine ökologische Bestandsaufnahme der Standorte und Produkte Ihrer Organisation und ermitteln Sie die spezifischen Empfindlichkeiten der Umgebung. \nMögliche Maßnahmen: \n- Schaffen Sie neue Lebensräume und ökologische Kontinuität mit den umliegenden Flächen;\n- Installieren Sie ein grünes Dach und fördern Sie das ökologische Management von Flächen;\n- Ergreifen Sie Maßnahmen zur Förderung der biologischen Vielfalt (wie z. B. Niederwald, Insektenhaus usw.)\nWertvolle Hinweise sind u. a. unter  http://www.teebweb.org/areas-of-work/teeb-for-business/ zu finden"}]
[null,null,null,null,null,null,null,null,null,null,null,null,null,{"$f":"IF(L403=8,\"\",\"höhere Punktzahl für :\")","v":""}]
[null,null,{"$f":"IF(VLOOKUP(D403,'Technische Seite'!$AO$584:$AQ$600,3,0)=\"OK\",\"\",\"die wichtigste Frage\")","v":""},{"$f":"'Kapitel 6'!C86","v":"F6.12"},{"$f":"'Kapitel 6'!D86","v":"Wie berücksichtigt die Organisation ihre Abhängigkeit von Ökosystemleistungen?"},null,null,null,null,null,null,{"$f":"COUNTBLANK(N403:U403)","v":8},true,{"$f":"IF(VLOOKUP(D403,Sonderbericht!$E$6:$H$112,4,FALSE)=\"bewertung erhöhen\",\"ISO 9001\",\"\")","v":""},{"$f":"IF(VLOOKUP(D403,Sonderbericht!$E$116:$H$222,4,FALSE)=\"bewertung erhöhen\",\"ISO 14001\",\"\")","v":""},{"$f":"IF(VLOOKUP(D403,Sonderbericht!$E$226:$H$332,4,FALSE)=\"bewertung erhöhen\",\"ISO 26000\",\"\")","v":""},{"$f":"IF(VLOOKUP(D403,Sonderbericht!$E$336:$H$552,4,FALSE)=\"bewertung erhöhen\",\"ISO 45001\",\"\")","v":""},{"$f":"IF(VLOOKUP(D403,Sonderbericht!$E$556:$H$662,4,FALSE)=\"bewertung erhöhen\",\"EMAS\",\"\")","v":""},{"$f":"IF(VLOOKUP(D403,Sonderbericht!$E$666:$H$772,4,FALSE)=\"bewertung erhöhen\",\"RC14001\",\"\")","v":""},{"$f":"IF(VLOOKUP(D403,Sonderbericht!$E$776:$H$882,4,FALSE)=\"bewertung erhöhen\",\"RCMS\",\"\")","v":""}]
[null,null,null,null,"Ihre Bewertung ",null,{"$f":"VLOOKUP(D403,'Technische Seite'!$B$584:$C$600,2,FALSE)","v":2},null,null,null,null,null,null,{"$f":"CONCATENATE(G404,\" = \",HLOOKUP(\" \",'Kapitel 6'!D85:E90,Tipps!G404+2))","v":"2 = Die Organisation hat Maßnahmen zur Sicherung der von den Ökosystemen für seine Tätigkeit geleisteten Dienste (z. B. Abhängigkeit von bestimmten Rohstoffen) ermittelt."}]
[null,null,null,null,"Streben Sie eine Verbesserung an ",null,{"$f":"VLOOKUP(CONCATENATE(D403,$M$3),'Technische Seite'!$BG$584:$BI$651,3,FALSE)","v":"Implementieren Sie spezifische Maßnahmen zur Sicherstellung der Ökodienstleistungen für Ihre Tätigkeit (z. B. Abhängigkeit von bestimmten Rohstoffen).\nWertvolle Hinweise sind u. a. unter  http://www.teebweb.org/areas-of-work/teeb-for-business/ zu finden"}]
[null,{"$f":"'Kapitel 6'!B92","v":"Klima und Energieverbrauch"},null,null,null,null,null,null,null,null,null,null,null,{"$f":"IF(L407=8,\"\",\"höhere Punktzahl für :\")","v":""}]
[null,null,{"$f":"IF(VLOOKUP(D407,'Technische Seite'!$AO$584:$AQ$600,3,0)=\"OK\",\"\",\"die wichtigste Frage\")","v":""},{"$f":"'Kapitel 6'!C94","v":"F6.13"},{"$f":"'Kapitel 6'!D94","v":"Wie handhabt die Organisation ihre Energieeffizienz?"},null,null,null,null,null,null,{"$f":"COUNTBLANK(N407:U407)","v":8},true,{"$f":"IF(VLOOKUP(D407,Sonderbericht!$E$6:$H$112,4,FALSE)=\"bewertung erhöhen\",\"ISO 9001\",\"\")","v":""},{"$f":"IF(VLOOKUP(D407,Sonderbericht!$E$116:$H$222,4,FALSE)=\"bewertung erhöhen\",\"ISO 14001\",\"\")","v":""},{"$f":"IF(VLOOKUP(D407,Sonderbericht!$E$226:$H$332,4,FALSE)=\"bewertung erhöhen\",\"ISO 26000\",\"\")","v":""},{"$f":"IF(VLOOKUP(D407,Sonderbericht!$E$336:$H$552,4,FALSE)=\"bewertung erhöhen\",\"ISO 45001\",\"\")","v":""},{"$f":"IF(VLOOKUP(D407,Sonderbericht!$E$556:$H$662,4,FALSE)=\"bewertung erhöhen\",\"EMAS\",\"\")","v":""},{"$f":"IF(VLOOKUP(D407,Sonderbericht!$E$666:$H$772,4,FALSE)=\"bewertung erhöhen\",\"RC14001\",\"\")","v":""},{"$f":"IF(VLOOKUP(D407,Sonderbericht!$E$776:$H$882,4,FALSE)=\"bewertung erhöhen\",\"RCMS\",\"\")","v":""}]
[null,null,null,null,"Ihre Bewertung ",null,{"$f":"VLOOKUP(D407,'Technische Seite'!$B$584:$C$600,2,FALSE)","v":1},null,null,null,null,null,null,{"$f":"CONCATENATE(G408,\" = \",HLOOKUP(\" \",'Kapitel 6'!D93:E98,Tipps!G408+2))","v":"1 = Die Organisation erfüllt ihre gesetzlichen Verpflichtungen und führt Verbesserungen mit fast sofortiger Rendite durch (<2 Jahre)."}]
[null,null,null,null,"Streben Sie eine Verbesserung an ",null,{"$f":"VLOOKUP(CONCATENATE(D407,$M$3),'Technische Seite'!$BG$584:$BI$651,3,FALSE)","v":"Definierung und Umsetzung eines Erfassungsplans für Energiedaten\n\nNennen Sie die Daten, die zur Überwachung der wichtigsten Merkmale erforderlich sind, und definieren Sie,  in welchen zeitlichen Abständen die Daten gesammelt und über welche Zeiträume sie aufbewahrt werden."}]
[null,null,null,null,null,null,null,null,null,null,null,null,null,{"$f":"IF(L411=8,\"\",\"höhere Punktzahl für :\")","v":""}]
[null,null,{"$f":"IF(VLOOKUP(D411,'Technische Seite'!$AO$584:$AQ$600,3,0)=\"OK\",\"\",\"die wichtigste Frage\")","v":""},{"$f":"'Kapitel 6'!C100","v":"F6.14"},{"$f":"'Kapitel 6'!D100","v":"Wie handhabt die Organisation ihre Emissionen von Treibhausgasen (THG) (anders als durch Energieeinsparung)?"},null,null,null,null,null,null,{"$f":"COUNTBLANK(N411:U411)","v":8},true,{"$f":"IF(VLOOKUP(D411,Sonderbericht!$E$6:$H$112,4,FALSE)=\"bewertung erhöhen\",\"ISO 9001\",\"\")","v":""},{"$f":"IF(VLOOKUP(D411,Sonderbericht!$E$116:$H$222,4,FALSE)=\"bewertung erhöhen\",\"ISO 14001\",\"\")","v":""},{"$f":"IF(VLOOKUP(D411,Sonderbericht!$E$226:$H$332,4,FALSE)=\"bewertung erhöhen\",\"ISO 26000\",\"\")","v":""},{"$f":"IF(VLOOKUP(D411,Sonderbericht!$E$336:$H$552,4,FALSE)=\"bewertung erhöhen\",\"ISO 45001\",\"\")","v":""},{"$f":"IF(VLOOKUP(D411,Sonderbericht!$E$556:$H$662,4,FALSE)=\"bewertung erhöhen\",\"EMAS\",\"\")","v":""},{"$f":"IF(VLOOKUP(D411,Sonderbericht!$E$666:$H$772,4,FALSE)=\"bewertung erhöhen\",\"RC14001\",\"\")","v":""},{"$f":"IF(VLOOKUP(D411,Sonderbericht!$E$776:$H$882,4,FALSE)=\"bewertung erhöhen\",\"RCMS\",\"\")","v":""}]
[null,null,null,null,"Ihre Bewertung ",null,{"$f":"VLOOKUP(D411,'Technische Seite'!$B$584:$C$600,2,FALSE)","v":2},null,null,null,null,null,null,{"$f":"CONCATENATE(G412,\" = \",HLOOKUP(\" \",'Kapitel 6'!D99:E104,Tipps!G412+2))","v":"2 = Die Organisation hat ihre möglichen Quellen zur Energierückgewinnung und die Möglichkeiten für eine Erhöhung des Anteils an erneuerbaren Energien ermittelt."}]
[null,null,null,null,"Streben Sie eine Verbesserung an ",null,{"$f":"VLOOKUP(CONCATENATE(D411,$M$3),'Technische Seite'!$BG$584:$BI$651,3,FALSE)","v":"Identifizieren Sie die potenziellen Quellen der Energiegewinnung Ihrer Organisation (z. B. Wärme (fatal heat), Biogasproduktion).\nSchließen Sie mit dem Stromlieferanten Ihrer Organisation Verträge über die Lieferung erneuerbarer Energie.\nSchöpfen Sie die erneuerbaren Energiequellen und die Flexibilität Ihrer Organisation in jeder Hinsicht aus."}]
[null,null,null,null,null,null,null,null,null,null,null,null,null,{"$f":"IF(L415=8,\"\",\"höhere Punktzahl für :\")","v":""}]
[null,null,{"$f":"IF(VLOOKUP(D415,'Technische Seite'!$AO$584:$AQ$600,3,0)=\"OK\",\"\",\"die wichtigste Frage\")","v":""},{"$f":"'Kapitel 6'!C106","v":"F6.15"},{"$f":"'Kapitel 6'!D106","v":"Welche Strategie hat die Organisation zur Reduzierung von THG-Emissionen?"},null,null,null,null,null,null,{"$f":"COUNTBLANK(N415:U415)","v":8},true,{"$f":"IF(VLOOKUP(D415,Sonderbericht!$E$6:$H$112,4,FALSE)=\"bewertung erhöhen\",\"ISO 9001\",\"\")","v":""},{"$f":"IF(VLOOKUP(D415,Sonderbericht!$E$116:$H$222,4,FALSE)=\"bewertung erhöhen\",\"ISO 14001\",\"\")","v":""},{"$f":"IF(VLOOKUP(D415,Sonderbericht!$E$226:$H$332,4,FALSE)=\"bewertung erhöhen\",\"ISO 26000\",\"\")","v":""},{"$f":"IF(VLOOKUP(D415,Sonderbericht!$E$336:$H$552,4,FALSE)=\"bewertung erhöhen\",\"ISO 45001\",\"\")","v":""},{"$f":"IF(VLOOKUP(D415,Sonderbericht!$E$556:$H$662,4,FALSE)=\"bewertung erhöhen\",\"EMAS\",\"\")","v":""},{"$f":"IF(VLOOKUP(D415,Sonderbericht!$E$666:$H$772,4,FALSE)=\"bewertung erhöhen\",\"RC14001\",\"\")","v":""},{"$f":"IF(VLOOKUP(D415,Sonderbericht!$E$776:$H$882,4,FALSE)=\"bewertung erhöhen\",\"RCMS\",\"\")","v":""}]
[null,null,null,null,"Ihre Bewertung ",null,{"$f":"VLOOKUP(D415,'Technische Seite'!$B$584:$C$600,2,FALSE)","v":1},null,null,null,null,null,null,{"$f":"CONCATENATE(G416,\" = \",HLOOKUP(\" \",'Kapitel 6'!D105:E110,Tipps!G416+2))","v":"1 = Die Organisation hat keinen besonderen Schwerpunkt zu ihren THG-Emissionen."}]
[null,null,null,null,"Streben Sie eine Verbesserung an ",null,{"$f":"VLOOKUP(CONCATENATE(D415,$M$3),'Technische Seite'!$BG$584:$BI$651,3,FALSE)","v":"Führen Sie eine Lückenanalyse durch, um das Potenzial zur Verringerung von Emissionen Scope 1 und 2 zu ermitteln."}]
[null,null,null,null,null,null,null,null,null,null,null,null,null,{"$f":"IF(L419=8,\"\",\"höhere Punktzahl für :\")","v":""}]
[null,null,{"$f":"IF(VLOOKUP(D419,'Technische Seite'!$AO$584:$AQ$600,3,0)=\"OK\",\"\",\"die wichtigste Frage\")","v":""},{"$f":"'Kapitel 6'!C112","v":"F6.16"},{"$f":"'Kapitel 6'!D112","v":"Wie bereitet sich die Organisation auf den Klimawandel vor? "},null,null,null,null,null,null,{"$f":"COUNTBLANK(N419:U419)","v":8},true,{"$f":"IF(VLOOKUP(D419,Sonderbericht!$E$6:$H$112,4,FALSE)=\"bewertung erhöhen\",\"ISO 9001\",\"\")","v":""},{"$f":"IF(VLOOKUP(D419,Sonderbericht!$E$116:$H$222,4,FALSE)=\"bewertung erhöhen\",\"ISO 14001\",\"\")","v":""},{"$f":"IF(VLOOKUP(D419,Sonderbericht!$E$226:$H$332,4,FALSE)=\"bewertung erhöhen\",\"ISO 26000\",\"\")","v":""},{"$f":"IF(VLOOKUP(D419,Sonderbericht!$E$336:$H$552,4,FALSE)=\"bewertung erhöhen\",\"ISO 45001\",\"\")","v":""},{"$f":"IF(VLOOKUP(D419,Sonderbericht!$E$556:$H$662,4,FALSE)=\"bewertung erhöhen\",\"EMAS\",\"\")","v":""},{"$f":"IF(VLOOKUP(D419,Sonderbericht!$E$666:$H$772,4,FALSE)=\"bewertung erhöhen\",\"RC14001\",\"\")","v":""},{"$f":"IF(VLOOKUP(D419,Sonderbericht!$E$776:$H$882,4,FALSE)=\"bewertung erhöhen\",\"RCMS\",\"\")","v":""}]
[null,null,null,null,"Ihre Bewertung ",null,{"$f":"VLOOKUP(D419,'Technische Seite'!$B$584:$C$600,2,FALSE)","v":2},null,null,null,null,null,null,{"$f":"CONCATENATE(G420,\" = \",HLOOKUP(\" \",'Kapitel 6'!D111:E116,Tipps!G420+2))","v":"2 = Die Organisation ist sich der mittelfristigen potenziellen Auswirkungen des Klimawandels auf ihre Tätigkeit bewusst."}]
[null,null,null,null,"Streben Sie eine Verbesserung an ",null,{"$f":"VLOOKUP(CONCATENATE(D419,$M$3),'Technische Seite'!$BG$584:$BI$651,3,FALSE)","v":"Identifizieren Sie die mit dem Klimawandel verbundenen Risiken für die Aktivitäten Ihrer Organisation und mögliche Maßnahmen zur Begrenzung dieser Risiken."}]
[null,{"$f":"'Kapitel 6'!B118","v":"Diversität"},null,null,null,null,null,null,null,null,null,null,null,{"$f":"IF(L423=8,\"\",\"höhere Punktzahl für :\")","v":""}]
[null,null,{"$f":"IF(VLOOKUP(D423,'Technische Seite'!$AO$584:$AQ$600,3,0)=\"OK\",\"\",\"die wichtigste Frage\")","v":""},{"$f":"'Kapitel 6'!C120","v":"F6.17"},{"$f":"'Kapitel 6'!D120","v":"In welcher Weise gewährleistet die Organisation Chancengleichheit bei der Einstellung und während der gesamten beruflichen Laufbahn aller?"},null,null,null,null,null,null,{"$f":"COUNTBLANK(N423:U423)","v":8},true,{"$f":"IF(VLOOKUP(D423,Sonderbericht!$E$6:$H$112,4,FALSE)=\"bewertung erhöhen\",\"ISO 9001\",\"\")","v":""},{"$f":"IF(VLOOKUP(D423,Sonderbericht!$E$116:$H$222,4,FALSE)=\"bewertung erhöhen\",\"ISO 14001\",\"\")","v":""},{"$f":"IF(VLOOKUP(D423,Sonderbericht!$E$226:$H$332,4,FALSE)=\"bewertung erhöhen\",\"ISO 26000\",\"\")","v":""},{"$f":"IF(VLOOKUP(D423,Sonderbericht!$E$336:$H$552,4,FALSE)=\"bewertung erhöhen\",\"ISO 45001\",\"\")","v":""},{"$f":"IF(VLOOKUP(D423,Sonderbericht!$E$556:$H$662,4,FALSE)=\"bewertung erhöhen\",\"EMAS\",\"\")","v":""},{"$f":"IF(VLOOKUP(D423,Sonderbericht!$E$666:$H$772,4,FALSE)=\"bewertung erhöhen\",\"RC14001\",\"\")","v":""},{"$f":"IF(VLOOKUP(D423,Sonderbericht!$E$776:$H$882,4,FALSE)=\"bewertung erhöhen\",\"RCMS\",\"\")","v":""}]
[null,null,null,null,"Ihre Bewertung ",null,{"$f":"VLOOKUP(D423,'Technische Seite'!$B$584:$C$600,2,FALSE)","v":1},null,null,null,null,null,null,{"$f":"CONCATENATE(G424,\" = \",HLOOKUP(\" \",'Kapitel 6'!D119:E124,Tipps!G424+2))","v":"1 = In dem Unternehmen besteht keine bestimmte Vorgabe zur Gewährleistung der Chancengleichheit; jedoch hält das Unternehmen die gesetzlichen Verpflichtungen ein."}]
[null,null,null,null,"Streben Sie eine Verbesserung an ",null,{"$f":"VLOOKUP(CONCATENATE(D423,$M$3),'Technische Seite'!$BG$584:$BI$651,3,FALSE)","v":"Verpflichten Sie sich (z. B. durch Unterzeichnung einer Charta der guten Praxis) zur Gleichstellung und richten Sie spezielle Prozesse zur Gewährleistung der Gleichstellung ein."}]

{"sheet":"Sonderbericht","index":12,"n_rows":991,"n_cols":10,"rows_kept":991,"cut":false,"hidden":false,"merged":[]}
[]
[null,null,"Bericht über den Abstand zur Einhaltung von  ISO 9001"]
[null,null,null,null,null,"Ihre Bewertung ","Mindestbewertung für ISO 9001"]
[]
[null,null,null,null,"KAPITEL 1: Führungskultur im Unternehmen"]
[null,null,null,null,{"$f":"'Technische Seite'!B10","v":"F1.1"},{"$f":"'Technische Seite'!C10","v":1},{"$f":"VLOOKUP(E6,'Technische Seite'!$AU$10:$BD$25,2,0)","v":3},{"$f":"IF(G6=\"-\",\"n.a.\",IF(F6-G6>-1,\"konform\",\"Ergebnis verbessern\"))","v":"Ergebnis verbessern"},null,{"$f":"VLOOKUP(E6,'Kapitel 1'!$C$6:$D$112,2,0)","v":"In welcher Weise wird die Verpflichtung zur Einhaltung gesetzlicher und sonstiger Vorschriften („Compliance“) sowie der Grundsätze von Responsible Care (d. h. Schutz und Förderung der Gesundheit & Sicherheit von Menschen und Umwelt sowie Nachhaltigkeit) auf allen Ebenen der Organisation dargelegt?"}]
[null,null,null,null,{"$f":"'Technische Seite'!B11","v":"F1.2"},{"$f":"'Technische Seite'!C11","v":1},{"$f":"VLOOKUP(E7,'Technische Seite'!$AU$10:$BD$25,2,0)","v":3},{"$f":"IF(G7=\"-\",\"n.a.\",IF(F7-G7>-1,\"konform\",\"Ergebnis verbessern\"))","v":"Ergebnis verbessern"},null,{"$f":"VLOOKUP(E7,'Kapitel 1'!$C$6:$D$112,2,0)","v":"Wie steuert die Organisation die relevanten Risiken und Chancen?"}]
[null,null,null,null,{"$f":"'Technische Seite'!B12","v":"F1.3"},{"$f":"'Technische Seite'!C12","v":2},{"$f":"VLOOKUP(E8,'Technische Seite'!$AU$10:$BD$25,2,0)","v":"-"},{"$f":"IF(G8=\"-\",\"n.a.\",IF(F8-G8>-1,\"compliant\",\"increase score\"))","v":"n.a."},null,{"$f":"VLOOKUP(E8,'Kapitel 1'!$C$6:$D$112,2,0)","v":"In welcher Weise erfüllt die Organisation ihre gesetzlichen Verpflichtungen?"}]
[null,null,null,null,{"$f":"'Technische Seite'!B13","v":"F1.4"},{"$f":"'Technische Seite'!C13","v":2},{"$f":"VLOOKUP(E9,'Technische Seite'!$AU$10:$BD$25,2,0)","v":2},{"$f":"IF(G9=\"-\",\"n.a.\",IF(F9-G9>-1,\"konform\",\"Ergebnis verbessern\"))","v":"konform"},null,{"$f":"VLOOKUP(E9,'Kapitel 1'!$C$6:$D$112,2,0)","v":"Wie stellt die oberste Führungsebene („top management“) sicher, dass Aspekte aus den Bereichen Gesundheit, Sicherheit, Umwelt, Energie & Nachhaltigkeit bestimmten Funktionen zugeordnet sind?"}]
[null,null,null,null,{"$f":"'Technische Seite'!B14","v":"F1.5"},{"$f":"'Technische Seite'!C14","v":3},{"$f":"VLOOKUP(E10,'Technische Seite'!$AU$10:$BD$25,2,0)","v":3},{"$f":"IF(G10=\"-\",\"n.a.\",IF(F10-G10>-1,\"konform\",\"Ergebnis verbessern\"))","v":"konform"},null,{"$f":"VLOOKUP(E10,'Kapitel 1'!$C$6:$D$112,2,0)","v":"In welcher Weise ist der Vorstand/die Geschäftsleitung der Organisation in den Umgang mit Fragen und Problemen („issues“) in den Bereichen Gesundheit, Sicherheit, Umwelt, Energie & Nachhaltigkeit eingebunden?"}]
[null,null,null,null,{"$f":"'Technische Seite'!B15","v":"F1.6"},{"$f":"'Technische Seite'!C15","v":4},{"$f":"VLOOKUP(E11,'Technische Seite'!$AU$10:$BD$25,2,0)","v":"-"},"n.a.",null,{"$f":"VLOOKUP(E11,'Kapitel 1'!$C$6:$D$112,2,0)","v":"Wie werden Verantwortlichkeiten in den Bereichen Gesundheit, Sicherheit, Umwelt, Energie & Nachhaltigkeit in Arbeitsplatzbeschreibungen oder Jahresziele integriert?"}]
[null,null,null,null,{"$f":"'Technische Seite'!B16","v":"F1.7"},{"$f":"'Technische Seite'!C16","v":1},{"$f":"VLOOKUP(E12,'Technische Seite'!$AU$10:$BD$25,2,0)","v":3},{"$f":"IF(G12=\"-\",\"n.a.\",IF(F12-G12>-1,\"konform\",\"Ergebnis verbessern\"))","v":"Ergebnis verbessern"},null,{"$f":"VLOOKUP(E12,'Kapitel 1'!$C$6:$D$112,2,0)","v":"Wie werden (Kern-)Prozesse in den Bereichen Gesundheit, Sicherheit, Umwelt, Energie & Nachhaltigkeit gelenkt?"}]
[null,null,null,null,{"$f":"'Technische Seite'!B17","v":"F1.8"},{"$f":"'Technische Seite'!C17","v":2},{"$f":"VLOOKUP(E13,'Technische Seite'!$AU$10:$BD$25,2,0)","v":3},"Ergebnis verbessern",null,{"$f":"VLOOKUP(E13,'Kapitel 1'!$C$6:$D$112,2,0)","v":"In welche Weise stellt die oberste Führungsebene eine kontinuierliche Verbesserung der Leistung in den Bereichen Gesundheit, Sicherheit, Umwelt, Energie & Nachhaltigkeit sicher?"}]
[null,null,null,null,{"$f":"'Technische Seite'!B18","v":"F1.9"},{"$f":"'Technische Seite'!C18","v":1},{"$f":"VLOOKUP(E14,'Technische Seite'!$AU$10:$BD$25,2,0)","v":3},"Ergebnis verbessern",null,{"$f":"VLOOKUP(E14,'Kapitel 1'!$C$6:$D$112,2,0)","v":"Wie wird das interne Auditprogramm durchgeführt?"}]
[null,null,null,null,{"$f":"'Technische Seite'!B19","v":"F1.10"},{"$f":"'Technische Seite'!C19","v":3},{"$f":"VLOOKUP(E15,'Technische Seite'!$AU$10:$BD$25,2,0)","v":3},"konform",null,{"$f":"VLOOKUP(E15,'Kapitel 1'!$C$6:$D$112,2,0)","v":"Wie werden Vorfälle untersucht?"}]
[null,null,null,null,{"$f":"'Technische Seite'!B20","v":"F1.11"},{"$f":"'Technische Seite'!C20","v":3},{"$f":"VLOOKUP(E16,'Technische Seite'!$AU$10:$BD$25,2,0)","v":3},"konform",null,{"$f":"VLOOKUP(E16,'Kapitel 1'!$C$6:$D$112,2,0)","v":"In welcher Weise stellt die Organisation die benötigten Verfahren, zeitlichen Mittel und Ressourcen bereit, um Management-Prozesse in den Bereichen Gesundheit, Sicherheit, Umwelt, Energie & Nachhaltigkeit zu verbessern?"}]
[null,null,null,null,{"$f":"'Technische Seite'!B21","v":"F1.12"},{"$f":"'Technische Seite'!C21","v":2},{"$f":"VLOOKUP(E17,'Technische Seite'!$AU$10:$BD$25,2,0)","v":3},"Ergebnis verbessern",null,{"$f":"VLOOKUP(E17,'Kapitel 1'!$C$6:$D$112,2,0)","v":"Wie stellt die Organisation sicher, dass Mitarbeiter über die Unternehmenspolitik und Verfahren in den Bereichen Gesundheit, Sicherheit, Umwelt, Energie & Nachhaltigkeit informiert sind?"}]
[null,null,null,null,{"$f":"'Technische Seite'!B22","v":"F1.13"},{"$f":"'Technische Seite'!C22","v":1},{"$f":"VLOOKUP(E18,'Technische Seite'!$AU$10:$BD$25,2,0)","v":3},"Ergebnis verbessern",null,{"$f":"VLOOKUP(E18,'Kapitel 1'!$C$6:$D$112,2,0)","v":"Wie stellt die Organisation sicher, dass Arbeiter – hinsichtlich der mit ihrer Tätigkeit in Zusammenhang stehenden Aspekten in den Bereichen Gesundheit, Sicherheit, Umwelt, Energie & Nachhaltigkeit – über die erforderlichen Kompetenzen verfügen?"}]
[null,null,null,null,{"$f":"'Technische Seite'!B23","v":"F1.14"},{"$f":"'Technische Seite'!C23","v":4},{"$f":"VLOOKUP(E19,'Technische Seite'!$AU$10:$BD$25,2,0)","v":"-"},"n.a.",null,{"$f":"VLOOKUP(E19,'Kapitel 1'!$C$6:$D$112,2,0)","v":"Wie ist die Einbeziehung der Mitarbeiter strukturiert?"}]
[null,null,null,null,{"$f":"'Technische Seite'!B24","v":"F1.15"},{"$f":"'Technische Seite'!C24","v":2},{"$f":"VLOOKUP(E20,'Technische Seite'!$AU$10:$BD$25,2,0)","v":3},{"$f":"IF(G20=\"-\",\"n.a.\",IF(F20-G20>-1,\"konform\",\"Ergebnis verbessern\"))","v":"Ergebnis verbessern"},null,{"$f":"VLOOKUP(E20,'Kapitel 1'!$C$6:$D$112,2,0)","v":"Wie werden Dokumente aus den Bereichen Gesundheit, Sicherheit, Umwelt, Energie & Nachhaltigkeit verwaltet?"}]
[null,null,null,null,{"$f":"'Technische Seite'!B25","v":"F1.16"},{"$f":"'Technische Seite'!C25","v":2},{"$f":"VLOOKUP(E21,'Technische Seite'!$AU$10:$BD$25,2,0)","v":3},{"$f":"IF(G21=\"-\",\"n.a.\",IF(F21-G21>-1,\"konform\",\"Ergebnis verbessern\"))","v":"Ergebnis verbessern"},null,{"$f":"VLOOKUP(E21,'Kapitel 1'!$C$6:$D$112,2,0)","v":"In welcher Weise werden Änderungen, die möglicherweise Auswirkungen auf die Bereiche Gesundheit, Sicherheit, Umwelt, Energie & Nachhaltigkeit haben könnten, gesteuert?"}]
[null,null,null,null,"KAPITEL 2: Schutz von Mensch und Umwelt"]
[null,null,null,null,{"$f":"'Technische Seite'!B124","v":"F2.1"},{"$f":"'Technische Seite'!C124","v":1},{"$f":"VLOOKUP(E23,'Technische Seite'!$AU$124:$BD$168,2,0)","v":"-"},"n.a.",null,{"$f":"VLOOKUP(E23,'Kapitel 2'!$C$6:$D$282,2,0)","v":"In welcher Weise verpflichtet sich die Führung der Organisation zu Arbeits- und Gesundheitsschutz?"}]
[null,null,null,null,{"$f":"'Technische Seite'!B125","v":"F2.2"},{"$f":"'Technische Seite'!C125","v":1},{"$f":"VLOOKUP(E24,'Technische Seite'!$AU$124:$BD$168,2,0)","v":"-"},{"$f":"IF(G24=\"-\",\"n.a.\",IF(F24-G24>-1,\"compliant\",\"increase score\"))","v":"n.a."},null,{"$f":"VLOOKUP(E24,'Kapitel 2'!$C$6:$D$282,2,0)","v":"In welcher Weise werden Risiken und Expositionen in den Bereichen Gesundheit & Sicherheit festgestellt?"}]
[null,null,null,null,{"$f":"'Technische Seite'!B126","v":"F2.3"},{"$f":"'Technische Seite'!C126","v":4},{"$f":"VLOOKUP(E25,'Technische Seite'!$AU$124:$BD$168,2,0)","v":"-"},"n.a.",null,{"$f":"VLOOKUP(E25,'Kapitel 2'!$C$6:$D$282,2,0)","v":"In welcher Weise werden die medizinischen Anforderungen bewertet?"}]
[null,null,null,null,{"$f":"'Technische Seite'!B127","v":"F2.4"},{"$f":"'Technische Seite'!C127","v":1},{"$f":"VLOOKUP(E26,'Technische Seite'!$AU$124:$BD$168,2,0)","v":"-"},"n.a.",null,{"$f":"VLOOKUP(E26,'Kapitel 2'!$C$6:$D$282,2,0)","v":"In welcher Weise verbessert die Organisation ihre Leistung in den Bereichen Gesundheit und Sicherheit?"}]
[null,null,null,null,{"$f":"'Technische Seite'!B128","v":"F2.5"},{"$f":"'Technische Seite'!C128","v":2},{"$f":"VLOOKUP(E27,'Technische Seite'!$AU$124:$BD$168,2,0)","v":"-"},"n.a.",null,{"$f":"VLOOKUP(E27,'Kapitel 2'!$C$6:$D$282,2,0)","v":"In welcher Weise werden Wartung und Pflege („maintenance and housekeeping“) gestaltet, um die Sicherheit von Einrichtungen, Anlagen, Werkzeugen und\n(Sicherheits-) Ausrüstungen aufrechtzuerhalten?"}]
[null,null,null,null,{"$f":"'Technische Seite'!B129","v":"F2.6"},{"$f":"'Technische Seite'!C129","v":3},{"$f":"VLOOKUP(E28,'Technische Seite'!$AU$124:$BD$168,2,0)","v":"-"},"n.a.",null,{"$f":"VLOOKUP(E28,'Kapitel 2'!$C$6:$D$282,2,0)","v":"Wie werden die geeignete Auswahl, Wartung und Verwendung von Ausrüstungen in den Bereichen Gesundheit und Sicherheit (z. B. persönliche Schutzausrüstung/PSA) überprüft?"}]
[null,null,null,null,{"$f":"'Technische Seite'!B130","v":"F2.7"},{"$f":"'Technische Seite'!C130","v":1},{"$f":"VLOOKUP(E29,'Technische Seite'!$AU$124:$BD$168,2,0)","v":"-"},"n.a.",null,{"$f":"VLOOKUP(E29,'Kapitel 2'!$C$6:$D$282,2,0)","v":"Wie geht die Organisation mit Stress und Wohlbefinden um?"}]
[null,null,null,null,{"$f":"'Technische Seite'!B131","v":"F2.8"},{"$f":"'Technische Seite'!C131","v":1},{"$f":"VLOOKUP(E30,'Technische Seite'!$AU$124:$BD$168,2,0)","v":"-"},"n.a.",null,{"$f":"VLOOKUP(E30,'Kapitel 2'!$C$6:$D$282,2,0)","v":"In welcher Weise werden Verletzungen am Arbeitsplatz, Vorfälle und Beinahe-Vorfälle untersucht?"}]
[null,null,null,null,{"$f":"'Technische Seite'!B132","v":"F2.9"},{"$f":"'Technische Seite'!C132","v":4},{"$f":"VLOOKUP(E31,'Technische Seite'!$AU$124:$BD$168,2,0)","v":"-"},"n.a.",null,{"$f":"VLOOKUP(E31,'Kapitel 2'!$C$6:$D$282,2,0)","v":"Wie ist die Organisation auf Notfälle vorbereitet?"}]
[null,null,null,null,{"$f":"'Technische Seite'!B133","v":"F2.10"},{"$f":"'Technische Seite'!C133","v":1},{"$f":"VLOOKUP(E32,'Technische Seite'!$AU$124:$BD$168,2,0)","v":3},{"$f":"IF(G32=\"-\",\"n.a.\",IF(F32-G32>-1,\"konform\",\"Ergebnis verbessern\"))","v":"Ergebnis verbessern"},null,{"$f":"VLOOKUP(E32,'Kapitel 2'!$C$6:$D$282,2,0)","v":"In welcher Weise stellt die Organisation sicher, dass alle Mitarbeiter hinsichtlich der Gesundheits- und Sicherheitsanforderungen, die mit ihrer Tätigkeit in Zusammenhang stehen, über die geeigneten Kompetenzen verfügen?"}]
[null,null,null,null,{"$f":"'Technische Seite'!B134","v":"F2.11"},{"$f":"'Technische Seite'!C134","v":2},{"$f":"VLOOKUP(E33,'Technische Seite'!$AU$124:$BD$168,2,0)","v":"-"},{"$f":"IF(G33=\"-\",\"n.a.\",IF(F33-G33>-1,\"compliant\",\"increase score\"))","v":"n.a."},null,{"$f":"VLOOKUP(E33,'Kapitel 2'!$C$6:$D$282,2,0)","v":"Wie verpflichtet sich die Unternehmensleitung zur Verfahrenssicherheit?"}]
[null,null,null,null,{"$f":"'Technische Seite'!B135","v":"F2.12"},{"$f":"'Technische Seite'!C135","v":1},{"$f":"VLOOKUP(E34,'Technische Seite'!$AU$124:$BD$168,2,0)","v":"-"},"n.a.",null,{"$f":"VLOOKUP(E34,'Kapitel 2'!$C$6:$D$282,2,0)","v":"In welcher Weise werden die Identifizierung und Beschreibung der Sicherheit von Verfahren, Ausrüstungen und Standorten der Organisation vorbereitet?"}]
[null,null,null,null,{"$f":"'Technische Seite'!B136","v":"F2.13"},{"$f":"'Technische Seite'!C136","v":2},{"$f":"VLOOKUP(E35,'Technische Seite'!$AU$124:$BD$168,2,0)","v":"-"},"n.a.",null,{"$f":"VLOOKUP(E35,'Kapitel 2'!$C$6:$D$282,2,0)","v":"In welcher Weise werden Verbesserungen im Bereich Verfahrenssicherheit aufgrund von Vorfällen und Unfällen vorgenommen?"}]
[null,null,null,null,{"$f":"'Technische Seite'!B137","v":"F2.14"},{"$f":"'Technische Seite'!C137","v":3},{"$f":"VLOOKUP(E36,'Technische Seite'!$AU$124:$BD$168,2,0)","v":"-"},"n.a.",null,{"$f":"VLOOKUP(E36,'Kapitel 2'!$C$6:$D$282,2,0)","v":"Wie werden Audits und Inspektionen im Bereich Verfahrenssicherheit durchgeführt?"}]
[null,null,null,null,{"$f":"'Technische Seite'!B138","v":"F2.15"},{"$f":"'Technische Seite'!C138","v":1},{"$f":"VLOOKUP(E37,'Technische Seite'!$AU$124:$BD$168,2,0)","v":"-"},"n.a.",null,{"$f":"VLOOKUP(E37,'Kapitel 2'!$C$6:$D$282,2,0)","v":"Wie werden Arbeitsanweisungen kontrolliert und verbessert?"}]
[null,null,null,null,{"$f":"'Technische Seite'!B139","v":"F2.16"},{"$f":"'Technische Seite'!C139","v":1},{"$f":"VLOOKUP(E38,'Technische Seite'!$AU$124:$BD$168,2,0)","v":"-"},"n.a.",null,{"$f":"VLOOKUP(E38,'Kapitel 2'!$C$6:$D$282,2,0)","v":"Wie wird die Anlagenplanung durchgeführt und dokumentiert?"}]
[null,null,null,null,{"$f":"'Technische Seite'!B140","v":"F2.17"},{"$f":"'Technische Seite'!C140","v":4},{"$f":"VLOOKUP(E39,'Technische Seite'!$AU$124:$BD$168,2,0)","v":"-"},"n.a.",null,{"$f":"VLOOKUP(E39,'Kapitel 2'!$C$6:$D$282,2,0)","v":"In welcher Weise wird der Aufbau der Anlage kontrolliert?"}]
[null,null,null,null,{"$f":"'Technische Seite'!B141","v":"F2.18"},{"$f":"'Technische Seite'!C141","v":2},{"$f":"VLOOKUP(E40,'Technische Seite'!$AU$124:$BD$168,2,0)","v":"-"},"n.a.",null,{"$f":"VLOOKUP(E40,'Kapitel 2'!$C$6:$D$282,2,0)","v":"Wie wird „Schutz“ in Anlagen integriert, um zuverlässig zu verhindern, dass ein einziger Fehler katastrophale Folgen hat?"}]
[null,null,null,null,{"$f":"'Technische Seite'!B142","v":"F2.19"},{"$f":"'Technische Seite'!C142","v":2},{"$f":"VLOOKUP(E41,'Technische Seite'!$AU$124:$BD$168,2,0)","v":"-"},"n.a.",null,{"$f":"VLOOKUP(E41,'Kapitel 2'!$C$6:$D$282,2,0)","v":"Gibt es ein vorbeugendes Wartungs- und Pflegeprogramm („maintenance and housekeeping programme“), um die Sicherheit von Einrichtungen, Werkzeugen/Tools und Ausrüstungen aufrechtzuerhalten?"}]
[null,null,null,null,{"$f":"'Technische Seite'!B143","v":"F2.20"},{"$f":"'Technische Seite'!C143","v":1},{"$f":"VLOOKUP(E42,'Technische Seite'!$AU$124:$BD$168,2,0)","v":"-"},"n.a.",null,{"$f":"VLOOKUP(E42,'Kapitel 2'!$C$6:$D$282,2,0)","v":"Im Fall von Energie- oder Betriebsunterbrechungen – wie werden Verfahren in Notfällen gesteuert?"}]
[null,null,null,null,{"$f":"'Technische Seite'!B144","v":"F2.21"},{"$f":"'Technische Seite'!C144","v":3},{"$f":"VLOOKUP(E43,'Technische Seite'!$AU$124:$BD$168,2,0)","v":"-"},"n.a.",null,{"$f":"VLOOKUP(E43,'Kapitel 2'!$C$6:$D$282,2,0)","v":"Wie werden Notfallpläne erstellt?"}]
[null,null,null,null,{"$f":"'Technische Seite'!B145","v":"F2.22"},{"$f":"'Technische Seite'!C145","v":1},{"$f":"VLOOKUP(E44,'Technische Seite'!$AU$124:$BD$168,2,0)","v":"-"},"n.a.",null,{"$f":"VLOOKUP(E44,'Kapitel 2'!$C$6:$D$282,2,0)","v":"In welcher Weise werden die Kompetenz und Schulung von an den Prozessen beteiligten Mitarbeitern und Fremdfirmen sichergestellt?"}]
[null,null,null,null,{"$f":"'Technische Seite'!B146","v":"F2.23"},{"$f":"'Technische Seite'!C146","v":2},{"$f":"VLOOKUP(E45,'Technische Seite'!$AU$124:$BD$168,2,0)","v":"-"},"n.a.",null,{"$f":"VLOOKUP(E45,'Kapitel 2'!$C$6:$D$282,2,0)","v":"Wie werden Informationen über die Risiken von Stoffen und Zubereitungen gemeinsam genutzt/weitergegeben?"}]
[null,null,null,null,{"$f":"'Technische Seite'!B147","v":"F2.24"},{"$f":"'Technische Seite'!C147","v":3},{"$f":"VLOOKUP(E46,'Technische Seite'!$AU$124:$BD$168,2,0)","v":"-"},"n.a.",null,{"$f":"VLOOKUP(E46,'Kapitel 2'!$C$6:$D$282,2,0)","v":"Wie werden Informationen über das Verfahren gemeinsam genutzt/weitergegeben?"}]
[null,null,null,null,{"$f":"'Technische Seite'!B148","v":"F2.25"},{"$f":"'Technische Seite'!C148","v":2},{"$f":"VLOOKUP(E47,'Technische Seite'!$AU$124:$BD$168,2,0)","v":"-"},"n.a.",null,{"$f":"VLOOKUP(E47,'Kapitel 2'!$C$6:$D$282,2,0)","v":"In welcher Weise bewertet die Organisation ihre Logistikpartner mit Hinblick auf Gesundheit, Sicherheit, Umwelt & Nachhaltigkeit, Energieeffizienz und Treibhausgas(THG)-Emissionen?"}]
[null,null,null,null,{"$f":"'Technische Seite'!B149","v":"F2.26"},{"$f":"'Technische Seite'!C149","v":1},{"$f":"VLOOKUP(E48,'Technische Seite'!$AU$124:$BD$168,2,0)","v":"-"},"n.a.",null,{"$f":"VLOOKUP(E48,'Kapitel 2'!$C$6:$D$282,2,0)","v":"Welche Maßnahmen zur Vermeidung von Transportunfällen bzw. Notfallmaßnahmen im Falle von Transportunfällen ergreift die Organisation?"}]
[null,null,null,null,{"$f":"'Technische Seite'!B150","v":"F2.27"},{"$f":"'Technische Seite'!C150","v":1},{"$f":"VLOOKUP(E49,'Technische Seite'!$AU$124:$BD$168,2,0)","v":"-"},"n.a.",null,{"$f":"VLOOKUP(E49,'Kapitel 2'!$C$6:$D$282,2,0)","v":"In welcher Weise identifiziert die Organisation Sicherheitsprobleme?"}]
[null,null,null,null,{"$f":"'Technische Seite'!B151","v":"F2.28"},{"$f":"'Technische Seite'!C151","v":2},{"$f":"VLOOKUP(E50,'Technische Seite'!$AU$124:$BD$168,2,0)","v":"-"},"n.a.",null,{"$f":"VLOOKUP(E50,'Kapitel 2'!$C$6:$D$282,2,0)","v":"In welcher Weise werden das Betreten/Verlassen des Arbeitsortes und eingeschränkt zugänglicher Bereiche durch Mitarbeiter bzw. der dortige Ein- und Ausgang von Materialien kontrolliert?"}]
[null,null,null,null,{"$f":"'Technische Seite'!B152","v":"F2.29"},{"$f":"'Technische Seite'!C152","v":1},{"$f":"VLOOKUP(E51,'Technische Seite'!$AU$124:$BD$168,2,0)","v":"-"},"n.a.",null,{"$f":"VLOOKUP(E51,'Kapitel 2'!$C$6:$D$282,2,0)","v":"Wie wird Cybersecurity überwacht?"}]
[null,null,null,null,{"$f":"'Technische Seite'!B153","v":"F2.30"},{"$f":"'Technische Seite'!C153","v":1},{"$f":"VLOOKUP(E52,'Technische Seite'!$AU$124:$BD$168,2,0)","v":"-"},"n.a.",null,{"$f":"VLOOKUP(E52,'Kapitel 2'!$C$6:$D$282,2,0)","v":"Wie sind Kommunikation und Informationsaustausch im Falle einer Sicherheitskrise organisiert?"}]
[null,null,null,null,{"$f":"'Technische Seite'!B154","v":"F2.31"},{"$f":"'Technische Seite'!C154","v":3},{"$f":"VLOOKUP(E53,'Technische Seite'!$AU$124:$BD$168,2,0)","v":"-"},"n.a.",null,{"$f":"VLOOKUP(E53,'Kapitel 2'!$C$6:$D$282,2,0)","v":"Wie geht die Organisation mit abnormalem Verhalten (einschließlich Risiken der Radikalisierung) um?"}]
[null,null,null,null,{"$f":"'Technische Seite'!B155","v":"F2.32"},{"$f":"'Technische Seite'!C155","v":1},{"$f":"VLOOKUP(E54,'Technische Seite'!$AU$124:$BD$168,2,0)","v":"-"},"n.a.",null,{"$f":"VLOOKUP(E54,'Kapitel 2'!$C$6:$D$282,2,0)","v":"In welcher Weise weist die Organisation die Mitarbeiter an, in Sicherheitsfragen wachsam zu sein?"}]
[null,null,null,null,{"$f":"'Technische Seite'!B156","v":"F2.33"},{"$f":"'Technische Seite'!C156","v":2},{"$f":"VLOOKUP(E55,'Technische Seite'!$AU$124:$BD$168,2,0)","v":"-"},"n.a.",null,{"$f":"VLOOKUP(E55,'Kapitel 2'!$C$6:$D$282,2,0)","v":"In welcher Weise werden die möglichen Umweltauswirkungen der Aktivitäten der Organisation bewertet?"}]
[null,null,null,null,{"$f":"'Technische Seite'!B157","v":"F2.34"},{"$f":"'Technische Seite'!C157","v":1},{"$f":"VLOOKUP(E56,'Technische Seite'!$AU$124:$BD$168,2,0)","v":"-"},"n.a.",null,{"$f":"VLOOKUP(E56,'Kapitel 2'!$C$6:$D$282,2,0)","v":"In welcher Weise steuert die Organisation ihre Umweltleistung?"}]
[null,null,null,null,{"$f":"'Technische Seite'!B158","v":"F2.35"},{"$f":"'Technische Seite'!C158","v":2},{"$f":"VLOOKUP(E57,'Technische Seite'!$AU$124:$BD$168,2,0)","v":"-"},{"$f":"IF(G57=\"-\",\"n.a.\",IF(F57-G57>-1,\"compliant\",\"increase score\"))","v":"n.a."},null,{"$f":"VLOOKUP(E57,'Kapitel 2'!$C$6:$D$282,2,0)","v":"Wie geht die Organisation mit Abfall um?"}]
[null,null,null,null,{"$f":"'Technische Seite'!B159","v":"F2.36"},{"$f":"'Technische Seite'!C159","v":1},{"$f":"VLOOKUP(E58,'Technische Seite'!$AU$124:$BD$168,2,0)","v":"-"},"n.a.",null,{"$f":"VLOOKUP(E58,'Kapitel 2'!$C$6:$D$282,2,0)","v":"Wie geht die Organisation mit Risiken für das Grundwasser um?"}]
[null,null,null,null,{"$f":"'Technische Seite'!B160","v":"F2.37"},{"$f":"'Technische Seite'!C160","v":3},{"$f":"VLOOKUP(E59,'Technische Seite'!$AU$124:$BD$168,2,0)","v":"-"},{"$f":"IF(G59=\"-\",\"n.a.\",IF(F59-G59>-1,\"compliant\",\"increase score\"))","v":"n.a."},null,{"$f":"VLOOKUP(E59,'Kapitel 2'!$C$6:$D$282,2,0)","v":"Wie geht die Organisation mit den Risiken einer Bodenverschmutzung um?"}]
[null,null,null,null,{"$f":"'Technische Seite'!B161","v":"F2.38"},{"$f":"'Technische Seite'!C161","v":1},{"$f":"VLOOKUP(E60,'Technische Seite'!$AU$124:$BD$168,2,0)","v":"-"},"n.a.",null,{"$f":"VLOOKUP(E60,'Kapitel 2'!$C$6:$D$282,2,0)","v":"Wie geht die Organisation mit vorhandenen Bodenverschmutzungen um?"}]
[null,null,null,null,{"$f":"'Technische Seite'!B162","v":"F2.39"},{"$f":"'Technische Seite'!C162","v":3},{"$f":"VLOOKUP(E61,'Technische Seite'!$AU$124:$BD$168,2,0)","v":"-"},"n.a.",null,{"$f":"VLOOKUP(E61,'Kapitel 2'!$C$6:$D$282,2,0)","v":"Wie geht die Organisation mit ihren Emissionen in die Luft um?"}]
[null,null,null,null,{"$f":"'Technische Seite'!B163","v":"F2.40"},{"$f":"'Technische Seite'!C163","v":1},{"$f":"VLOOKUP(E62,'Technische Seite'!$AU$124:$BD$168,2,0)","v":"-"},"n.a.",null,{"$f":"VLOOKUP(E62,'Kapitel 2'!$C$6:$D$282,2,0)","v":"Wie geht die Organisation mit ihren Emissionen in Wasser um?"}]
[null,null,null,null,{"$f":"'Technische Seite'!B164","v":"F2.41"},{"$f":"'Technische Seite'!C164","v":3},{"$f":"VLOOKUP(E63,'Technische Seite'!$AU$124:$BD$168,2,0)","v":"-"},"n.a.",null,{"$f":"VLOOKUP(E63,'Kapitel 2'!$C$6:$D$282,2,0)","v":"Wie geht die Organisation mit Lärmemissionen um?"}]
[null,null,null,null,{"$f":"'Technische Seite'!B165","v":"F2.42"},{"$f":"'Technische Seite'!C165","v":3},{"$f":"VLOOKUP(E64,'Technische Seite'!$AU$124:$BD$168,2,0)","v":"-"},"n.a.",null,{"$f":"VLOOKUP(E64,'Kapitel 2'!$C$6:$D$282,2,0)","v":"Wie geht die Organisation mit Geruchsemissionen um?"}]
[null,null,null,null,{"$f":"'Technische Seite'!B166","v":"F2.43"},{"$f":"'Technische Seite'!C166","v":2},{"$f":"VLOOKUP(E65,'Technische Seite'!$AU$124:$BD$168,2,0)","v":"-"},"n.a.",null,{"$f":"VLOOKUP(E65,'Kapitel 2'!$C$6:$D$282,2,0)","v":"Wie verhindert die Organisation unfallbedingte Emissionen in die Umwelt und wie geht sie ggf. damit um?"}]
[null,null,null,null,{"$f":"'Technische Seite'!B167","v":"F2.44"},{"$f":"'Technische Seite'!C167","v":3},{"$f":"VLOOKUP(E66,'Technische Seite'!$AU$124:$BD$168,2,0)","v":"-"},"n.a.",null,{"$f":"VLOOKUP(E66,'Kapitel 2'!$C$6:$D$282,2,0)","v":"In welcher Weise stellt die Organisation sicher, dass alle Mitarbeiter hinsichtlich der Umweltanforderungen, die mit ihrer Tätigkeit in Zusammenhang stehen, über die geeigneten Kompetenzen verfügen?"}]
[null,null,null,null,{"$f":"'Technische Seite'!B168","v":"F2.45"},{"$f":"'Technische Seite'!C168","v":3},{"$f":"VLOOKUP(E67,'Technische Seite'!$AU$124:$BD$168,2,0)","v":"-"},"n.a.",null,{"$f":"VLOOKUP(E67,'Kapitel 2'!$C$6:$D$282,2,0)","v":"Wie werden den Interessensgruppen („stakeholder“) der Organisation die Umweltaspekte und deren mögliche Auswirkungen bewusst gemacht?"}]
[null,null,null,null,"KAPITEL 3 : Stärkung von Managementsystemen im Chemikalienbereich"]
[null,null,null,null,{"$f":"'Technische Seite'!$B$406","v":"F3.1"},{"$f":"'Technische Seite'!$C$406","v":1},{"$f":"VLOOKUP(E69,'Technische Seite'!$AU$406:$BD$418,2,0)","v":1},{"$f":"IF(G69=\"-\",\"n.a.\",IF(F69-G69>-1,\"konform\",\"Ergebnis verbessern\"))","v":"konform"},null,{"$f":"VLOOKUP(E69,'Kapitel 3'!$C$6:$D$89,2,0)","v":"Verfügt die Organisation über ein Verfahren für das Design\n und die Entwicklung neuer Produkte und Dienstleistungen?"}]
[null,null,null,null,{"$f":"'Technische Seite'!$B$407","v":"F3.2"},{"$f":"'Technische Seite'!$C$407","v":2},{"$f":"VLOOKUP(E70,'Technische Seite'!$AU$406:$BD$418,2,0)","v":"-"},"n.a.",null,{"$f":"VLOOKUP(E70,'Kapitel 3'!$C$6:$D$89,2,0)","v":"Verfügt die Organisation über ein Verfahren, um ihre Produkte mit Hinblick auf Risikocharakterisierung und Risikomanagement zu bewerten und zu priorisieren?"}]
[null,null,null,null,{"$f":"'Technische Seite'!$B$408","v":"F3.3"},{"$f":"'Technische Seite'!$C$408","v":1},{"$f":"VLOOKUP(E71,'Technische Seite'!$AU$406:$BD$418,2,0)","v":1},{"$f":"IF(G71=\"-\",\"n.a.\",IF(F71-G71>-1,\"konform\",\"Ergebnis verbessern\"))","v":"konform"},null,{"$f":"VLOOKUP(E71,'Kapitel 3'!$C$6:$D$89,2,0)","v":"Verfügt die Organisation über ein System, um die Anwendbarkeit sowie Änderungen und Einhaltung von internen und externen Anforderungen in Zusammenhang mit dem Sicherheitsmanagement von Chemikalien zu verfolgen/nachzuverfolgen?"}]
[null,null,null,null,{"$f":"'Technische Seite'!$B$409","v":"F3.4"},{"$f":"'Technische Seite'!$C$409","v":1},{"$f":"VLOOKUP(E72,'Technische Seite'!$AU$406:$BD$418,2,0)","v":"-"},"n.a.",null,{"$f":"VLOOKUP(E72,'Kapitel 3'!$C$6:$D$89,2,0)","v":"Verfügt die Organisation über ein Verfahren zum Umgang mit vorhandenen Gefahreninformationen in Zusammenhang mit ihren Produkten?"}]
[null,null,null,null,{"$f":"'Technische Seite'!$B$410","v":"F3.5"},{"$f":"'Technische Seite'!$C$410","v":1},{"$f":"VLOOKUP(E73,'Technische Seite'!$AU$406:$BD$418,2,0)","v":"-"},"n.a.",null,{"$f":"VLOOKUP(E73,'Kapitel 3'!$C$6:$D$89,2,0)","v":"Verfügt die Organisation über ein Verfahren für den Umgang mit Informationen über die Verwendung von und die Exposition durch ihre Produkte?"}]
[null,null,null,null,{"$f":"'Technische Seite'!$B$411","v":"F3.6"},{"$f":"'Technische Seite'!$C$411","v":1},{"$f":"VLOOKUP(E74,'Technische Seite'!$AU$406:$BD$418,2,0)","v":"-"},"n.a.",null,{"$f":"VLOOKUP(E74,'Kapitel 3'!$C$6:$D$89,2,0)","v":"Verfügt die Organisation über ein Verfahren für den Umgang mit neuen Informationen?"}]
[null,null,null,null,{"$f":"'Technische Seite'!$B$412","v":"Q3.7"},{"$f":"'Technische Seite'!$C$412","v":1},{"$f":"VLOOKUP(E75,'Technische Seite'!$AU$406:$BD$418,2,0)","v":"-"},"n.a.",null,{"$f":"VLOOKUP(E75,'Kapitel 3'!$C$6:$D$89,2,0)","v":"Verfügt die Organisation über ein Verfahren zur Risikocharakterisierung auf der Grundlage der gesammelten Informationen?"}]
[null,null,null,null,{"$f":"'Technische Seite'!$B$413","v":"F3.8"},{"$f":"'Technische Seite'!$C$413","v":1},{"$f":"VLOOKUP(E76,'Technische Seite'!$AU$406:$BD$418,2,0)","v":1},{"$f":"IF(G76=\"-\",\"n.a.\",IF(F76-G76>-1,\"konform\",\"Ergebnis verbessern\"))","v":"konform"},null,{"$f":"VLOOKUP(E76,'Kapitel 3'!$C$6:$D$89,2,0)","v":"Verfügt die Organisation über ein Verfahren zum Risikomanagement auf der Grundlage der gesammelten Informationen?"}]
[null,null,null,null,{"$f":"'Technische Seite'!$B$414","v":"F3.9"},{"$f":"'Technische Seite'!$C$414","v":2},{"$f":"VLOOKUP(E77,'Technische Seite'!$AU$406:$BD$418,2,0)","v":3},{"$f":"IF(G77=\"-\",\"n.a.\",IF(F77-G77>-1,\"konform\",\"Ergebnis verbessern\"))","v":"Ergebnis verbessern"},null,{"$f":"VLOOKUP(E77,'Kapitel 3'!$C$6:$D$89,2,0)","v":"Verfügt die Organisation über ein effizientes Verfahren, um ihre Produkte nach deren Lieferung nachzuverfolgen und Korrekturmaßnahmen durchzuführen?"}]
[null,null,null,null,{"$f":"'Technische Seite'!$B$415","v":"F3.10"},{"$f":"'Technische Seite'!$C$415","v":2},{"$f":"VLOOKUP(E78,'Technische Seite'!$AU$406:$BD$418,2,0)","v":"-"},"n.a.",null,{"$f":"VLOOKUP(E78,'Kapitel 3'!$C$6:$D$89,2,0)","v":"Kommuniziert die Organisation effizient in der Lieferkette hinsichtlich der für ihre Produkte notwendigen Maßnahmen des Risikomanagements?\n"}]
[null,null,null,null,"KAPITEL 4: Einbeziehung von Geschäftspartnern"]
[null,null,null,null,{"$f":"'Technische Seite'!B482","v":"F4.1"},{"$f":"'Technische Seite'!C482","v":1},{"$f":"VLOOKUP(E80,'Technische Seite'!$AU$482:$BD$489,2,0)","v":3},{"$f":"IF(G80=\"-\",\"n.a.\",IF(F80-G80>-1,\"konform\",\"Ergebnis verbessern\"))","v":"Ergebnis verbessern"},null,{"$f":"VLOOKUP(E80,'Kapitel 4'!$C$6:$D$91,2,0)","v":"In welcher Form hat sich die Organisation einer verantwortungsvollen Beschaffung verpflichtet?"}]
[null,null,null,null,{"$f":"'Technische Seite'!B483","v":"F4.2"},{"$f":"'Technische Seite'!C483","v":2},{"$f":"VLOOKUP(E81,'Technische Seite'!$AU$482:$BD$489,2,0)","v":"-"},{"$f":"IF(G81=\"-\",\"n.a.\",IF(F81-G81>-1,\"compliant\",\"increase score\"))","v":"n.a."},null,{"$f":"VLOOKUP(E81,'Kapitel 4'!$C$6:$D$91,2,0)","v":"In welcher Weise steigert die Organisation die Zusammenarbeit mit der Wertschöpfungskette?"}]
[null,null,null,null,{"$f":"'Technische Seite'!B484","v":"F4.3"},{"$f":"'Technische Seite'!C484","v":2},{"$f":"VLOOKUP(E82,'Technische Seite'!$AU$482:$BD$489,2,0)","v":"-"},"n.a.",null,{"$f":"VLOOKUP(E82,'Kapitel 4'!$C$6:$D$91,2,0)","v":"In welcher Weise bringt die Organisation ihre Verpflichtung mit Hinblick auf Geschäftsethik zum Ausdruck?"}]
[null,null,null,null,{"$f":"'Technische Seite'!B485","v":"F4.4"},{"$f":"'Technische Seite'!C485","v":2},{"$f":"VLOOKUP(E83,'Technische Seite'!$AU$482:$BD$489,2,0)","v":"-"},"n.a.",null,{"$f":"VLOOKUP(E83,'Kapitel 4'!$C$6:$D$91,2,0)","v":"Wie berücksichtigt die Organisation soziale Fragen und Menschenrechte in ihrer Zusammenarbeit mit Geschäftspartnern?"}]
[null,null,null,null,{"$f":"'Technische Seite'!B486","v":"F4.5"},{"$f":"'Technische Seite'!C486","v":2},{"$f":"VLOOKUP(E84,'Technische Seite'!$AU$482:$BD$489,2,0)","v":"-"},"n.a.",null,{"$f":"VLOOKUP(E84,'Kapitel 4'!$C$6:$D$91,2,0)","v":"In welcher Weise verhindert die Organisation Kinderarbeit?\n\nDie Organisation\n1.\tverfügt über ein System zur Altersprüfung;\n2.\tbeschäftigt keine Kinder unter 15 Jahren (oder älter; die jeweiligen örtlichen Gesetze sind zu beachten). Berufsausbildungen oder Praktika im Rahmen der Schulbildung bzw. bildungsbezogene Praktika sind die einzigen Ausnahmen;\n3.\tstellt sicher, dass die Beschäftigung von Personen unter 18 Jahren nicht deren Schulbesuch beeinträchtigt (die Gesamtzahl der Stunden für den Weg zur Arbeit und Schule und zurück, Schulbesuch und Arbeitstätigkeit beträgt weniger als 10 Stunden täglich);\n4.\tstellt sicher, dass die Tätigkeit junger Arbeitnehmer nicht geistig, körperlich, sozial oder moralisch gefährlich und schädlich ist."}]
[null,null,null,null,{"$f":"'Technische Seite'!B487","v":"F4.6"},{"$f":"'Technische Seite'!C487","v":2},{"$f":"VLOOKUP(E85,'Technische Seite'!$AU$482:$BD$489,2,0)","v":"-"},"n.a.",null,{"$f":"VLOOKUP(E85,'Kapitel 4'!$C$6:$D$91,2,0)","v":"Wie stellt die Organisation sicher, dass ihre Logistikpartner die Anforderungen der Organisation erfüllen?"}]
[null,null,null,null,{"$f":"'Technische Seite'!B488","v":"F4.7"},{"$f":"'Technische Seite'!C488","v":1},{"$f":"VLOOKUP(E86,'Technische Seite'!$AU$482:$BD$489,2,0)","v":3},{"$f":"IF(G86=\"-\",\"n.a.\",IF(F86-G86>-1,\"konform\",\"Ergebnis verbessern\"))","v":"Ergebnis verbessern"},null,{"$f":"VLOOKUP(E86,'Kapitel 4'!$C$6:$D$91,2,0)","v":"In welcher Weise schützt und sichert die Organisation das Eigentum und die Daten nachgeschalteter Anwender oder externer Anbieter, die zur Nutzung oder Einbeziehung/Einarbeitung in Produkte und Dienstleistungen bereitgestellt werden?"}]
[null,null,null,null,{"$f":"'Technische Seite'!B489","v":"F4.8"},{"$f":"'Technische Seite'!C489","v":2},{"$f":"VLOOKUP(E87,'Technische Seite'!$AU$482:$BD$489,2,0)","v":4},{"$f":"IF(G87=\"-\",\"n.a.\",IF(F87-G87>-1,\"konform\",\"Ergebnis verbessern\"))","v":"Ergebnis verbessern"},null,{"$f":"VLOOKUP(E87,'Kapitel 4'!$C$6:$D$91,2,0)","v":"Was beinhaltet der Dialog mit nachgeschalteten Anwendern?"}]
[null,null,null,null,"KAPITEL 5: Berücksichtigung von Anspruchsgruppen"]
[null,null,null,null,{"$f":"'Technische Seite'!B544","v":"F5.1"},{"$f":"'Technische Seite'!C544","v":2},{"$f":"VLOOKUP(E89,'Technische Seite'!$AU$544:$BD$548,2,0)","v":3},{"$f":"IF(G89=\"-\",\"n.a.\",IF(F89-G89>-1,\"konform\",\"Ergebnis verbessern\"))","v":"Ergebnis verbessern"},null,{"$f":"VLOOKUP(E89,'Kapitel 5'!$C$6:$D$89,2,0)","v":"In welcher Weise bezieht die Organisation die für sie relevanten externen Anspruchsgruppen („stakeholder“) ein und wird deren Erwartungen gerecht?"}]
[null,null,null,null,{"$f":"'Technische Seite'!B545","v":"F5.2"},{"$f":"'Technische Seite'!C545","v":1},{"$f":"VLOOKUP(E90,'Technische Seite'!$AU$544:$BD$548,2,0)","v":"-"},{"$f":"IF(G90=\"-\",\"n.a.\",IF(F90-G90>-1,\"compliant\",\"increase score\"))","v":"n.a."},null,{"$f":"VLOOKUP(E90,'Kapitel 5'!$C$6:$D$89,2,0)","v":"In welcher Weise führt die Organisation einen Dialog mit der Öffentlichkeit, Behörden und anderen interessierten Kreisen (einschließlich örtlichen Gemeinden/Anwohnern und Kunden) über die Leistung ihrer Aktivitäten, Produkte und Dienstleistungen in den Bereichen Gesundheit, Sicherheit, Umwelt, Energie & Nachhaltigkeit?\n"}]
[null,null,null,null,{"$f":"'Technische Seite'!B546","v":"F5.3"},{"$f":"'Technische Seite'!C546","v":2},{"$f":"VLOOKUP(E91,'Technische Seite'!$AU$544:$BD$548,2,0)","v":"-"},"n.a.",null,{"$f":"VLOOKUP(E91,'Kapitel 5'!$C$6:$D$89,2,0)","v":"In welcher Weise vermittelt die Organisation Informationen aus den Bereichen Gesundheit, Sicherheit, Umwelt, Energie & Nachhaltigkeit?"}]
[null,null,null,null,{"$f":"'Technische Seite'!B547","v":"F5.4"},{"$f":"'Technische Seite'!C547","v":1},{"$f":"VLOOKUP(E92,'Technische Seite'!$AU$544:$BD$548,2,0)","v":"-"},"n.a.",null,{"$f":"VLOOKUP(E92,'Kapitel 5'!$C$6:$D$89,2,0)","v":"In welcher Weise unterstützt die Organisation örtliche Gemeinden/Anwohner („local communities“)?"}]
[null,null,null,null,{"$f":"'Technische Seite'!B548","v":"F5.5"},{"$f":"'Technische Seite'!C548","v":2},{"$f":"VLOOKUP(E93,'Technische Seite'!$AU$544:$BD$548,2,0)","v":"-"},"n.a.",null,{"$f":"VLOOKUP(E93,'Kapitel 5'!$C$6:$D$89,2,0)","v":"In welcher Weise fördert die Organisation Beschäftigung und Bildung vor Ort?"}]
[null,null,null,null,"KAPITEL 6 : Beitrag zur Nachhaltigkeit"]
[null,null,null,null,{"$f":"'Technische Seite'!B584","v":"F6.1"},{"$f":"'Technische Seite'!C584","v":2},{"$f":"VLOOKUP(E95,'Technische Seite'!$AU$584:$BD$600,2,0)","v":"-"},{"$f":"IF(G95=\"-\",\"n.a.\",IF(F95-G95>-1,\"compliant\",\"increase score\"))","v":"n.a."},null,{"$f":"VLOOKUP(E95,'Kapitel 6'!$C$6:$D$120,2,0)","v":"Wie definiert das Unternehmen relevante Themen und Wesentlichkeiten?"}]
[null,null,null,null,{"$f":"'Technische Seite'!B585","v":"F6.2"},{"$f":"'Technische Seite'!C585","v":1},{"$f":"VLOOKUP(E96,'Technische Seite'!$AU$584:$BD$600,2,0)","v":"-"},{"$f":"IF(G96=\"-\",\"n.a.\",IF(F96-G96>-1,\"compliant\",\"increase score\"))","v":"n.a."},null,{"$f":"VLOOKUP(E96,'Kapitel 6'!$C$6:$D$120,2,0)","v":"Welche Pläne hat die Organisation zum Beitrag für eine nachhaltige Entwicklung? "}]
[null,null,null,null,{"$f":"'Technische Seite'!B586","v":"F6.3"},{"$f":"'Technische Seite'!C586","v":1},{"$f":"VLOOKUP(E97,'Technische Seite'!$AU$584:$BD$600,2,0)","v":"-"},"n.a.",null,{"$f":"VLOOKUP(E97,'Kapitel 6'!$C$6:$D$120,2,0)","v":"Wie steht es bei der Organisation mit der Einbeziehung von Stakeholdern bei Nachhaltigkeit?"}]
[null,null,null,null,{"$f":"'Technische Seite'!B587","v":"F6.4"},{"$f":"'Technische Seite'!C587","v":1},{"$f":"VLOOKUP(E98,'Technische Seite'!$AU$584:$BD$600,2,0)","v":"-"},"n.a.",null,{"$f":"VLOOKUP(E98,'Kapitel 6'!$C$6:$D$120,2,0)","v":"Verfügt die Organisation über einen Prozess für die Entwicklung von Produkten mit besseren Nachhaltigkeitsergebnissen?"}]
[null,null,null,null,{"$f":"'Technische Seite'!B588","v":"F6.5"},{"$f":"'Technische Seite'!C588","v":1},{"$f":"VLOOKUP(E99,'Technische Seite'!$AU$584:$BD$600,2,0)","v":"-"},"n.a.",null,{"$f":"VLOOKUP(E99,'Kapitel 6'!$C$6:$D$120,2,0)","v":"Wie verbessert die Organisation die Ressourceneffizienz in ihren Produktionsprozessen? "}]
[null,null,null,null,{"$f":"'Technische Seite'!B589","v":"F6.6"},{"$f":"'Technische Seite'!C589","v":1},{"$f":"VLOOKUP(E100,'Technische Seite'!$AU$584:$BD$600,2,0)","v":"-"},"n.a.",null,{"$f":"VLOOKUP(E100,'Kapitel 6'!$C$6:$D$120,2,0)","v":"Wie fördert die Organisation die Kreislaufwirtschaft durch ihre Produkte?"}]
[null,null,null,null,{"$f":"'Technische Seite'!B590","v":"F6.7"},{"$f":"'Technische Seite'!C590","v":1},{"$f":"VLOOKUP(E101,'Technische Seite'!$AU$584:$BD$600,2,0)","v":"-"},"n.a.",null,{"$f":"VLOOKUP(E101,'Kapitel 6'!$C$6:$D$120,2,0)","v":"Wie fördert die Organisation Innovation für die Entwicklung von Produkten und Lösungen, die mit den Herausforderungen der Nachhaltigkeit in Einklang stehen?"}]
[null,null,null,null,{"$f":"'Technische Seite'!B591","v":"F6.8"},{"$f":"'Technische Seite'!C591","v":1},{"$f":"VLOOKUP(E102,'Technische Seite'!$AU$584:$BD$600,2,0)","v":"-"},"n.a.",null,{"$f":"VLOOKUP(E102,'Kapitel 6'!$C$6:$D$120,2,0)","v":"Wie fördert die Organisation Innovationspanels und Kooperationen?"}]
[null,null,null,null,{"$f":"'Technische Seite'!B592","v":"F6.9"},{"$f":"'Technische Seite'!C592","v":2},{"$f":"VLOOKUP(E103,'Technische Seite'!$AU$584:$BD$600,2,0)","v":"-"},"n.a.",null,{"$f":"VLOOKUP(E103,'Kapitel 6'!$C$6:$D$120,2,0)","v":"Wie fördert die Organisation nachhaltiges Verbrauchsverhalten?"}]
[null,null,null,null,{"$f":"'Technische Seite'!B593","v":"F6.10"},{"$f":"'Technische Seite'!C593","v":1},{"$f":"VLOOKUP(E104,'Technische Seite'!$AU$584:$BD$600,2,0)","v":"-"},"n.a.",null,{"$f":"VLOOKUP(E104,'Kapitel 6'!$C$6:$D$120,2,0)","v":"Wie kontrolliert und optimiert die Organisation den Wasserverbrauch?"}]
[null,null,null,null,{"$f":"'Technische Seite'!B594","v":"F6.11"},{"$f":"'Technische Seite'!C594","v":1},{"$f":"VLOOKUP(E105,'Technische Seite'!$AU$584:$BD$600,2,0)","v":"-"},"n.a.",null,{"$f":"VLOOKUP(E105,'Kapitel 6'!$C$6:$D$120,2,0)","v":"Wie werden die Auswirkungen der Organisation auf die Biodiversität und die Ökosystemleistungen gehandhabt?"}]
[null,null,null,null,{"$f":"'Technische Seite'!B595","v":"F6.12"},{"$f":"'Technische Seite'!C595","v":2},{"$f":"VLOOKUP(E106,'Technische Seite'!$AU$584:$BD$600,2,0)","v":"-"},"n.a.",null,{"$f":"VLOOKUP(E106,'Kapitel 6'!$C$6:$D$120,2,0)","v":"Wie berücksichtigt die Organisation ihre Abhängigkeit von Ökosystemleistungen?"}]
[null,null,null,null,{"$f":"'Technische Seite'!B596","v":"F6.13"},{"$f":"'Technische Seite'!C596","v":1},{"$f":"VLOOKUP(E107,'Technische Seite'!$AU$584:$BD$600,2,0)","v":"-"},"n.a.",null,{"$f":"VLOOKUP(E107,'Kapitel 6'!$C$6:$D$120,2,0)","v":"Wie handhabt die Organisation ihre Energieeffizienz?"}]
[null,null,null,null,{"$f":"'Technische Seite'!B597","v":"F6.14"},{"$f":"'Technische Seite'!C597","v":2},{"$f":"VLOOKUP(E108,'Technische Seite'!$AU$584:$BD$600,2,0)","v":"-"},"n.a.",null,{"$f":"VLOOKUP(E108,'Kapitel 6'!$C$6:$D$120,2,0)","v":"Wie handhabt die Organisation ihre Emissionen von Treibhausgasen (THG) (anders als durch Energieeinsparung)?"}]
[null,null,null,null,{"$f":"'Technische Seite'!B598","v":"F6.15"},{"$f":"'Technische Seite'!C598","v":1},{"$f":"VLOOKUP(E109,'Technische Seite'!$AU$584:$BD$600,2,0)","v":"-"},"n.a.",null,{"$f":"VLOOKUP(E109,'Kapitel 6'!$C$6:$D$120,2,0)","v":"Welche Strategie hat die Organisation zur Reduzierung von THG-Emissionen?"}]
[null,null,null,null,{"$f":"'Technische Seite'!B599","v":"F6.16"},{"$f":"'Technische Seite'!C599","v":2},{"$f":"VLOOKUP(E110,'Technische Seite'!$AU$584:$BD$600,2,0)","v":"-"},"n.a.",null,{"$f":"VLOOKUP(E110,'Kapitel 6'!$C$6:$D$120,2,0)","v":"Wie bereitet sich die Organisation auf den Klimawandel vor? "}]
[null,null,null,null,{"$f":"'Technische Seite'!B600","v":"F6.17"},{"$f":"'Technische Seite'!C600","v":1},{"$f":"VLOOKUP(E111,'Technische Seite'!$AU$584:$BD$600,2,0)","v":"-"},"n.a.",null,{"$f":"VLOOKUP(E111,'Kapitel 6'!$C$6:$D$120,2,0)","v":"In welcher Weise gewährleistet die Organisation Chancengleichheit bei der Einstellung und während der gesamten beruflichen Laufbahn aller?"}]
[]
[null,null,"Bericht über den Abstand zur Einhaltung von  ISO 14001"]
[null,null,null,null,null,"Ihre Bewertung ","Mindestbewertung für ISO 14001"]
[null,null,null,null,"KAPITEL 1: Führungskultur im Unternehmen"]
[null,null,null,null,{"$f":"'Technische Seite'!B10","v":"F1.1"},{"$f":"'Technische Seite'!C10","v":1},{"$f":"VLOOKUP(E116,'Technische Seite'!$AU$10:$BD$25,3,0)","v":3},{"$f":"IF(G116=\"-\",\"n.a.\",IF(F116-G116>-1,\"konform\",\"Ergebnis verbessern\"))","v":"Ergebnis verbessern"},null,{"$f":"VLOOKUP(E116,'Kapitel 1'!$C$6:$D$112,2,0)","v":"In welcher Weise wird die Verpflichtung zur Einhaltung gesetzlicher und sonstiger Vorschriften („Compliance“) sowie der Grundsätze von Responsible Care (d. h. Schutz und Förderung der Gesundheit & Sicherheit von Menschen und Umwelt sowie Nachhaltigkeit) auf allen Ebenen der Organisation dargelegt?"}]
[null,null,null,null,{"$f":"'Technische Seite'!B11","v":"F1.2"},{"$f":"'Technische Seite'!C11","v":1},{"$f":"VLOOKUP(E117,'Technische Seite'!$AU$10:$BD$25,3,0)","v":3},{"$f":"IF(G117=\"-\",\"n.a.\",IF(F117-G117>-1,\"konform\",\"Ergebnis verbessern\"))","v":"Ergebnis verbessern"},null,{"$f":"VLOOKUP(E117,'Kapitel 1'!$C$6:$D$112,2,0)","v":"Wie steuert die Organisation die relevanten Risiken und Chancen?"}]
[null,null,null,null,{"$f":"'Technische Seite'!B12","v":"F1.3"},{"$f":"'Technische Seite'!C12","v":2},{"$f":"VLOOKUP(E118,'Technische Seite'!$AU$10:$BD$25,3,0)","v":2},{"$f":"IF(G118=\"-\",\"n.a.\",IF(F118-G118>-1,\"konform\",\"Ergebnis verbessern\"))","v":"konform"},null,{"$f":"VLOOKUP(E118,'Kapitel 1'!$C$6:$D$112,2,0)","v":"In welcher Weise erfüllt die Organisation ihre gesetzlichen Verpflichtungen?"}]
[null,null,null,null,{"$f":"'Technische Seite'!B13","v":"F1.4"},{"$f":"'Technische Seite'!C13","v":2},{"$f":"VLOOKUP(E119,'Technische Seite'!$AU$10:$BD$25,3,0)","v":2},{"$f":"IF(G119=\"-\",\"n.a.\",IF(F119-G119>-1,\"konform\",\"Ergebnis verbessern\"))","v":"konform"},null,{"$f":"VLOOKUP(E119,'Kapitel 1'!$C$6:$D$112,2,0)","v":"Wie stellt die oberste Führungsebene („top management“) sicher, dass Aspekte aus den Bereichen Gesundheit, Sicherheit, Umwelt, Energie & Nachhaltigkeit bestimmten Funktionen zugeordnet sind?"}]
[null,null,null,null,{"$f":"'Technische Seite'!B14","v":"F1.5"},{"$f":"'Technische Seite'!C14","v":3},{"$f":"VLOOKUP(E120,'Technische Seite'!$AU$10:$BD$25,3,0)","v":3},{"$f":"IF(G120=\"-\",\"n.a.\",IF(F120-G120>-1,\"konform\",\"Ergebnis verbessern\"))","v":"konform"},null,{"$f":"VLOOKUP(E120,'Kapitel 1'!$C$6:$D$112,2,0)","v":"In welcher Weise ist der Vorstand/die Geschäftsleitung der Organisation in den Umgang mit Fragen und Problemen („issues“) in den Bereichen Gesundheit, Sicherheit, Umwelt, Energie & Nachhaltigkeit eingebunden?"}]
[null,null,null,null,{"$f":"'Technische Seite'!B15","v":"F1.6"},{"$f":"'Technische Seite'!C15","v":4},{"$f":"VLOOKUP(E121,'Technische Seite'!$AU$10:$BD$25,3,0)","v":"-"},{"$f":"IF(G121=\"-\",\"n.a.\",IF(F121-G121>-1,\"compliant\",\"increase score\"))","v":"n.a."},null,{"$f":"VLOOKUP(E121,'Kapitel 1'!$C$6:$D$112,2,0)","v":"Wie werden Verantwortlichkeiten in den Bereichen Gesundheit, Sicherheit, Umwelt, Energie & Nachhaltigkeit in Arbeitsplatzbeschreibungen oder Jahresziele integriert?"}]
[null,null,null,null,{"$f":"'Technische Seite'!B16","v":"F1.7"},{"$f":"'Technische Seite'!C16","v":1},{"$f":"VLOOKUP(E122,'Technische Seite'!$AU$10:$BD$25,3,0)","v":3},{"$f":"IF(G122=\"-\",\"n.a.\",IF(F122-G122>-1,\"konform\",\"Ergebnis verbessern\"))","v":"Ergebnis verbessern"},null,{"$f":"VLOOKUP(E122,'Kapitel 1'!$C$6:$D$112,2,0)","v":"Wie werden (Kern-)Prozesse in den Bereichen Gesundheit, Sicherheit, Umwelt, Energie & Nachhaltigkeit gelenkt?"}]
[null,null,null,null,{"$f":"'Technische Seite'!B17","v":"F1.8"},{"$f":"'Technische Seite'!C17","v":2},{"$f":"VLOOKUP(E123,'Technische Seite'!$AU$10:$BD$25,3,0)","v":3},"Ergebnis verbessern",null,{"$f":"VLOOKUP(E123,'Kapitel 1'!$C$6:$D$112,2,0)","v":"In welche Weise stellt die oberste Führungsebene eine kontinuierliche Verbesserung der Leistung in den Bereichen Gesundheit, Sicherheit, Umwelt, Energie & Nachhaltigkeit sicher?"}]
[null,null,null,null,{"$f":"'Technische Seite'!B18","v":"F1.9"},{"$f":"'Technische Seite'!C18","v":1},{"$f":"VLOOKUP(E124,'Technische Seite'!$AU$10:$BD$25,3,0)","v":3},"Ergebnis verbessern",null,{"$f":"VLOOKUP(E124,'Kapitel 1'!$C$6:$D$112,2,0)","v":"Wie wird das interne Auditprogramm durchgeführt?"}]
[null,null,null,null,{"$f":"'Technische Seite'!B19","v":"F1.10"},{"$f":"'Technische Seite'!C19","v":3},{"$f":"VLOOKUP(E125,'Technische Seite'!$AU$10:$BD$25,3,0)","v":3},"konform",null,{"$f":"VLOOKUP(E125,'Kapitel 1'!$C$6:$D$112,2,0)","v":"Wie werden Vorfälle untersucht?"}]
[null,null,null,null,{"$f":"'Technische Seite'!B20","v":"F1.11"},{"$f":"'Technische Seite'!C20","v":3},{"$f":"VLOOKUP(E126,'Technische Seite'!$AU$10:$BD$25,3,0)","v":3},"konform",null,{"$f":"VLOOKUP(E126,'Kapitel 1'!$C$6:$D$112,2,0)","v":"In welcher Weise stellt die Organisation die benötigten Verfahren, zeitlichen Mittel und Ressourcen bereit, um Management-Prozesse in den Bereichen Gesundheit, Sicherheit, Umwelt, Energie & Nachhaltigkeit zu verbessern?"}]
[null,null,null,null,{"$f":"'Technische Seite'!B21","v":"F1.12"},{"$f":"'Technische Seite'!C21","v":2},{"$f":"VLOOKUP(E127,'Technische Seite'!$AU$10:$BD$25,3,0)","v":3},"Ergebnis verbessern",null,{"$f":"VLOOKUP(E127,'Kapitel 1'!$C$6:$D$112,2,0)","v":"Wie stellt die Organisation sicher, dass Mitarbeiter über die Unternehmenspolitik und Verfahren in den Bereichen Gesundheit, Sicherheit, Umwelt, Energie & Nachhaltigkeit informiert sind?"}]
[null,null,null,null,{"$f":"'Technische Seite'!B22","v":"F1.13"},{"$f":"'Technische Seite'!C22","v":1},{"$f":"VLOOKUP(E128,'Technische Seite'!$AU$10:$BD$25,3,0)","v":3},"Ergebnis verbessern",null,{"$f":"VLOOKUP(E128,'Kapitel 1'!$C$6:$D$112,2,0)","v":"Wie stellt die Organisation sicher, dass Arbeiter – hinsichtlich der mit ihrer Tätigkeit in Zusammenhang stehenden Aspekten in den Bereichen Gesundheit, Sicherheit, Umwelt, Energie & Nachhaltigkeit – über die erforderlichen Kompetenzen verfügen?"}]
[null,null,null,null,{"$f":"'Technische Seite'!B23","v":"F1.14"},{"$f":"'Technische Seite'!C23","v":4},{"$f":"VLOOKUP(E129,'Technische Seite'!$AU$10:$BD$25,3,0)","v":2},"konform",null,{"$f":"VLOOKUP(E129,'Kapitel 1'!$C$6:$D$112,2,0)","v":"Wie ist die Einbeziehung der Mitarbeiter strukturiert?"}]
[null,null,null,null,{"$f":"'Technische Seite'!B24","v":"F1.15"},{"$f":"'Technische Seite'!C24","v":2},{"$f":"VLOOKUP(E130,'Technische Seite'!$AU$10:$BD$25,3,0)","v":3},"Ergebnis verbessern",null,{"$f":"VLOOKUP(E130,'Kapitel 1'!$C$6:$D$112,2,0)","v":"Wie werden Dokumente aus den Bereichen Gesundheit, Sicherheit, Umwelt, Energie & Nachhaltigkeit verwaltet?"}]
[null,null,null,null,{"$f":"'Technische Seite'!B25","v":"F1.16"},{"$f":"'Technische Seite'!C25","v":2},{"$f":"VLOOKUP(E131,'Technische Seite'!$AU$10:$BD$25,3,0)","v":3},"Ergebnis verbessern",null,{"$f":"VLOOKUP(E131,'Kapitel 1'!$C$6:$D$112,2,0)","v":"In welcher Weise werden Änderungen, die möglicherweise Auswirkungen auf die Bereiche Gesundheit, Sicherheit, Umwelt, Energie & Nachhaltigkeit haben könnten, gesteuert?"}]
[null,null,null,null,"KAPITEL 2: Schutz von Mensch und Umwelt"]
[null,null,null,null,{"$f":"'Technische Seite'!B124","v":"F2.1"},{"$f":"'Technische Seite'!C124","v":1},{"$f":"VLOOKUP(E133,'Technische Seite'!$AU$124:$BD$168,3,0)","v":"-"},"n.a.",null,{"$f":"VLOOKUP(E133,'Kapitel 2'!$C$6:$D$282,2,0)","v":"In welcher Weise verpflichtet sich die Führung der Organisation zu Arbeits- und Gesundheitsschutz?"}]
[null,null,null,null,{"$f":"'Technische Seite'!B125","v":"F2.2"},{"$f":"'Technische Seite'!C125","v":1},{"$f":"VLOOKUP(E134,'Technische Seite'!$AU$124:$BD$168,3,0)","v":"-"},{"$f":"IF(G134=\"-\",\"n.a.\",IF(F134-G134>-1,\"compliant\",\"increase score\"))","v":"n.a."},null,{"$f":"VLOOKUP(E134,'Kapitel 2'!$C$6:$D$282,2,0)","v":"In welcher Weise werden Risiken und Expositionen in den Bereichen Gesundheit & Sicherheit festgestellt?"}]
[null,null,null,null,{"$f":"'Technische Seite'!B126","v":"F2.3"},{"$f":"'Technische Seite'!C126","v":4},{"$f":"VLOOKUP(E135,'Technische Seite'!$AU$124:$BD$168,3,0)","v":"-"},"n.a.",null,{"$f":"VLOOKUP(E135,'Kapitel 2'!$C$6:$D$282,2,0)","v":"In welcher Weise werden die medizinischen Anforderungen bewertet?"}]
[null,null,null,null,{"$f":"'Technische Seite'!B127","v":"F2.4"},{"$f":"'Technische Seite'!C127","v":1},{"$f":"VLOOKUP(E136,'Technische Seite'!$AU$124:$BD$168,3,0)","v":"-"},"n.a.",null,{"$f":"VLOOKUP(E136,'Kapitel 2'!$C$6:$D$282,2,0)","v":"In welcher Weise verbessert die Organisation ihre Leistung in den Bereichen Gesundheit und Sicherheit?"}]
[null,null,null,null,{"$f":"'Technische Seite'!B128","v":"F2.5"},{"$f":"'Technische Seite'!C128","v":2},{"$f":"VLOOKUP(E137,'Technische Seite'!$AU$124:$BD$168,3,0)","v":"-"},"n.a.",null,{"$f":"VLOOKUP(E137,'Kapitel 2'!$C$6:$D$282,2,0)","v":"In welcher Weise werden Wartung und Pflege („maintenance and housekeeping“) gestaltet, um die Sicherheit von Einrichtungen, Anlagen, Werkzeugen und\n(Sicherheits-) Ausrüstungen aufrechtzuerhalten?"}]
[null,null,null,null,{"$f":"'Technische Seite'!B129","v":"F2.6"},{"$f":"'Technische Seite'!C129","v":3},{"$f":"VLOOKUP(E138,'Technische Seite'!$AU$124:$BD$168,3,0)","v":"-"},"n.a.",null,{"$f":"VLOOKUP(E138,'Kapitel 2'!$C$6:$D$282,2,0)","v":"Wie werden die geeignete Auswahl, Wartung und Verwendung von Ausrüstungen in den Bereichen Gesundheit und Sicherheit (z. B. persönliche Schutzausrüstung/PSA) überprüft?"}]
[null,null,null,null,{"$f":"'Technische Seite'!B130","v":"F2.7"},{"$f":"'Technische Seite'!C130","v":1},{"$f":"VLOOKUP(E139,'Technische Seite'!$AU$124:$BD$168,3,0)","v":"-"},"n.a.",null,{"$f":"VLOOKUP(E139,'Kapitel 2'!$C$6:$D$282,2,0)","v":"Wie geht die Organisation mit Stress und Wohlbefinden um?"}]
[null,null,null,null,{"$f":"'Technische Seite'!B131","v":"F2.8"},{"$f":"'Technische Seite'!C131","v":1},{"$f":"VLOOKUP(E140,'Technische Seite'!$AU$124:$BD$168,3,0)","v":3},{"$f":"IF(G140=\"-\",\"n.a.\",IF(F140-G140>-1,\"konform\",\"Ergebnis verbessern\"))","v":"Ergebnis verbessern"},null,{"$f":"VLOOKUP(E140,'Kapitel 2'!$C$6:$D$282,2,0)","v":"In welcher Weise werden Verletzungen am Arbeitsplatz, Vorfälle und Beinahe-Vorfälle untersucht?"}]
[null,null,null,null,{"$f":"'Technische Seite'!B132","v":"F2.9"},{"$f":"'Technische Seite'!C132","v":4},{"$f":"VLOOKUP(E141,'Technische Seite'!$AU$124:$BD$168,3,0)","v":"-"},"n.a.",null,{"$f":"VLOOKUP(E141,'Kapitel 2'!$C$6:$D$282,2,0)","v":"Wie ist die Organisation auf Notfälle vorbereitet?"}]
[null,null,null,null,{"$f":"'Technische Seite'!B133","v":"F2.10"},{"$f":"'Technische Seite'!C133","v":1},{"$f":"VLOOKUP(E142,'Technische Seite'!$AU$124:$BD$168,3,0)","v":3},{"$f":"IF(G142=\"-\",\"n.a.\",IF(F142-G142>-1,\"konform\",\"Ergebnis verbessern\"))","v":"Ergebnis verbessern"},null,{"$f":"VLOOKUP(E142,'Kapitel 2'!$C$6:$D$282,2,0)","v":"In welcher Weise stellt die Organisation sicher, dass alle Mitarbeiter hinsichtlich der Gesundheits- und Sicherheitsanforderungen, die mit ihrer Tätigkeit in Zusammenhang stehen, über die geeigneten Kompetenzen verfügen?"}]
[null,null,null,null,{"$f":"'Technische Seite'!B134","v":"F2.11"},{"$f":"'Technische Seite'!C134","v":2},{"$f":"VLOOKUP(E143,'Technische Seite'!$AU$124:$BD$168,3,0)","v":"-"},"n.a.",null,{"$f":"VLOOKUP(E143,'Kapitel 2'!$C$6:$D$282,2,0)","v":"Wie verpflichtet sich die Unternehmensleitung zur Verfahrenssicherheit?"}]
[null,null,null,null,{"$f":"'Technische Seite'!B135","v":"F2.12"},{"$f":"'Technische Seite'!C135","v":1},{"$f":"VLOOKUP(E144,'Technische Seite'!$AU$124:$BD$168,3,0)","v":"-"},"n.a.",null,{"$f":"VLOOKUP(E144,'Kapitel 2'!$C$6:$D$282,2,0)","v":"In welcher Weise werden die Identifizierung und Beschreibung der Sicherheit von Verfahren, Ausrüstungen und Standorten der Organisation vorbereitet?"}]
[null,null,null,null,{"$f":"'Technische Seite'!B136","v":"F2.13"},{"$f":"'Technische Seite'!C136","v":2},{"$f":"VLOOKUP(E145,'Technische Seite'!$AU$124:$BD$168,3,0)","v":"-"},"n.a.",null,{"$f":"VLOOKUP(E145,'Kapitel 2'!$C$6:$D$282,2,0)","v":"In welcher Weise werden Verbesserungen im Bereich Verfahrenssicherheit aufgrund von Vorfällen und Unfällen vorgenommen?"}]
[null,null,null,null,{"$f":"'Technische Seite'!B137","v":"F2.14"},{"$f":"'Technische Seite'!C137","v":3},{"$f":"VLOOKUP(E146,'Technische Seite'!$AU$124:$BD$168,3,0)","v":"-"},"n.a.",null,{"$f":"VLOOKUP(E146,'Kapitel 2'!$C$6:$D$282,2,0)","v":"Wie werden Audits und Inspektionen im Bereich Verfahrenssicherheit durchgeführt?"}]
[null,null,null,null,{"$f":"'Technische Seite'!B138","v":"F2.15"},{"$f":"'Technische Seite'!C138","v":1},{"$f":"VLOOKUP(E147,'Technische Seite'!$AU$124:$BD$168,3,0)","v":"-"},"n.a.",null,{"$f":"VLOOKUP(E147,'Kapitel 2'!$C$6:$D$282,2,0)","v":"Wie werden Arbeitsanweisungen kontrolliert und verbessert?"}]
[null,null,null,null,{"$f":"'Technische Seite'!B139","v":"F2.16"},{"$f":"'Technische Seite'!C139","v":1},{"$f":"VLOOKUP(E148,'Technische Seite'!$AU$124:$BD$168,3,0)","v":"-"},"n.a.",null,{"$f":"VLOOKUP(E148,'Kapitel 2'!$C$6:$D$282,2,0)","v":"Wie wird die Anlagenplanung durchgeführt und dokumentiert?"}]
[null,null,null,null,{"$f":"'Technische Seite'!B140","v":"F2.17"},{"$f":"'Technische Seite'!C140","v":4},{"$f":"VLOOKUP(E149,'Technische Seite'!$AU$124:$BD$168,3,0)","v":"-"},"n.a.",null,{"$f":"VLOOKUP(E149,'Kapitel 2'!$C$6:$D$282,2,0)","v":"In welcher Weise wird der Aufbau der Anlage kontrolliert?"}]
[null,null,null,null,{"$f":"'Technische Seite'!B141","v":"F2.18"},{"$f":"'Technische Seite'!C141","v":2},{"$f":"VLOOKUP(E150,'Technische Seite'!$AU$124:$BD$168,3,0)","v":"-"},"n.a.",null,{"$f":"VLOOKUP(E150,'Kapitel 2'!$C$6:$D$282,2,0)","v":"Wie wird „Schutz“ in Anlagen integriert, um zuverlässig zu verhindern, dass ein einziger Fehler katastrophale Folgen hat?"}]
[null,null,null,null,{"$f":"'Technische Seite'!B142","v":"F2.19"},{"$f":"'Technische Seite'!C142","v":2},{"$f":"VLOOKUP(E151,'Technische Seite'!$AU$124:$BD$168,3,0)","v":"-"},"n.a.",null,{"$f":"VLOOKUP(E151,'Kapitel 2'!$C$6:$D$282,2,0)","v":"Gibt es ein vorbeugendes Wartungs- und Pflegeprogramm („maintenance and housekeeping programme“), um die Sicherheit von Einrichtungen, Werkzeugen/Tools und Ausrüstungen aufrechtzuerhalten?"}]
[null,null,null,null,{"$f":"'Technische Seite'!B143","v":"F2.20"},{"$f":"'Technische Seite'!C143","v":1},{"$f":"VLOOKUP(E152,'Technische Seite'!$AU$124:$BD$168,3,0)","v":"-"},"n.a.",null,{"$f":"VLOOKUP(E152,'Kapitel 2'!$C$6:$D$282,2,0)","v":"Im Fall von Energie- oder Betriebsunterbrechungen – wie werden Verfahren in Notfällen gesteuert?"}]
[null,null,null,null,{"$f":"'Technische Seite'!B144","v":"F2.21"},{"$f":"'Technische Seite'!C144","v":3},{"$f":"VLOOKUP(E153,'Technische Seite'!$AU$124:$BD$168,3,0)","v":"-"},"n.a.",null,{"$f":"VLOOKUP(E153,'Kapitel 2'!$C$6:$D$282,2,0)","v":"Wie werden Notfallpläne erstellt?"}]
[null,null,null,null,{"$f":"'Technische Seite'!B145","v":"F2.22"},{"$f":"'Technische Seite'!C145","v":1},{"$f":"VLOOKUP(E154,'Technische Seite'!$AU$124:$BD$168,3,0)","v":"-"},"n.a.",null,{"$f":"VLOOKUP(E154,'Kapitel 2'!$C$6:$D$282,2,0)","v":"In welcher Weise werden die Kompetenz und Schulung von an den Prozessen beteiligten Mitarbeitern und Fremdfirmen sichergestellt?"}]
[null,null,null,null,{"$f":"'Technische Seite'!B146","v":"F2.23"},{"$f":"'Technische Seite'!C146","v":2},{"$f":"VLOOKUP(E155,'Technische Seite'!$AU$124:$BD$168,3,0)","v":"-"},"n.a.",null,{"$f":"VLOOKUP(E155,'Kapitel 2'!$C$6:$D$282,2,0)","v":"Wie werden Informationen über die Risiken von Stoffen und Zubereitungen gemeinsam genutzt/weitergegeben?"}]
[null,null,null,null,{"$f":"'Technische Seite'!B147","v":"F2.24"},{"$f":"'Technische Seite'!C147","v":3},{"$f":"VLOOKUP(E156,'Technische Seite'!$AU$124:$BD$168,3,0)","v":"-"},"n.a.",null,{"$f":"VLOOKUP(E156,'Kapitel 2'!$C$6:$D$282,2,0)","v":"Wie werden Informationen über das Verfahren gemeinsam genutzt/weitergegeben?"}]
[null,null,null,null,{"$f":"'Technische Seite'!B148","v":"F2.25"},{"$f":"'Technische Seite'!C148","v":2},{"$f":"VLOOKUP(E157,'Technische Seite'!$AU$124:$BD$168,3,0)","v":"-"},"n.a.",null,{"$f":"VLOOKUP(E157,'Kapitel 2'!$C$6:$D$282,2,0)","v":"In welcher Weise bewertet die Organisation ihre Logistikpartner mit Hinblick auf Gesundheit, Sicherheit, Umwelt & Nachhaltigkeit, Energieeffizienz und Treibhausgas(THG)-Emissionen?"}]
[null,null,null,null,{"$f":"'Technische Seite'!B149","v":"F2.26"},{"$f":"'Technische Seite'!C149","v":1},{"$f":"VLOOKUP(E158,'Technische Seite'!$AU$124:$BD$168,3,0)","v":"-"},"n.a.",null,{"$f":"VLOOKUP(E158,'Kapitel 2'!$C$6:$D$282,2,0)","v":"Welche Maßnahmen zur Vermeidung von Transportunfällen bzw. Notfallmaßnahmen im Falle von Transportunfällen ergreift die Organisation?"}]
[null,null,null,null,{"$f":"'Technische Seite'!B150","v":"F2.27"},{"$f":"'Technische Seite'!C150","v":1},{"$f":"VLOOKUP(E159,'Technische Seite'!$AU$124:$BD$168,3,0)","v":"-"},"n.a.",null,{"$f":"VLOOKUP(E159,'Kapitel 2'!$C$6:$D$282,2,0)","v":"In welcher Weise identifiziert die Organisation Sicherheitsprobleme?"}]
[null,null,null,null,{"$f":"'Technische Seite'!B151","v":"F2.28"},{"$f":"'Technische Seite'!C151","v":2},{"$f":"VLOOKUP(E160,'Technische Seite'!$AU$124:$BD$168,3,0)","v":"-"},"n.a.",null,{"$f":"VLOOKUP(E160,'Kapitel 2'!$C$6:$D$282,2,0)","v":"In welcher Weise werden das Betreten/Verlassen des Arbeitsortes und eingeschränkt zugänglicher Bereiche durch Mitarbeiter bzw. der dortige Ein- und Ausgang von Materialien kontrolliert?"}]
[null,null,null,null,{"$f":"'Technische Seite'!B152","v":"F2.29"},{"$f":"'Technische Seite'!C152","v":1},{"$f":"VLOOKUP(E161,'Technische Seite'!$AU$124:$BD$168,3,0)","v":"-"},"n.a.",null,{"$f":"VLOOKUP(E161,'Kapitel 2'!$C$6:$D$282,2,0)","v":"Wie wird Cybersecurity überwacht?"}]
[null,null,null,null,{"$f":"'Technische Seite'!B153","v":"F2.30"},{"$f":"'Technische Seite'!C153","v":1},{"$f":"VLOOKUP(E162,'Technische Seite'!$AU$124:$BD$168,3,0)","v":"-"},"n.a.",null,{"$f":"VLOOKUP(E162,'Kapitel 2'!$C$6:$D$282,2,0)","v":"Wie sind Kommunikation und Informationsaustausch im Falle einer Sicherheitskrise organisiert?"}]
[null,null,null,null,{"$f":"'Technische Seite'!B154","v":"F2.31"},{"$f":"'Technische Seite'!C154","v":3},{"$f":"VLOOKUP(E163,'Technische Seite'!$AU$124:$BD$168,3,0)","v":"-"},"n.a.",null,{"$f":"VLOOKUP(E163,'Kapitel 2'!$C$6:$D$282,2,0)","v":"Wie geht die Organisation mit abnormalem Verhalten (einschließlich Risiken der Radikalisierung) um?"}]
[null,null,null,null,{"$f":"'Technische Seite'!B155","v":"F2.32"},{"$f":"'Technische Seite'!C155","v":1},{"$f":"VLOOKUP(E164,'Technische Seite'!$AU$124:$BD$168,3,0)","v":"-"},"n.a.",null,{"$f":"VLOOKUP(E164,'Kapitel 2'!$C$6:$D$282,2,0)","v":"In welcher Weise weist die Organisation die Mitarbeiter an, in Sicherheitsfragen wachsam zu sein?"}]
[null,null,null,null,{"$f":"'Technische Seite'!B156","v":"F2.33"},{"$f":"'Technische Seite'!C156","v":2},{"$f":"VLOOKUP(E165,'Technische Seite'!$AU$124:$BD$168,3,0)","v":3},{"$f":"IF(G165=\"-\",\"n.a.\",IF(F165-G165>-1,\"konform\",\"Ergebnis verbessern\"))","v":"Ergebnis verbessern"},null,{"$f":"VLOOKUP(E165,'Kapitel 2'!$C$6:$D$282,2,0)","v":"In welcher Weise werden die möglichen Umweltauswirkungen der Aktivitäten der Organisation bewertet?"}]
[null,null,null,null,{"$f":"'Technische Seite'!B157","v":"F2.34"},{"$f":"'Technische Seite'!C157","v":1},{"$f":"VLOOKUP(E166,'Technische Seite'!$AU$124:$BD$168,3,0)","v":4},"Ergebnis verbessern",null,{"$f":"VLOOKUP(E166,'Kapitel 2'!$C$6:$D$282,2,0)","v":"In welcher Weise steuert die Organisation ihre Umweltleistung?"}]
[null,null,null,null,{"$f":"'Technische Seite'!B158","v":"F2.35"},{"$f":"'Technische Seite'!C158","v":2},{"$f":"VLOOKUP(E167,'Technische Seite'!$AU$124:$BD$168,3,0)","v":3},"Ergebnis verbessern",null,{"$f":"VLOOKUP(E167,'Kapitel 2'!$C$6:$D$282,2,0)","v":"Wie geht die Organisation mit Abfall um?"}]
[null,null,null,null,{"$f":"'Technische Seite'!B159","v":"F2.36"},{"$f":"'Technische Seite'!C159","v":1},{"$f":"VLOOKUP(E168,'Technische Seite'!$AU$124:$BD$168,3,0)","v":3},"Ergebnis verbessern",null,{"$f":"VLOOKUP(E168,'Kapitel 2'!$C$6:$D$282,2,0)","v":"Wie geht die Organisation mit Risiken für das Grundwasser um?"}]
[null,null,null,null,{"$f":"'Technische Seite'!B160","v":"F2.37"},{"$f":"'Technische Seite'!C160","v":3},{"$f":"VLOOKUP(E169,'Technische Seite'!$AU$124:$BD$168,3,0)","v":3},"konform",null,{"$f":"VLOOKUP(E169,'Kapitel 2'!$C$6:$D$282,2,0)","v":"Wie geht die Organisation mit den Risiken einer Bodenverschmutzung um?"}]
[null,null,null,null,{"$f":"'Technische Seite'!B161","v":"F2.38"},{"$f":"'Technische Seite'!C161","v":1},{"$f":"VLOOKUP(E170,'Technische Seite'!$AU$124:$BD$168,3,0)","v":3},"Ergebnis verbessern",null,{"$f":"VLOOKUP(E170,'Kapitel 2'!$C$6:$D$282,2,0)","v":"Wie geht die Organisation mit vorhandenen Bodenverschmutzungen um?"}]
[null,null,null,null,{"$f":"'Technische Seite'!B162","v":"F2.39"},{"$f":"'Technische Seite'!C162","v":3},{"$f":"VLOOKUP(E171,'Technische Seite'!$AU$124:$BD$168,3,0)","v":3},"konform",null,{"$f":"VLOOKUP(E171,'Kapitel 2'!$C$6:$D$282,2,0)","v":"Wie geht die Organisation mit ihren Emissionen in die Luft um?"}]
[null,null,null,null,{"$f":"'Technische Seite'!B163","v":"F2.40"},{"$f":"'Technische Seite'!C163","v":1},{"$f":"VLOOKUP(E172,'Technische Seite'!$AU$124:$BD$168,3,0)","v":3},"Ergebnis verbessern",null,{"$f":"VLOOKUP(E172,'Kapitel 2'!$C$6:$D$282,2,0)","v":"Wie geht die Organisation mit ihren Emissionen in Wasser um?"}]
[null,null,null,null,{"$f":"'Technische Seite'!B164","v":"F2.41"},{"$f":"'Technische Seite'!C164","v":3},{"$f":"VLOOKUP(E173,'Technische Seite'!$AU$124:$BD$168,3,0)","v":3},"konform",null,{"$f":"VLOOKUP(E173,'Kapitel 2'!$C$6:$D$282,2,0)","v":"Wie geht die Organisation mit Lärmemissionen um?"}]
[null,null,null,null,{"$f":"'Technische Seite'!B165","v":"F2.42"},{"$f":"'Technische Seite'!C165","v":3},{"$f":"VLOOKUP(E174,'Technische Seite'!$AU$124:$BD$168,3,0)","v":3},"konform",null,{"$f":"VLOOKUP(E174,'Kapitel 2'!$C$6:$D$282,2,0)","v":"Wie geht die Organisation mit Geruchsemissionen um?"}]
[null,null,null,null,{"$f":"'Technische Seite'!B166","v":"F2.43"},{"$f":"'Technische Seite'!C166","v":2},{"$f":"VLOOKUP(E175,'Technische Seite'!$AU$124:$BD$168,3,0)","v":3},"Ergebnis verbessern",null,{"$f":"VLOOKUP(E175,'Kapitel 2'!$C$6:$D$282,2,0)","v":"Wie verhindert die Organisation unfallbedingte Emissionen in die Umwelt und wie geht sie ggf. damit um?"}]
[null,null,null,null,{"$f":"'Technische Seite'!B167","v":"F2.44"},{"$f":"'Technische Seite'!C167","v":3},{"$f":"VLOOKUP(E176,'Technische Seite'!$AU$124:$BD$168,3,0)","v":3},"konform",null,{"$f":"VLOOKUP(E176,'Kapitel 2'!$C$6:$D$282,2,0)","v":"In welcher Weise stellt die Organisation sicher, dass alle Mitarbeiter hinsichtlich der Umweltanforderungen, die mit ihrer Tätigkeit in Zusammenhang stehen, über die geeigneten Kompetenzen verfügen?"}]
[null,null,null,null,{"$f":"'Technische Seite'!B168","v":"F2.45"},{"$f":"'Technische Seite'!C168","v":3},{"$f":"VLOOKUP(E177,'Technische Seite'!$AU$124:$BD$168,3,0)","v":1},"konform",null,{"$f":"VLOOKUP(E177,'Kapitel 2'!$C$6:$D$282,2,0)","v":"Wie werden den Interessensgruppen („stakeholder“) der Organisation die Umweltaspekte und deren mögliche Auswirkungen bewusst gemacht?"}]
[null,null,null,null,"KAPITEL 3 : Stärkung von Managementsystemen im Chemikalienbereich"]
[null,null,null,null,{"$f":"'Technische Seite'!$B$406","v":"F3.1"},{"$f":"'Technische Seite'!$C$406","v":1},{"$f":"VLOOKUP(E179,'Technische Seite'!$AU$406:$BD$418,3,0)","v":"-"},{"$f":"IF(G179=\"-\",\"n.a.\",IF(F179-G179>-1,\"compliant\",\"increase score\"))","v":"n.a."},null,{"$f":"VLOOKUP(E179,'Kapitel 3'!$C$6:$D$89,2,0)","v":"Verfügt die Organisation über ein Verfahren für das Design\n und die Entwicklung neuer Produkte und Dienstleistungen?"}]
[null,null,null,null,{"$f":"'Technische Seite'!$B$407","v":"F3.2"},{"$f":"'Technische Seite'!$C$407","v":2},{"$f":"VLOOKUP(E180,'Technische Seite'!$AU$406:$BD$418,3,0)","v":"-"},"n.a.",null,{"$f":"VLOOKUP(E180,'Kapitel 3'!$C$6:$D$89,2,0)","v":"Verfügt die Organisation über ein Verfahren, um ihre Produkte mit Hinblick auf Risikocharakterisierung und Risikomanagement zu bewerten und zu priorisieren?"}]
[null,null,null,null,{"$f":"'Technische Seite'!$B$408","v":"F3.3"},{"$f":"'Technische Seite'!$C$408","v":1},{"$f":"VLOOKUP(E181,'Technische Seite'!$AU$406:$BD$418,3,0)","v":"-"},"n.a.",null,{"$f":"VLOOKUP(E181,'Kapitel 3'!$C$6:$D$89,2,0)","v":"Verfügt die Organisation über ein System, um die Anwendbarkeit sowie Änderungen und Einhaltung von internen und externen Anforderungen in Zusammenhang mit dem Sicherheitsmanagement von Chemikalien zu verfolgen/nachzuverfolgen?"}]
[null,null,null,null,{"$f":"'Technische Seite'!$B$409","v":"F3.4"},{"$f":"'Technische Seite'!$C$409","v":1},{"$f":"VLOOKUP(E182,'Technische Seite'!$AU$406:$BD$418,3,0)","v":"-"},"n.a.",null,{"$f":"VLOOKUP(E182,'Kapitel 3'!$C$6:$D$89,2,0)","v":"Verfügt die Organisation über ein Verfahren zum Umgang mit vorhandenen Gefahreninformationen in Zusammenhang mit ihren Produkten?"}]
[null,null,null,null,{"$f":"'Technische Seite'!$B$410","v":"F3.5"},{"$f":"'Technische Seite'!$C$410","v":1},{"$f":"VLOOKUP(E183,'Technische Seite'!$AU$406:$BD$418,3,0)","v":"-"},"n.a.",null,{"$f":"VLOOKUP(E183,'Kapitel 3'!$C$6:$D$89,2,0)","v":"Verfügt die Organisation über ein Verfahren für den Umgang mit Informationen über die Verwendung von und die Exposition durch ihre Produkte?"}]
[null,null,null,null,{"$f":"'Technische Seite'!$B$411","v":"F3.6"},{"$f":"'Technische Seite'!$C$411","v":1},{"$f":"VLOOKUP(E184,'Technische Seite'!$AU$406:$BD$418,3,0)","v":"-"},"n.a.",null,{"$f":"VLOOKUP(E184,'Kapitel 3'!$C$6:$D$89,2,0)","v":"Verfügt die Organisation über ein Verfahren für den Umgang mit neuen Informationen?"}]
[null,null,null,null,{"$f":"'Technische Seite'!$B$412","v":"Q3.7"},{"$f":"'Technische Seite'!$C$412","v":1},{"$f":"VLOOKUP(E185,'Technische Seite'!$AU$406:$BD$418,3,0)","v":"-"},"n.a.",null,{"$f":"VLOOKUP(E185,'Kapitel 3'!$C$6:$D$89,2,0)","v":"Verfügt die Organisation über ein Verfahren zur Risikocharakterisierung auf der Grundlage der gesammelten Informationen?"}]
[null,null,null,null,{"$f":"'Technische Seite'!$B$413","v":"F3.8"},{"$f":"'Technische Seite'!$C$413","v":1},{"$f":"VLOOKUP(E186,'Technische Seite'!$AU$406:$BD$418,3,0)","v":"-"},"n.a.",null,{"$f":"VLOOKUP(E186,'Kapitel 3'!$C$6:$D$89,2,0)","v":"Verfügt die Organisation über ein Verfahren zum Risikomanagement auf der Grundlage der gesammelten Informationen?"}]
[null,null,null,null,{"$f":"'Technische Seite'!$B$414","v":"F3.9"},{"$f":"'Technische Seite'!$C$414","v":2},{"$f":"VLOOKUP(E187,'Technische Seite'!$AU$406:$BD$418,3,0)","v":"-"},"n.a.",null,{"$f":"VLOOKUP(E187,'Kapitel 3'!$C$6:$D$89,2,0)","v":"Verfügt die Organisation über ein effizientes Verfahren, um ihre Produkte nach deren Lieferung nachzuverfolgen und Korrekturmaßnahmen durchzuführen?"}]
[null,null,null,null,{"$f":"'Technische Seite'!$B$415","v":"F3.10"},{"$f":"'Technische Seite'!$C$415","v":2},{"$f":"VLOOKUP(E188,'Technische Seite'!$AU$406:$BD$418,3,0)","v":"-"},"n.a.",null,{"$f":"VLOOKUP(E188,'Kapitel 3'!$C$6:$D$89,2,0)","v":"Kommuniziert die Organisation effizient in der Lieferkette hinsichtlich der für ihre Produkte notwendigen Maßnahmen des Risikomanagements?\n"}]
[null,null,null,null,"KAPITEL 4: Einbeziehung von Geschäftspartnern"]
[null,null,null,null,{"$f":"'Technische Seite'!B482","v":"F4.1"},{"$f":"'Technische Seite'!C482","v":1},{"$f":"VLOOKUP(E190,'Technische Seite'!$AU$482:$BD$489,3,0)","v":"-"},{"$f":"IF(G190=\"-\",\"n.a.\",IF(F190-G190>-1,\"compliant\",\"increase score\"))","v":"n.a."},null,{"$f":"VLOOKUP(E190,'Kapitel 4'!$C$6:$D$91,2,0)","v":"In welcher Form hat sich die Organisation einer verantwortungsvollen Beschaffung verpflichtet?"}]
[null,null,null,null,{"$f":"'Technische Seite'!B483","v":"F4.2"},{"$f":"'Technische Seite'!C483","v":2},{"$f":"VLOOKUP(E191,'Technische Seite'!$AU$482:$BD$489,3,0)","v":"-"},{"$f":"IF(G191=\"-\",\"n.a.\",IF(F191-G191>-1,\"compliant\",\"increase score\"))","v":"n.a."},null,{"$f":"VLOOKUP(E191,'Kapitel 4'!$C$6:$D$91,2,0)","v":"In welcher Weise steigert die Organisation die Zusammenarbeit mit der Wertschöpfungskette?"}]
[null,null,null,null,{"$f":"'Technische Seite'!B484","v":"F4.3"},{"$f":"'Technische Seite'!C484","v":2},{"$f":"VLOOKUP(E192,'Technische Seite'!$AU$482:$BD$489,3,0)","v":"-"},"n.a.",null,{"$f":"VLOOKUP(E192,'Kapitel 4'!$C$6:$D$91,2,0)","v":"In welcher Weise bringt die Organisation ihre Verpflichtung mit Hinblick auf Geschäftsethik zum Ausdruck?"}]
[null,null,null,null,{"$f":"'Technische Seite'!B485","v":"F4.4"},{"$f":"'Technische Seite'!C485","v":2},{"$f":"VLOOKUP(E193,'Technische Seite'!$AU$482:$BD$489,3,0)","v":"-"},"n.a.",null,{"$f":"VLOOKUP(E193,'Kapitel 4'!$C$6:$D$91,2,0)","v":"Wie berücksichtigt die Organisation soziale Fragen und Menschenrechte in ihrer Zusammenarbeit mit Geschäftspartnern?"}]
[null,null,null,null,{"$f":"'Technische Seite'!B486","v":"F4.5"},{"$f":"'Technische Seite'!C486","v":2},{"$f":"VLOOKUP(E194,'Technische Seite'!$AU$482:$BD$489,3,0)","v":"-"},"n.a.",null,{"$f":"VLOOKUP(E194,'Kapitel 4'!$C$6:$D$91,2,0)","v":"In welcher Weise verhindert die Organisation Kinderarbeit?\n\nDie Organisation\n1.\tverfügt über ein System zur Altersprüfung;\n2.\tbeschäftigt keine Kinder unter 15 Jahren (oder älter; die jeweiligen örtlichen Gesetze sind zu beachten). Berufsausbildungen oder Praktika im Rahmen der Schulbildung bzw. bildungsbezogene Praktika sind die einzigen Ausnahmen;\n3.\tstellt sicher, dass die Beschäftigung von Personen unter 18 Jahren nicht deren Schulbesuch beeinträchtigt (die Gesamtzahl der Stunden für den Weg zur Arbeit und Schule und zurück, Schulbesuch und Arbeitstätigkeit beträgt weniger als 10 Stunden täglich);\n4.\tstellt sicher, dass die Tätigkeit junger Arbeitnehmer nicht geistig, körperlich, sozial oder moralisch gefährlich und schädlich ist."}]
[null,null,null,null,{"$f":"'Technische Seite'!B487","v":"F4.6"},{"$f":"'Technische Seite'!C487","v":2},{"$f":"VLOOKUP(E195,'Technische Seite'!$AU$482:$BD$489,3,0)","v":"-"},"n.a.",null,{"$f":"VLOOKUP(E195,'Kapitel 4'!$C$6:$D$91,2,0)","v":"Wie stellt die Organisation sicher, dass ihre Logistikpartner die Anforderungen der Organisation erfüllen?"}]
[null,null,null,null,{"$f":"'Technische Seite'!B488","v":"F4.7"},{"$f":"'Technische Seite'!C488","v":1},{"$f":"VLOOKUP(E196,'Technische Seite'!$AU$482:$BD$489,3,0)","v":"-"},"n.a.",null,{"$f":"VLOOKUP(E196,'Kapitel 4'!$C$6:$D$91,2,0)","v":"In welcher Weise schützt und sichert die Organisation das Eigentum und die Daten nachgeschalteter Anwender oder externer Anbieter, die zur Nutzung oder Einbeziehung/Einarbeitung in Produkte und Dienstleistungen bereitgestellt werden?"}]
[null,null,null,null,{"$f":"'Technische Seite'!B489","v":"F4.8"},{"$f":"'Technische Seite'!C489","v":2},{"$f":"VLOOKUP(E197,'Technische Seite'!$AU$482:$BD$489,3,0)","v":"-"},"n.a.",null,{"$f":"VLOOKUP(E197,'Kapitel 4'!$C$6:$D$91,2,0)","v":"Was beinhaltet der Dialog mit nachgeschalteten Anwendern?"}]
[null,null,null,null,"KAPITEL 5: Berücksichtigung von Anspruchsgruppen"]
[null,null,null,null,{"$f":"'Technische Seite'!B544","v":"F5.1"},{"$f":"'Technische Seite'!C544","v":2},{"$f":"VLOOKUP(E199,'Technische Seite'!$AU$544:$BD$548,3,0)","v":3},{"$f":"IF(G199=\"-\",\"n.a.\",IF(F199-G199>-1,\"konform\",\"Ergebnis verbessern\"))","v":"Ergebnis verbessern"},null,{"$f":"VLOOKUP(E199,'Kapitel 5'!$C$6:$D$89,2,0)","v":"In welcher Weise bezieht die Organisation die für sie relevanten externen Anspruchsgruppen („stakeholder“) ein und wird deren Erwartungen gerecht?"}]
[null,null,null,null,{"$f":"'Technische Seite'!B545","v":"F5.2"},{"$f":"'Technische Seite'!C545","v":1},{"$f":"VLOOKUP(E200,'Technische Seite'!$AU$544:$BD$548,3,0)","v":"-"},{"$f":"IF(G200=\"-\",\"n.a.\",IF(F200-G200>-1,\"compliant\",\"increase score\"))","v":"n.a."},null,{"$f":"VLOOKUP(E200,'Kapitel 5'!$C$6:$D$89,2,0)","v":"In welcher Weise führt die Organisation einen Dialog mit der Öffentlichkeit, Behörden und anderen interessierten Kreisen (einschließlich örtlichen Gemeinden/Anwohnern und Kunden) über die Leistung ihrer Aktivitäten, Produkte und Dienstleistungen in den Bereichen Gesundheit, Sicherheit, Umwelt, Energie & Nachhaltigkeit?\n"}]
[null,null,null,null,{"$f":"'Technische Seite'!B546","v":"F5.3"},{"$f":"'Technische Seite'!C546","v":2},{"$f":"VLOOKUP(E201,'Technische Seite'!$AU$544:$BD$548,3,0)","v":"-"},"n.a.",null,{"$f":"VLOOKUP(E201,'Kapitel 5'!$C$6:$D$89,2,0)","v":"In welcher Weise vermittelt die Organisation Informationen aus den Bereichen Gesundheit, Sicherheit, Umwelt, Energie & Nachhaltigkeit?"}]
[null,null,null,null,{"$f":"'Technische Seite'!B547","v":"F5.4"},{"$f":"'Technische Seite'!C547","v":1},{"$f":"VLOOKUP(E202,'Technische Seite'!$AU$544:$BD$548,3,0)","v":"-"},"n.a.",null,{"$f":"VLOOKUP(E202,'Kapitel 5'!$C$6:$D$89,2,0)","v":"In welcher Weise unterstützt die Organisation örtliche Gemeinden/Anwohner („local communities“)?"}]
[null,null,null,null,{"$f":"'Technische Seite'!B548","v":"F5.5"},{"$f":"'Technische Seite'!C548","v":2},{"$f":"VLOOKUP(E203,'Technische Seite'!$AU$544:$BD$548,3,0)","v":"-"},"n.a.",null,{"$f":"VLOOKUP(E203,'Kapitel 5'!$C$6:$D$89,2,0)","v":"In welcher Weise fördert die Organisation Beschäftigung und Bildung vor Ort?"}]
[null,null,null,null,"KAPITEL 6 : Beitrag zur Nachhaltigkeit"]
[null,null,null,null,{"$f":"'Technische Seite'!B584","v":"F6.1"},{"$f":"'Technische Seite'!C584","v":2},{"$f":"VLOOKUP(E205,'Technische Seite'!$AU$584:$BD$600,3,0)","v":"-"},{"$f":"IF(G205=\"-\",\"n.a.\",IF(F205-G205>-1,\"compliant\",\"increase score\"))","v":"n.a."},null,{"$f":"VLOOKUP(E205,'Kapitel 6'!$C$6:$D$120,2,0)","v":"Wie definiert das Unternehmen relevante Themen und Wesentlichkeiten?"}]
[null,null,null,null,{"$f":"'Technische Seite'!B585","v":"F6.2"},{"$f":"'Technische Seite'!C585","v":1},{"$f":"VLOOKUP(E206,'Technische Seite'!$AU$584:$BD$600,3,0)","v":"-"},{"$f":"IF(G206=\"-\",\"n.a.\",IF(F206-G206>-1,\"compliant\",\"increase score\"))","v":"n.a."},null,{"$f":"VLOOKUP(E206,'Kapitel 6'!$C$6:$D$120,2,0)","v":"Welche Pläne hat die Organisation zum Beitrag für eine nachhaltige Entwicklung? "}]
[null,null,null,null,{"$f":"'Technische Seite'!B586","v":"F6.3"},{"$f":"'Technische Seite'!C586","v":1},{"$f":"VLOOKUP(E207,'Technische Seite'!$AU$584:$BD$600,3,0)","v":"-"},"n.a.",null,{"$f":"VLOOKUP(E207,'Kapitel 6'!$C$6:$D$120,2,0)","v":"Wie steht es bei der Organisation mit der Einbeziehung von Stakeholdern bei Nachhaltigkeit?"}]
[null,null,null,null,{"$f":"'Technische Seite'!B587","v":"F6.4"},{"$f":"'Technische Seite'!C587","v":1},{"$f":"VLOOKUP(E208,'Technische Seite'!$AU$584:$BD$600,3,0)","v":"-"},"n.a.",null,{"$f":"VLOOKUP(E208,'Kapitel 6'!$C$6:$D$120,2,0)","v":"Verfügt die Organisation über einen Prozess für die Entwicklung von Produkten mit besseren Nachhaltigkeitsergebnissen?"}]
[null,null,null,null,{"$f":"'Technische Seite'!B588","v":"F6.5"},{"$f":"'Technische Seite'!C588","v":1},{"$f":"VLOOKUP(E209,'Technische Seite'!$AU$584:$BD$600,3,0)","v":"-"},"n.a.",null,{"$f":"VLOOKUP(E209,'Kapitel 6'!$C$6:$D$120,2,0)","v":"Wie verbessert die Organisation die Ressourceneffizienz in ihren Produktionsprozessen? "}]
[null,null,null,null,{"$f":"'Technische Seite'!B589","v":"F6.6"},{"$f":"'Technische Seite'!C589","v":1},{"$f":"VLOOKUP(E210,'Technische Seite'!$AU$584:$BD$600,3,0)","v":"-"},"n.a.",null,{"$f":"VLOOKUP(E210,'Kapitel 6'!$C$6:$D$120,2,0)","v":"Wie fördert die Organisation die Kreislaufwirtschaft durch ihre Produkte?"}]
[null,null,null,null,{"$f":"'Technische Seite'!B590","v":"F6.7"},{"$f":"'Technische Seite'!C590","v":1},{"$f":"VLOOKUP(E211,'Technische Seite'!$AU$584:$BD$600,3,0)","v":"-"},"n.a.",null,{"$f":"VLOOKUP(E211,'Kapitel 6'!$C$6:$D$120,2,0)","v":"Wie fördert die Organisation Innovation für die Entwicklung von Produkten und Lösungen, die mit den Herausforderungen der Nachhaltigkeit in Einklang stehen?"}]
[null,null,null,null,{"$f":"'Technische Seite'!B591","v":"F6.8"},{"$f":"'Technische Seite'!C591","v":1},{"$f":"VLOOKUP(E212,'Technische Seite'!$AU$584:$BD$600,3,0)","v":"-"},"n.a.",null,{"$f":"VLOOKUP(E212,'Kapitel 6'!$C$6:$D$120,2,0)","v":"Wie fördert die Organisation Innovationspanels und Kooperationen?"}]
[null,null,null,null,{"$f":"'Technische Seite'!B592","v":"F6.9"},{"$f":"'Technische Seite'!C592","v":2},{"$f":"VLOOKUP(E213,'Technische Seite'!$AU$584:$BD$600,3,0)","v":"-"},"n.a.",null,{"$f":"VLOOKUP(E213,'Kapitel 6'!$C$6:$D$120,2,0)","v":"Wie fördert die Organisation nachhaltiges Verbrauchsverhalten?"}]
[null,null,null,null,{"$f":"'Technische Seite'!B593","v":"F6.10"},{"$f":"'Technische Seite'!C593","v":1},{"$f":"VLOOKUP(E214,'Technische Seite'!$AU$584:$BD$600,3,0)","v":"-"},"n.a.",null,{"$f":"VLOOKUP(E214,'Kapitel 6'!$C$6:$D$120,2,0)","v":"Wie kontrolliert und optimiert die Organisation den Wasserverbrauch?"}]
[null,null,null,null,{"$f":"'Technische Seite'!B594","v":"F6.11"},{"$f":"'Technische Seite'!C594","v":1},{"$f":"VLOOKUP(E215,'Technische Seite'!$AU$584:$BD$600,3,0)","v":"-"},"n.a.",null,{"$f":"VLOOKUP(E215,'Kapitel 6'!$C$6:$D$120,2,0)","v":"Wie werden die Auswirkungen der Organisation auf die Biodiversität und die Ökosystemleistungen gehandhabt?"}]
[null,null,null,null,{"$f":"'Technische Seite'!B595","v":"F6.12"},{"$f":"'Technische Seite'!C595","v":2},{"$f":"VLOOKUP(E216,'Technische Seite'!$AU$584:$BD$600,3,0)","v":"-"},"n.a.",null,{"$f":"VLOOKUP(E216,'Kapitel 6'!$C$6:$D$120,2,0)","v":"Wie berücksichtigt die Organisation ihre Abhängigkeit von Ökosystemleistungen?"}]
[null,null,null,null,{"$f":"'Technische Seite'!B596","v":"F6.13"},{"$f":"'Technische Seite'!C596","v":1},{"$f":"VLOOKUP(E217,'Technische Seite'!$AU$584:$BD$600,3,0)","v":"-"},"n.a.",null,{"$f":"VLOOKUP(E217,'Kapitel 6'!$C$6:$D$120,2,0)","v":"Wie handhabt die Organisation ihre Energieeffizienz?"}]
[null,null,null,null,{"$f":"'Technische Seite'!B597","v":"F6.14"},{"$f":"'Technische Seite'!C597","v":2},{"$f":"VLOOKUP(E218,'Technische Seite'!$AU$584:$BD$600,3,0)","v":"-"},"n.a.",null,{"$f":"VLOOKUP(E218,'Kapitel 6'!$C$6:$D$120,2,0)","v":"Wie handhabt die Organisation ihre Emissionen von Treibhausgasen (THG) (anders als durch Energieeinsparung)?"}]
[null,null,null,null,{"$f":"'Technische Seite'!B598","v":"F6.15"},{"$f":"'Technische Seite'!C598","v":1},{"$f":"VLOOKUP(E219,'Technische Seite'!$AU$584:$BD$600,3,0)","v":"-"},"n.a.",null,{"$f":"VLOOKUP(E219,'Kapitel 6'!$C$6:$D$120,2,0)","v":"Welche Strategie hat die Organisation zur Reduzierung von THG-Emissionen?"}]
[null,null,null,null,{"$f":"'Technische Seite'!B599","v":"F6.16"},{"$f":"'Technische Seite'!C599","v":2},{"$f":"VLOOKUP(E220,'Technische Seite'!$AU$584:$BD$600,3,0)","v":3},{"$f":"IF(G220=\"-\",\"n.a.\",IF(F220-G220>-1,\"konform\",\"Ergebnis verbessern\"))","v":"Ergebnis verbessern"},null,{"$f":"VLOOKUP(E220,'Kapitel 6'!$C$6:$D$120,2,0)","v":"Wie bereitet sich die Organisation auf den Klimawandel vor? "}]
[null,null,null,null,{"$f":"'Technische Seite'!B600","v":"F6.17"},{"$f":"'Technische Seite'!C600","v":1},{"$f":"VLOOKUP(E221,'Technische Seite'!$AU$584:$BD$600,3,0)","v":"-"},"n.a.",null,{"$f":"VLOOKUP(E221,'Kapitel 6'!$C$6:$D$120,2,0)","v":"In welcher Weise gewährleistet die Organisation Chancengleichheit bei der Einstellung und während der gesamten beruflichen Laufbahn aller?"}]
[]
[null,null,"Bericht über das Niveau der Adaptierung der Grundsätze von ISO 26000 principles"]
[null,null,null,null,null,"Ihre Bewertung ","Mindestbewertung für ISO 26000"]
[null,null,null,null,"KAPITEL 1: Führungskultur im Unternehmen"]
[null,null,null,null,{"$f":"'Technische Seite'!B10","v":"F1.1"},{"$f":"'Technische Seite'!C10","v":1},{"$f":"VLOOKUP(E226,'Technische Seite'!$AU$10:$BD$25,4,0)","v":3},{"$f":"IF(G226=\"-\",\"n.a.\",IF(F226-G226>-1,\"konform\",\"Ergebnis verbessern\"))","v":"Ergebnis verbessern"},null,{"$f":"VLOOKUP(E226,'Kapitel 1'!$C$6:$D$112,2,0)","v":"In welcher Weise wird die Verpflichtung zur Einhaltung gesetzlicher und sonstiger Vorschriften („Compliance“) sowie der Grundsätze von Responsible Care (d. h. Schutz und Förderung der Gesundheit & Sicherheit von Menschen und Umwelt sowie Nachhaltigkeit) auf allen Ebenen der Organisation dargelegt?"}]
[null,null,null,null,{"$f":"'Technische Seite'!B11","v":"F1.2"},{"$f":"'Technische Seite'!C11","v":1},{"$f":"VLOOKUP(E227,'Technische Seite'!$AU$10:$BD$25,4,0)","v":"-"},{"$f":"IF(G227=\"-\",\"n.a.\",IF(F227-G227>-1,\"compliant\",\"increase score\"))","v":"n.a."},null,{"$f":"VLOOKUP(E227,'Kapitel 1'!$C$6:$D$112,2,0)","v":"Wie steuert die Organisation die relevanten Risiken und Chancen?"}]
[null,null,null,null,{"$f":"'Technische Seite'!B12","v":"F1.3"},{"$f":"'Technische Seite'!C12","v":2},{"$f":"VLOOKUP(E228,'Technische Seite'!$AU$10:$BD$25,4,0)","v":2},{"$f":"IF(G228=\"-\",\"n.a.\",IF(F228-G228>-1,\"konform\",\"Ergebnis verbessern\"))","v":"konform"},null,{"$f":"VLOOKUP(E228,'Kapitel 1'!$C$6:$D$112,2,0)","v":"In welcher Weise erfüllt die Organisation ihre gesetzlichen Verpflichtungen?"}]
[null,null,null,null,{"$f":"'Technische Seite'!B13","v":"F1.4"},{"$f":"'Technische Seite'!C13","v":2},{"$f":"VLOOKUP(E229,'Technische Seite'!$AU$10:$BD$25,4,0)","v":4},{"$f":"IF(G229=\"-\",\"n.a.\",IF(F229-G229>-1,\"konform\",\"Ergebnis verbessern\"))","v":"Ergebnis verbessern"},null,{"$f":"VLOOKUP(E229,'Kapitel 1'!$C$6:$D$112,2,0)","v":"Wie stellt die oberste Führungsebene („top management“) sicher, dass Aspekte aus den Bereichen Gesundheit, Sicherheit, Umwelt, Energie & Nachhaltigkeit bestimmten Funktionen zugeordnet sind?"}]
[null,null,null,null,{"$f":"'Technische Seite'!B14","v":"F1.5"},{"$f":"'Technische Seite'!C14","v":3},{"$f":"VLOOKUP(E230,'Technische Seite'!$AU$10:$BD$25,4,0)","v":3},{"$f":"IF(G230=\"-\",\"n.a.\",IF(F230-G230>-1,\"konform\",\"Ergebnis verbessern\"))","v":"konform"},null,{"$f":"VLOOKUP(E230,'Kapitel 1'!$C$6:$D$112,2,0)","v":"In welcher Weise ist der Vorstand/die Geschäftsleitung der Organisation in den Umgang mit Fragen und Problemen („issues“) in den Bereichen Gesundheit, Sicherheit, Umwelt, Energie & Nachhaltigkeit eingebunden?"}]
[null,null,null,null,{"$f":"'Technische Seite'!B15","v":"F1.6"},{"$f":"'Technische Seite'!C15","v":4},{"$f":"VLOOKUP(E231,'Technische Seite'!$AU$10:$BD$25,4,0)","v":"-"},"n.a.",null,{"$f":"VLOOKUP(E231,'Kapitel 1'!$C$6:$D$112,2,0)","v":"Wie werden Verantwortlichkeiten in den Bereichen Gesundheit, Sicherheit, Umwelt, Energie & Nachhaltigkeit in Arbeitsplatzbeschreibungen oder Jahresziele integriert?"}]
[null,null,null,null,{"$f":"'Technische Seite'!B16","v":"F1.7"},{"$f":"'Technische Seite'!C16","v":1},{"$f":"VLOOKUP(E232,'Technische Seite'!$AU$10:$BD$25,4,0)","v":"-"},"n.a.",null,{"$f":"VLOOKUP(E232,'Kapitel 1'!$C$6:$D$112,2,0)","v":"Wie werden (Kern-)Prozesse in den Bereichen Gesundheit, Sicherheit, Umwelt, Energie & Nachhaltigkeit gelenkt?"}]
[null,null,null,null,{"$f":"'Technische Seite'!B17","v":"F1.8"},{"$f":"'Technische Seite'!C17","v":2},{"$f":"VLOOKUP(E233,'Technische Seite'!$AU$10:$BD$25,4,0)","v":"-"},"n.a.",null,{"$f":"VLOOKUP(E233,'Kapitel 1'!$C$6:$D$112,2,0)","v":"In welche Weise stellt die oberste Führungsebene eine kontinuierliche Verbesserung der Leistung in den Bereichen Gesundheit, Sicherheit, Umwelt, Energie & Nachhaltigkeit sicher?"}]
[null,null,null,null,{"$f":"'Technische Seite'!B18","v":"F1.9"},{"$f":"'Technische Seite'!C18","v":1},{"$f":"VLOOKUP(E234,'Technische Seite'!$AU$10:$BD$25,4,0)","v":"-"},"n.a.",null,{"$f":"VLOOKUP(E234,'Kapitel 1'!$C$6:$D$112,2,0)","v":"Wie wird das interne Auditprogramm durchgeführt?"}]
[null,null,null,null,{"$f":"'Technische Seite'!B19","v":"F1.10"},{"$f":"'Technische Seite'!C19","v":3},{"$f":"VLOOKUP(E235,'Technische Seite'!$AU$10:$BD$25,4,0)","v":"-"},"n.a.",null,{"$f":"VLOOKUP(E235,'Kapitel 1'!$C$6:$D$112,2,0)","v":"Wie werden Vorfälle untersucht?"}]
[null,null,null,null,{"$f":"'Technische Seite'!B20","v":"F1.11"},{"$f":"'Technische Seite'!C20","v":3},{"$f":"VLOOKUP(E236,'Technische Seite'!$AU$10:$BD$25,4,0)","v":"-"},"n.a.",null,{"$f":"VLOOKUP(E236,'Kapitel 1'!$C$6:$D$112,2,0)","v":"In welcher Weise stellt die Organisation die benötigten Verfahren, zeitlichen Mittel und Ressourcen bereit, um Management-Prozesse in den Bereichen Gesundheit, Sicherheit, Umwelt, Energie & Nachhaltigkeit zu verbessern?"}]
[null,null,null,null,{"$f":"'Technische Seite'!B21","v":"F1.12"},{"$f":"'Technische Seite'!C21","v":2},{"$f":"VLOOKUP(E237,'Technische Seite'!$AU$10:$BD$25,4,0)","v":"-"},"n.a.",null,{"$f":"VLOOKUP(E237,'Kapitel 1'!$C$6:$D$112,2,0)","v":"Wie stellt die Organisation sicher, dass Mitarbeiter über die Unternehmenspolitik und Verfahren in den Bereichen Gesundheit, Sicherheit, Umwelt, Energie & Nachhaltigkeit informiert sind?"}]
[null,null,null,null,{"$f":"'Technische Seite'!B22","v":"F1.13"},{"$f":"'Technische Seite'!C22","v":1},{"$f":"VLOOKUP(E238,'Technische Seite'!$AU$10:$BD$25,4,0)","v":"-"},"n.a.",null,{"$f":"VLOOKUP(E238,'Kapitel 1'!$C$6:$D$112,2,0)","v":"Wie stellt die Organisation sicher, dass Arbeiter – hinsichtlich der mit ihrer Tätigkeit in Zusammenhang stehenden Aspekten in den Bereichen Gesundheit, Sicherheit, Umwelt, Energie & Nachhaltigkeit – über die erforderlichen Kompetenzen verfügen?"}]
[null,null,null,null,{"$f":"'Technische Seite'!B23","v":"F1.14"},{"$f":"'Technische Seite'!C23","v":4},{"$f":"VLOOKUP(E239,'Technische Seite'!$AU$10:$BD$25,4,0)","v":"-"},"n.a.",null,{"$f":"VLOOKUP(E239,'Kapitel 1'!$C$6:$D$112,2,0)","v":"Wie ist die Einbeziehung der Mitarbeiter strukturiert?"}]
[null,null,null,null,{"$f":"'Technische Seite'!B24","v":"F1.15"},{"$f":"'Technische Seite'!C24","v":2},{"$f":"VLOOKUP(E240,'Technische Seite'!$AU$10:$BD$25,4,0)","v":"-"},"n.a.",null,{"$f":"VLOOKUP(E240,'Kapitel 1'!$C$6:$D$112,2,0)","v":"Wie werden Dokumente aus den Bereichen Gesundheit, Sicherheit, Umwelt, Energie & Nachhaltigkeit verwaltet?"}]
[null,null,null,null,{"$f":"'Technische Seite'!B25","v":"F1.16"},{"$f":"'Technische Seite'!C25","v":2},{"$f":"VLOOKUP(E241,'Technische Seite'!$AU$10:$BD$25,4,0)","v":"-"},"n.a.",null,{"$f":"VLOOKUP(E241,'Kapitel 1'!$C$6:$D$112,2,0)","v":"In welcher Weise werden Änderungen, die möglicherweise Auswirkungen auf die Bereiche Gesundheit, Sicherheit, Umwelt, Energie & Nachhaltigkeit haben könnten, gesteuert?"}]
[null,null,null,null,"KAPITEL 2: Schutz von Mensch und Umwelt"]
[null,null,null,null,{"$f":"'Technische Seite'!B124","v":"F2.1"},{"$f":"'Technische Seite'!C124","v":1},{"$f":"VLOOKUP(E243,'Technische Seite'!$AU$124:$BD$168,4,0)","v":"-"},"n.a.",null,{"$f":"VLOOKUP(E243,'Kapitel 2'!$C$6:$D$282,2,0)","v":"In welcher Weise verpflichtet sich die Führung der Organisation zu Arbeits- und Gesundheitsschutz?"}]
[null,null,null,null,{"$f":"'Technische Seite'!B125","v":"F2.2"},{"$f":"'Technische Seite'!C125","v":1},{"$f":"VLOOKUP(E244,'Technische Seite'!$AU$124:$BD$168,4,0)","v":"-"},{"$f":"IF(G244=\"-\",\"n.a.\",IF(F244-G244>-1,\"compliant\",\"increase score\"))","v":"n.a."},null,{"$f":"VLOOKUP(E244,'Kapitel 2'!$C$6:$D$282,2,0)","v":"In welcher Weise werden Risiken und Expositionen in den Bereichen Gesundheit & Sicherheit festgestellt?"}]
[null,null,null,null,{"$f":"'Technische Seite'!B126","v":"F2.3"},{"$f":"'Technische Seite'!C126","v":4},{"$f":"VLOOKUP(E245,'Technische Seite'!$AU$124:$BD$168,4,0)","v":"-"},"n.a.",null,{"$f":"VLOOKUP(E245,'Kapitel 2'!$C$6:$D$282,2,0)","v":"In welcher Weise werden die medizinischen Anforderungen bewertet?"}]
[null,null,null,null,{"$f":"'Technische Seite'!B127","v":"F2.4"},{"$f":"'Technische Seite'!C127","v":1},{"$f":"VLOOKUP(E246,'Technische Seite'!$AU$124:$BD$168,4,0)","v":"-"},"n.a.",null,{"$f":"VLOOKUP(E246,'Kapitel 2'!$C$6:$D$282,2,0)","v":"In welcher Weise verbessert die Organisation ihre Leistung in den Bereichen Gesundheit und Sicherheit?"}]
[null,null,null,null,{"$f":"'Technische Seite'!B128","v":"F2.5"},{"$f":"'Technische Seite'!C128","v":2},{"$f":"VLOOKUP(E247,'Technische Seite'!$AU$124:$BD$168,4,0)","v":"-"},"n.a.",null,{"$f":"VLOOKUP(E247,'Kapitel 2'!$C$6:$D$282,2,0)","v":"In welcher Weise werden Wartung und Pflege („maintenance and housekeeping“) gestaltet, um die Sicherheit von Einrichtungen, Anlagen, Werkzeugen und\n(Sicherheits-) Ausrüstungen aufrechtzuerhalten?"}]
[null,null,null,null,{"$f":"'Technische Seite'!B129","v":"F2.6"},{"$f":"'Technische Seite'!C129","v":3},{"$f":"VLOOKUP(E248,'Technische Seite'!$AU$124:$BD$168,4,0)","v":"-"},"n.a.",null,{"$f":"VLOOKUP(E248,'Kapitel 2'!$C$6:$D$282,2,0)","v":"Wie werden die geeignete Auswahl, Wartung und Verwendung von Ausrüstungen in den Bereichen Gesundheit und Sicherheit (z. B. persönliche Schutzausrüstung/PSA) überprüft?"}]
[null,null,null,null,{"$f":"'Technische Seite'!B130","v":"F2.7"},{"$f":"'Technische Seite'!C130","v":1},{"$f":"VLOOKUP(E249,'Technische Seite'!$AU$124:$BD$168,4,0)","v":4},{"$f":"IF(G249=\"-\",\"n.a.\",IF(F249-G249>-1,\"konform\",\"Ergebnis verbessern\"))","v":"Ergebnis verbessern"},null,{"$f":"VLOOKUP(E249,'Kapitel 2'!$C$6:$D$282,2,0)","v":"Wie geht die Organisation mit Stress und Wohlbefinden um?"}]
[null,null,null,null,{"$f":"'Technische Seite'!B131","v":"F2.8"},{"$f":"'Technische Seite'!C131","v":1},{"$f":"VLOOKUP(E250,'Technische Seite'!$AU$124:$BD$168,4,0)","v":3},{"$f":"IF(G250=\"-\",\"n.a.\",IF(F250-G250>-1,\"konform\",\"Ergebnis verbessern\"))","v":"Ergebnis verbessern"},null,{"$f":"VLOOKUP(E250,'Kapitel 2'!$C$6:$D$282,2,0)","v":"In welcher Weise werden Verletzungen am Arbeitsplatz, Vorfälle und Beinahe-Vorfälle untersucht?"}]
[null,null,null,null,{"$f":"'Technische Seite'!B132","v":"F2.9"},{"$f":"'Technische Seite'!C132","v":4},{"$f":"VLOOKUP(E251,'Technische Seite'!$AU$124:$BD$168,4,0)","v":3},{"$f":"IF(G251=\"-\",\"n.a.\",IF(F251-G251>-1,\"konform\",\"Ergebnis verbessern\"))","v":"konform"},null,{"$f":"VLOOKUP(E251,'Kapitel 2'!$C$6:$D$282,2,0)","v":"Wie ist die Organisation auf Notfälle vorbereitet?"}]
[null,null,null,null,{"$f":"'Technische Seite'!B133","v":"F2.10"},{"$f":"'Technische Seite'!C133","v":1},{"$f":"VLOOKUP(E252,'Technische Seite'!$AU$124:$BD$168,4,0)","v":3},{"$f":"IF(G252=\"-\",\"n.a.\",IF(F252-G252>-1,\"konform\",\"Ergebnis verbessern\"))","v":"Ergebnis verbessern"},null,{"$f":"VLOOKUP(E252,'Kapitel 2'!$C$6:$D$282,2,0)","v":"In welcher Weise stellt die Organisation sicher, dass alle Mitarbeiter hinsichtlich der Gesundheits- und Sicherheitsanforderungen, die mit ihrer Tätigkeit in Zusammenhang stehen, über die geeigneten Kompetenzen verfügen?"}]
[null,null,null,null,{"$f":"'Technische Seite'!B134","v":"F2.11"},{"$f":"'Technische Seite'!C134","v":2},{"$f":"VLOOKUP(E253,'Technische Seite'!$AU$124:$BD$168,4,0)","v":"-"},"n.a.",null,{"$f":"VLOOKUP(E253,'Kapitel 2'!$C$6:$D$282,2,0)","v":"Wie verpflichtet sich die Unternehmensleitung zur Verfahrenssicherheit?"}]
[null,null,null,null,{"$f":"'Technische Seite'!B135","v":"F2.12"},{"$f":"'Technische Seite'!C135","v":1},{"$f":"VLOOKUP(E254,'Technische Seite'!$AU$124:$BD$168,4,0)","v":"-"},"n.a.",null,{"$f":"VLOOKUP(E254,'Kapitel 2'!$C$6:$D$282,2,0)","v":"In welcher Weise werden die Identifizierung und Beschreibung der Sicherheit von Verfahren, Ausrüstungen und Standorten der Organisation vorbereitet?"}]
[null,null,null,null,{"$f":"'Technische Seite'!B136","v":"F2.13"},{"$f":"'Technische Seite'!C136","v":2},{"$f":"VLOOKUP(E255,'Technische Seite'!$AU$124:$BD$168,4,0)","v":"-"},"n.a.",null,{"$f":"VLOOKUP(E255,'Kapitel 2'!$C$6:$D$282,2,0)","v":"In welcher Weise werden Verbesserungen im Bereich Verfahrenssicherheit aufgrund von Vorfällen und Unfällen vorgenommen?"}]
[null,null,null,null,{"$f":"'Technische Seite'!B137","v":"F2.14"},{"$f":"'Technische Seite'!C137","v":3},{"$f":"VLOOKUP(E256,'Technische Seite'!$AU$124:$BD$168,4,0)","v":"-"},"n.a.",null,{"$f":"VLOOKUP(E256,'Kapitel 2'!$C$6:$D$282,2,0)","v":"Wie werden Audits und Inspektionen im Bereich Verfahrenssicherheit durchgeführt?"}]
[null,null,null,null,{"$f":"'Technische Seite'!B138","v":"F2.15"},{"$f":"'Technische Seite'!C138","v":1},{"$f":"VLOOKUP(E257,'Technische Seite'!$AU$124:$BD$168,4,0)","v":"-"},"n.a.",null,{"$f":"VLOOKUP(E257,'Kapitel 2'!$C$6:$D$282,2,0)","v":"Wie werden Arbeitsanweisungen kontrolliert und verbessert?"}]
[null,null,null,null,{"$f":"'Technische Seite'!B139","v":"F2.16"},{"$f":"'Technische Seite'!C139","v":1},{"$f":"VLOOKUP(E258,'Technische Seite'!$AU$124:$BD$168,4,0)","v":"-"},"n.a.",null,{"$f":"VLOOKUP(E258,'Kapitel 2'!$C$6:$D$282,2,0)","v":"Wie wird die Anlagenplanung durchgeführt und dokumentiert?"}]
[null,null,null,null,{"$f":"'Technische Seite'!B140","v":"F2.17"},{"$f":"'Technische Seite'!C140","v":4},{"$f":"VLOOKUP(E259,'Technische Seite'!$AU$124:$BD$168,4,0)","v":"-"},"n.a.",null,{"$f":"VLOOKUP(E259,'Kapitel 2'!$C$6:$D$282,2,0)","v":"In welcher Weise wird der Aufbau der Anlage kontrolliert?"}]
[null,null,null,null,{"$f":"'Technische Seite'!B141","v":"F2.18"},{"$f":"'Technische Seite'!C141","v":2},{"$f":"VLOOKUP(E260,'Technische Seite'!$AU$124:$BD$168,4,0)","v":"-"},"n.a.",null,{"$f":"VLOOKUP(E260,'Kapitel 2'!$C$6:$D$282,2,0)","v":"Wie wird „Schutz“ in Anlagen integriert, um zuverlässig zu verhindern, dass ein einziger Fehler katastrophale Folgen hat?"}]
[null,null,null,null,{"$f":"'Technische Seite'!B142","v":"F2.19"},{"$f":"'Technische Seite'!C142","v":2},{"$f":"VLOOKUP(E261,'Technische Seite'!$AU$124:$BD$168,4,0)","v":"-"},"n.a.",null,{"$f":"VLOOKUP(E261,'Kapitel 2'!$C$6:$D$282,2,0)","v":"Gibt es ein vorbeugendes Wartungs- und Pflegeprogramm („maintenance and housekeeping programme“), um die Sicherheit von Einrichtungen, Werkzeugen/Tools und Ausrüstungen aufrechtzuerhalten?"}]
[null,null,null,null,{"$f":"'Technische Seite'!B143","v":"F2.20"},{"$f":"'Technische Seite'!C143","v":1},{"$f":"VLOOKUP(E262,'Technische Seite'!$AU$124:$BD$168,4,0)","v":"-"},"n.a.",null,{"$f":"VLOOKUP(E262,'Kapitel 2'!$C$6:$D$282,2,0)","v":"Im Fall von Energie- oder Betriebsunterbrechungen – wie werden Verfahren in Notfällen gesteuert?"}]
[null,null,null,null,{"$f":"'Technische Seite'!B144","v":"F2.21"},{"$f":"'Technische Seite'!C144","v":3},{"$f":"VLOOKUP(E263,'Technische Seite'!$AU$124:$BD$168,4,0)","v":3},{"$f":"IF(G263=\"-\",\"n.a.\",IF(F263-G263>-1,\"konform\",\"Ergebnis verbessern\"))","v":"konform"},null,{"$f":"VLOOKUP(E263,'Kapitel 2'!$C$6:$D$282,2,0)","v":"Wie werden Notfallpläne erstellt?"}]
[null,null,null,null,{"$f":"'Technische Seite'!B145","v":"F2.22"},{"$f":"'Technische Seite'!C145","v":1},{"$f":"VLOOKUP(E264,'Technische Seite'!$AU$124:$BD$168,4,0)","v":"-"},"n.a.",null,{"$f":"VLOOKUP(E264,'Kapitel 2'!$C$6:$D$282,2,0)","v":"In welcher Weise werden die Kompetenz und Schulung von an den Prozessen beteiligten Mitarbeitern und Fremdfirmen sichergestellt?"}]
[null,null,null,null,{"$f":"'Technische Seite'!B146","v":"F2.23"},{"$f":"'Technische Seite'!C146","v":2},{"$f":"VLOOKUP(E265,'Technische Seite'!$AU$124:$BD$168,4,0)","v":"-"},"n.a.",null,{"$f":"VLOOKUP(E265,'Kapitel 2'!$C$6:$D$282,2,0)","v":"Wie werden Informationen über die Risiken von Stoffen und Zubereitungen gemeinsam genutzt/weitergegeben?"}]
[null,null,null,null,{"$f":"'Technische Seite'!B147","v":"F2.24"},{"$f":"'Technische Seite'!C147","v":3},{"$f":"VLOOKUP(E266,'Technische Seite'!$AU$124:$BD$168,4,0)","v":"-"},"n.a.",null,{"$f":"VLOOKUP(E266,'Kapitel 2'!$C$6:$D$282,2,0)","v":"Wie werden Informationen über das Verfahren gemeinsam genutzt/weitergegeben?"}]
[null,null,null,null,{"$f":"'Technische Seite'!B148","v":"F2.25"},{"$f":"'Technische Seite'!C148","v":2},{"$f":"VLOOKUP(E267,'Technische Seite'!$AU$124:$BD$168,4,0)","v":"-"},"n.a.",null,{"$f":"VLOOKUP(E267,'Kapitel 2'!$C$6:$D$282,2,0)","v":"In welcher Weise bewertet die Organisation ihre Logistikpartner mit Hinblick auf Gesundheit, Sicherheit, Umwelt & Nachhaltigkeit, Energieeffizienz und Treibhausgas(THG)-Emissionen?"}]
[null,null,null,null,{"$f":"'Technische Seite'!B149","v":"F2.26"},{"$f":"'Technische Seite'!C149","v":1},{"$f":"VLOOKUP(E268,'Technische Seite'!$AU$124:$BD$168,4,0)","v":"-"},"n.a.",null,{"$f":"VLOOKUP(E268,'Kapitel 2'!$C$6:$D$282,2,0)","v":"Welche Maßnahmen zur Vermeidung von Transportunfällen bzw. Notfallmaßnahmen im Falle von Transportunfällen ergreift die Organisation?"}]
[null,null,null,null,{"$f":"'Technische Seite'!B150","v":"F2.27"},{"$f":"'Technische Seite'!C150","v":1},{"$f":"VLOOKUP(E269,'Technische Seite'!$AU$124:$BD$168,4,0)","v":"-"},"n.a.",null,{"$f":"VLOOKUP(E269,'Kapitel 2'!$C$6:$D$282,2,0)","v":"In welcher Weise identifiziert die Organisation Sicherheitsprobleme?"}]
[null,null,null,null,{"$f":"'Technische Seite'!B151","v":"F2.28"},{"$f":"'Technische Seite'!C151","v":2},{"$f":"VLOOKUP(E270,'Technische Seite'!$AU$124:$BD$168,4,0)","v":"-"},"n.a.",null,{"$f":"VLOOKUP(E270,'Kapitel 2'!$C$6:$D$282,2,0)","v":"In welcher Weise werden das Betreten/Verlassen des Arbeitsortes und eingeschränkt zugänglicher Bereiche durch Mitarbeiter bzw. der dortige Ein- und Ausgang von Materialien kontrolliert?"}]
[null,null,null,null,{"$f":"'Technische Seite'!B152","v":"F2.29"},{"$f":"'Technische Seite'!C152","v":1},{"$f":"VLOOKUP(E271,'Technische Seite'!$AU$124:$BD$168,4,0)","v":"-"},"n.a.",null,{"$f":"VLOOKUP(E271,'Kapitel 2'!$C$6:$D$282,2,0)","v":"Wie wird Cybersecurity überwacht?"}]
[null,null,null,null,{"$f":"'Technische Seite'!B153","v":"F2.30"},{"$f":"'Technische Seite'!C153","v":1},{"$f":"VLOOKUP(E272,'Technische Seite'!$AU$124:$BD$168,4,0)","v":"-"},"n.a.",null,{"$f":"VLOOKUP(E272,'Kapitel 2'!$C$6:$D$282,2,0)","v":"Wie sind Kommunikation und Informationsaustausch im Falle einer Sicherheitskrise organisiert?"}]
[null,null,null,null,{"$f":"'Technische Seite'!B154","v":"F2.31"},{"$f":"'Technische Seite'!C154","v":3},{"$f":"VLOOKUP(E273,'Technische Seite'!$AU$124:$BD$168,4,0)","v":"-"},"n.a.",null,{"$f":"VLOOKUP(E273,'Kapitel 2'!$C$6:$D$282,2,0)","v":"Wie geht die Organisation mit abnormalem Verhalten (einschließlich Risiken der Radikalisierung) um?"}]
[null,null,null,null,{"$f":"'Technische Seite'!B155","v":"F2.32"},{"$f":"'Technische Seite'!C155","v":1},{"$f":"VLOOKUP(E274,'Technische Seite'!$AU$124:$BD$168,4,0)","v":"-"},"n.a.",null,{"$f":"VLOOKUP(E274,'Kapitel 2'!$C$6:$D$282,2,0)","v":"In welcher Weise weist die Organisation die Mitarbeiter an, in Sicherheitsfragen wachsam zu sein?"}]
[null,null,null,null,{"$f":"'Technische Seite'!B156","v":"F2.33"},{"$f":"'Technische Seite'!C156","v":2},{"$f":"VLOOKUP(E275,'Technische Seite'!$AU$124:$BD$168,4,0)","v":3},{"$f":"IF(G275=\"-\",\"n.a.\",IF(F275-G275>-1,\"konform\",\"Ergebnis verbessern\"))","v":"Ergebnis verbessern"},null,{"$f":"VLOOKUP(E275,'Kapitel 2'!$C$6:$D$282,2,0)","v":"In welcher Weise werden die möglichen Umweltauswirkungen der Aktivitäten der Organisation bewertet?"}]
[null,null,null,null,{"$f":"'Technische Seite'!B157","v":"F2.34"},{"$f":"'Technische Seite'!C157","v":1},{"$f":"VLOOKUP(E276,'Technische Seite'!$AU$124:$BD$168,4,0)","v":"-"},"n.a.",null,{"$f":"VLOOKUP(E276,'Kapitel 2'!$C$6:$D$282,2,0)","v":"In welcher Weise steuert die Organisation ihre Umweltleistung?"}]
[null,null,null,null,{"$f":"'Technische Seite'!B158","v":"F2.35"},{"$f":"'Technische Seite'!C158","v":2},{"$f":"VLOOKUP(E277,'Technische Seite'!$AU$124:$BD$168,4,0)","v":"-"},"n.a.",null,{"$f":"VLOOKUP(E277,'Kapitel 2'!$C$6:$D$282,2,0)","v":"Wie geht die Organisation mit Abfall um?"}]
[null,null,null,null,{"$f":"'Technische Seite'!B159","v":"F2.36"},{"$f":"'Technische Seite'!C159","v":1},{"$f":"VLOOKUP(E278,'Technische Seite'!$AU$124:$BD$168,4,0)","v":"-"},"n.a.",null,{"$f":"VLOOKUP(E278,'Kapitel 2'!$C$6:$D$282,2,0)","v":"Wie geht die Organisation mit Risiken für das Grundwasser um?"}]
[null,null,null,null,{"$f":"'Technische Seite'!B160","v":"F2.37"},{"$f":"'Technische Seite'!C160","v":3},{"$f":"VLOOKUP(E279,'Technische Seite'!$AU$124:$BD$168,4,0)","v":"-"},"n.a.",null,{"$f":"VLOOKUP(E279,'Kapitel 2'!$C$6:$D$282,2,0)","v":"Wie geht die Organisation mit den Risiken einer Bodenverschmutzung um?"}]
[null,null,null,null,{"$f":"'Technische Seite'!B161","v":"F2.38"},{"$f":"'Technische Seite'!C161","v":1},{"$f":"VLOOKUP(E280,'Technische Seite'!$AU$124:$BD$168,4,0)","v":"-"},"n.a.",null,{"$f":"VLOOKUP(E280,'Kapitel 2'!$C$6:$D$282,2,0)","v":"Wie geht die Organisation mit vorhandenen Bodenverschmutzungen um?"}]
[null,null,null,null,{"$f":"'Technische Seite'!B162","v":"F2.39"},{"$f":"'Technische Seite'!C162","v":3},{"$f":"VLOOKUP(E281,'Technische Seite'!$AU$124:$BD$168,4,0)","v":"-"},"n.a.",null,{"$f":"VLOOKUP(E281,'Kapitel 2'!$C$6:$D$282,2,0)","v":"Wie geht die Organisation mit ihren Emissionen in die Luft um?"}]
[null,null,null,null,{"$f":"'Technische Seite'!B163","v":"F2.40"},{"$f":"'Technische Seite'!C163","v":1},{"$f":"VLOOKUP(E282,'Technische Seite'!$AU$124:$BD$168,4,0)","v":"-"},"n.a.",null,{"$f":"VLOOKUP(E282,'Kapitel 2'!$C$6:$D$282,2,0)","v":"Wie geht die Organisation mit ihren Emissionen in Wasser um?"}]
[null,null,null,null,{"$f":"'Technische Seite'!B164","v":"F2.41"},{"$f":"'Technische Seite'!C164","v":3},{"$f":"VLOOKUP(E283,'Technische Seite'!$AU$124:$BD$168,4,0)","v":"-"},"n.a.",null,{"$f":"VLOOKUP(E283,'Kapitel 2'!$C$6:$D$282,2,0)","v":"Wie geht die Organisation mit Lärmemissionen um?"}]
[null,null,null,null,{"$f":"'Technische Seite'!B165","v":"F2.42"},{"$f":"'Technische Seite'!C165","v":3},{"$f":"VLOOKUP(E284,'Technische Seite'!$AU$124:$BD$168,4,0)","v":"-"},"n.a.",null,{"$f":"VLOOKUP(E284,'Kapitel 2'!$C$6:$D$282,2,0)","v":"Wie geht die Organisation mit Geruchsemissionen um?"}]
[null,null,null,null,{"$f":"'Technische Seite'!B166","v":"F2.43"},{"$f":"'Technische Seite'!C166","v":2},{"$f":"VLOOKUP(E285,'Technische Seite'!$AU$124:$BD$168,4,0)","v":4},{"$f":"IF(G285=\"-\",\"n.a.\",IF(F285-G285>-1,\"konform\",\"Ergebnis verbessern\"))","v":"Ergebnis verbessern"},null,{"$f":"VLOOKUP(E285,'Kapitel 2'!$C$6:$D$282,2,0)","v":"Wie verhindert die Organisation unfallbedingte Emissionen in die Umwelt und wie geht sie ggf. damit um?"}]
[null,null,null,null,{"$f":"'Technische Seite'!B167","v":"F2.44"},{"$f":"'Technische Seite'!C167","v":3},{"$f":"VLOOKUP(E286,'Technische Seite'!$AU$124:$BD$168,4,0)","v":3},{"$f":"IF(G286=\"-\",\"n.a.\",IF(F286-G286>-1,\"konform\",\"Ergebnis verbessern\"))","v":"konform"},null,{"$f":"VLOOKUP(E286,'Kapitel 2'!$C$6:$D$282,2,0)","v":"In welcher Weise stellt die Organisation sicher, dass alle Mitarbeiter hinsichtlich der Umweltanforderungen, die mit ihrer Tätigkeit in Zusammenhang stehen, über die geeigneten Kompetenzen verfügen?"}]
[null,null,null,null,{"$f":"'Technische Seite'!B168","v":"F2.45"},{"$f":"'Technische Seite'!C168","v":3},{"$f":"VLOOKUP(E287,'Technische Seite'!$AU$124:$BD$168,4,0)","v":3},{"$f":"IF(G287=\"-\",\"n.a.\",IF(F287-G287>-1,\"konform\",\"Ergebnis verbessern\"))","v":"konform"},null,{"$f":"VLOOKUP(E287,'Kapitel 2'!$C$6:$D$282,2,0)","v":"Wie werden den Interessensgruppen („stakeholder“) der Organisation die Umweltaspekte und deren mögliche Auswirkungen bewusst gemacht?"}]
[null,null,null,null,"KAPITEL 3 : Stärkung von Managementsystemen im Chemikalienbereich"]
[null,null,null,null,{"$f":"'Technische Seite'!$B$406","v":"F3.1"},{"$f":"'Technische Seite'!$C$406","v":1},{"$f":"VLOOKUP(E289,'Technische Seite'!$AU$406:$BD$418,4,0)","v":4},{"$f":"IF(G289=\"-\",\"n.a.\",IF(F289-G289>-1,\"konform\",\"Ergebnis verbessern\"))","v":"Ergebnis verbessern"},null,{"$f":"VLOOKUP(E289,'Kapitel 3'!$C$6:$D$89,2,0)","v":"Verfügt die Organisation über ein Verfahren für das Design\n und die Entwicklung neuer Produkte und Dienstleistungen?"}]
[null,null,null,null,{"$f":"'Technische Seite'!$B$407","v":"F3.2"},{"$f":"'Technische Seite'!$C$407","v":2},{"$f":"VLOOKUP(E290,'Technische Seite'!$AU$406:$BD$418,4,0)","v":"-"},{"$f":"IF(G290=\"-\",\"n.a.\",IF(F290-G290>-1,\"compliant\",\"increase score\"))","v":"n.a."},null,{"$f":"VLOOKUP(E290,'Kapitel 3'!$C$6:$D$89,2,0)","v":"Verfügt die Organisation über ein Verfahren, um ihre Produkte mit Hinblick auf Risikocharakterisierung und Risikomanagement zu bewerten und zu priorisieren?"}]
[null,null,null,null,{"$f":"'Technische Seite'!$B$408","v":"F3.3"},{"$f":"'Technische Seite'!$C$408","v":1},{"$f":"VLOOKUP(E291,'Technische Seite'!$AU$406:$BD$418,4,0)","v":"-"},"n.a.",null,{"$f":"VLOOKUP(E291,'Kapitel 3'!$C$6:$D$89,2,0)","v":"Verfügt die Organisation über ein System, um die Anwendbarkeit sowie Änderungen und Einhaltung von internen und externen Anforderungen in Zusammenhang mit dem Sicherheitsmanagement von Chemikalien zu verfolgen/nachzuverfolgen?"}]
[null,null,null,null,{"$f":"'Technische Seite'!$B$409","v":"F3.4"},{"$f":"'Technische Seite'!$C$409","v":1},{"$f":"VLOOKUP(E292,'Technische Seite'!$AU$406:$BD$418,4,0)","v":"-"},"n.a.",null,{"$f":"VLOOKUP(E292,'Kapitel 3'!$C$6:$D$89,2,0)","v":"Verfügt die Organisation über ein Verfahren zum Umgang mit vorhandenen Gefahreninformationen in Zusammenhang mit ihren Produkten?"}]
[null,null,null,null,{"$f":"'Technische Seite'!$B$410","v":"F3.5"},{"$f":"'Technische Seite'!$C$410","v":1},{"$f":"VLOOKUP(E293,'Technische Seite'!$AU$406:$BD$418,4,0)","v":"-"},"n.a.",null,{"$f":"VLOOKUP(E293,'Kapitel 3'!$C$6:$D$89,2,0)","v":"Verfügt die Organisation über ein Verfahren für den Umgang mit Informationen über die Verwendung von und die Exposition durch ihre Produkte?"}]
[null,null,null,null,{"$f":"'Technische Seite'!$B$411","v":"F3.6"},{"$f":"'Technische Seite'!$C$411","v":1},{"$f":"VLOOKUP(E294,'Technische Seite'!$AU$406:$BD$418,4,0)","v":"-"},"n.a.",null,{"$f":"VLOOKUP(E294,'Kapitel 3'!$C$6:$D$89,2,0)","v":"Verfügt die Organisation über ein Verfahren für den Umgang mit neuen Informationen?"}]
[null,null,null,null,{"$f":"'Technische Seite'!$B$412","v":"Q3.7"},{"$f":"'Technische Seite'!$C$412","v":1},{"$f":"VLOOKUP(E295,'Technische Seite'!$AU$406:$BD$418,4,0)","v":1},{"$f":"IF(G295=\"-\",\"n.a.\",IF(F295-G295>-1,\"konform\",\"Ergebnis verbessern\"))","v":"konform"},null,{"$f":"VLOOKUP(E295,'Kapitel 3'!$C$6:$D$89,2,0)","v":"Verfügt die Organisation über ein Verfahren zur Risikocharakterisierung auf der Grundlage der gesammelten Informationen?"}]
[null,null,null,null,{"$f":"'Technische Seite'!$B$413","v":"F3.8"},{"$f":"'Technische Seite'!$C$413","v":1},{"$f":"VLOOKUP(E296,'Technische Seite'!$AU$406:$BD$418,4,0)","v":2},{"$f":"IF(G296=\"-\",\"n.a.\",IF(F296-G296>-1,\"konform\",\"Ergebnis verbessern\"))","v":"Ergebnis verbessern"},null,{"$f":"VLOOKUP(E296,'Kapitel 3'!$C$6:$D$89,2,0)","v":"Verfügt die Organisation über ein Verfahren zum Risikomanagement auf der Grundlage der gesammelten Informationen?"}]
[null,null,null,null,{"$f":"'Technische Seite'!$B$414","v":"F3.9"},{"$f":"'Technische Seite'!$C$414","v":2},{"$f":"VLOOKUP(E297,'Technische Seite'!$AU$406:$BD$418,4,0)","v":4},{"$f":"IF(G297=\"-\",\"n.a.\",IF(F297-G297>-1,\"konform\",\"Ergebnis verbessern\"))","v":"Ergebnis verbessern"},null,{"$f":"VLOOKUP(E297,'Kapitel 3'!$C$6:$D$89,2,0)","v":"Verfügt die Organisation über ein effizientes Verfahren, um ihre Produkte nach deren Lieferung nachzuverfolgen und Korrekturmaßnahmen durchzuführen?"}]
[null,null,null,null,{"$f":"'Technische Seite'!$B$415","v":"F3.10"},{"$f":"'Technische Seite'!$C$415","v":2},{"$f":"VLOOKUP(E298,'Technische Seite'!$AU$406:$BD$418,4,0)","v":"-"},"n.a.",null,{"$f":"VLOOKUP(E298,'Kapitel 3'!$C$6:$D$89,2,0)","v":"Kommuniziert die Organisation effizient in der Lieferkette hinsichtlich der für ihre Produkte notwendigen Maßnahmen des Risikomanagements?\n"}]
[null,null,null,null,"KAPITEL 4: Einbeziehung von Geschäftspartnern"]
[null,null,null,null,{"$f":"'Technische Seite'!B482","v":"F4.1"},{"$f":"'Technische Seite'!C482","v":1},{"$f":"VLOOKUP(E300,'Technische Seite'!$AU$482:$BD$489,4,0)","v":"-"},{"$f":"IF(G300=\"-\",\"n.a.\",IF(F300-G300>-1,\"compliant\",\"increase score\"))","v":"n.a."},null,{"$f":"VLOOKUP(E300,'Kapitel 4'!$C$6:$D$91,2,0)","v":"In welcher Form hat sich die Organisation einer verantwortungsvollen Beschaffung verpflichtet?"}]
[null,null,null,null,{"$f":"'Technische Seite'!B483","v":"F4.2"},{"$f":"'Technische Seite'!C483","v":2},{"$f":"VLOOKUP(E301,'Technische Seite'!$AU$482:$BD$489,4,0)","v":"-"},{"$f":"IF(G301=\"-\",\"n.a.\",IF(F301-G301>-1,\"compliant\",\"increase score\"))","v":"n.a."},null,{"$f":"VLOOKUP(E301,'Kapitel 4'!$C$6:$D$91,2,0)","v":"In welcher Weise steigert die Organisation die Zusammenarbeit mit der Wertschöpfungskette?"}]
[null,null,null,null,{"$f":"'Technische Seite'!B484","v":"F4.3"},{"$f":"'Technische Seite'!C484","v":2},{"$f":"VLOOKUP(E302,'Technische Seite'!$AU$482:$BD$489,4,0)","v":4},{"$f":"IF(G302=\"-\",\"n.a.\",IF(F302-G302>-1,\"konform\",\"Ergebnis verbessern\"))","v":"Ergebnis verbessern"},null,{"$f":"VLOOKUP(E302,'Kapitel 4'!$C$6:$D$91,2,0)","v":"In welcher Weise bringt die Organisation ihre Verpflichtung mit Hinblick auf Geschäftsethik zum Ausdruck?"}]
[null,null,null,null,{"$f":"'Technische Seite'!B485","v":"F4.4"},{"$f":"'Technische Seite'!C485","v":2},{"$f":"VLOOKUP(E303,'Technische Seite'!$AU$482:$BD$489,4,0)","v":4},{"$f":"IF(G303=\"-\",\"n.a.\",IF(F303-G303>-1,\"konform\",\"Ergebnis verbessern\"))","v":"Ergebnis verbessern"},null,{"$f":"VLOOKUP(E303,'Kapitel 4'!$C$6:$D$91,2,0)","v":"Wie berücksichtigt die Organisation soziale Fragen und Menschenrechte in ihrer Zusammenarbeit mit Geschäftspartnern?"}]
[null,null,null,null,{"$f":"'Technische Seite'!B486","v":"F4.5"},{"$f":"'Technische Seite'!C486","v":2},{"$f":"VLOOKUP(E304,'Technische Seite'!$AU$482:$BD$489,4,0)","v":4},{"$f":"IF(G304=\"-\",\"n.a.\",IF(F304-G304>-1,\"konform\",\"Ergebnis verbessern\"))","v":"Ergebnis verbessern"},null,{"$f":"VLOOKUP(E304,'Kapitel 4'!$C$6:$D$91,2,0)","v":"In welcher Weise verhindert die Organisation Kinderarbeit?\n\nDie Organisation\n1.\tverfügt über ein System zur Altersprüfung;\n2.\tbeschäftigt keine Kinder unter 15 Jahren (oder älter; die jeweiligen örtlichen Gesetze sind zu beachten). Berufsausbildungen oder Praktika im Rahmen der Schulbildung bzw. bildungsbezogene Praktika sind die einzigen Ausnahmen;\n3.\tstellt sicher, dass die Beschäftigung von Personen unter 18 Jahren nicht deren Schulbesuch beeinträchtigt (die Gesamtzahl der Stunden für den Weg zur Arbeit und Schule und zurück, Schulbesuch und Arbeitstätigkeit beträgt weniger als 10 Stunden täglich);\n4.\tstellt sicher, dass die Tätigkeit junger Arbeitnehmer nicht geistig, körperlich, sozial oder moralisch gefährlich und schädlich ist."}]
[null,null,null,null,{"$f":"'Technische Seite'!B487","v":"F4.6"},{"$f":"'Technische Seite'!C487","v":2},{"$f":"VLOOKUP(E305,'Technische Seite'!$AU$482:$BD$489,4,0)","v":"-"},"n.a.",null,{"$f":"VLOOKUP(E305,'Kapitel 4'!$C$6:$D$91,2,0)","v":"Wie stellt die Organisation sicher, dass ihre Logistikpartner die Anforderungen der Organisation erfüllen?"}]
[null,null,null,null,{"$f":"'Technische Seite'!B488","v":"F4.7"},{"$f":"'Technische Seite'!C488","v":1},{"$f":"VLOOKUP(E306,'Technische Seite'!$AU$482:$BD$489,4,0)","v":"-"},"n.a.",null,{"$f":"VLOOKUP(E306,'Kapitel 4'!$C$6:$D$91,2,0)","v":"In welcher Weise schützt und sichert die Organisation das Eigentum und die Daten nachgeschalteter Anwender oder externer Anbieter, die zur Nutzung oder Einbeziehung/Einarbeitung in Produkte und Dienstleistungen bereitgestellt werden?"}]
[null,null,null,null,{"$f":"'Technische Seite'!B489","v":"F4.8"},{"$f":"'Technische Seite'!C489","v":2},{"$f":"VLOOKUP(E307,'Technische Seite'!$AU$482:$BD$489,4,0)","v":"-"},"n.a.",null,{"$f":"VLOOKUP(E307,'Kapitel 4'!$C$6:$D$91,2,0)","v":"Was beinhaltet der Dialog mit nachgeschalteten Anwendern?"}]
[null,null,null,null,"KAPITEL 5: Berücksichtigung von Anspruchsgruppen"]
[null,null,null,null,{"$f":"'Technische Seite'!B544","v":"F5.1"},{"$f":"'Technische Seite'!C544","v":2},{"$f":"VLOOKUP(E309,'Technische Seite'!$AU$544:$BD$548,4,0)","v":4},{"$f":"IF(G309=\"-\",\"n.a.\",IF(F309-G309>-1,\"konform\",\"Ergebnis verbessern\"))","v":"Ergebnis verbessern"},null,{"$f":"VLOOKUP(E309,'Kapitel 5'!$C$6:$D$89,2,0)","v":"In welcher Weise bezieht die Organisation die für sie relevanten externen Anspruchsgruppen („stakeholder“) ein und wird deren Erwartungen gerecht?"}]
[null,null,null,null,{"$f":"'Technische Seite'!B545","v":"F5.2"},{"$f":"'Technische Seite'!C545","v":1},{"$f":"VLOOKUP(E310,'Technische Seite'!$AU$544:$BD$548,4,0)","v":4},{"$f":"IF(G310=\"-\",\"n.a.\",IF(F310-G310>-1,\"konform\",\"Ergebnis verbessern\"))","v":"Ergebnis verbessern"},null,{"$f":"VLOOKUP(E310,'Kapitel 5'!$C$6:$D$89,2,0)","v":"In welcher Weise führt die Organisation einen Dialog mit der Öffentlichkeit, Behörden und anderen interessierten Kreisen (einschließlich örtlichen Gemeinden/Anwohnern und Kunden) über die Leistung ihrer Aktivitäten, Produkte und Dienstleistungen in den Bereichen Gesundheit, Sicherheit, Umwelt, Energie & Nachhaltigkeit?\n"}]
[null,null,null,null,{"$f":"'Technische Seite'!B546","v":"F5.3"},{"$f":"'Technische Seite'!C546","v":2},{"$f":"VLOOKUP(E311,'Technische Seite'!$AU$544:$BD$548,4,0)","v":"-"},{"$f":"IF(G311=\"-\",\"n.a.\",IF(F311-G311>-1,\"compliant\",\"increase score\"))","v":"n.a."},null,{"$f":"VLOOKUP(E311,'Kapitel 5'!$C$6:$D$89,2,0)","v":"In welcher Weise vermittelt die Organisation Informationen aus den Bereichen Gesundheit, Sicherheit, Umwelt, Energie & Nachhaltigkeit?"}]
[null,null,null,null,{"$f":"'Technische Seite'!B547","v":"F5.4"},{"$f":"'Technische Seite'!C547","v":1},{"$f":"VLOOKUP(E312,'Technische Seite'!$AU$544:$BD$548,4,0)","v":"-"},"n.a.",null,{"$f":"VLOOKUP(E312,'Kapitel 5'!$C$6:$D$89,2,0)","v":"In welcher Weise unterstützt die Organisation örtliche Gemeinden/Anwohner („local communities“)?"}]
[null,null,null,null,{"$f":"'Technische Seite'!B548","v":"F5.5"},{"$f":"'Technische Seite'!C548","v":2},{"$f":"VLOOKUP(E313,'Technische Seite'!$AU$544:$BD$548,4,0)","v":"-"},"n.a.",null,{"$f":"VLOOKUP(E313,'Kapitel 5'!$C$6:$D$89,2,0)","v":"In welcher Weise fördert die Organisation Beschäftigung und Bildung vor Ort?"}]
[null,null,null,null,"KAPITEL 6 : Beitrag zur Nachhaltigkeit"]
[null,null,null,null,{"$f":"'Technische Seite'!B584","v":"F6.1"},{"$f":"'Technische Seite'!C584","v":2},{"$f":"VLOOKUP(E315,'Technische Seite'!$AU$584:$BD$600,4,0)","v":3},{"$f":"IF(G315=\"-\",\"n.a.\",IF(F315-G315>-1,\"konform\",\"Ergebnis verbessern\"))","v":"Ergebnis verbessern"},null,{"$f":"VLOOKUP(E315,'Kapitel 6'!$C$6:$D$120,2,0)","v":"Wie definiert das Unternehmen relevante Themen und Wesentlichkeiten?"}]
[null,null,null,null,{"$f":"'Technische Seite'!B585","v":"F6.2"},{"$f":"'Technische Seite'!C585","v":1},{"$f":"VLOOKUP(E316,'Technische Seite'!$AU$584:$BD$600,4,0)","v":"-"},{"$f":"IF(G316=\"-\",\"n.a.\",IF(F316-G316>-1,\"compliant\",\"increase score\"))","v":"n.a."},null,{"$f":"VLOOKUP(E316,'Kapitel 6'!$C$6:$D$120,2,0)","v":"Welche Pläne hat die Organisation zum Beitrag für eine nachhaltige Entwicklung? "}]
[null,null,null,null,{"$f":"'Technische Seite'!B586","v":"F6.3"},{"$f":"'Technische Seite'!C586","v":1},{"$f":"VLOOKUP(E317,'Technische Seite'!$AU$584:$BD$600,4,0)","v":4},{"$f":"IF(G317=\"-\",\"n.a.\",IF(F317-G317>-1,\"konform\",\"Ergebnis verbessern\"))","v":"Ergebnis verbessern"},null,{"$f":"VLOOKUP(E317,'Kapitel 6'!$C$6:$D$120,2,0)","v":"Wie steht es bei der Organisation mit der Einbeziehung von Stakeholdern bei Nachhaltigkeit?"}]
[null,null,null,null,{"$f":"'Technische Seite'!B587","v":"F6.4"},{"$f":"'Technische Seite'!C587","v":1},{"$f":"VLOOKUP(E318,'Technische Seite'!$AU$584:$BD$600,4,0)","v":"-"},"n.a.",null,{"$f":"VLOOKUP(E318,'Kapitel 6'!$C$6:$D$120,2,0)","v":"Verfügt die Organisation über einen Prozess für die Entwicklung von Produkten mit besseren Nachhaltigkeitsergebnissen?"}]
[null,null,null,null,{"$f":"'Technische Seite'!B588","v":"F6.5"},{"$f":"'Technische Seite'!C588","v":1},{"$f":"VLOOKUP(E319,'Technische Seite'!$AU$584:$BD$600,4,0)","v":1},{"$f":"IF(G319=\"-\",\"n.a.\",IF(F319-G319>-1,\"konform\",\"Ergebnis verbessern\"))","v":"konform"},null,{"$f":"VLOOKUP(E319,'Kapitel 6'!$C$6:$D$120,2,0)","v":"Wie verbessert die Organisation die Ressourceneffizienz in ihren Produktionsprozessen? "}]
[null,null,null,null,{"$f":"'Technische Seite'!B589","v":"F6.6"},{"$f":"'Technische Seite'!C589","v":1},{"$f":"VLOOKUP(E320,'Technische Seite'!$AU$584:$BD$600,4,0)","v":3},{"$f":"IF(G320=\"-\",\"n.a.\",IF(F320-G320>-1,\"konform\",\"Ergebnis verbessern\"))","v":"Ergebnis verbessern"},null,{"$f":"VLOOKUP(E320,'Kapitel 6'!$C$6:$D$120,2,0)","v":"Wie fördert die Organisation die Kreislaufwirtschaft durch ihre Produkte?"}]
[null,null,null,null,{"$f":"'Technische Seite'!B590","v":"F6.7"},{"$f":"'Technische Seite'!C590","v":1},{"$f":"VLOOKUP(E321,'Technische Seite'!$AU$584:$BD$600,4,0)","v":"-"},"n.a.",null,{"$f":"VLOOKUP(E321,'Kapitel 6'!$C$6:$D$120,2,0)","v":"Wie fördert die Organisation Innovation für die Entwicklung von Produkten und Lösungen, die mit den Herausforderungen der Nachhaltigkeit in Einklang stehen?"}]
[null,null,null,null,{"$f":"'Technische Seite'!B591","v":"F6.8"},{"$f":"'Technische Seite'!C591","v":1},{"$f":"VLOOKUP(E322,'Technische Seite'!$AU$584:$BD$600,4,0)","v":"-"},"n.a.",null,{"$f":"VLOOKUP(E322,'Kapitel 6'!$C$6:$D$120,2,0)","v":"Wie fördert die Organisation Innovationspanels und Kooperationen?"}]
[null,null,null,null,{"$f":"'Technische Seite'!B592","v":"F6.9"},{"$f":"'Technische Seite'!C592","v":2},{"$f":"VLOOKUP(E323,'Technische Seite'!$AU$584:$BD$600,4,0)","v":"-"},"n.a.",null,{"$f":"VLOOKUP(E323,'Kapitel 6'!$C$6:$D$120,2,0)","v":"Wie fördert die Organisation nachhaltiges Verbrauchsverhalten?"}]
[null,null,null,null,{"$f":"'Technische Seite'!B593","v":"F6.10"},{"$f":"'Technische Seite'!C593","v":1},{"$f":"VLOOKUP(E324,'Technische Seite'!$AU$584:$BD$600,4,0)","v":"-"},"n.a.",null,{"$f":"VLOOKUP(E324,'Kapitel 6'!$C$6:$D$120,2,0)","v":"Wie kontrolliert und optimiert die Organisation den Wasserverbrauch?"}]
[null,null,null,null,{"$f":"'Technische Seite'!B594","v":"F6.11"},{"$f":"'Technische Seite'!C594","v":1},{"$f":"VLOOKUP(E325,'Technische Seite'!$AU$584:$BD$600,4,0)","v":"-"},"n.a.",null,{"$f":"VLOOKUP(E325,'Kapitel 6'!$C$6:$D$120,2,0)","v":"Wie werden die Auswirkungen der Organisation auf die Biodiversität und die Ökosystemleistungen gehandhabt?"}]
[null,null,null,null,{"$f":"'Technische Seite'!B595","v":"F6.12"},{"$f":"'Technische Seite'!C595","v":2},{"$f":"VLOOKUP(E326,'Technische Seite'!$AU$584:$BD$600,4,0)","v":"-"},"n.a.",null,{"$f":"VLOOKUP(E326,'Kapitel 6'!$C$6:$D$120,2,0)","v":"Wie berücksichtigt die Organisation ihre Abhängigkeit von Ökosystemleistungen?"}]
[null,null,null,null,{"$f":"'Technische Seite'!B596","v":"F6.13"},{"$f":"'Technische Seite'!C596","v":1},{"$f":"VLOOKUP(E327,'Technische Seite'!$AU$584:$BD$600,4,0)","v":"-"},"n.a.",null,{"$f":"VLOOKUP(E327,'Kapitel 6'!$C$6:$D$120,2,0)","v":"Wie handhabt die Organisation ihre Energieeffizienz?"}]
[null,null,null,null,{"$f":"'Technische Seite'!B597","v":"F6.14"},{"$f":"'Technische Seite'!C597","v":2},{"$f":"VLOOKUP(E328,'Technische Seite'!$AU$584:$BD$600,4,0)","v":"-"},"n.a.",null,{"$f":"VLOOKUP(E328,'Kapitel 6'!$C$6:$D$120,2,0)","v":"Wie handhabt die Organisation ihre Emissionen von Treibhausgasen (THG) (anders als durch Energieeinsparung)?"}]
[null,null,null,null,{"$f":"'Technische Seite'!B598","v":"F6.15"},{"$f":"'Technische Seite'!C598","v":1},{"$f":"VLOOKUP(E329,'Technische Seite'!$AU$584:$BD$600,4,0)","v":"-"},"n.a.",null,{"$f":"VLOOKUP(E329,'Kapitel 6'!$C$6:$D$120,2,0)","v":"Welche Strategie hat die Organisation zur Reduzierung von THG-Emissionen?"}]
[null,null,null,null,{"$f":"'Technische Seite'!B599","v":"F6.16"},{"$f":"'Technische Seite'!C599","v":2},{"$f":"VLOOKUP(E330,'Technische Seite'!$AU$584:$BD$600,4,0)","v":3},{"$f":"IF(G330=\"-\",\"n.a.\",IF(F330-G330>-1,\"konform\",\"Ergebnis verbessern\"))","v":"Ergebnis verbessern"},null,{"$f":"VLOOKUP(E330,'Kapitel 6'!$C$6:$D$120,2,0)","v":"Wie bereitet sich die Organisation auf den Klimawandel vor? "}]
[null,null,null,null,{"$f":"'Technische Seite'!B600","v":"F6.17"},{"$f":"'Technische Seite'!C600","v":1},{"$f":"VLOOKUP(E331,'Technische Seite'!$AU$584:$BD$600,4,0)","v":"-"},"n.a.",null,{"$f":"VLOOKUP(E331,'Kapitel 6'!$C$6:$D$120,2,0)","v":"In welcher Weise gewährleistet die Organisation Chancengleichheit bei der Einstellung und während der gesamten beruflichen Laufbahn aller?"}]
[]
[null,null,"Bericht über den Abstand zur Einhaltung von  ISO 45001"]
[null,null,null,null,null,"Ihre Bewertung ","Mindestbewertung für ISO 45001"]
[null,null,null,null,"KAPITEL 1: Führungskultur im Unternehmen"]
[null,null,null,null,{"$f":"'Technische Seite'!B10","v":"F1.1"},{"$f":"'Technische Seite'!C10","v":1},{"$f":"VLOOKUP(E336,'Technische Seite'!$AU$10:$BD$25,5,0)","v":3},{"$f":"IF(G336=\"-\",\"n.a.\",IF(F336-G336>-1,\"konform\",\"Ergebnis verbessern\"))","v":"Ergebnis verbessern"},null,{"$f":"VLOOKUP(E336,'Kapitel 1'!$C$6:$D$112,2,0)","v":"In welcher Weise wird die Verpflichtung zur Einhaltung gesetzlicher und sonstiger Vorschriften („Compliance“) sowie der Grundsätze von Responsible Care (d. h. Schutz und Förderung der Gesundheit & Sicherheit von Menschen und Umwelt sowie Nachhaltigkeit) auf allen Ebenen der Organisation dargelegt?"}]
[null,null,null,null,{"$f":"'Technische Seite'!B11","v":"F1.2"},{"$f":"'Technische Seite'!C11","v":1},{"$f":"VLOOKUP(E337,'Technische Seite'!$AU$10:$BD$25,5,0)","v":3},{"$f":"IF(G337=\"-\",\"n.a.\",IF(F337-G337>-1,\"konform\",\"Ergebnis verbessern\"))","v":"Ergebnis verbessern"},null,{"$f":"VLOOKUP(E337,'Kapitel 1'!$C$6:$D$112,2,0)","v":"Wie steuert die Organisation die relevanten Risiken und Chancen?"}]
[null,null,null,null,{"$f":"'Technische Seite'!B12","v":"F1.3"},{"$f":"'Technische Seite'!C12","v":2},{"$f":"VLOOKUP(E338,'Technische Seite'!$AU$10:$BD$25,5,0)","v":2},{"$f":"IF(G338=\"-\",\"n.a.\",IF(F338-G338>-1,\"konform\",\"Ergebnis verbessern\"))","v":"konform"},null,{"$f":"VLOOKUP(E338,'Kapitel 1'!$C$6:$D$112,2,0)","v":"In welcher Weise erfüllt die Organisation ihre gesetzlichen Verpflichtungen?"}]
[null,null,null,null,{"$f":"'Technische Seite'!B13","v":"F1.4"},{"$f":"'Technische Seite'!C13","v":2},{"$f":"VLOOKUP(E339,'Technische Seite'!$AU$10:$BD$25,5,0)","v":2},{"$f":"IF(G339=\"-\",\"n.a.\",IF(F339-G339>-1,\"konform\",\"Ergebnis verbessern\"))","v":"konform"},null,{"$f":"VLOOKUP(E339,'Kapitel 1'!$C$6:$D$112,2,0)","v":"Wie stellt die oberste Führungsebene („top management“) sicher, dass Aspekte aus den Bereichen Gesundheit, Sicherheit, Umwelt, Energie & Nachhaltigkeit bestimmten Funktionen zugeordnet sind?"}]
[null,null,null,null,{"$f":"'Technische Seite'!B14","v":"F1.5"},{"$f":"'Technische Seite'!C14","v":3},{"$f":"VLOOKUP(E340,'Technische Seite'!$AU$10:$BD$25,5,0)","v":3},{"$f":"IF(G340=\"-\",\"n.a.\",IF(F340-G340>-1,\"konform\",\"Ergebnis verbessern\"))","v":"konform"},null,{"$f":"VLOOKUP(E340,'Kapitel 1'!$C$6:$D$112,2,0)","v":"In welcher Weise ist der Vorstand/die Geschäftsleitung der Organisation in den Umgang mit Fragen und Problemen („issues“) in den Bereichen Gesundheit, Sicherheit, Umwelt, Energie & Nachhaltigkeit eingebunden?"}]
[null,null,null,null,{"$f":"'Technische Seite'!B15","v":"F1.6"},{"$f":"'Technische Seite'!C15","v":4},{"$f":"VLOOKUP(E341,'Technische Seite'!$AU$10:$BD$25,5,0)","v":"-"},{"$f":"IF(G341=\"-\",\"n.a.\",IF(F341-G341>-1,\"compliant\",\"increase score\"))","v":"n.a."},null,{"$f":"VLOOKUP(E341,'Kapitel 1'!$C$6:$D$112,2,0)","v":"Wie werden Verantwortlichkeiten in den Bereichen Gesundheit, Sicherheit, Umwelt, Energie & Nachhaltigkeit in Arbeitsplatzbeschreibungen oder Jahresziele integriert?"}]
[null,null,null,null,{"$f":"'Technische Seite'!B16","v":"F1.7"},{"$f":"'Technische Seite'!C16","v":1},{"$f":"VLOOKUP(E342,'Technische Seite'!$AU$10:$BD$25,5,0)","v":3},{"$f":"IF(G342=\"-\",\"n.a.\",IF(F342-G342>-1,\"konform\",\"Ergebnis verbessern\"))","v":"Ergebnis verbessern"},null,{"$f":"VLOOKUP(E342,'Kapitel 1'!$C$6:$D$112,2,0)","v":"Wie werden (Kern-)Prozesse in den Bereichen Gesundheit, Sicherheit, Umwelt, Energie & Nachhaltigkeit gelenkt?"}]
[null,null,null,null,{"$f":"'Technische Seite'!B17","v":"F1.8"},{"$f":"'Technische Seite'!C17","v":2},{"$f":"VLOOKUP(E343,'Technische Seite'!$AU$10:$BD$25,5,0)","v":3},"Ergebnis verbessern",null,{"$f":"VLOOKUP(E343,'Kapitel 1'!$C$6:$D$112,2,0)","v":"In welche Weise stellt die oberste Führungsebene eine kontinuierliche Verbesserung der Leistung in den Bereichen Gesundheit, Sicherheit, Umwelt, Energie & Nachhaltigkeit sicher?"}]
[null,null,null,null,{"$f":"'Technische Seite'!B18","v":"F1.9"},{"$f":"'Technische Seite'!C18","v":1},{"$f":"VLOOKUP(E344,'Technische Seite'!$AU$10:$BD$25,5,0)","v":3},"Ergebnis verbessern",null,{"$f":"VLOOKUP(E344,'Kapitel 1'!$C$6:$D$112,2,0)","v":"Wie wird das interne Auditprogramm durchgeführt?"}]
[null,null,null,null,{"$f":"'Technische Seite'!B19","v":"F1.10"},{"$f":"'Technische Seite'!C19","v":3},{"$f":"VLOOKUP(E345,'Technische Seite'!$AU$10:$BD$25,5,0)","v":3},"konform",null,{"$f":"VLOOKUP(E345,'Kapitel 1'!$C$6:$D$112,2,0)","v":"Wie werden Vorfälle untersucht?"}]
[null,null,null,null,{"$f":"'Technische Seite'!B20","v":"F1.11"},{"$f":"'Technische Seite'!C20","v":3},{"$f":"VLOOKUP(E346,'Technische Seite'!$AU$10:$BD$25,5,0)","v":3},"konform",null,{"$f":"VLOOKUP(E346,'Kapitel 1'!$C$6:$D$112,2,0)","v":"In welcher Weise stellt die Organisation die benötigten Verfahren, zeitlichen Mittel und Ressourcen bereit, um Management-Prozesse in den Bereichen Gesundheit, Sicherheit, Umwelt, Energie & Nachhaltigkeit zu verbessern?"}]
[null,null,null,null,{"$f":"'Technische Seite'!B21","v":"F1.12"},{"$f":"'Technische Seite'!C21","v":2},{"$f":"VLOOKUP(E347,'Technische Seite'!$AU$10:$BD$25,5,0)","v":3},"Ergebnis verbessern",null,{"$f":"VLOOKUP(E347,'Kapitel 1'!$C$6:$D$112,2,0)","v":"Wie stellt die Organisation sicher, dass Mitarbeiter über die Unternehmenspolitik und Verfahren in den Bereichen Gesundheit, Sicherheit, Umwelt, Energie & Nachhaltigkeit informiert sind?"}]
[null,null,null,null,{"$f":"'Technische Seite'!B22","v":"F1.13"},{"$f":"'Technische Seite'!C22","v":1},{"$f":"VLOOKUP(E348,'Technische Seite'!$AU$10:$BD$25,5,0)","v":3},"Ergebnis verbessern",null,{"$f":"VLOOKUP(E348,'Kapitel 1'!$C$6:$D$112,2,0)","v":"Wie stellt die Organisation sicher, dass Arbeiter – hinsichtlich der mit ihrer Tätigkeit in Zusammenhang stehenden Aspekten in den Bereichen Gesundheit, Sicherheit, Umwelt, Energie & Nachhaltigkeit – über die erforderlichen Kompetenzen verfügen?"}]
[null,null,null,null,{"$f":"'Technische Seite'!B23","v":"F1.14"},{"$f":"'Technische Seite'!C23","v":4},{"$f":"VLOOKUP(E349,'Technische Seite'!$AU$10:$BD$25,5,0)","v":3},"konform",null,{"$f":"VLOOKUP(E349,'Kapitel 1'!$C$6:$D$112,2,0)","v":"Wie ist die Einbeziehung der Mitarbeiter strukturiert?"}]
[null,null,null,null,{"$f":"'Technische Seite'!B24","v":"F1.15"},{"$f":"'Technische Seite'!C24","v":2},{"$f":"VLOOKUP(E350,'Technische Seite'!$AU$10:$BD$25,5,0)","v":3},"Ergebnis verbessern",null,{"$f":"VLOOKUP(E350,'Kapitel 1'!$C$6:$D$112,2,0)","v":"Wie werden Dokumente aus den Bereichen Gesundheit, Sicherheit, Umwelt, Energie & Nachhaltigkeit verwaltet?"}]
[null,null,null,null,{"$f":"'Technische Seite'!B25","v":"F1.16"},{"$f":"'Technische Seite'!C25","v":2},{"$f":"VLOOKUP(E351,'Technische Seite'!$AU$10:$BD$25,5,0)","v":3},"Ergebnis verbessern",null,{"$f":"VLOOKUP(E351,'Kapitel 1'!$C$6:$D$112,2,0)","v":"In welcher Weise werden Änderungen, die möglicherweise Auswirkungen auf die Bereiche Gesundheit, Sicherheit, Umwelt, Energie & Nachhaltigkeit haben könnten, gesteuert?"}]
[null,null,null,null,"KAPITEL 2: Schutz von Mensch und Umwelt"]
[null,null,null,null,{"$f":"'Technische Seite'!B124","v":"F2.1"},{"$f":"'Technische Seite'!C124","v":1},{"$f":"VLOOKUP(E353,'Technische Seite'!$AU$124:$BD$168,5,0)","v":2},{"$f":"IF(G353=\"-\",\"n.a.\",IF(F353-G353>-1,\"konform\",\"Ergebnis verbessern\"))","v":"Ergebnis verbessern"},null,{"$f":"VLOOKUP(E353,'Kapitel 2'!$C$6:$D$282,2,0)","v":"In welcher Weise verpflichtet sich die Führung der Organisation zu Arbeits- und Gesundheitsschutz?"}]
[null,null,null,null,{"$f":"'Technische Seite'!B125","v":"F2.2"},{"$f":"'Technische Seite'!C125","v":1},{"$f":"VLOOKUP(E354,'Technische Seite'!$AU$124:$BD$168,5,0)","v":2},"Ergebnis verbessern",null,{"$f":"VLOOKUP(E354,'Kapitel 2'!$C$6:$D$282,2,0)","v":"In welcher Weise werden Risiken und Expositionen in den Bereichen Gesundheit & Sicherheit festgestellt?"}]
[null,null,null,null,{"$f":"'Technische Seite'!B126","v":"F2.3"},{"$f":"'Technische Seite'!C126","v":4},{"$f":"VLOOKUP(E355,'Technische Seite'!$AU$124:$BD$168,5,0)","v":3},"konform",null,{"$f":"VLOOKUP(E355,'Kapitel 2'!$C$6:$D$282,2,0)","v":"In welcher Weise werden die medizinischen Anforderungen bewertet?"}]
[null,null,null,null,{"$f":"'Technische Seite'!B127","v":"F2.4"},{"$f":"'Technische Seite'!C127","v":1},{"$f":"VLOOKUP(E356,'Technische Seite'!$AU$124:$BD$168,5,0)","v":3},"Ergebnis verbessern",null,{"$f":"VLOOKUP(E356,'Kapitel 2'!$C$6:$D$282,2,0)","v":"In welcher Weise verbessert die Organisation ihre Leistung in den Bereichen Gesundheit und Sicherheit?"}]
[null,null,null,null,{"$f":"'Technische Seite'!B128","v":"F2.5"},{"$f":"'Technische Seite'!C128","v":2},{"$f":"VLOOKUP(E357,'Technische Seite'!$AU$124:$BD$168,5,0)","v":3},"Ergebnis verbessern",null,{"$f":"VLOOKUP(E357,'Kapitel 2'!$C$6:$D$282,2,0)","v":"In welcher Weise werden Wartung und Pflege („maintenance and housekeeping“) gestaltet, um die Sicherheit von Einrichtungen, Anlagen, Werkzeugen und\n(Sicherheits-) Ausrüstungen aufrechtzuerhalten?"}]
[null,null,null,null,{"$f":"'Technische Seite'!B129","v":"F2.6"},{"$f":"'Technische Seite'!C129","v":3},{"$f":"VLOOKUP(E358,'Technische Seite'!$AU$124:$BD$168,5,0)","v":3},"konform",null,{"$f":"VLOOKUP(E358,'Kapitel 2'!$C$6:$D$282,2,0)","v":"Wie werden die geeignete Auswahl, Wartung und Verwendung von Ausrüstungen in den Bereichen Gesundheit und Sicherheit (z. B. persönliche Schutzausrüstung/PSA) überprüft?"}]
[null,null,null,null,{"$f":"'Technische Seite'!B130","v":"F2.7"},{"$f":"'Technische Seite'!C130","v":1},{"$f":"VLOOKUP(E359,'Technische Seite'!$AU$124:$BD$168,5,0)","v":3},"Ergebnis verbessern",null,{"$f":"VLOOKUP(E359,'Kapitel 2'!$C$6:$D$282,2,0)","v":"Wie geht die Organisation mit Stress und Wohlbefinden um?"}]
[null,null,null,null,{"$f":"'Technische Seite'!B131","v":"F2.8"},{"$f":"'Technische Seite'!C131","v":1},{"$f":"VLOOKUP(E360,'Technische Seite'!$AU$124:$BD$168,5,0)","v":3},"Ergebnis verbessern",null,{"$f":"VLOOKUP(E360,'Kapitel 2'!$C$6:$D$282,2,0)","v":"In welcher Weise werden Verletzungen am Arbeitsplatz, Vorfälle und Beinahe-Vorfälle untersucht?"}]
[null,null,null,null,{"$f":"'Technische Seite'!B132","v":"F2.9"},{"$f":"'Technische Seite'!C132","v":4},{"$f":"VLOOKUP(E361,'Technische Seite'!$AU$124:$BD$168,5,0)","v":3},"konform",null,{"$f":"VLOOKUP(E361,'Kapitel 2'!$C$6:$D$282,2,0)","v":"Wie ist die Organisation auf Notfälle vorbereitet?"}]
[null,null,null,null,{"$f":"'Technische Seite'!B133","v":"F2.10"},{"$f":"'Technische Seite'!C133","v":1},{"$f":"VLOOKUP(E362,'Technische Seite'!$AU$124:$BD$168,5,0)","v":3},"Ergebnis verbessern",null,{"$f":"VLOOKUP(E362,'Kapitel 2'!$C$6:$D$282,2,0)","v":"In welcher Weise stellt die Organisation sicher, dass alle Mitarbeiter hinsichtlich der Gesundheits- und Sicherheitsanforderungen, die mit ihrer Tätigkeit in Zusammenhang stehen, über die geeigneten Kompetenzen verfügen?"}]
[null,null,null,null,{"$f":"'Technische Seite'!B134","v":"F2.11"},{"$f":"'Technische Seite'!C134","v":2},{"$f":"VLOOKUP(E363,'Technische Seite'!$AU$124:$BD$168,5,0)","v":"-"},{"$f":"IF(G363=\"-\",\"n.a.\",IF(F363-G363>-1,\"compliant\",\"increase score\"))","v":"n.a."},null,{"$f":"VLOOKUP(E363,'Kapitel 2'!$C$6:$D$282,2,0)","v":"Wie verpflichtet sich die Unternehmensleitung zur Verfahrenssicherheit?"}]
[null,null,null,null,{"$f":"'Technische Seite'!B135","v":"F2.12"},{"$f":"'Technische Seite'!C135","v":1},{"$f":"VLOOKUP(E364,'Technische Seite'!$AU$124:$BD$168,5,0)","v":"-"},"n.a.",null,{"$f":"VLOOKUP(E364,'Kapitel 2'!$C$6:$D$282,2,0)","v":"In welcher Weise werden die Identifizierung und Beschreibung der Sicherheit von Verfahren, Ausrüstungen und Standorten der Organisation vorbereitet?"}]
[null,null,null,null,{"$f":"'Technische Seite'!B136","v":"F2.13"},{"$f":"'Technische Seite'!C136","v":2},{"$f":"VLOOKUP(E365,'Technische Seite'!$AU$124:$BD$168,5,0)","v":"-"},"n.a.",null,{"$f":"VLOOKUP(E365,'Kapitel 2'!$C$6:$D$282,2,0)","v":"In welcher Weise werden Verbesserungen im Bereich Verfahrenssicherheit aufgrund von Vorfällen und Unfällen vorgenommen?"}]
[null,null,null,null,{"$f":"'Technische Seite'!B137","v":"F2.14"},{"$f":"'Technische Seite'!C137","v":3},{"$f":"VLOOKUP(E366,'Technische Seite'!$AU$124:$BD$168,5,0)","v":"-"},"n.a.",null,{"$f":"VLOOKUP(E366,'Kapitel 2'!$C$6:$D$282,2,0)","v":"Wie werden Audits und Inspektionen im Bereich Verfahrenssicherheit durchgeführt?"}]
[null,null,null,null,{"$f":"'Technische Seite'!B138","v":"F2.15"},{"$f":"'Technische Seite'!C138","v":1},{"$f":"VLOOKUP(E367,'Technische Seite'!$AU$124:$BD$168,5,0)","v":"-"},"n.a.",null,{"$f":"VLOOKUP(E367,'Kapitel 2'!$C$6:$D$282,2,0)","v":"Wie werden Arbeitsanweisungen kontrolliert und verbessert?"}]
[null,null,null,null,{"$f":"'Technische Seite'!B139","v":"F2.16"},{"$f":"'Technische Seite'!C139","v":1},{"$f":"VLOOKUP(E368,'Technische Seite'!$AU$124:$BD$168,5,0)","v":"-"},"n.a.",null,{"$f":"VLOOKUP(E368,'Kapitel 2'!$C$6:$D$282,2,0)","v":"Wie wird die Anlagenplanung durchgeführt und dokumentiert?"}]
[null,null,null,null,{"$f":"'Technische Seite'!B140","v":"F2.17"},{"$f":"'Technische Seite'!C140","v":4},{"$f":"VLOOKUP(E369,'Technische Seite'!$AU$124:$BD$168,5,0)","v":"-"},"n.a.",null,{"$f":"VLOOKUP(E369,'Kapitel 2'!$C$6:$D$282,2,0)","v":"In welcher Weise wird der Aufbau der Anlage kontrolliert?"}]
[null,null,null,null,{"$f":"'Technische Seite'!B141","v":"F2.18"},{"$f":"'Technische Seite'!C141","v":2},{"$f":"VLOOKUP(E370,'Technische Seite'!$AU$124:$BD$168,5,0)","v":"-"},"n.a.",null,{"$f":"VLOOKUP(E370,'Kapitel 2'!$C$6:$D$282,2,0)","v":"Wie wird „Schutz“ in Anlagen integriert, um zuverlässig zu verhindern, dass ein einziger Fehler katastrophale Folgen hat?"}]
[null,null,null,null,{"$f":"'Technische Seite'!B142","v":"F2.19"},{"$f":"'Technische Seite'!C142","v":2},{"$f":"VLOOKUP(E371,'Technische Seite'!$AU$124:$BD$168,5,0)","v":"-"},"n.a.",null,{"$f":"VLOOKUP(E371,'Kapitel 2'!$C$6:$D$282,2,0)","v":"Gibt es ein vorbeugendes Wartungs- und Pflegeprogramm („maintenance and housekeeping programme“), um die Sicherheit von Einrichtungen, Werkzeugen/Tools und Ausrüstungen aufrechtzuerhalten?"}]
[null,null,null,null,{"$f":"'Technische Seite'!B143","v":"F2.20"},{"$f":"'Technische Seite'!C143","v":1},{"$f":"VLOOKUP(E372,'Technische Seite'!$AU$124:$BD$168,5,0)","v":"-"},"n.a.",null,{"$f":"VLOOKUP(E372,'Kapitel 2'!$C$6:$D$282,2,0)","v":"Im Fall von Energie- oder Betriebsunterbrechungen – wie werden Verfahren in Notfällen gesteuert?"}]
[null,null,null,null,{"$f":"'Technische Seite'!B144","v":"F2.21"},{"$f":"'Technische Seite'!C144","v":3},{"$f":"VLOOKUP(E373,'Technische Seite'!$AU$124:$BD$168,5,0)","v":"-"},"n.a.",null,{"$f":"VLOOKUP(E373,'Kapitel 2'!$C$6:$D$282,2,0)","v":"Wie werden Notfallpläne erstellt?"}]
[null,null,null,null,{"$f":"'Technische Seite'!B145","v":"F2.22"},{"$f":"'Technische Seite'!C145","v":1},{"$f":"VLOOKUP(E374,'Technische Seite'!$AU$124:$BD$168,5,0)","v":"-"},"n.a.",null,{"$f":"VLOOKUP(E374,'Kapitel 2'!$C$6:$D$282,2,0)","v":"In welcher Weise werden die Kompetenz und Schulung von an den Prozessen beteiligten Mitarbeitern und Fremdfirmen sichergestellt?"}]
[null,null,null,null,{"$f":"'Technische Seite'!B146","v":"F2.23"},{"$f":"'Technische Seite'!C146","v":2},{"$f":"VLOOKUP(E375,'Technische Seite'!$AU$124:$BD$168,5,0)","v":"-"},"n.a.",null,{"$f":"VLOOKUP(E375,'Kapitel 2'!$C$6:$D$282,2,0)","v":"Wie werden Informationen über die Risiken von Stoffen und Zubereitungen gemeinsam genutzt/weitergegeben?"}]
[null,null,null,null,{"$f":"'Technische Seite'!B147","v":"F2.24"},{"$f":"'Technische Seite'!C147","v":3},{"$f":"VLOOKUP(E376,'Technische Seite'!$AU$124:$BD$168,5,0)","v":"-"},"n.a.",null,{"$f":"VLOOKUP(E376,'Kapitel 2'!$C$6:$D$282,2,0)","v":"Wie werden Informationen über das Verfahren gemeinsam genutzt/weitergegeben?"}]
[null,null,null,null,{"$f":"'Technische Seite'!B148","v":"F2.25"},{"$f":"'Technische Seite'!C148","v":2},{"$f":"VLOOKUP(E377,'Technische Seite'!$AU$124:$BD$168,5,0)","v":"-"},"n.a.",null,{"$f":"VLOOKUP(E377,'Kapitel 2'!$C$6:$D$282,2,0)","v":"In welcher Weise bewertet die Organisation ihre Logistikpartner mit Hinblick auf Gesundheit, Sicherheit, Umwelt & Nachhaltigkeit, Energieeffizienz und Treibhausgas(THG)-Emissionen?"}]
[null,null,null,null,{"$f":"'Technische Seite'!B149","v":"F2.26"},{"$f":"'Technische Seite'!C149","v":1},{"$f":"VLOOKUP(E378,'Technische Seite'!$AU$124:$BD$168,5,0)","v":"-"},"n.a.",null,{"$f":"VLOOKUP(E378,'Kapitel 2'!$C$6:$D$282,2,0)","v":"Welche Maßnahmen zur Vermeidung von Transportunfällen bzw. Notfallmaßnahmen im Falle von Transportunfällen ergreift die Organisation?"}]
[null,null,null,null,{"$f":"'Technische Seite'!B150","v":"F2.27"},{"$f":"'Technische Seite'!C150","v":1},{"$f":"VLOOKUP(E379,'Technische Seite'!$AU$124:$BD$168,5,0)","v":"-"},"n.a.",null,{"$f":"VLOOKUP(E379,'Kapitel 2'!$C$6:$D$282,2,0)","v":"In welcher Weise identifiziert die Organisation Sicherheitsprobleme?"}]
[null,null,null,null,{"$f":"'Technische Seite'!B151","v":"F2.28"},{"$f":"'Technische Seite'!C151","v":2},{"$f":"VLOOKUP(E380,'Technische Seite'!$AU$124:$BD$168,5,0)","v":"-"},"n.a.",null,{"$f":"VLOOKUP(E380,'Kapitel 2'!$C$6:$D$282,2,0)","v":"In welcher Weise werden das Betreten/Verlassen des Arbeitsortes und eingeschränkt zugänglicher Bereiche durch Mitarbeiter bzw. der dortige Ein- und Ausgang von Materialien kontrolliert?"}]
[null,null,null,null,{"$f":"'Technische Seite'!B152","v":"F2.29"},{"$f":"'Technische Seite'!C152","v":1},{"$f":"VLOOKUP(E381,'Technische Seite'!$AU$124:$BD$168,5,0)","v":"-"},"n.a.",null,{"$f":"VLOOKUP(E381,'Kapitel 2'!$C$6:$D$282,2,0)","v":"Wie wird Cybersecurity überwacht?"}]
[null,null,null,null,{"$f":"'Technische Seite'!B153","v":"F2.30"},{"$f":"'Technische Seite'!C153","v":1},{"$f":"VLOOKUP(E382,'Technische Seite'!$AU$124:$BD$168,5,0)","v":"-"},"n.a.",null,{"$f":"VLOOKUP(E382,'Kapitel 2'!$C$6:$D$282,2,0)","v":"Wie sind Kommunikation und Informationsaustausch im Falle einer Sicherheitskrise organisiert?"}]
[null,null,null,null,{"$f":"'Technische Seite'!B154","v":"F2.31"},{"$f":"'Technische Seite'!C154","v":3},{"$f":"VLOOKUP(E383,'Technische Seite'!$AU$124:$BD$168,5,0)","v":"-"},"n.a.",null,{"$f":"VLOOKUP(E383,'Kapitel 2'!$C$6:$D$282,2,0)","v":"Wie geht die Organisation mit abnormalem Verhalten (einschließlich Risiken der Radikalisierung) um?"}]
[null,null,null,null,{"$f":"'Technische Seite'!B155","v":"F2.32"},{"$f":"'Technische Seite'!C155","v":1},{"$f":"VLOOKUP(E384,'Technische Seite'!$AU$124:$BD$168,5,0)","v":"-"},"n.a.",null,{"$f":"VLOOKUP(E384,'Kapitel 2'!$C$6:$D$282,2,0)","v":"In welcher Weise weist die Organisation die Mitarbeiter an, in Sicherheitsfragen wachsam zu sein?"}]
[null,null,null,null,{"$f":"'Technische Seite'!B156","v":"F2.33"},{"$f":"'Technische Seite'!C156","v":2},{"$f":"VLOOKUP(E385,'Technische Seite'!$AU$124:$BD$168,5,0)","v":"-"},"n.a.",null,{"$f":"VLOOKUP(E385,'Kapitel 2'!$C$6:$D$282,2,0)","v":"In welcher Weise werden die möglichen Umweltauswirkungen der Aktivitäten der Organisation bewertet?"}]
[null,null,null,null,{"$f":"'Technische Seite'!B157","v":"F2.34"},{"$f":"'Technische Seite'!C157","v":1},{"$f":"VLOOKUP(E386,'Technische Seite'!$AU$124:$BD$168,5,0)","v":"-"},"n.a.",null,{"$f":"VLOOKUP(E386,'Kapitel 2'!$C$6:$D$282,2,0)","v":"In welcher Weise steuert die Organisation ihre Umweltleistung?"}]
[null,null,null,null,{"$f":"'Technische Seite'!B158","v":"F2.35"},{"$f":"'Technische Seite'!C158","v":2},{"$f":"VLOOKUP(E387,'Technische Seite'!$AU$124:$BD$168,5,0)","v":"-"},"n.a.",null,{"$f":"VLOOKUP(E387,'Kapitel 2'!$C$6:$D$282,2,0)","v":"Wie geht die Organisation mit Abfall um?"}]
[null,null,null,null,{"$f":"'Technische Seite'!B159","v":"F2.36"},{"$f":"'Technische Seite'!C159","v":1},{"$f":"VLOOKUP(E388,'Technische Seite'!$AU$124:$BD$168,5,0)","v":"-"},"n.a.",null,{"$f":"VLOOKUP(E388,'Kapitel 2'!$C$6:$D$282,2,0)","v":"Wie geht die Organisation mit Risiken für das Grundwasser um?"}]
[null,null,null,null,{"$f":"'Technische Seite'!B160","v":"F2.37"},{"$f":"'Technische Seite'!C160","v":3},{"$f":"VLOOKUP(E389,'Technische Seite'!$AU$124:$BD$168,5,0)","v":"-"},"n.a.",null,{"$f":"VLOOKUP(E389,'Kapitel 2'!$C$6:$D$282,2,0)","v":"Wie geht die Organisation mit den Risiken einer Bodenverschmutzung um?"}]
[null,null,null,null,{"$f":"'Technische Seite'!B161","v":"F2.38"},{"$f":"'Technische Seite'!C161","v":1},{"$f":"VLOOKUP(E390,'Technische Seite'!$AU$124:$BD$168,5,0)","v":"-"},"n.a.",null,{"$f":"VLOOKUP(E390,'Kapitel 2'!$C$6:$D$282,2,0)","v":"Wie geht die Organisation mit vorhandenen Bodenverschmutzungen um?"}]
[null,null,null,null,{"$f":"'Technische Seite'!B162","v":"F2.39"},{"$f":"'Technische Seite'!C162","v":3},{"$f":"VLOOKUP(E391,'Technische Seite'!$AU$124:$BD$168,5,0)","v":"-"},"n.a.",null,{"$f":"VLOOKUP(E391,'Kapitel 2'!$C$6:$D$282,2,0)","v":"Wie geht die Organisation mit ihren Emissionen in die Luft um?"}]
[null,null,null,null,{"$f":"'Technische Seite'!B163","v":"F2.40"},{"$f":"'Technische Seite'!C163","v":1},{"$f":"VLOOKUP(E392,'Technische Seite'!$AU$124:$BD$168,5,0)","v":"-"},"n.a.",null,{"$f":"VLOOKUP(E392,'Kapitel 2'!$C$6:$D$282,2,0)","v":"Wie geht die Organisation mit ihren Emissionen in Wasser um?"}]
[null,null,null,null,{"$f":"'Technische Seite'!B164","v":"F2.41"},{"$f":"'Technische Seite'!C164","v":3},{"$f":"VLOOKUP(E393,'Technische Seite'!$AU$124:$BD$168,5,0)","v":"-"},"n.a.",null,{"$f":"VLOOKUP(E393,'Kapitel 2'!$C$6:$D$282,2,0)","v":"Wie geht die Organisation mit Lärmemissionen um?"}]
[null,null,null,null,{"$f":"'Technische Seite'!B165","v":"F2.42"},{"$f":"'Technische Seite'!C165","v":3},{"$f":"VLOOKUP(E394,'Technische Seite'!$AU$124:$BD$168,5,0)","v":"-"},"n.a.",null,{"$f":"VLOOKUP(E394,'Kapitel 2'!$C$6:$D$282,2,0)","v":"Wie geht die Organisation mit Geruchsemissionen um?"}]
[null,null,null,null,{"$f":"'Technische Seite'!B166","v":"F2.43"},{"$f":"'Technische Seite'!C166","v":2},{"$f":"VLOOKUP(E395,'Technische Seite'!$AU$124:$BD$168,5,0)","v":"-"},"n.a.",null,{"$f":"VLOOKUP(E395,'Kapitel 2'!$C$6:$D$282,2,0)","v":"Wie verhindert die Organisation unfallbedingte Emissionen in die Umwelt und wie geht sie ggf. damit um?"}]
[null,null,null,null,{"$f":"'Technische Seite'!B167","v":"F2.44"},{"$f":"'Technische Seite'!C167","v":3},{"$f":"VLOOKUP(E396,'Technische Seite'!$AU$124:$BD$168,5,0)","v":"-"},"n.a.",null,{"$f":"VLOOKUP(E396,'Kapitel 2'!$C$6:$D$282,2,0)","v":"In welcher Weise stellt die Organisation sicher, dass alle Mitarbeiter hinsichtlich der Umweltanforderungen, die mit ihrer Tätigkeit in Zusammenhang stehen, über die geeigneten Kompetenzen verfügen?"}]
[null,null,null,null,{"$f":"'Technische Seite'!B168","v":"F2.45"},{"$f":"'Technische Seite'!C168","v":3},{"$f":"VLOOKUP(E397,'Technische Seite'!$AU$124:$BD$168,5,0)","v":"-"},"n.a.",null,{"$f":"VLOOKUP(E397,'Kapitel 2'!$C$6:$D$282,2,0)","v":"Wie werden den Interessensgruppen („stakeholder“) der Organisation die Umweltaspekte und deren mögliche Auswirkungen bewusst gemacht?"}]
[null,null,null,null,"KAPITEL 3 : Stärkung von Managementsystemen im Chemikalienbereich"]
[null,null,null,null,{"$f":"'Technische Seite'!$B$406","v":"F3.1"},{"$f":"'Technische Seite'!$C$406","v":1},{"$f":"VLOOKUP(E399,'Technische Seite'!$AU$406:$BD$418,5,0)","v":"-"},{"$f":"IF(G399=\"-\",\"n.a.\",IF(F399-G399>-1,\"compliant\",\"increase score\"))","v":"n.a."},null,{"$f":"VLOOKUP(E399,'Kapitel 3'!$C$6:$D$89,2,0)","v":"Verfügt die Organisation über ein Verfahren für das Design\n und die Entwicklung neuer Produkte und Dienstleistungen?"}]
[null,null,null,null,{"$f":"'Technische Seite'!$B$407","v":"F3.2"},{"$f":"'Technische Seite'!$C$407","v":2},{"$f":"VLOOKUP(E400,'Technische Seite'!$AU$406:$BD$418,5,0)","v":"-"},"n.a.",null,{"$f":"VLOOKUP(E400,'Kapitel 3'!$C$6:$D$89,2,0)","v":"Verfügt die Organisation über ein Verfahren, um ihre Produkte mit Hinblick auf Risikocharakterisierung und Risikomanagement zu bewerten und zu priorisieren?"}]
[null,null,null,null,{"$f":"'Technische Seite'!$B$408","v":"F3.3"},{"$f":"'Technische Seite'!$C$408","v":1},{"$f":"VLOOKUP(E401,'Technische Seite'!$AU$406:$BD$418,5,0)","v":"-"},"n.a.",null,{"$f":"VLOOKUP(E401,'Kapitel 3'!$C$6:$D$89,2,0)","v":"Verfügt die Organisation über ein System, um die Anwendbarkeit sowie Änderungen und Einhaltung von internen und externen Anforderungen in Zusammenhang mit dem Sicherheitsmanagement von Chemikalien zu verfolgen/nachzuverfolgen?"}]
[null,null,null,null,{"$f":"'Technische Seite'!$B$409","v":"F3.4"},{"$f":"'Technische Seite'!$C$409","v":1},{"$f":"VLOOKUP(E402,'Technische Seite'!$AU$406:$BD$418,5,0)","v":"-"},"n.a.",null,{"$f":"VLOOKUP(E402,'Kapitel 3'!$C$6:$D$89,2,0)","v":"Verfügt die Organisation über ein Verfahren zum Umgang mit vorhandenen Gefahreninformationen in Zusammenhang mit ihren Produkten?"}]
[null,null,null,null,{"$f":"'Technische Seite'!$B$410","v":"F3.5"},{"$f":"'Technische Seite'!$C$410","v":1},{"$f":"VLOOKUP(E403,'Technische Seite'!$AU$406:$BD$418,5,0)","v":"-"},"n.a.",null,{"$f":"VLOOKUP(E403,'Kapitel 3'!$C$6:$D$89,2,0)","v":"Verfügt die Organisation über ein Verfahren für den Umgang mit Informationen über die Verwendung von und die Exposition durch ihre Produkte?"}]
[null,null,null,null,{"$f":"'Technische Seite'!$B$411","v":"F3.6"},{"$f":"'Technische Seite'!$C$411","v":1},{"$f":"VLOOKUP(E404,'Technische Seite'!$AU$406:$BD$418,5,0)","v":"-"},"n.a.",null,{"$f":"VLOOKUP(E404,'Kapitel 3'!$C$6:$D$89,2,0)","v":"Verfügt die Organisation über ein Verfahren für den Umgang mit neuen Informationen?"}]
[null,null,null,null,{"$f":"'Technische Seite'!$B$412","v":"Q3.7"},{"$f":"'Technische Seite'!$C$412","v":1},{"$f":"VLOOKUP(E405,'Technische Seite'!$AU$406:$BD$418,5,0)","v":"-"},"n.a.",null,{"$f":"VLOOKUP(E405,'Kapitel 3'!$C$6:$D$89,2,0)","v":"Verfügt die Organisation über ein Verfahren zur Risikocharakterisierung auf der Grundlage der gesammelten Informationen?"}]
[null,null,null,null,{"$f":"'Technische Seite'!$B$413","v":"F3.8"},{"$f":"'Technische Seite'!$C$413","v":1},{"$f":"VLOOKUP(E406,'Technische Seite'!$AU$406:$BD$418,5,0)","v":"-"},"n.a.",null,{"$f":"VLOOKUP(E406,'Kapitel 3'!$C$6:$D$89,2,0)","v":"Verfügt die Organisation über ein Verfahren zum Risikomanagement auf der Grundlage der gesammelten Informationen?"}]
[null,null,null,null,{"$f":"'Technische Seite'!$B$414","v":"F3.9"},{"$f":"'Technische Seite'!$C$414","v":2},{"$f":"VLOOKUP(E407,'Technische Seite'!$AU$406:$BD$418,5,0)","v":"-"},"n.a.",null,{"$f":"VLOOKUP(E407,'Kapitel 3'!$C$6:$D$89,2,0)","v":"Verfügt die Organisation über ein effizientes Verfahren, um ihre Produkte nach deren Lieferung nachzuverfolgen und Korrekturmaßnahmen durchzuführen?"}]
[null,null,null,null,{"$f":"'Technische Seite'!$B$415","v":"F3.10"},{"$f":"'Technische Seite'!$C$415","v":2},{"$f":"VLOOKUP(E408,'Technische Seite'!$AU$406:$BD$418,5,0)","v":"-"},"n.a.",null,{"$f":"VLOOKUP(E408,'Kapitel 3'!$C$6:$D$89,2,0)","v":"Kommuniziert die Organisation effizient in der Lieferkette hinsichtlich der für ihre Produkte notwendigen Maßnahmen des Risikomanagements?\n"}]
[null,null,null,null,"KAPITEL 4: Einbeziehung von Geschäftspartnern"]
[null,null,null,null,{"$f":"'Technische Seite'!B482","v":"F4.1"},{"$f":"'Technische Seite'!C482","v":1},{"$f":"VLOOKUP(E410,'Technische Seite'!$AU$482:$BD$489,5,0)","v":"-"},{"$f":"IF(G410=\"-\",\"n.a.\",IF(F410-G410>-1,\"compliant\",\"increase score\"))","v":"n.a."},null,{"$f":"VLOOKUP(E410,'Kapitel 4'!$C$6:$D$91,2,0)","v":"In welcher Form hat sich die Organisation einer verantwortungsvollen Beschaffung verpflichtet?"}]
[null,null,null,null,{"$f":"'Technische Seite'!B483","v":"F4.2"},{"$f":"'Technische Seite'!C483","v":2},{"$f":"VLOOKUP(E411,'Technische Seite'!$AU$482:$BD$489,5,0)","v":"-"},{"$f":"IF(G411=\"-\",\"n.a.\",IF(F411-G411>-1,\"compliant\",\"increase score\"))","v":"n.a."},null,{"$f":"VLOOKUP(E411,'Kapitel 4'!$C$6:$D$91,2,0)","v":"In welcher Weise steigert die Organisation die Zusammenarbeit mit der Wertschöpfungskette?"}]
[null,null,null,null,{"$f":"'Technische Seite'!B484","v":"F4.3"},{"$f":"'Technische Seite'!C484","v":2},{"$f":"VLOOKUP(E412,'Technische Seite'!$AU$482:$BD$489,5,0)","v":"-"},"n.a.",null,{"$f":"VLOOKUP(E412,'Kapitel 4'!$C$6:$D$91,2,0)","v":"In welcher Weise bringt die Organisation ihre Verpflichtung mit Hinblick auf Geschäftsethik zum Ausdruck?"}]
[null,null,null,null,{"$f":"'Technische Seite'!B485","v":"F4.4"},{"$f":"'Technische Seite'!C485","v":2},{"$f":"VLOOKUP(E413,'Technische Seite'!$AU$482:$BD$489,5,0)","v":"-"},"n.a.",null,{"$f":"VLOOKUP(E413,'Kapitel 4'!$C$6:$D$91,2,0)","v":"Wie berücksichtigt die Organisation soziale Fragen und Menschenrechte in ihrer Zusammenarbeit mit Geschäftspartnern?"}]
[null,null,null,null,{"$f":"'Technische Seite'!B486","v":"F4.5"},{"$f":"'Technische Seite'!C486","v":2},{"$f":"VLOOKUP(E414,'Technische Seite'!$AU$482:$BD$489,5,0)","v":"-"},"n.a.",null,{"$f":"VLOOKUP(E414,'Kapitel 4'!$C$6:$D$91,2,0)","v":"In welcher Weise verhindert die Organisation Kinderarbeit?\n\nDie Organisation\n1.\tverfügt über ein System zur Altersprüfung;\n2.\tbeschäftigt keine Kinder unter 15 Jahren (oder älter; die jeweiligen örtlichen Gesetze sind zu beachten). Berufsausbildungen oder Praktika im Rahmen der Schulbildung bzw. bildungsbezogene Praktika sind die einzigen Ausnahmen;\n3.\tstellt sicher, dass die Beschäftigung von Personen unter 18 Jahren nicht deren Schulbesuch beeinträchtigt (die Gesamtzahl der Stunden für den Weg zur Arbeit und Schule und zurück, Schulbesuch und Arbeitstätigkeit beträgt weniger als 10 Stunden täglich);\n4.\tstellt sicher, dass die Tätigkeit junger Arbeitnehmer nicht geistig, körperlich, sozial oder moralisch gefährlich und schädlich ist."}]
[null,null,null,null,{"$f":"'Technische Seite'!B487","v":"F4.6"},{"$f":"'Technische Seite'!C487","v":2},{"$f":"VLOOKUP(E415,'Technische Seite'!$AU$482:$BD$489,5,0)","v":3},{"$f":"IF(G415=\"-\",\"n.a.\",IF(F415-G415>-1,\"konform\",\"Ergebnis verbessern\"))","v":"Ergebnis verbessern"},null,{"$f":"VLOOKUP(E415,'Kapitel 4'!$C$6:$D$91,2,0)","v":"Wie stellt die Organisation sicher, dass ihre Logistikpartner die Anforderungen der Organisation erfüllen?"}]
[null,null,null,null,{"$f":"'Technische Seite'!B488","v":"F4.7"},{"$f":"'Technische Seite'!C488","v":1},{"$f":"VLOOKUP(E416,'Technische Seite'!$AU$482:$BD$489,5,0)","v":"-"},"n.a.",null,{"$f":"VLOOKUP(E416,'Kapitel 4'!$C$6:$D$91,2,0)","v":"In welcher Weise schützt und sichert die Organisation das Eigentum und die Daten nachgeschalteter Anwender oder externer Anbieter, die zur Nutzung oder Einbeziehung/Einarbeitung in Produkte und Dienstleistungen bereitgestellt werden?"}]
[null,null,null,null,{"$f":"'Technische Seite'!B489","v":"F4.8"},{"$f":"'Technische Seite'!C489","v":2},{"$f":"VLOOKUP(E417,'Technische Seite'!$AU$482:$BD$489,5,0)","v":"-"},"n.a.",null,{"$f":"VLOOKUP(E417,'Kapitel 4'!$C$6:$D$91,2,0)","v":"Was beinhaltet der Dialog mit nachgeschalteten Anwendern?"}]
[null,null,null,null,"KAPITEL 5: Berücksichtigung von Anspruchsgruppen"]
[null,null,null,null,{"$f":"'Technische Seite'!B544","v":"F5.1"},{"$f":"'Technische Seite'!C544","v":2},{"$f":"VLOOKUP(E419,'Technische Seite'!$AU$544:$BD$548,5,0)","v":3},{"$f":"IF(G419=\"-\",\"n.a.\",IF(F419-G419>-1,\"konform\",\"Ergebnis verbessern\"))","v":"Ergebnis verbessern"},null,{"$f":"VLOOKUP(E419,'Kapitel 5'!$C$6:$D$89,2,0)","v":"In welcher Weise bezieht die Organisation die für sie relevanten externen Anspruchsgruppen („stakeholder“) ein und wird deren Erwartungen gerecht?"}]
[null,null,null,null,{"$f":"'Technische Seite'!B545","v":"F5.2"},{"$f":"'Technische Seite'!C545","v":1},{"$f":"VLOOKUP(E420,'Technische Seite'!$AU$544:$BD$548,5,0)","v":"-"},{"$f":"IF(G420=\"-\",\"n.a.\",IF(F420-G420>-1,\"compliant\",\"increase score\"))","v":"n.a."},null,{"$f":"VLOOKUP(E420,'Kapitel 5'!$C$6:$D$89,2,0)","v":"In welcher Weise führt die Organisation einen Dialog mit der Öffentlichkeit, Behörden und anderen interessierten Kreisen (einschließlich örtlichen Gemeinden/Anwohnern und Kunden) über die Leistung ihrer Aktivitäten, Produkte und Dienstleistungen in den Bereichen Gesundheit, Sicherheit, Umwelt, Energie & Nachhaltigkeit?\n"}]
[null,null,null,null,{"$f":"'Technische Seite'!B546","v":"F5.3"},{"$f":"'Technische Seite'!C546","v":2},{"$f":"VLOOKUP(E421,'Technische Seite'!$AU$544:$BD$548,5,0)","v":"-"},"n.a.",null,{"$f":"VLOOKUP(E421,'Kapitel 5'!$C$6:$D$89,2,0)","v":"In welcher Weise vermittelt die Organisation Informationen aus den Bereichen Gesundheit, Sicherheit, Umwelt, Energie & Nachhaltigkeit?"}]
[null,null,null,null,{"$f":"'Technische Seite'!B547","v":"F5.4"},{"$f":"'Technische Seite'!C547","v":1},{"$f":"VLOOKUP(E422,'Technische Seite'!$AU$544:$BD$548,5,0)","v":"-"},"n.a.",null,{"$f":"VLOOKUP(E422,'Kapitel 5'!$C$6:$D$89,2,0)","v":"In welcher Weise unterstützt die Organisation örtliche Gemeinden/Anwohner („local communities“)?"}]
[null,null,null,null,{"$f":"'Technische Seite'!B548","v":"F5.5"},{"$f":"'Technische Seite'!C548","v":2},{"$f":"VLOOKUP(E423,'Technische Seite'!$AU$544:$BD$548,5,0)","v":"-"},"n.a.",null,{"$f":"VLOOKUP(E423,'Kapitel 5'!$C$6:$D$89,2,0)","v":"In welcher Weise fördert die Organisation Beschäftigung und Bildung vor Ort?"}]
[null,null,null,null,"KAPITEL 6 : Beitrag zur Nachhaltigkeit"]
[null,null,null,null,{"$f":"'Technische Seite'!B584","v":"F6.1"},{"$f":"'Technische Seite'!C584","v":2},{"$f":"VLOOKUP(E425,'Technische Seite'!$AU$584:$BD$600,5,0)","v":"-"},{"$f":"IF(G425=\"-\",\"n.a.\",IF(F425-G425>-1,\"compliant\",\"increase score\"))","v":"n.a."},null,{"$f":"VLOOKUP(E425,'Kapitel 6'!$C$6:$D$120,2,0)","v":"Wie definiert das Unternehmen relevante Themen und Wesentlichkeiten?"}]
[null,null,null,null,{"$f":"'Technische Seite'!B585","v":"F6.2"},{"$f":"'Technische Seite'!C585","v":1},{"$f":"VLOOKUP(E426,'Technische Seite'!$AU$584:$BD$600,5,0)","v":"-"},{"$f":"IF(G426=\"-\",\"n.a.\",IF(F426-G426>-1,\"compliant\",\"increase score\"))","v":"n.a."},null,{"$f":"VLOOKUP(E426,'Kapitel 6'!$C$6:$D$120,2,0)","v":"Welche Pläne hat die Organisation zum Beitrag für eine nachhaltige Entwicklung? "}]
[null,null,null,null,{"$f":"'Technische Seite'!B586","v":"F6.3"},{"$f":"'Technische Seite'!C586","v":1},{"$f":"VLOOKUP(E427,'Technische Seite'!$AU$584:$BD$600,5,0)","v":"-"},"n.a.",null,{"$f":"VLOOKUP(E427,'Kapitel 6'!$C$6:$D$120,2,0)","v":"Wie steht es bei der Organisation mit der Einbeziehung von Stakeholdern bei Nachhaltigkeit?"}]
[null,null,null,null,{"$f":"'Technische Seite'!B587","v":"F6.4"},{"$f":"'Technische Seite'!C587","v":1},{"$f":"VLOOKUP(E428,'Technische Seite'!$AU$584:$BD$600,5,0)","v":"-"},"n.a.",null,{"$f":"VLOOKUP(E428,'Kapitel 6'!$C$6:$D$120,2,0)","v":"Verfügt die Organisation über einen Prozess für die Entwicklung von Produkten mit besseren Nachhaltigkeitsergebnissen?"}]
[null,null,null,null,{"$f":"'Technische Seite'!B588","v":"F6.5"},{"$f":"'Technische Seite'!C588","v":1},{"$f":"VLOOKUP(E429,'Technische Seite'!$AU$584:$BD$600,5,0)","v":"-"},"n.a.",null,{"$f":"VLOOKUP(E429,'Kapitel 6'!$C$6:$D$120,2,0)","v":"Wie verbessert die Organisation die Ressourceneffizienz in ihren Produktionsprozessen? "}]
[null,null,null,null,{"$f":"'Technische Seite'!B589","v":"F6.6"},{"$f":"'Technische Seite'!C589","v":1},{"$f":"VLOOKUP(E430,'Technische Seite'!$AU$584:$BD$600,5,0)","v":"-"},"n.a.",null,{"$f":"VLOOKUP(E430,'Kapitel 6'!$C$6:$D$120,2,0)","v":"Wie fördert die Organisation die Kreislaufwirtschaft durch ihre Produkte?"}]
[null,null,null,null,{"$f":"'Technische Seite'!B590","v":"F6.7"},{"$f":"'Technische Seite'!C590","v":1},{"$f":"VLOOKUP(E431,'Technische Seite'!$AU$584:$BD$600,5,0)","v":"-"},"n.a.",null,{"$f":"VLOOKUP(E431,'Kapitel 6'!$C$6:$D$120,2,0)","v":"Wie fördert die Organisation Innovation für die Entwicklung von Produkten und Lösungen, die mit den Herausforderungen der Nachhaltigkeit in Einklang stehen?"}]
[null,null,null,null,{"$f":"'Technische Seite'!B591","v":"F6.8"},{"$f":"'Technische Seite'!C591","v":1},{"$f":"VLOOKUP(E432,'Technische Seite'!$AU$584:$BD$600,5,0)","v":"-"},"n.a.",null,{"$f":"VLOOKUP(E432,'Kapitel 6'!$C$6:$D$120,2,0)","v":"Wie fördert die Organisation Innovationspanels und Kooperationen?"}]
[null,null,null,null,{"$f":"'Technische Seite'!B592","v":"F6.9"},{"$f":"'Technische Seite'!C592","v":2},{"$f":"VLOOKUP(E433,'Technische Seite'!$AU$584:$BD$600,5,0)","v":"-"},"n.a.",null,{"$f":"VLOOKUP(E433,'Kapitel 6'!$C$6:$D$120,2,0)","v":"Wie fördert die Organisation nachhaltiges Verbrauchsverhalten?"}]
[null,null,null,null,{"$f":"'Technische Seite'!B593","v":"F6.10"},{"$f":"'Technische Seite'!C593","v":1},{"$f":"VLOOKUP(E434,'Technische Seite'!$AU$584:$BD$600,5,0)","v":"-"},"n.a.",null,{"$f":"VLOOKUP(E434,'Kapitel 6'!$C$6:$D$120,2,0)","v":"Wie kontrolliert und optimiert die Organisation den Wasserverbrauch?"}]
[null,null,null,null,{"$f":"'Technische Seite'!B594","v":"F6.11"},{"$f":"'Technische Seite'!C594","v":1},{"$f":"VLOOKUP(E435,'Technische Seite'!$AU$584:$BD$600,5,0)","v":"-"},"n.a.",null,{"$f":"VLOOKUP(E435,'Kapitel 6'!$C$6:$D$120,2,0)","v":"Wie werden die Auswirkungen der Organisation auf die Biodiversität und die Ökosystemleistungen gehandhabt?"}]
[null,null,null,null,{"$f":"'Technische Seite'!B595","v":"F6.12"},{"$f":"'Technische Seite'!C595","v":2},{"$f":"VLOOKUP(E436,'Technische Seite'!$AU$584:$BD$600,5,0)","v":"-"},"n.a.",null,{"$f":"VLOOKUP(E436,'Kapitel 6'!$C$6:$D$120,2,0)","v":"Wie berücksichtigt die Organisation ihre Abhängigkeit von Ökosystemleistungen?"}]
[null,null,null,null,{"$f":"'Technische Seite'!B596","v":"F6.13"},{"$f":"'Technische Seite'!C596","v":1},{"$f":"VLOOKUP(E437,'Technische Seite'!$AU$584:$BD$600,5,0)","v":"-"},"n.a.",null,{"$f":"VLOOKUP(E437,'Kapitel 6'!$C$6:$D$120,2,0)","v":"Wie handhabt die Organisation ihre Energieeffizienz?"}]
[null,null,null,null,{"$f":"'Technische Seite'!B597","v":"F6.14"},{"$f":"'Technische Seite'!C597","v":2},{"$f":"VLOOKUP(E438,'Technische Seite'!$AU$584:$BD$600,5,0)","v":"-"},"n.a.",null,{"$f":"VLOOKUP(E438,'Kapitel 6'!$C$6:$D$120,2,0)","v":"Wie handhabt die Organisation ihre Emissionen von Treibhausgasen (THG) (anders als durch Energieeinsparung)?"}]
[null,null,null,null,{"$f":"'Technische Seite'!B598","v":"F6.15"},{"$f":"'Technische Seite'!C598","v":1},{"$f":"VLOOKUP(E439,'Technische Seite'!$AU$584:$BD$600,5,0)","v":"-"},"n.a.",null,{"$f":"VLOOKUP(E439,'Kapitel 6'!$C$6:$D$120,2,0)","v":"Welche Strategie hat die Organisation zur Reduzierung von THG-Emissionen?"}]
[null,null,null,null,{"$f":"'Technische Seite'!B599","v":"F6.16"},{"$f":"'Technische Seite'!C599","v":2},{"$f":"VLOOKUP(E440,'Technische Seite'!$AU$584:$BD$600,5,0)","v":3},{"$f":"IF(G440=\"-\",\"n.a.\",IF(F440-G440>-1,\"konform\",\"Ergebnis verbessern\"))","v":"Ergebnis verbessern"},null,{"$f":"VLOOKUP(E440,'Kapitel 6'!$C$6:$D$120,2,0)","v":"Wie bereitet sich die Organisation auf den Klimawandel vor? "}]
[null,null,null,null,{"$f":"'Technische Seite'!B600","v":"F6.17"},{"$f":"'Technische Seite'!C600","v":1},{"$f":"VLOOKUP(E441,'Technische Seite'!$AU$584:$BD$600,5,0)","v":"-"},"n.a.",null,{"$f":"VLOOKUP(E441,'Kapitel 6'!$C$6:$D$120,2,0)","v":"In welcher Weise gewährleistet die Organisation Chancengleichheit bei der Einstellung und während der gesamten beruflichen Laufbahn aller?"}]
[]
[null,null,"Bericht über den Abstand zur Einhaltung von  ISO 50001"]
[null,null,null,null,null,"Ihre Bewertung ","Mindestbewertung für ISO 50001"]
[null,null,null,null,"KAPITEL 1: Führungskultur im Unternehmen"]
[null,null,null,null,{"$f":"'Technische Seite'!B10","v":"F1.1"},{"$f":"'Technische Seite'!C10","v":1},{"$f":"VLOOKUP(E446,'Technische Seite'!$AU$10:$BD$25,6,0)","v":3},{"$f":"IF(G446=\"-\",\"n.a.\",IF(F446-G446>-1,\"konform\",\"Ergebnis verbessern\"))","v":"Ergebnis verbessern"},null,{"$f":"VLOOKUP(E446,'Kapitel 1'!$C$6:$D$112,2,0)","v":"In welcher Weise wird die Verpflichtung zur Einhaltung gesetzlicher und sonstiger Vorschriften („Compliance“) sowie der Grundsätze von Responsible Care (d. h. Schutz und Förderung der Gesundheit & Sicherheit von Menschen und Umwelt sowie Nachhaltigkeit) auf allen Ebenen der Organisation dargelegt?"}]
[null,null,null,null,{"$f":"'Technische Seite'!B11","v":"F1.2"},{"$f":"'Technische Seite'!C11","v":1},{"$f":"VLOOKUP(E447,'Technische Seite'!$AU$10:$BD$25,6,0)","v":3},{"$f":"IF(G447=\"-\",\"n.a.\",IF(F447-G447>-1,\"konform\",\"Ergebnis verbessern\"))","v":"Ergebnis verbessern"},null,{"$f":"VLOOKUP(E447,'Kapitel 1'!$C$6:$D$112,2,0)","v":"Wie steuert die Organisation die relevanten Risiken und Chancen?"}]
[null,null,null,null,{"$f":"'Technische Seite'!B12","v":"F1.3"},{"$f":"'Technische Seite'!C12","v":2},{"$f":"VLOOKUP(E448,'Technische Seite'!$AU$10:$BD$25,6,0)","v":2},{"$f":"IF(G448=\"-\",\"n.a.\",IF(F448-G448>-1,\"konform\",\"Ergebnis verbessern\"))","v":"konform"},null,{"$f":"VLOOKUP(E448,'Kapitel 1'!$C$6:$D$112,2,0)","v":"In welcher Weise erfüllt die Organisation ihre gesetzlichen Verpflichtungen?"}]
[null,null,null,null,{"$f":"'Technische Seite'!B13","v":"F1.4"},{"$f":"'Technische Seite'!C13","v":2},{"$f":"VLOOKUP(E449,'Technische Seite'!$AU$10:$BD$25,6,0)","v":2},{"$f":"IF(G449=\"-\",\"n.a.\",IF(F449-G449>-1,\"konform\",\"Ergebnis verbessern\"))","v":"konform"},null,{"$f":"VLOOKUP(E449,'Kapitel 1'!$C$6:$D$112,2,0)","v":"Wie stellt die oberste Führungsebene („top management“) sicher, dass Aspekte aus den Bereichen Gesundheit, Sicherheit, Umwelt, Energie & Nachhaltigkeit bestimmten Funktionen zugeordnet sind?"}]
[null,null,null,null,{"$f":"'Technische Seite'!B14","v":"F1.5"},{"$f":"'Technische Seite'!C14","v":3},{"$f":"VLOOKUP(E450,'Technische Seite'!$AU$10:$BD$25,6,0)","v":3},{"$f":"IF(G450=\"-\",\"n.a.\",IF(F450-G450>-1,\"konform\",\"Ergebnis verbessern\"))","v":"konform"},null,{"$f":"VLOOKUP(E450,'Kapitel 1'!$C$6:$D$112,2,0)","v":"In welcher Weise ist der Vorstand/die Geschäftsleitung der Organisation in den Umgang mit Fragen und Problemen („issues“) in den Bereichen Gesundheit, Sicherheit, Umwelt, Energie & Nachhaltigkeit eingebunden?"}]
[null,null,null,null,{"$f":"'Technische Seite'!B15","v":"F1.6"},{"$f":"'Technische Seite'!C15","v":4},{"$f":"VLOOKUP(E451,'Technische Seite'!$AU$10:$BD$25,6,0)","v":"-"},{"$f":"IF(G451=\"-\",\"n.a.\",IF(F451-G451>-1,\"compliant\",\"increase score\"))","v":"n.a."},null,{"$f":"VLOOKUP(E451,'Kapitel 1'!$C$6:$D$112,2,0)","v":"Wie werden Verantwortlichkeiten in den Bereichen Gesundheit, Sicherheit, Umwelt, Energie & Nachhaltigkeit in Arbeitsplatzbeschreibungen oder Jahresziele integriert?"}]
[null,null,null,null,{"$f":"'Technische Seite'!B16","v":"F1.7"},{"$f":"'Technische Seite'!C16","v":1},{"$f":"VLOOKUP(E452,'Technische Seite'!$AU$10:$BD$25,6,0)","v":3},{"$f":"IF(G452=\"-\",\"n.a.\",IF(F452-G452>-1,\"konform\",\"Ergebnis verbessern\"))","v":"Ergebnis verbessern"},null,{"$f":"VLOOKUP(E452,'Kapitel 1'!$C$6:$D$112,2,0)","v":"Wie werden (Kern-)Prozesse in den Bereichen Gesundheit, Sicherheit, Umwelt, Energie & Nachhaltigkeit gelenkt?"}]
[null,null,null,null,{"$f":"'Technische Seite'!B17","v":"F1.8"},{"$f":"'Technische Seite'!C17","v":2},{"$f":"VLOOKUP(E453,'Technische Seite'!$AU$10:$BD$25,6,0)","v":3},"Ergebnis verbessern",null,{"$f":"VLOOKUP(E453,'Kapitel 1'!$C$6:$D$112,2,0)","v":"In welche Weise stellt die oberste Führungsebene eine kontinuierliche Verbesserung der Leistung in den Bereichen Gesundheit, Sicherheit, Umwelt, Energie & Nachhaltigkeit sicher?"}]
[null,null,null,null,{"$f":"'Technische Seite'!B18","v":"F1.9"},{"$f":"'Technische Seite'!C18","v":1},{"$f":"VLOOKUP(E454,'Technische Seite'!$AU$10:$BD$25,6,0)","v":3},"Ergebnis verbessern",null,{"$f":"VLOOKUP(E454,'Kapitel 1'!$C$6:$D$112,2,0)","v":"Wie wird das interne Auditprogramm durchgeführt?"}]
[null,null,null,null,{"$f":"'Technische Seite'!B19","v":"F1.10"},{"$f":"'Technische Seite'!C19","v":3},{"$f":"VLOOKUP(E455,'Technische Seite'!$AU$10:$BD$25,6,0)","v":3},"konform",null,{"$f":"VLOOKUP(E455,'Kapitel 1'!$C$6:$D$112,2,0)","v":"Wie werden Vorfälle untersucht?"}]
[null,null,null,null,{"$f":"'Technische Seite'!B20","v":"F1.11"},{"$f":"'Technische Seite'!C20","v":3},{"$f":"VLOOKUP(E456,'Technische Seite'!$AU$10:$BD$25,6,0)","v":3},"konform",null,{"$f":"VLOOKUP(E456,'Kapitel 1'!$C$6:$D$112,2,0)","v":"In welcher Weise stellt die Organisation die benötigten Verfahren, zeitlichen Mittel und Ressourcen bereit, um Management-Prozesse in den Bereichen Gesundheit, Sicherheit, Umwelt, Energie & Nachhaltigkeit zu verbessern?"}]
[null,null,null,null,{"$f":"'Technische Seite'!B21","v":"F1.12"},{"$f":"'Technische Seite'!C21","v":2},{"$f":"VLOOKUP(E457,'Technische Seite'!$AU$10:$BD$25,6,0)","v":3},"Ergebnis verbessern",null,{"$f":"VLOOKUP(E457,'Kapitel 1'!$C$6:$D$112,2,0)","v":"Wie stellt die Organisation sicher, dass Mitarbeiter über die Unternehmenspolitik und Verfahren in den Bereichen Gesundheit, Sicherheit, Umwelt, Energie & Nachhaltigkeit informiert sind?"}]
[null,null,null,null,{"$f":"'Technische Seite'!B22","v":"F1.13"},{"$f":"'Technische Seite'!C22","v":1},{"$f":"VLOOKUP(E458,'Technische Seite'!$AU$10:$BD$25,6,0)","v":3},"Ergebnis verbessern",null,{"$f":"VLOOKUP(E458,'Kapitel 1'!$C$6:$D$112,2,0)","v":"Wie stellt die Organisation sicher, dass Arbeiter – hinsichtlich der mit ihrer Tätigkeit in Zusammenhang stehenden Aspekten in den Bereichen Gesundheit, Sicherheit, Umwelt, Energie & Nachhaltigkeit – über die erforderlichen Kompetenzen verfügen?"}]
[null,null,null,null,{"$f":"'Technische Seite'!B23","v":"F1.14"},{"$f":"'Technische Seite'!C23","v":4},{"$f":"VLOOKUP(E459,'Technische Seite'!$AU$10:$BD$25,6,0)","v":2},"konform",null,{"$f":"VLOOKUP(E459,'Kapitel 1'!$C$6:$D$112,2,0)","v":"Wie ist die Einbeziehung der Mitarbeiter strukturiert?"}]
[null,null,null,null,{"$f":"'Technische Seite'!B24","v":"F1.15"},{"$f":"'Technische Seite'!C24","v":2},{"$f":"VLOOKUP(E460,'Technische Seite'!$AU$10:$BD$25,6,0)","v":3},"Ergebnis verbessern",null,{"$f":"VLOOKUP(E460,'Kapitel 1'!$C$6:$D$112,2,0)","v":"Wie werden Dokumente aus den Bereichen Gesundheit, Sicherheit, Umwelt, Energie & Nachhaltigkeit verwaltet?"}]
[null,null,null,null,{"$f":"'Technische Seite'!B25","v":"F1.16"},{"$f":"'Technische Seite'!C25","v":2},{"$f":"VLOOKUP(E461,'Technische Seite'!$AU$10:$BD$25,6,0)","v":3},"Ergebnis verbessern",null,{"$f":"VLOOKUP(E461,'Kapitel 1'!$C$6:$D$112,2,0)","v":"In welcher Weise werden Änderungen, die möglicherweise Auswirkungen auf die Bereiche Gesundheit, Sicherheit, Umwelt, Energie & Nachhaltigkeit haben könnten, gesteuert?"}]
[null,null,null,null,"KAPITEL 2: Schutz von Mensch und Umwelt"]
[null,null,null,null,{"$f":"'Technische Seite'!B124","v":"F2.1"},{"$f":"'Technische Seite'!C124","v":1},{"$f":"VLOOKUP(E463,'Technische Seite'!$AU$124:$BD$168,6,0)","v":"-"},{"$f":"IF(G463=\"-\",\"n.a.\",IF(F463-G463>-1,\"compliant\",\"increase score\"))","v":"n.a."},null,{"$f":"VLOOKUP(E463,'Kapitel 2'!$C$6:$D$282,2,0)","v":"In welcher Weise verpflichtet sich die Führung der Organisation zu Arbeits- und Gesundheitsschutz?"}]
[null,null,null,null,{"$f":"'Technische Seite'!B125","v":"F2.2"},{"$f":"'Technische Seite'!C125","v":1},{"$f":"VLOOKUP(E464,'Technische Seite'!$AU$124:$BD$168,6,0)","v":"-"},"n.a.",null,{"$f":"VLOOKUP(E464,'Kapitel 2'!$C$6:$D$282,2,0)","v":"In welcher Weise werden Risiken und Expositionen in den Bereichen Gesundheit & Sicherheit festgestellt?"}]
[null,null,null,null,{"$f":"'Technische Seite'!B126","v":"F2.3"},{"$f":"'Technische Seite'!C126","v":4},{"$f":"VLOOKUP(E465,'Technische Seite'!$AU$124:$BD$168,6,0)","v":"-"},"n.a.",null,{"$f":"VLOOKUP(E465,'Kapitel 2'!$C$6:$D$282,2,0)","v":"In welcher Weise werden die medizinischen Anforderungen bewertet?"}]
[null,null,null,null,{"$f":"'Technische Seite'!B127","v":"F2.4"},{"$f":"'Technische Seite'!C127","v":1},{"$f":"VLOOKUP(E466,'Technische Seite'!$AU$124:$BD$168,6,0)","v":"-"},"n.a.",null,{"$f":"VLOOKUP(E466,'Kapitel 2'!$C$6:$D$282,2,0)","v":"In welcher Weise verbessert die Organisation ihre Leistung in den Bereichen Gesundheit und Sicherheit?"}]
[null,null,null,null,{"$f":"'Technische Seite'!B128","v":"F2.5"},{"$f":"'Technische Seite'!C128","v":2},{"$f":"VLOOKUP(E467,'Technische Seite'!$AU$124:$BD$168,6,0)","v":"-"},"n.a.",null,{"$f":"VLOOKUP(E467,'Kapitel 2'!$C$6:$D$282,2,0)","v":"In welcher Weise werden Wartung und Pflege („maintenance and housekeeping“) gestaltet, um die Sicherheit von Einrichtungen, Anlagen, Werkzeugen und\n(Sicherheits-) Ausrüstungen aufrechtzuerhalten?"}]
[null,null,null,null,{"$f":"'Technische Seite'!B129","v":"F2.6"},{"$f":"'Technische Seite'!C129","v":3},{"$f":"VLOOKUP(E468,'Technische Seite'!$AU$124:$BD$168,6,0)","v":"-"},"n.a.",null,{"$f":"VLOOKUP(E468,'Kapitel 2'!$C$6:$D$282,2,0)","v":"Wie werden die geeignete Auswahl, Wartung und Verwendung von Ausrüstungen in den Bereichen Gesundheit und Sicherheit (z. B. persönliche Schutzausrüstung/PSA) überprüft?"}]
[null,null,null,null,{"$f":"'Technische Seite'!B130","v":"F2.7"},{"$f":"'Technische Seite'!C130","v":1},{"$f":"VLOOKUP(E469,'Technische Seite'!$AU$124:$BD$168,6,0)","v":"-"},"n.a.",null,{"$f":"VLOOKUP(E469,'Kapitel 2'!$C$6:$D$282,2,0)","v":"Wie geht die Organisation mit Stress und Wohlbefinden um?"}]
[null,null,null,null,{"$f":"'Technische Seite'!B131","v":"F2.8"},{"$f":"'Technische Seite'!C131","v":1},{"$f":"VLOOKUP(E470,'Technische Seite'!$AU$124:$BD$168,6,0)","v":"-"},"n.a.",null,{"$f":"VLOOKUP(E470,'Kapitel 2'!$C$6:$D$282,2,0)","v":"In welcher Weise werden Verletzungen am Arbeitsplatz, Vorfälle und Beinahe-Vorfälle untersucht?"}]
[null,null,null,null,{"$f":"'Technische Seite'!B132","v":"F2.9"},{"$f":"'Technische Seite'!C132","v":4},{"$f":"VLOOKUP(E471,'Technische Seite'!$AU$124:$BD$168,6,0)","v":"-"},"n.a.",null,{"$f":"VLOOKUP(E471,'Kapitel 2'!$C$6:$D$282,2,0)","v":"Wie ist die Organisation auf Notfälle vorbereitet?"}]
[null,null,null,null,{"$f":"'Technische Seite'!B133","v":"F2.10"},{"$f":"'Technische Seite'!C133","v":1},{"$f":"VLOOKUP(E472,'Technische Seite'!$AU$124:$BD$168,6,0)","v":3},{"$f":"IF(G472=\"-\",\"n.a.\",IF(F472-G472>-1,\"konform\",\"Ergebnis verbessern\"))","v":"Ergebnis verbessern"},null,{"$f":"VLOOKUP(E472,'Kapitel 2'!$C$6:$D$282,2,0)","v":"In welcher Weise stellt die Organisation sicher, dass alle Mitarbeiter hinsichtlich der Gesundheits- und Sicherheitsanforderungen, die mit ihrer Tätigkeit in Zusammenhang stehen, über die geeigneten Kompetenzen verfügen?"}]
[null,null,null,null,{"$f":"'Technische Seite'!B134","v":"F2.11"},{"$f":"'Technische Seite'!C134","v":2},{"$f":"VLOOKUP(E473,'Technische Seite'!$AU$124:$BD$168,6,0)","v":"-"},"n.a.",null,{"$f":"VLOOKUP(E473,'Kapitel 2'!$C$6:$D$282,2,0)","v":"Wie verpflichtet sich die Unternehmensleitung zur Verfahrenssicherheit?"}]
[null,null,null,null,{"$f":"'Technische Seite'!B135","v":"F2.12"},{"$f":"'Technische Seite'!C135","v":1},{"$f":"VLOOKUP(E474,'Technische Seite'!$AU$124:$BD$168,6,0)","v":"-"},"n.a.",null,{"$f":"VLOOKUP(E474,'Kapitel 2'!$C$6:$D$282,2,0)","v":"In welcher Weise werden die Identifizierung und Beschreibung der Sicherheit von Verfahren, Ausrüstungen und Standorten der Organisation vorbereitet?"}]
[null,null,null,null,{"$f":"'Technische Seite'!B136","v":"F2.13"},{"$f":"'Technische Seite'!C136","v":2},{"$f":"VLOOKUP(E475,'Technische Seite'!$AU$124:$BD$168,6,0)","v":"-"},"n.a.",null,{"$f":"VLOOKUP(E475,'Kapitel 2'!$C$6:$D$282,2,0)","v":"In welcher Weise werden Verbesserungen im Bereich Verfahrenssicherheit aufgrund von Vorfällen und Unfällen vorgenommen?"}]
[null,null,null,null,{"$f":"'Technische Seite'!B137","v":"F2.14"},{"$f":"'Technische Seite'!C137","v":3},{"$f":"VLOOKUP(E476,'Technische Seite'!$AU$124:$BD$168,6,0)","v":"-"},"n.a.",null,{"$f":"VLOOKUP(E476,'Kapitel 2'!$C$6:$D$282,2,0)","v":"Wie werden Audits und Inspektionen im Bereich Verfahrenssicherheit durchgeführt?"}]
[null,null,null,null,{"$f":"'Technische Seite'!B138","v":"F2.15"},{"$f":"'Technische Seite'!C138","v":1},{"$f":"VLOOKUP(E477,'Technische Seite'!$AU$124:$BD$168,6,0)","v":"-"},"n.a.",null,{"$f":"VLOOKUP(E477,'Kapitel 2'!$C$6:$D$282,2,0)","v":"Wie werden Arbeitsanweisungen kontrolliert und verbessert?"}]
[null,null,null,null,{"$f":"'Technische Seite'!B139","v":"F2.16"},{"$f":"'Technische Seite'!C139","v":1},{"$f":"VLOOKUP(E478,'Technische Seite'!$AU$124:$BD$168,6,0)","v":"-"},"n.a.",null,{"$f":"VLOOKUP(E478,'Kapitel 2'!$C$6:$D$282,2,0)","v":"Wie wird die Anlagenplanung durchgeführt und dokumentiert?"}]
[null,null,null,null,{"$f":"'Technische Seite'!B140","v":"F2.17"},{"$f":"'Technische Seite'!C140","v":4},{"$f":"VLOOKUP(E479,'Technische Seite'!$AU$124:$BD$168,6,0)","v":"-"},"n.a.",null,{"$f":"VLOOKUP(E479,'Kapitel 2'!$C$6:$D$282,2,0)","v":"In welcher Weise wird der Aufbau der Anlage kontrolliert?"}]
[null,null,null,null,{"$f":"'Technische Seite'!B141","v":"F2.18"},{"$f":"'Technische Seite'!C141","v":2},{"$f":"VLOOKUP(E480,'Technische Seite'!$AU$124:$BD$168,6,0)","v":"-"},"n.a.",null,{"$f":"VLOOKUP(E480,'Kapitel 2'!$C$6:$D$282,2,0)","v":"Wie wird „Schutz“ in Anlagen integriert, um zuverlässig zu verhindern, dass ein einziger Fehler katastrophale Folgen hat?"}]
[null,null,null,null,{"$f":"'Technische Seite'!B142","v":"F2.19"},{"$f":"'Technische Seite'!C142","v":2},{"$f":"VLOOKUP(E481,'Technische Seite'!$AU$124:$BD$168,6,0)","v":"-"},"n.a.",null,{"$f":"VLOOKUP(E481,'Kapitel 2'!$C$6:$D$282,2,0)","v":"Gibt es ein vorbeugendes Wartungs- und Pflegeprogramm („maintenance and housekeeping programme“), um die Sicherheit von Einrichtungen, Werkzeugen/Tools und Ausrüstungen aufrechtzuerhalten?"}]
[null,null,null,null,{"$f":"'Technische Seite'!B143","v":"F2.20"},{"$f":"'Technische Seite'!C143","v":1},{"$f":"VLOOKUP(E482,'Technische Seite'!$AU$124:$BD$168,6,0)","v":"-"},"n.a.",null,{"$f":"VLOOKUP(E482,'Kapitel 2'!$C$6:$D$282,2,0)","v":"Im Fall von Energie- oder Betriebsunterbrechungen – wie werden Verfahren in Notfällen gesteuert?"}]
[null,null,null,null,{"$f":"'Technische Seite'!B144","v":"F2.21"},{"$f":"'Technische Seite'!C144","v":3},{"$f":"VLOOKUP(E483,'Technische Seite'!$AU$124:$BD$168,6,0)","v":"-"},"n.a.",null,{"$f":"VLOOKUP(E483,'Kapitel 2'!$C$6:$D$282,2,0)","v":"Wie werden Notfallpläne erstellt?"}]
[null,null,null,null,{"$f":"'Technische Seite'!B145","v":"F2.22"},{"$f":"'Technische Seite'!C145","v":1},{"$f":"VLOOKUP(E484,'Technische Seite'!$AU$124:$BD$168,6,0)","v":"-"},"n.a.",null,{"$f":"VLOOKUP(E484,'Kapitel 2'!$C$6:$D$282,2,0)","v":"In welcher Weise werden die Kompetenz und Schulung von an den Prozessen beteiligten Mitarbeitern und Fremdfirmen sichergestellt?"}]
[null,null,null,null,{"$f":"'Technische Seite'!B146","v":"F2.23"},{"$f":"'Technische Seite'!C146","v":2},{"$f":"VLOOKUP(E485,'Technische Seite'!$AU$124:$BD$168,6,0)","v":"-"},"n.a.",null,{"$f":"VLOOKUP(E485,'Kapitel 2'!$C$6:$D$282,2,0)","v":"Wie werden Informationen über die Risiken von Stoffen und Zubereitungen gemeinsam genutzt/weitergegeben?"}]
[null,null,null,null,{"$f":"'Technische Seite'!B147","v":"F2.24"},{"$f":"'Technische Seite'!C147","v":3},{"$f":"VLOOKUP(E486,'Technische Seite'!$AU$124:$BD$168,6,0)","v":"-"},"n.a.",null,{"$f":"VLOOKUP(E486,'Kapitel 2'!$C$6:$D$282,2,0)","v":"Wie werden Informationen über das Verfahren gemeinsam genutzt/weitergegeben?"}]
[null,null,null,null,{"$f":"'Technische Seite'!B148","v":"F2.25"},{"$f":"'Technische Seite'!C148","v":2},{"$f":"VLOOKUP(E487,'Technische Seite'!$AU$124:$BD$168,6,0)","v":"-"},"n.a.",null,{"$f":"VLOOKUP(E487,'Kapitel 2'!$C$6:$D$282,2,0)","v":"In welcher Weise bewertet die Organisation ihre Logistikpartner mit Hinblick auf Gesundheit, Sicherheit, Umwelt & Nachhaltigkeit, Energieeffizienz und Treibhausgas(THG)-Emissionen?"}]
[null,null,null,null,{"$f":"'Technische Seite'!B149","v":"F2.26"},{"$f":"'Technische Seite'!C149","v":1},{"$f":"VLOOKUP(E488,'Technische Seite'!$AU$124:$BD$168,6,0)","v":"-"},"n.a.",null,{"$f":"VLOOKUP(E488,'Kapitel 2'!$C$6:$D$282,2,0)","v":"Welche Maßnahmen zur Vermeidung von Transportunfällen bzw. Notfallmaßnahmen im Falle von Transportunfällen ergreift die Organisation?"}]
[null,null,null,null,{"$f":"'Technische Seite'!B150","v":"F2.27"},{"$f":"'Technische Seite'!C150","v":1},{"$f":"VLOOKUP(E489,'Technische Seite'!$AU$124:$BD$168,6,0)","v":"-"},"n.a.",null,{"$f":"VLOOKUP(E489,'Kapitel 2'!$C$6:$D$282,2,0)","v":"In welcher Weise identifiziert die Organisation Sicherheitsprobleme?"}]
[null,null,null,null,{"$f":"'Technische Seite'!B151","v":"F2.28"},{"$f":"'Technische Seite'!C151","v":2},{"$f":"VLOOKUP(E490,'Technische Seite'!$AU$124:$BD$168,6,0)","v":"-"},"n.a.",null,{"$f":"VLOOKUP(E490,'Kapitel 2'!$C$6:$D$282,2,0)","v":"In welcher Weise werden das Betreten/Verlassen des Arbeitsortes und eingeschränkt zugänglicher Bereiche durch Mitarbeiter bzw. der dortige Ein- und Ausgang von Materialien kontrolliert?"}]
[null,null,null,null,{"$f":"'Technische Seite'!B152","v":"F2.29"},{"$f":"'Technische Seite'!C152","v":1},{"$f":"VLOOKUP(E491,'Technische Seite'!$AU$124:$BD$168,6,0)","v":"-"},"n.a.",null,{"$f":"VLOOKUP(E491,'Kapitel 2'!$C$6:$D$282,2,0)","v":"Wie wird Cybersecurity überwacht?"}]
[null,null,null,null,{"$f":"'Technische Seite'!B153","v":"F2.30"},{"$f":"'Technische Seite'!C153","v":1},{"$f":"VLOOKUP(E492,'Technische Seite'!$AU$124:$BD$168,6,0)","v":"-"},"n.a.",null,{"$f":"VLOOKUP(E492,'Kapitel 2'!$C$6:$D$282,2,0)","v":"Wie sind Kommunikation und Informationsaustausch im Falle einer Sicherheitskrise organisiert?"}]
[null,null,null,null,{"$f":"'Technische Seite'!B154","v":"F2.31"},{"$f":"'Technische Seite'!C154","v":3},{"$f":"VLOOKUP(E493,'Technische Seite'!$AU$124:$BD$168,6,0)","v":"-"},"n.a.",null,{"$f":"VLOOKUP(E493,'Kapitel 2'!$C$6:$D$282,2,0)","v":"Wie geht die Organisation mit abnormalem Verhalten (einschließlich Risiken der Radikalisierung) um?"}]
[null,null,null,null,{"$f":"'Technische Seite'!B155","v":"F2.32"},{"$f":"'Technische Seite'!C155","v":1},{"$f":"VLOOKUP(E494,'Technische Seite'!$AU$124:$BD$168,6,0)","v":"-"},"n.a.",null,{"$f":"VLOOKUP(E494,'Kapitel 2'!$C$6:$D$282,2,0)","v":"In welcher Weise weist die Organisation die Mitarbeiter an, in Sicherheitsfragen wachsam zu sein?"}]
[null,null,null,null,{"$f":"'Technische Seite'!B156","v":"F2.33"},{"$f":"'Technische Seite'!C156","v":2},{"$f":"VLOOKUP(E495,'Technische Seite'!$AU$124:$BD$168,6,0)","v":"-"},"n.a.",null,{"$f":"VLOOKUP(E495,'Kapitel 2'!$C$6:$D$282,2,0)","v":"In welcher Weise werden die möglichen Umweltauswirkungen der Aktivitäten der Organisation bewertet?"}]
[null,null,null,null,{"$f":"'Technische Seite'!B157","v":"F2.34"},{"$f":"'Technische Seite'!C157","v":1},{"$f":"VLOOKUP(E496,'Technische Seite'!$AU$124:$BD$168,6,0)","v":4},{"$f":"IF(G496=\"-\",\"n.a.\",IF(F496-G496>-1,\"konform\",\"Ergebnis verbessern\"))","v":"Ergebnis verbessern"},null,{"$f":"VLOOKUP(E496,'Kapitel 2'!$C$6:$D$282,2,0)","v":"In welcher Weise steuert die Organisation ihre Umweltleistung?"}]
[null,null,null,null,{"$f":"'Technische Seite'!B158","v":"F2.35"},{"$f":"'Technische Seite'!C158","v":2},{"$f":"VLOOKUP(E497,'Technische Seite'!$AU$124:$BD$168,6,0)","v":"-"},"n.a.",null,{"$f":"VLOOKUP(E497,'Kapitel 2'!$C$6:$D$282,2,0)","v":"Wie geht die Organisation mit Abfall um?"}]
[null,null,null,null,{"$f":"'Technische Seite'!B159","v":"F2.36"},{"$f":"'Technische Seite'!C159","v":1},{"$f":"VLOOKUP(E498,'Technische Seite'!$AU$124:$BD$168,6,0)","v":"-"},"n.a.",null,{"$f":"VLOOKUP(E498,'Kapitel 2'!$C$6:$D$282,2,0)","v":"Wie geht die Organisation mit Risiken für das Grundwasser um?"}]
[null,null,null,null,{"$f":"'Technische Seite'!B160","v":"F2.37"},{"$f":"'Technische Seite'!C160","v":3},{"$f":"VLOOKUP(E499,'Technische Seite'!$AU$124:$BD$168,6,0)","v":"-"},"n.a.",null,{"$f":"VLOOKUP(E499,'Kapitel 2'!$C$6:$D$282,2,0)","v":"Wie geht die Organisation mit den Risiken einer Bodenverschmutzung um?"}]
[null,null,null,null,{"$f":"'Technische Seite'!B161","v":"F2.38"},{"$f":"'Technische Seite'!C161","v":1},{"$f":"VLOOKUP(E500,'Technische Seite'!$AU$124:$BD$168,6,0)","v":"-"},"n.a.",null,{"$f":"VLOOKUP(E500,'Kapitel 2'!$C$6:$D$282,2,0)","v":"Wie geht die Organisation mit vorhandenen Bodenverschmutzungen um?"}]
[null,null,null,null,{"$f":"'Technische Seite'!B162","v":"F2.39"},{"$f":"'Technische Seite'!C162","v":3},{"$f":"VLOOKUP(E501,'Technische Seite'!$AU$124:$BD$168,6,0)","v":"-"},"n.a.",null,{"$f":"VLOOKUP(E501,'Kapitel 2'!$C$6:$D$282,2,0)","v":"Wie geht die Organisation mit ihren Emissionen in die Luft um?"}]
[null,null,null,null,{"$f":"'Technische Seite'!B163","v":"F2.40"},{"$f":"'Technische Seite'!C163","v":1},{"$f":"VLOOKUP(E502,'Technische Seite'!$AU$124:$BD$168,6,0)","v":"-"},"n.a.",null,{"$f":"VLOOKUP(E502,'Kapitel 2'!$C$6:$D$282,2,0)","v":"Wie geht die Organisation mit ihren Emissionen in Wasser um?"}]
[null,null,null,null,{"$f":"'Technische Seite'!B164","v":"F2.41"},{"$f":"'Technische Seite'!C164","v":3},{"$f":"VLOOKUP(E503,'Technische Seite'!$AU$124:$BD$168,6,0)","v":"-"},"n.a.",null,{"$f":"VLOOKUP(E503,'Kapitel 2'!$C$6:$D$282,2,0)","v":"Wie geht die Organisation mit Lärmemissionen um?"}]
[null,null,null,null,{"$f":"'Technische Seite'!B165","v":"F2.42"},{"$f":"'Technische Seite'!C165","v":3},{"$f":"VLOOKUP(E504,'Technische Seite'!$AU$124:$BD$168,6,0)","v":"-"},"n.a.",null,{"$f":"VLOOKUP(E504,'Kapitel 2'!$C$6:$D$282,2,0)","v":"Wie geht die Organisation mit Geruchsemissionen um?"}]
[null,null,null,null,{"$f":"'Technische Seite'!B166","v":"F2.43"},{"$f":"'Technische Seite'!C166","v":2},{"$f":"VLOOKUP(E505,'Technische Seite'!$AU$124:$BD$168,6,0)","v":"-"},"n.a.",null,{"$f":"VLOOKUP(E505,'Kapitel 2'!$C$6:$D$282,2,0)","v":"Wie verhindert die Organisation unfallbedingte Emissionen in die Umwelt und wie geht sie ggf. damit um?"}]
[null,null,null,null,{"$f":"'Technische Seite'!B167","v":"F2.44"},{"$f":"'Technische Seite'!C167","v":3},{"$f":"VLOOKUP(E506,'Technische Seite'!$AU$124:$BD$168,6,0)","v":"-"},"n.a.",null,{"$f":"VLOOKUP(E506,'Kapitel 2'!$C$6:$D$282,2,0)","v":"In welcher Weise stellt die Organisation sicher, dass alle Mitarbeiter hinsichtlich der Umweltanforderungen, die mit ihrer Tätigkeit in Zusammenhang stehen, über die geeigneten Kompetenzen verfügen?"}]
[null,null,null,null,{"$f":"'Technische Seite'!B168","v":"F2.45"},{"$f":"'Technische Seite'!C168","v":3},{"$f":"VLOOKUP(E507,'Technische Seite'!$AU$124:$BD$168,6,0)","v":"-"},"n.a.",null,{"$f":"VLOOKUP(E507,'Kapitel 2'!$C$6:$D$282,2,0)","v":"Wie werden den Interessensgruppen („stakeholder“) der Organisation die Umweltaspekte und deren mögliche Auswirkungen bewusst gemacht?"}]
[null,null,null,null,"KAPITEL 3 : Stärkung von Managementsystemen im Chemikalienbereich"]
[null,null,null,null,{"$f":"'Technische Seite'!B406","v":"F3.1"},{"$f":"'Technische Seite'!$C$406","v":1},{"$f":"VLOOKUP(E509,'Technische Seite'!$AU$406:$BD$418,6,0)","v":4},{"$f":"IF(G509=\"-\",\"n.a.\",IF(F509-G509>-1,\"konform\",\"Ergebnis verbessern\"))","v":"Ergebnis verbessern"},null,{"$f":"VLOOKUP(E509,'Kapitel 3'!$C$6:$D$89,2,0)","v":"Verfügt die Organisation über ein Verfahren für das Design\n und die Entwicklung neuer Produkte und Dienstleistungen?"}]
[null,null,null,null,{"$f":"'Technische Seite'!B407","v":"F3.2"},{"$f":"'Technische Seite'!$C$407","v":2},{"$f":"VLOOKUP(E510,'Technische Seite'!$AU$406:$BD$418,6,0)","v":"-"},{"$f":"IF(G510=\"-\",\"n.a.\",IF(F510-G510>-1,\"compliant\",\"increase score\"))","v":"n.a."},null,{"$f":"VLOOKUP(E510,'Kapitel 3'!$C$6:$D$89,2,0)","v":"Verfügt die Organisation über ein Verfahren, um ihre Produkte mit Hinblick auf Risikocharakterisierung und Risikomanagement zu bewerten und zu priorisieren?"}]
[null,null,null,null,{"$f":"'Technische Seite'!B408","v":"F3.3"},{"$f":"'Technische Seite'!$C$408","v":1},{"$f":"VLOOKUP(E511,'Technische Seite'!$AU$406:$BD$418,6,0)","v":"-"},"n.a.",null,{"$f":"VLOOKUP(E511,'Kapitel 3'!$C$6:$D$89,2,0)","v":"Verfügt die Organisation über ein System, um die Anwendbarkeit sowie Änderungen und Einhaltung von internen und externen Anforderungen in Zusammenhang mit dem Sicherheitsmanagement von Chemikalien zu verfolgen/nachzuverfolgen?"}]
[null,null,null,null,{"$f":"'Technische Seite'!B409","v":"F3.4"},{"$f":"'Technische Seite'!$C$409","v":1},{"$f":"VLOOKUP(E512,'Technische Seite'!$AU$406:$BD$418,6,0)","v":"-"},"n.a.",null,{"$f":"VLOOKUP(E512,'Kapitel 3'!$C$6:$D$89,2,0)","v":"Verfügt die Organisation über ein Verfahren zum Umgang mit vorhandenen Gefahreninformationen in Zusammenhang mit ihren Produkten?"}]
[null,null,null,null,{"$f":"'Technische Seite'!B410","v":"F3.5"},{"$f":"'Technische Seite'!$C$410","v":1},{"$f":"VLOOKUP(E513,'Technische Seite'!$AU$406:$BD$418,6,0)","v":"-"},"n.a.",null,{"$f":"VLOOKUP(E513,'Kapitel 3'!$C$6:$D$89,2,0)","v":"Verfügt die Organisation über ein Verfahren für den Umgang mit Informationen über die Verwendung von und die Exposition durch ihre Produkte?"}]
[null,null,null,null,{"$f":"'Technische Seite'!B411","v":"F3.6"},{"$f":"'Technische Seite'!$C$411","v":1},{"$f":"VLOOKUP(E514,'Technische Seite'!$AU$406:$BD$418,6,0)","v":"-"},"n.a.",null,{"$f":"VLOOKUP(E514,'Kapitel 3'!$C$6:$D$89,2,0)","v":"Verfügt die Organisation über ein Verfahren für den Umgang mit neuen Informationen?"}]
[null,null,null,null,{"$f":"'Technische Seite'!B412","v":"Q3.7"},{"$f":"'Technische Seite'!$C$412","v":1},{"$f":"VLOOKUP(E515,'Technische Seite'!$AU$406:$BD$418,6,0)","v":"-"},"n.a.",null,{"$f":"VLOOKUP(E515,'Kapitel 3'!$C$6:$D$89,2,0)","v":"Verfügt die Organisation über ein Verfahren zur Risikocharakterisierung auf der Grundlage der gesammelten Informationen?"}]
[null,null,null,null,{"$f":"'Technische Seite'!B413","v":"F3.8"},{"$f":"'Technische Seite'!$C$413","v":1},{"$f":"VLOOKUP(E516,'Technische Seite'!$AU$406:$BD$418,6,0)","v":"-"},"n.a.",null,{"$f":"VLOOKUP(E516,'Kapitel 3'!$C$6:$D$89,2,0)","v":"Verfügt die Organisation über ein Verfahren zum Risikomanagement auf der Grundlage der gesammelten Informationen?"}]
[null,null,null,null,{"$f":"'Technische Seite'!B414","v":"F3.9"},{"$f":"'Technische Seite'!$C$414","v":2},{"$f":"VLOOKUP(E517,'Technische Seite'!$AU$406:$BD$418,6,0)","v":"-"},"n.a.",null,{"$f":"VLOOKUP(E517,'Kapitel 3'!$C$6:$D$89,2,0)","v":"Verfügt die Organisation über ein effizientes Verfahren, um ihre Produkte nach deren Lieferung nachzuverfolgen und Korrekturmaßnahmen durchzuführen?"}]
[null,null,null,null,{"$f":"'Technische Seite'!B415","v":"F3.10"},{"$f":"'Technische Seite'!$C$415","v":2},{"$f":"VLOOKUP(E518,'Technische Seite'!$AU$406:$BD$418,6,0)","v":"-"},"n.a.",null,{"$f":"VLOOKUP(E518,'Kapitel 3'!$C$6:$D$89,2,0)","v":"Kommuniziert die Organisation effizient in der Lieferkette hinsichtlich der für ihre Produkte notwendigen Maßnahmen des Risikomanagements?\n"}]
[null,null,null,null,"KAPITEL 4: Einbeziehung von Geschäftspartnern"]
[null,null,null,null,{"$f":"'Technische Seite'!B482","v":"F4.1"},{"$f":"'Technische Seite'!C593","v":1},{"$f":"VLOOKUP(E520,'Technische Seite'!$AU$482:$BD$489,6,0)","v":3},{"$f":"IF(G520=\"-\",\"n.a.\",IF(F520-G520>-1,\"konform\",\"Ergebnis verbessern\"))","v":"Ergebnis verbessern"},null,{"$f":"VLOOKUP(E520,'Kapitel 4'!$C$6:$D$91,2,0)","v":"In welcher Form hat sich die Organisation einer verantwortungsvollen Beschaffung verpflichtet?"}]
[null,null,null,null,{"$f":"'Technische Seite'!B483","v":"F4.2"},{"$f":"'Technische Seite'!C594","v":1},{"$f":"VLOOKUP(E521,'Technische Seite'!$AU$482:$BD$489,6,0)","v":"-"},{"$f":"IF(G521=\"-\",\"n.a.\",IF(F521-G521>-1,\"compliant\",\"increase score\"))","v":"n.a."},null,{"$f":"VLOOKUP(E521,'Kapitel 4'!$C$6:$D$91,2,0)","v":"In welcher Weise steigert die Organisation die Zusammenarbeit mit der Wertschöpfungskette?"}]
[null,null,null,null,{"$f":"'Technische Seite'!B484","v":"F4.3"},{"$f":"'Technische Seite'!C595","v":2},{"$f":"VLOOKUP(E522,'Technische Seite'!$AU$482:$BD$489,6,0)","v":"-"},"n.a.",null,{"$f":"VLOOKUP(E522,'Kapitel 4'!$C$6:$D$91,2,0)","v":"In welcher Weise bringt die Organisation ihre Verpflichtung mit Hinblick auf Geschäftsethik zum Ausdruck?"}]
[null,null,null,null,{"$f":"'Technische Seite'!B485","v":"F4.4"},{"$f":"'Technische Seite'!C596","v":1},{"$f":"VLOOKUP(E523,'Technische Seite'!$AU$482:$BD$489,6,0)","v":"-"},"n.a.",null,{"$f":"VLOOKUP(E523,'Kapitel 4'!$C$6:$D$91,2,0)","v":"Wie berücksichtigt die Organisation soziale Fragen und Menschenrechte in ihrer Zusammenarbeit mit Geschäftspartnern?"}]
[null,null,null,null,{"$f":"'Technische Seite'!B486","v":"F4.5"},{"$f":"'Technische Seite'!C597","v":2},{"$f":"VLOOKUP(E524,'Technische Seite'!$AU$482:$BD$489,6,0)","v":"-"},"n.a.",null,{"$f":"VLOOKUP(E524,'Kapitel 4'!$C$6:$D$91,2,0)","v":"In welcher Weise verhindert die Organisation Kinderarbeit?\n\nDie Organisation\n1.\tverfügt über ein System zur Altersprüfung;\n2.\tbeschäftigt keine Kinder unter 15 Jahren (oder älter; die jeweiligen örtlichen Gesetze sind zu beachten). Berufsausbildungen oder Praktika im Rahmen der Schulbildung bzw. bildungsbezogene Praktika sind die einzigen Ausnahmen;\n3.\tstellt sicher, dass die Beschäftigung von Personen unter 18 Jahren nicht deren Schulbesuch beeinträchtigt (die Gesamtzahl der Stunden für den Weg zur Arbeit und Schule und zurück, Schulbesuch und Arbeitstätigkeit beträgt weniger als 10 Stunden täglich);\n4.\tstellt sicher, dass die Tätigkeit junger Arbeitnehmer nicht geistig, körperlich, sozial oder moralisch gefährlich und schädlich ist."}]
[null,null,null,null,{"$f":"'Technische Seite'!B487","v":"F4.6"},{"$f":"'Technische Seite'!C598","v":1},{"$f":"VLOOKUP(E525,'Technische Seite'!$AU$482:$BD$489,6,0)","v":"-"},"n.a.",null,{"$f":"VLOOKUP(E525,'Kapitel 4'!$C$6:$D$91,2,0)","v":"Wie stellt die Organisation sicher, dass ihre Logistikpartner die Anforderungen der Organisation erfüllen?"}]
[null,null,null,null,{"$f":"'Technische Seite'!B488","v":"F4.7"},{"$f":"'Technische Seite'!C599","v":2},{"$f":"VLOOKUP(E526,'Technische Seite'!$AU$482:$BD$489,6,0)","v":"-"},"n.a.",null,{"$f":"VLOOKUP(E526,'Kapitel 4'!$C$6:$D$91,2,0)","v":"In welcher Weise schützt und sichert die Organisation das Eigentum und die Daten nachgeschalteter Anwender oder externer Anbieter, die zur Nutzung oder Einbeziehung/Einarbeitung in Produkte und Dienstleistungen bereitgestellt werden?"}]
[null,null,null,null,{"$f":"'Technische Seite'!B489","v":"F4.8"},{"$f":"'Technische Seite'!C600","v":1},{"$f":"VLOOKUP(E527,'Technische Seite'!$AU$482:$BD$489,6,0)","v":"-"},"n.a.",null,{"$f":"VLOOKUP(E527,'Kapitel 4'!$C$6:$D$91,2,0)","v":"Was beinhaltet der Dialog mit nachgeschalteten Anwendern?"}]
[null,null,null,null,"KAPITEL 5: Berücksichtigung von Anspruchsgruppen"]
[null,null,null,null,{"$f":"'Technische Seite'!B544","v":"F5.1"},{"$f":"'Technische Seite'!C544","v":2},{"$f":"VLOOKUP(E529,'Technische Seite'!$AU$544:$BD$548,6,0)","v":3},{"$f":"IF(G529=\"-\",\"n.a.\",IF(F529-G529>-1,\"konform\",\"Ergebnis verbessern\"))","v":"Ergebnis verbessern"},null,{"$f":"VLOOKUP(E529,'Kapitel 5'!$C$6:$D$89,2,0)","v":"In welcher Weise bezieht die Organisation die für sie relevanten externen Anspruchsgruppen („stakeholder“) ein und wird deren Erwartungen gerecht?"}]
[null,null,null,null,{"$f":"'Technische Seite'!B545","v":"F5.2"},{"$f":"'Technische Seite'!C545","v":1},{"$f":"VLOOKUP(E530,'Technische Seite'!$AU$544:$BD$548,6,0)","v":"-"},{"$f":"IF(G530=\"-\",\"n.a.\",IF(F530-G530>-1,\"compliant\",\"increase score\"))","v":"n.a."},null,{"$f":"VLOOKUP(E530,'Kapitel 5'!$C$6:$D$89,2,0)","v":"In welcher Weise führt die Organisation einen Dialog mit der Öffentlichkeit, Behörden und anderen interessierten Kreisen (einschließlich örtlichen Gemeinden/Anwohnern und Kunden) über die Leistung ihrer Aktivitäten, Produkte und Dienstleistungen in den Bereichen Gesundheit, Sicherheit, Umwelt, Energie & Nachhaltigkeit?\n"}]
[null,null,null,null,{"$f":"'Technische Seite'!B546","v":"F5.3"},{"$f":"'Technische Seite'!C546","v":2},{"$f":"VLOOKUP(E531,'Technische Seite'!$AU$544:$BD$548,6,0)","v":"-"},"n.a.",null,{"$f":"VLOOKUP(E531,'Kapitel 5'!$C$6:$D$89,2,0)","v":"In welcher Weise vermittelt die Organisation Informationen aus den Bereichen Gesundheit, Sicherheit, Umwelt, Energie & Nachhaltigkeit?"}]
[null,null,null,null,{"$f":"'Technische Seite'!B547","v":"F5.4"},{"$f":"'Technische Seite'!C547","v":1},{"$f":"VLOOKUP(E532,'Technische Seite'!$AU$544:$BD$548,6,0)","v":"-"},"n.a.",null,{"$f":"VLOOKUP(E532,'Kapitel 5'!$C$6:$D$89,2,0)","v":"In welcher Weise unterstützt die Organisation örtliche Gemeinden/Anwohner („local communities“)?"}]
[null,null,null,null,{"$f":"'Technische Seite'!B548","v":"F5.5"},{"$f":"'Technische Seite'!C548","v":2},{"$f":"VLOOKUP(E533,'Technische Seite'!$AU$544:$BD$548,6,0)","v":"-"},"n.a.",null,{"$f":"VLOOKUP(E533,'Kapitel 5'!$C$6:$D$89,2,0)","v":"In welcher Weise fördert die Organisation Beschäftigung und Bildung vor Ort?"}]
[null,null,null,null,"KAPITEL 6 : Beitrag zur Nachhaltigkeit"]
[null,null,null,null,{"$f":"'Technische Seite'!B584","v":"F6.1"},{"$f":"'Technische Seite'!C584","v":2},{"$f":"VLOOKUP(E535,'Technische Seite'!$AU$584:$BD$600,6,0)","v":"-"},{"$f":"IF(G535=\"-\",\"n.a.\",IF(F535-G535>-1,\"compliant\",\"increase score\"))","v":"n.a."},null,{"$f":"VLOOKUP(E535,'Kapitel 6'!$C$6:$D$120,2,0)","v":"Wie definiert das Unternehmen relevante Themen und Wesentlichkeiten?"}]
[null,null,null,null,{"$f":"'Technische Seite'!B585","v":"F6.2"},{"$f":"'Technische Seite'!C585","v":1},{"$f":"VLOOKUP(E536,'Technische Seite'!$AU$584:$BD$600,6,0)","v":"-"},{"$f":"IF(G536=\"-\",\"n.a.\",IF(F536-G536>-1,\"compliant\",\"increase score\"))","v":"n.a."},null,{"$f":"VLOOKUP(E536,'Kapitel 6'!$C$6:$D$120,2,0)","v":"Welche Pläne hat die Organisation zum Beitrag für eine nachhaltige Entwicklung? "}]
[null,null,null,null,{"$f":"'Technische Seite'!B586","v":"F6.3"},{"$f":"'Technische Seite'!C586","v":1},{"$f":"VLOOKUP(E537,'Technische Seite'!$AU$584:$BD$600,6,0)","v":"-"},"n.a.",null,{"$f":"VLOOKUP(E537,'Kapitel 6'!$C$6:$D$120,2,0)","v":"Wie steht es bei der Organisation mit der Einbeziehung von Stakeholdern bei Nachhaltigkeit?"}]
[null,null,null,null,{"$f":"'Technische Seite'!B587","v":"F6.4"},{"$f":"'Technische Seite'!C587","v":1},{"$f":"VLOOKUP(E538,'Technische Seite'!$AU$584:$BD$600,6,0)","v":"-"},"n.a.",null,{"$f":"VLOOKUP(E538,'Kapitel 6'!$C$6:$D$120,2,0)","v":"Verfügt die Organisation über einen Prozess für die Entwicklung von Produkten mit besseren Nachhaltigkeitsergebnissen?"}]
[null,null,null,null,{"$f":"'Technische Seite'!B588","v":"F6.5"},{"$f":"'Technische Seite'!C588","v":1},{"$f":"VLOOKUP(E539,'Technische Seite'!$AU$584:$BD$600,6,0)","v":"-"},"n.a.",null,{"$f":"VLOOKUP(E539,'Kapitel 6'!$C$6:$D$120,2,0)","v":"Wie verbessert die Organisation die Ressourceneffizienz in ihren Produktionsprozessen? "}]
[null,null,null,null,{"$f":"'Technische Seite'!B589","v":"F6.6"},{"$f":"'Technische Seite'!C589","v":1},{"$f":"VLOOKUP(E540,'Technische Seite'!$AU$584:$BD$600,6,0)","v":"-"},"n.a.",null,{"$f":"VLOOKUP(E540,'Kapitel 6'!$C$6:$D$120,2,0)","v":"Wie fördert die Organisation die Kreislaufwirtschaft durch ihre Produkte?"}]
[null,null,null,null,{"$f":"'Technische Seite'!B590","v":"F6.7"},{"$f":"'Technische Seite'!C590","v":1},{"$f":"VLOOKUP(E541,'Technische Seite'!$AU$584:$BD$600,6,0)","v":"-"},"n.a.",null,{"$f":"VLOOKUP(E541,'Kapitel 6'!$C$6:$D$120,2,0)","v":"Wie fördert die Organisation Innovation für die Entwicklung von Produkten und Lösungen, die mit den Herausforderungen der Nachhaltigkeit in Einklang stehen?"}]
[null,null,null,null,{"$f":"'Technische Seite'!B591","v":"F6.8"},{"$f":"'Technische Seite'!C591","v":1},{"$f":"VLOOKUP(E542,'Technische Seite'!$AU$584:$BD$600,6,0)","v":"-"},"n.a.",null,{"$f":"VLOOKUP(E542,'Kapitel 6'!$C$6:$D$120,2,0)","v":"Wie fördert die Organisation Innovationspanels und Kooperationen?"}]
[null,null,null,null,{"$f":"'Technische Seite'!B592","v":"F6.9"},{"$f":"'Technische Seite'!C592","v":2},{"$f":"VLOOKUP(E543,'Technische Seite'!$AU$584:$BD$600,6,0)","v":"-"},"n.a.",null,{"$f":"VLOOKUP(E543,'Kapitel 6'!$C$6:$D$120,2,0)","v":"Wie fördert die Organisation nachhaltiges Verbrauchsverhalten?"}]
[null,null,null,null,{"$f":"'Technische Seite'!B593","v":"F6.10"},{"$f":"'Technische Seite'!C593","v":1},{"$f":"VLOOKUP(E544,'Technische Seite'!$AU$584:$BD$600,6,0)","v":"-"},"n.a.",null,{"$f":"VLOOKUP(E544,'Kapitel 6'!$C$6:$D$120,2,0)","v":"Wie kontrolliert und optimiert die Organisation den Wasserverbrauch?"}]
[null,null,null,null,{"$f":"'Technische Seite'!B594","v":"F6.11"},{"$f":"'Technische Seite'!C594","v":1},{"$f":"VLOOKUP(E545,'Technische Seite'!$AU$584:$BD$600,6,0)","v":"-"},"n.a.",null,{"$f":"VLOOKUP(E545,'Kapitel 6'!$C$6:$D$120,2,0)","v":"Wie werden die Auswirkungen der Organisation auf die Biodiversität und die Ökosystemleistungen gehandhabt?"}]
[null,null,null,null,{"$f":"'Technische Seite'!B595","v":"F6.12"},{"$f":"'Technische Seite'!C595","v":2},{"$f":"VLOOKUP(E546,'Technische Seite'!$AU$584:$BD$600,6,0)","v":"-"},"n.a.",null,{"$f":"VLOOKUP(E546,'Kapitel 6'!$C$6:$D$120,2,0)","v":"Wie berücksichtigt die Organisation ihre Abhängigkeit von Ökosystemleistungen?"}]
[null,null,null,null,{"$f":"'Technische Seite'!B596","v":"F6.13"},{"$f":"'Technische Seite'!C596","v":1},{"$f":"VLOOKUP(E547,'Technische Seite'!$AU$584:$BD$600,6,0)","v":4},{"$f":"IF(G547=\"-\",\"n.a.\",IF(F547-G547>-1,\"konform\",\"Ergebnis verbessern\"))","v":"Ergebnis verbessern"},null,{"$f":"VLOOKUP(E547,'Kapitel 6'!$C$6:$D$120,2,0)","v":"Wie handhabt die Organisation ihre Energieeffizienz?"}]
[null,null,null,null,{"$f":"'Technische Seite'!B597","v":"F6.14"},{"$f":"'Technische Seite'!C597","v":2},{"$f":"VLOOKUP(E548,'Technische Seite'!$AU$584:$BD$600,6,0)","v":"-"},"n.a.",null,{"$f":"VLOOKUP(E548,'Kapitel 6'!$C$6:$D$120,2,0)","v":"Wie handhabt die Organisation ihre Emissionen von Treibhausgasen (THG) (anders als durch Energieeinsparung)?"}]
[null,null,null,null,{"$f":"'Technische Seite'!B598","v":"F6.15"},{"$f":"'Technische Seite'!C598","v":1},{"$f":"VLOOKUP(E549,'Technische Seite'!$AU$584:$BD$600,6,0)","v":"-"},"n.a.",null,{"$f":"VLOOKUP(E549,'Kapitel 6'!$C$6:$D$120,2,0)","v":"Welche Strategie hat die Organisation zur Reduzierung von THG-Emissionen?"}]
[null,null,null,null,{"$f":"'Technische Seite'!B599","v":"F6.16"},{"$f":"'Technische Seite'!C599","v":2},{"$f":"VLOOKUP(E550,'Technische Seite'!$AU$584:$BD$600,6,0)","v":"-"},"n.a.",null,{"$f":"VLOOKUP(E550,'Kapitel 6'!$C$6:$D$120,2,0)","v":"Wie bereitet sich die Organisation auf den Klimawandel vor? "}]
[null,null,null,null,{"$f":"'Technische Seite'!B600","v":"F6.17"},{"$f":"'Technische Seite'!C600","v":1},{"$f":"VLOOKUP(E551,'Technische Seite'!$AU$584:$BD$600,6,0)","v":"-"},"n.a.",null,{"$f":"VLOOKUP(E551,'Kapitel 6'!$C$6:$D$120,2,0)","v":"In welcher Weise gewährleistet die Organisation Chancengleichheit bei der Einstellung und während der gesamten beruflichen Laufbahn aller?"}]
[]
[null,null,"Bericht über den Abstand zur Einhaltung von  EMAS"]
[null,null,null,null,null,"Ihre Bewertung ","Mindestbewertung für EMAS"]
[null,null,null,null,"KAPITEL 1: Führungskultur im Unternehmen"]
[null,null,null,null,{"$f":"'Technische Seite'!B10","v":"F1.1"},{"$f":"'Technische Seite'!C10","v":1},{"$f":"VLOOKUP(E556,'Technische Seite'!$AU$10:$BD$25,7,0)","v":3},{"$f":"IF(G556=\"-\",\"n.a.\",IF(F556-G556>-1,\"konform\",\"Ergebnis verbessern\"))","v":"Ergebnis verbessern"},null,{"$f":"VLOOKUP(E556,'Kapitel 1'!$C$6:$D$112,2,0)","v":"In welcher Weise wird die Verpflichtung zur Einhaltung gesetzlicher und sonstiger Vorschriften („Compliance“) sowie der Grundsätze von Responsible Care (d. h. Schutz und Förderung der Gesundheit & Sicherheit von Menschen und Umwelt sowie Nachhaltigkeit) auf allen Ebenen der Organisation dargelegt?"}]
[null,null,null,null,{"$f":"'Technische Seite'!B11","v":"F1.2"},{"$f":"'Technische Seite'!C11","v":1},{"$f":"VLOOKUP(E557,'Technische Seite'!$AU$10:$BD$25,7,0)","v":3},{"$f":"IF(G557=\"-\",\"n.a.\",IF(F557-G557>-1,\"konform\",\"Ergebnis verbessern\"))","v":"Ergebnis verbessern"},null,{"$f":"VLOOKUP(E557,'Kapitel 1'!$C$6:$D$112,2,0)","v":"Wie steuert die Organisation die relevanten Risiken und Chancen?"}]
[null,null,null,null,{"$f":"'Technische Seite'!B12","v":"F1.3"},{"$f":"'Technische Seite'!C12","v":2},{"$f":"VLOOKUP(E558,'Technische Seite'!$AU$10:$BD$25,7,0)","v":2},{"$f":"IF(G558=\"-\",\"n.a.\",IF(F558-G558>-1,\"konform\",\"Ergebnis verbessern\"))","v":"konform"},null,{"$f":"VLOOKUP(E558,'Kapitel 1'!$C$6:$D$112,2,0)","v":"In welcher Weise erfüllt die Organisation ihre gesetzlichen Verpflichtungen?"}]
[null,null,null,null,{"$f":"'Technische Seite'!B13","v":"F1.4"},{"$f":"'Technische Seite'!C13","v":2},{"$f":"VLOOKUP(E559,'Technische Seite'!$AU$10:$BD$25,7,0)","v":2},{"$f":"IF(G559=\"-\",\"n.a.\",IF(F559-G559>-1,\"konform\",\"Ergebnis verbessern\"))","v":"konform"},null,{"$f":"VLOOKUP(E559,'Kapitel 1'!$C$6:$D$112,2,0)","v":"Wie stellt die oberste Führungsebene („top management“) sicher, dass Aspekte aus den Bereichen Gesundheit, Sicherheit, Umwelt, Energie & Nachhaltigkeit bestimmten Funktionen zugeordnet sind?"}]
[null,null,null,null,{"$f":"'Technische Seite'!B14","v":"F1.5"},{"$f":"'Technische Seite'!C14","v":3},{"$f":"VLOOKUP(E560,'Technische Seite'!$AU$10:$BD$25,7,0)","v":3},{"$f":"IF(G560=\"-\",\"n.a.\",IF(F560-G560>-1,\"konform\",\"Ergebnis verbessern\"))","v":"konform"},null,{"$f":"VLOOKUP(E560,'Kapitel 1'!$C$6:$D$112,2,0)","v":"In welcher Weise ist der Vorstand/die Geschäftsleitung der Organisation in den Umgang mit Fragen und Problemen („issues“) in den Bereichen Gesundheit, Sicherheit, Umwelt, Energie & Nachhaltigkeit eingebunden?"}]
[null,null,null,null,{"$f":"'Technische Seite'!B15","v":"F1.6"},{"$f":"'Technische Seite'!C15","v":4},{"$f":"VLOOKUP(E561,'Technische Seite'!$AU$10:$BD$25,7,0)","v":"-"},{"$f":"IF(G561=\"-\",\"n.a.\",IF(F561-G561>-1,\"compliant\",\"increase score\"))","v":"n.a."},null,{"$f":"VLOOKUP(E561,'Kapitel 1'!$C$6:$D$112,2,0)","v":"Wie werden Verantwortlichkeiten in den Bereichen Gesundheit, Sicherheit, Umwelt, Energie & Nachhaltigkeit in Arbeitsplatzbeschreibungen oder Jahresziele integriert?"}]
[null,null,null,null,{"$f":"'Technische Seite'!B16","v":"F1.7"},{"$f":"'Technische Seite'!C16","v":1},{"$f":"VLOOKUP(E562,'Technische Seite'!$AU$10:$BD$25,7,0)","v":4},{"$f":"IF(G562=\"-\",\"n.a.\",IF(F562-G562>-1,\"konform\",\"Ergebnis verbessern\"))","v":"Ergebnis verbessern"},null,{"$f":"VLOOKUP(E562,'Kapitel 1'!$C$6:$D$112,2,0)","v":"Wie werden (Kern-)Prozesse in den Bereichen Gesundheit, Sicherheit, Umwelt, Energie & Nachhaltigkeit gelenkt?"}]
[null,null,null,null,{"$f":"'Technische Seite'!B17","v":"F1.8"},{"$f":"'Technische Seite'!C17","v":2},{"$f":"VLOOKUP(E563,'Technische Seite'!$AU$10:$BD$25,7,0)","v":3},"Ergebnis verbessern",null,{"$f":"VLOOKUP(E563,'Kapitel 1'!$C$6:$D$112,2,0)","v":"In welche Weise stellt die oberste Führungsebene eine kontinuierliche Verbesserung der Leistung in den Bereichen Gesundheit, Sicherheit, Umwelt, Energie & Nachhaltigkeit sicher?"}]
[null,null,null,null,{"$f":"'Technische Seite'!B18","v":"F1.9"},{"$f":"'Technische Seite'!C18","v":1},{"$f":"VLOOKUP(E564,'Technische Seite'!$AU$10:$BD$25,7,0)","v":3},"Ergebnis verbessern",null,{"$f":"VLOOKUP(E564,'Kapitel 1'!$C$6:$D$112,2,0)","v":"Wie wird das interne Auditprogramm durchgeführt?"}]
[null,null,null,null,{"$f":"'Technische Seite'!B19","v":"F1.10"},{"$f":"'Technische Seite'!C19","v":3},{"$f":"VLOOKUP(E565,'Technische Seite'!$AU$10:$BD$25,7,0)","v":3},"konform",null,{"$f":"VLOOKUP(E565,'Kapitel 1'!$C$6:$D$112,2,0)","v":"Wie werden Vorfälle untersucht?"}]
[null,null,null,null,{"$f":"'Technische Seite'!B20","v":"F1.11"},{"$f":"'Technische Seite'!C20","v":3},{"$f":"VLOOKUP(E566,'Technische Seite'!$AU$10:$BD$25,7,0)","v":3},"konform",null,{"$f":"VLOOKUP(E566,'Kapitel 1'!$C$6:$D$112,2,0)","v":"In welcher Weise stellt die Organisation die benötigten Verfahren, zeitlichen Mittel und Ressourcen bereit, um Management-Prozesse in den Bereichen Gesundheit, Sicherheit, Umwelt, Energie & Nachhaltigkeit zu verbessern?"}]
[null,null,null,null,{"$f":"'Technische Seite'!B21","v":"F1.12"},{"$f":"'Technische Seite'!C21","v":2},{"$f":"VLOOKUP(E567,'Technische Seite'!$AU$10:$BD$25,7,0)","v":3},"Ergebnis verbessern",null,{"$f":"VLOOKUP(E567,'Kapitel 1'!$C$6:$D$112,2,0)","v":"Wie stellt die Organisation sicher, dass Mitarbeiter über die Unternehmenspolitik und Verfahren in den Bereichen Gesundheit, Sicherheit, Umwelt, Energie & Nachhaltigkeit informiert sind?"}]
[null,null,null,null,{"$f":"'Technische Seite'!B22","v":"F1.13"},{"$f":"'Technische Seite'!C22","v":1},{"$f":"VLOOKUP(E568,'Technische Seite'!$AU$10:$BD$25,7,0)","v":3},"Ergebnis verbessern",null,{"$f":"VLOOKUP(E568,'Kapitel 1'!$C$6:$D$112,2,0)","v":"Wie stellt die Organisation sicher, dass Arbeiter – hinsichtlich der mit ihrer Tätigkeit in Zusammenhang stehenden Aspekten in den Bereichen Gesundheit, Sicherheit, Umwelt, Energie & Nachhaltigkeit – über die erforderlichen Kompetenzen verfügen?"}]
[null,null,null,null,{"$f":"'Technische Seite'!B23","v":"F1.14"},{"$f":"'Technische Seite'!C23","v":4},{"$f":"VLOOKUP(E569,'Technische Seite'!$AU$10:$BD$25,7,0)","v":3},"konform",null,{"$f":"VLOOKUP(E569,'Kapitel 1'!$C$6:$D$112,2,0)","v":"Wie ist die Einbeziehung der Mitarbeiter strukturiert?"}]
[null,null,null,null,{"$f":"'Technische Seite'!B24","v":"F1.15"},{"$f":"'Technische Seite'!C24","v":2},{"$f":"VLOOKUP(E570,'Technische Seite'!$AU$10:$BD$25,7,0)","v":3},"Ergebnis verbessern",null,{"$f":"VLOOKUP(E570,'Kapitel 1'!$C$6:$D$112,2,0)","v":"Wie werden Dokumente aus den Bereichen Gesundheit, Sicherheit, Umwelt, Energie & Nachhaltigkeit verwaltet?"}]
[null,null,null,null,{"$f":"'Technische Seite'!B25","v":"F1.16"},{"$f":"'Technische Seite'!C25","v":2},{"$f":"VLOOKUP(E571,'Technische Seite'!$AU$10:$BD$25,7,0)","v":3},"Ergebnis verbessern",null,{"$f":"VLOOKUP(E571,'Kapitel 1'!$C$6:$D$112,2,0)","v":"In welcher Weise werden Änderungen, die möglicherweise Auswirkungen auf die Bereiche Gesundheit, Sicherheit, Umwelt, Energie & Nachhaltigkeit haben könnten, gesteuert?"}]
[null,null,null,null,"KAPITEL 2: Schutz von Mensch und Umwelt"]
[null,null,null,null,{"$f":"'Technische Seite'!B124","v":"F2.1"},{"$f":"'Technische Seite'!C124","v":1},{"$f":"VLOOKUP(E573,'Technische Seite'!$AU$124:$BD$168,7,0)","v":"-"},"n.a.",null,{"$f":"VLOOKUP(E573,'Kapitel 2'!$C$6:$D$282,2,0)","v":"In welcher Weise verpflichtet sich die Führung der Organisation zu Arbeits- und Gesundheitsschutz?"}]
[null,null,null,null,{"$f":"'Technische Seite'!B125","v":"F2.2"},{"$f":"'Technische Seite'!C125","v":1},{"$f":"VLOOKUP(E574,'Technische Seite'!$AU$124:$BD$168,7,0)","v":"-"},{"$f":"IF(G574=\"-\",\"n.a.\",IF(F574-G574>-1,\"compliant\",\"increase score\"))","v":"n.a."},null,{"$f":"VLOOKUP(E574,'Kapitel 2'!$C$6:$D$282,2,0)","v":"In welcher Weise werden Risiken und Expositionen in den Bereichen Gesundheit & Sicherheit festgestellt?"}]
[null,null,null,null,{"$f":"'Technische Seite'!B126","v":"F2.3"},{"$f":"'Technische Seite'!C126","v":4},{"$f":"VLOOKUP(E575,'Technische Seite'!$AU$124:$BD$168,7,0)","v":"-"},"n.a.",null,{"$f":"VLOOKUP(E575,'Kapitel 2'!$C$6:$D$282,2,0)","v":"In welcher Weise werden die medizinischen Anforderungen bewertet?"}]
[null,null,null,null,{"$f":"'Technische Seite'!B127","v":"F2.4"},{"$f":"'Technische Seite'!C127","v":1},{"$f":"VLOOKUP(E576,'Technische Seite'!$AU$124:$BD$168,7,0)","v":"-"},"n.a.",null,{"$f":"VLOOKUP(E576,'Kapitel 2'!$C$6:$D$282,2,0)","v":"In welcher Weise verbessert die Organisation ihre Leistung in den Bereichen Gesundheit und Sicherheit?"}]
[null,null,null,null,{"$f":"'Technische Seite'!B128","v":"F2.5"},{"$f":"'Technische Seite'!C128","v":2},{"$f":"VLOOKUP(E577,'Technische Seite'!$AU$124:$BD$168,7,0)","v":"-"},"n.a.",null,{"$f":"VLOOKUP(E577,'Kapitel 2'!$C$6:$D$282,2,0)","v":"In welcher Weise werden Wartung und Pflege („maintenance and housekeeping“) gestaltet, um die Sicherheit von Einrichtungen, Anlagen, Werkzeugen und\n(Sicherheits-) Ausrüstungen aufrechtzuerhalten?"}]
[null,null,null,null,{"$f":"'Technische Seite'!B129","v":"F2.6"},{"$f":"'Technische Seite'!C129","v":3},{"$f":"VLOOKUP(E578,'Technische Seite'!$AU$124:$BD$168,7,0)","v":"-"},"n.a.",null,{"$f":"VLOOKUP(E578,'Kapitel 2'!$C$6:$D$282,2,0)","v":"Wie werden die geeignete Auswahl, Wartung und Verwendung von Ausrüstungen in den Bereichen Gesundheit und Sicherheit (z. B. persönliche Schutzausrüstung/PSA) überprüft?"}]
[null,null,null,null,{"$f":"'Technische Seite'!B130","v":"F2.7"},{"$f":"'Technische Seite'!C130","v":1},{"$f":"VLOOKUP(E579,'Technische Seite'!$AU$124:$BD$168,7,0)","v":"-"},"n.a.",null,{"$f":"VLOOKUP(E579,'Kapitel 2'!$C$6:$D$282,2,0)","v":"Wie geht die Organisation mit Stress und Wohlbefinden um?"}]
[null,null,null,null,{"$f":"'Technische Seite'!B131","v":"F2.8"},{"$f":"'Technische Seite'!C131","v":1},{"$f":"VLOOKUP(E580,'Technische Seite'!$AU$124:$BD$168,7,0)","v":"-"},"n.a.",null,{"$f":"VLOOKUP(E580,'Kapitel 2'!$C$6:$D$282,2,0)","v":"In welcher Weise werden Verletzungen am Arbeitsplatz, Vorfälle und Beinahe-Vorfälle untersucht?"}]
[null,null,null,null,{"$f":"'Technische Seite'!B132","v":"F2.9"},{"$f":"'Technische Seite'!C132","v":4},{"$f":"VLOOKUP(E581,'Technische Seite'!$AU$124:$BD$168,7,0)","v":"-"},"n.a.",null,{"$f":"VLOOKUP(E581,'Kapitel 2'!$C$6:$D$282,2,0)","v":"Wie ist die Organisation auf Notfälle vorbereitet?"}]
[null,null,null,null,{"$f":"'Technische Seite'!B133","v":"F2.10"},{"$f":"'Technische Seite'!C133","v":1},{"$f":"VLOOKUP(E582,'Technische Seite'!$AU$124:$BD$168,7,0)","v":3},{"$f":"IF(G582=\"-\",\"n.a.\",IF(F582-G582>-1,\"konform\",\"Ergebnis verbessern\"))","v":"Ergebnis verbessern"},null,{"$f":"VLOOKUP(E582,'Kapitel 2'!$C$6:$D$282,2,0)","v":"In welcher Weise stellt die Organisation sicher, dass alle Mitarbeiter hinsichtlich der Gesundheits- und Sicherheitsanforderungen, die mit ihrer Tätigkeit in Zusammenhang stehen, über die geeigneten Kompetenzen verfügen?"}]
[null,null,null,null,{"$f":"'Technische Seite'!B134","v":"F2.11"},{"$f":"'Technische Seite'!C134","v":2},{"$f":"VLOOKUP(E583,'Technische Seite'!$AU$124:$BD$168,7,0)","v":"-"},"n.a.",null,{"$f":"VLOOKUP(E583,'Kapitel 2'!$C$6:$D$282,2,0)","v":"Wie verpflichtet sich die Unternehmensleitung zur Verfahrenssicherheit?"}]
[null,null,null,null,{"$f":"'Technische Seite'!B135","v":"F2.12"},{"$f":"'Technische Seite'!C135","v":1},{"$f":"VLOOKUP(E584,'Technische Seite'!$AU$124:$BD$168,7,0)","v":"-"},"n.a.",null,{"$f":"VLOOKUP(E584,'Kapitel 2'!$C$6:$D$282,2,0)","v":"In welcher Weise werden die Identifizierung und Beschreibung der Sicherheit von Verfahren, Ausrüstungen und Standorten der Organisation vorbereitet?"}]
[null,null,null,null,{"$f":"'Technische Seite'!B136","v":"F2.13"},{"$f":"'Technische Seite'!C136","v":2},{"$f":"VLOOKUP(E585,'Technische Seite'!$AU$124:$BD$168,7,0)","v":"-"},"n.a.",null,{"$f":"VLOOKUP(E585,'Kapitel 2'!$C$6:$D$282,2,0)","v":"In welcher Weise werden Verbesserungen im Bereich Verfahrenssicherheit aufgrund von Vorfällen und Unfällen vorgenommen?"}]
[null,null,null,null,{"$f":"'Technische Seite'!B137","v":"F2.14"},{"$f":"'Technische Seite'!C137","v":3},{"$f":"VLOOKUP(E586,'Technische Seite'!$AU$124:$BD$168,7,0)","v":"-"},"n.a.",null,{"$f":"VLOOKUP(E586,'Kapitel 2'!$C$6:$D$282,2,0)","v":"Wie werden Audits und Inspektionen im Bereich Verfahrenssicherheit durchgeführt?"}]
[null,null,null,null,{"$f":"'Technische Seite'!B138","v":"F2.15"},{"$f":"'Technische Seite'!C138","v":1},{"$f":"VLOOKUP(E587,'Technische Seite'!$AU$124:$BD$168,7,0)","v":"-"},"n.a.",null,{"$f":"VLOOKUP(E587,'Kapitel 2'!$C$6:$D$282,2,0)","v":"Wie werden Arbeitsanweisungen kontrolliert und verbessert?"}]
[null,null,null,null,{"$f":"'Technische Seite'!B139","v":"F2.16"},{"$f":"'Technische Seite'!C139","v":1},{"$f":"VLOOKUP(E588,'Technische Seite'!$AU$124:$BD$168,7,0)","v":"-"},"n.a.",null,{"$f":"VLOOKUP(E588,'Kapitel 2'!$C$6:$D$282,2,0)","v":"Wie wird die Anlagenplanung durchgeführt und dokumentiert?"}]
[null,null,null,null,{"$f":"'Technische Seite'!B140","v":"F2.17"},{"$f":"'Technische Seite'!C140","v":4},{"$f":"VLOOKUP(E589,'Technische Seite'!$AU$124:$BD$168,7,0)","v":"-"},"n.a.",null,{"$f":"VLOOKUP(E589,'Kapitel 2'!$C$6:$D$282,2,0)","v":"In welcher Weise wird der Aufbau der Anlage kontrolliert?"}]
[null,null,null,null,{"$f":"'Technische Seite'!B141","v":"F2.18"},{"$f":"'Technische Seite'!C141","v":2},{"$f":"VLOOKUP(E590,'Technische Seite'!$AU$124:$BD$168,7,0)","v":"-"},"n.a.",null,{"$f":"VLOOKUP(E590,'Kapitel 2'!$C$6:$D$282,2,0)","v":"Wie wird „Schutz“ in Anlagen integriert, um zuverlässig zu verhindern, dass ein einziger Fehler katastrophale Folgen hat?"}]
[null,null,null,null,{"$f":"'Technische Seite'!B142","v":"F2.19"},{"$f":"'Technische Seite'!C142","v":2},{"$f":"VLOOKUP(E591,'Technische Seite'!$AU$124:$BD$168,7,0)","v":"-"},"n.a.",null,{"$f":"VLOOKUP(E591,'Kapitel 2'!$C$6:$D$282,2,0)","v":"Gibt es ein vorbeugendes Wartungs- und Pflegeprogramm („maintenance and housekeeping programme“), um die Sicherheit von Einrichtungen, Werkzeugen/Tools und Ausrüstungen aufrechtzuerhalten?"}]
[null,null,null,null,{"$f":"'Technische Seite'!B143","v":"F2.20"},{"$f":"'Technische Seite'!C143","v":1},{"$f":"VLOOKUP(E592,'Technische Seite'!$AU$124:$BD$168,7,0)","v":"-"},"n.a.",null,{"$f":"VLOOKUP(E592,'Kapitel 2'!$C$6:$D$282,2,0)","v":"Im Fall von Energie- oder Betriebsunterbrechungen – wie werden Verfahren in Notfällen gesteuert?"}]
[null,null,null,null,{"$f":"'Technische Seite'!B144","v":"F2.21"},{"$f":"'Technische Seite'!C144","v":3},{"$f":"VLOOKUP(E593,'Technische Seite'!$AU$124:$BD$168,7,0)","v":"-"},"n.a.",null,{"$f":"VLOOKUP(E593,'Kapitel 2'!$C$6:$D$282,2,0)","v":"Wie werden Notfallpläne erstellt?"}]
[null,null,null,null,{"$f":"'Technische Seite'!B145","v":"F2.22"},{"$f":"'Technische Seite'!C145","v":1},{"$f":"VLOOKUP(E594,'Technische Seite'!$AU$124:$BD$168,7,0)","v":"-"},"n.a.",null,{"$f":"VLOOKUP(E594,'Kapitel 2'!$C$6:$D$282,2,0)","v":"In welcher Weise werden die Kompetenz und Schulung von an den Prozessen beteiligten Mitarbeitern und Fremdfirmen sichergestellt?"}]
[null,null,null,null,{"$f":"'Technische Seite'!B146","v":"F2.23"},{"$f":"'Technische Seite'!C146","v":2},{"$f":"VLOOKUP(E595,'Technische Seite'!$AU$124:$BD$168,7,0)","v":"-"},"n.a.",null,{"$f":"VLOOKUP(E595,'Kapitel 2'!$C$6:$D$282,2,0)","v":"Wie werden Informationen über die Risiken von Stoffen und Zubereitungen gemeinsam genutzt/weitergegeben?"}]
[null,null,null,null,{"$f":"'Technische Seite'!B147","v":"F2.24"},{"$f":"'Technische Seite'!C147","v":3},{"$f":"VLOOKUP(E596,'Technische Seite'!$AU$124:$BD$168,7,0)","v":"-"},"n.a.",null,{"$f":"VLOOKUP(E596,'Kapitel 2'!$C$6:$D$282,2,0)","v":"Wie werden Informationen über das Verfahren gemeinsam genutzt/weitergegeben?"}]
[null,null,null,null,{"$f":"'Technische Seite'!B148","v":"F2.25"},{"$f":"'Technische Seite'!C148","v":2},{"$f":"VLOOKUP(E597,'Technische Seite'!$AU$124:$BD$168,7,0)","v":"-"},"n.a.",null,{"$f":"VLOOKUP(E597,'Kapitel 2'!$C$6:$D$282,2,0)","v":"In welcher Weise bewertet die Organisation ihre Logistikpartner mit Hinblick auf Gesundheit, Sicherheit, Umwelt & Nachhaltigkeit, Energieeffizienz und Treibhausgas(THG)-Emissionen?"}]
[null,null,null,null,{"$f":"'Technische Seite'!B149","v":"F2.26"},{"$f":"'Technische Seite'!C149","v":1},{"$f":"VLOOKUP(E598,'Technische Seite'!$AU$124:$BD$168,7,0)","v":"-"},"n.a.",null,{"$f":"VLOOKUP(E598,'Kapitel 2'!$C$6:$D$282,2,0)","v":"Welche Maßnahmen zur Vermeidung von Transportunfällen bzw. Notfallmaßnahmen im Falle von Transportunfällen ergreift die Organisation?"}]
[null,null,null,null,{"$f":"'Technische Seite'!B150","v":"F2.27"},{"$f":"'Technische Seite'!C150","v":1},{"$f":"VLOOKUP(E599,'Technische Seite'!$AU$124:$BD$168,7,0)","v":"-"},"n.a.",null,{"$f":"VLOOKUP(E599,'Kapitel 2'!$C$6:$D$282,2,0)","v":"In welcher Weise identifiziert die Organisation Sicherheitsprobleme?"}]
[null,null,null,null,{"$f":"'Technische Seite'!B151","v":"F2.28"},{"$f":"'Technische Seite'!C151","v":2},{"$f":"VLOOKUP(E600,'Technische Seite'!$AU$124:$BD$168,7,0)","v":"-"},"n.a.",null,{"$f":"VLOOKUP(E600,'Kapitel 2'!$C$6:$D$282,2,0)","v":"In welcher Weise werden das Betreten/Verlassen des Arbeitsortes und eingeschränkt zugänglicher Bereiche durch Mitarbeiter bzw. der dortige Ein- und Ausgang von Materialien kontrolliert?"}]
[null,null,null,null,{"$f":"'Technische Seite'!B152","v":"F2.29"},{"$f":"'Technische Seite'!C152","v":1},{"$f":"VLOOKUP(E601,'Technische Seite'!$AU$124:$BD$168,7,0)","v":"-"},"n.a.",null,{"$f":"VLOOKUP(E601,'Kapitel 2'!$C$6:$D$282,2,0)","v":"Wie wird Cybersecurity überwacht?"}]
[null,null,null,null,{"$f":"'Technische Seite'!B153","v":"F2.30"},{"$f":"'Technische Seite'!C153","v":1},{"$f":"VLOOKUP(E602,'Technische Seite'!$AU$124:$BD$168,7,0)","v":"-"},"n.a.",null,{"$f":"VLOOKUP(E602,'Kapitel 2'!$C$6:$D$282,2,0)","v":"Wie sind Kommunikation und Informationsaustausch im Falle einer Sicherheitskrise organisiert?"}]
[null,null,null,null,{"$f":"'Technische Seite'!B154","v":"F2.31"},{"$f":"'Technische Seite'!C154","v":3},{"$f":"VLOOKUP(E603,'Technische Seite'!$AU$124:$BD$168,7,0)","v":"-"},"n.a.",null,{"$f":"VLOOKUP(E603,'Kapitel 2'!$C$6:$D$282,2,0)","v":"Wie geht die Organisation mit abnormalem Verhalten (einschließlich Risiken der Radikalisierung) um?"}]
[null,null,null,null,{"$f":"'Technische Seite'!B155","v":"F2.32"},{"$f":"'Technische Seite'!C155","v":1},{"$f":"VLOOKUP(E604,'Technische Seite'!$AU$124:$BD$168,7,0)","v":"-"},"n.a.",null,{"$f":"VLOOKUP(E604,'Kapitel 2'!$C$6:$D$282,2,0)","v":"In welcher Weise weist die Organisation die Mitarbeiter an, in Sicherheitsfragen wachsam zu sein?"}]
[null,null,null,null,{"$f":"'Technische Seite'!B156","v":"F2.33"},{"$f":"'Technische Seite'!C156","v":2},{"$f":"VLOOKUP(E605,'Technische Seite'!$AU$124:$BD$168,7,0)","v":3},{"$f":"IF(G605=\"-\",\"n.a.\",IF(F605-G605>-1,\"konform\",\"Ergebnis verbessern\"))","v":"Ergebnis verbessern"},null,{"$f":"VLOOKUP(E605,'Kapitel 2'!$C$6:$D$282,2,0)","v":"In welcher Weise werden die möglichen Umweltauswirkungen der Aktivitäten der Organisation bewertet?"}]
[null,null,null,null,{"$f":"'Technische Seite'!B157","v":"F2.34"},{"$f":"'Technische Seite'!C157","v":1},{"$f":"VLOOKUP(E606,'Technische Seite'!$AU$124:$BD$168,7,0)","v":4},"Ergebnis verbessern",null,{"$f":"VLOOKUP(E606,'Kapitel 2'!$C$6:$D$282,2,0)","v":"In welcher Weise steuert die Organisation ihre Umweltleistung?"}]
[null,null,null,null,{"$f":"'Technische Seite'!B158","v":"F2.35"},{"$f":"'Technische Seite'!C158","v":2},{"$f":"VLOOKUP(E607,'Technische Seite'!$AU$124:$BD$168,7,0)","v":3},"Ergebnis verbessern",null,{"$f":"VLOOKUP(E607,'Kapitel 2'!$C$6:$D$282,2,0)","v":"Wie geht die Organisation mit Abfall um?"}]
[null,null,null,null,{"$f":"'Technische Seite'!B159","v":"F2.36"},{"$f":"'Technische Seite'!C159","v":1},{"$f":"VLOOKUP(E608,'Technische Seite'!$AU$124:$BD$168,7,0)","v":3},"Ergebnis verbessern",null,{"$f":"VLOOKUP(E608,'Kapitel 2'!$C$6:$D$282,2,0)","v":"Wie geht die Organisation mit Risiken für das Grundwasser um?"}]
[null,null,null,null,{"$f":"'Technische Seite'!B160","v":"F2.37"},{"$f":"'Technische Seite'!C160","v":3},{"$f":"VLOOKUP(E609,'Technische Seite'!$AU$124:$BD$168,7,0)","v":3},"konform",null,{"$f":"VLOOKUP(E609,'Kapitel 2'!$C$6:$D$282,2,0)","v":"Wie geht die Organisation mit den Risiken einer Bodenverschmutzung um?"}]
[null,null,null,null,{"$f":"'Technische Seite'!B161","v":"F2.38"},{"$f":"'Technische Seite'!C161","v":1},{"$f":"VLOOKUP(E610,'Technische Seite'!$AU$124:$BD$168,7,0)","v":3},"Ergebnis verbessern",null,{"$f":"VLOOKUP(E610,'Kapitel 2'!$C$6:$D$282,2,0)","v":"Wie geht die Organisation mit vorhandenen Bodenverschmutzungen um?"}]
[null,null,null,null,{"$f":"'Technische Seite'!B162","v":"F2.39"},{"$f":"'Technische Seite'!C162","v":3},{"$f":"VLOOKUP(E611,'Technische Seite'!$AU$124:$BD$168,7,0)","v":3},"konform",null,{"$f":"VLOOKUP(E611,'Kapitel 2'!$C$6:$D$282,2,0)","v":"Wie geht die Organisation mit ihren Emissionen in die Luft um?"}]
[null,null,null,null,{"$f":"'Technische Seite'!B163","v":"F2.40"},{"$f":"'Technische Seite'!C163","v":1},{"$f":"VLOOKUP(E612,'Technische Seite'!$AU$124:$BD$168,7,0)","v":3},"Ergebnis verbessern",null,{"$f":"VLOOKUP(E612,'Kapitel 2'!$C$6:$D$282,2,0)","v":"Wie geht die Organisation mit ihren Emissionen in Wasser um?"}]
[null,null,null,null,{"$f":"'Technische Seite'!B164","v":"F2.41"},{"$f":"'Technische Seite'!C164","v":3},{"$f":"VLOOKUP(E613,'Technische Seite'!$AU$124:$BD$168,7,0)","v":3},"konform",null,{"$f":"VLOOKUP(E613,'Kapitel 2'!$C$6:$D$282,2,0)","v":"Wie geht die Organisation mit Lärmemissionen um?"}]
[null,null,null,null,{"$f":"'Technische Seite'!B165","v":"F2.42"},{"$f":"'Technische Seite'!C165","v":3},{"$f":"VLOOKUP(E614,'Technische Seite'!$AU$124:$BD$168,7,0)","v":3},"konform",null,{"$f":"VLOOKUP(E614,'Kapitel 2'!$C$6:$D$282,2,0)","v":"Wie geht die Organisation mit Geruchsemissionen um?"}]
[null,null,null,null,{"$f":"'Technische Seite'!B166","v":"F2.43"},{"$f":"'Technische Seite'!C166","v":2},{"$f":"VLOOKUP(E615,'Technische Seite'!$AU$124:$BD$168,7,0)","v":3},"Ergebnis verbessern",null,{"$f":"VLOOKUP(E615,'Kapitel 2'!$C$6:$D$282,2,0)","v":"Wie verhindert die Organisation unfallbedingte Emissionen in die Umwelt und wie geht sie ggf. damit um?"}]
[null,null,null,null,{"$f":"'Technische Seite'!B167","v":"F2.44"},{"$f":"'Technische Seite'!C167","v":3},{"$f":"VLOOKUP(E616,'Technische Seite'!$AU$124:$BD$168,7,0)","v":3},"konform",null,{"$f":"VLOOKUP(E616,'Kapitel 2'!$C$6:$D$282,2,0)","v":"In welcher Weise stellt die Organisation sicher, dass alle Mitarbeiter hinsichtlich der Umweltanforderungen, die mit ihrer Tätigkeit in Zusammenhang stehen, über die geeigneten Kompetenzen verfügen?"}]
[null,null,null,null,{"$f":"'Technische Seite'!B168","v":"F2.45"},{"$f":"'Technische Seite'!C168","v":3},{"$f":"VLOOKUP(E617,'Technische Seite'!$AU$124:$BD$168,7,0)","v":2},"konform",null,{"$f":"VLOOKUP(E617,'Kapitel 2'!$C$6:$D$282,2,0)","v":"Wie werden den Interessensgruppen („stakeholder“) der Organisation die Umweltaspekte und deren mögliche Auswirkungen bewusst gemacht?"}]
[null,null,null,null,"KAPITEL 3 : Stärkung von Managementsystemen im Chemikalienbereich"]
[null,null,null,null,{"$f":"'Technische Seite'!$B$406","v":"F3.1"},{"$f":"'Technische Seite'!$C$406","v":1},{"$f":"VLOOKUP(E619,'Technische Seite'!$AU$406:$BD$418,7,0)","v":"-"},{"$f":"IF(G619=\"-\",\"n.a.\",IF(F619-G619>-1,\"compliant\",\"increase score\"))","v":"n.a."},null,{"$f":"VLOOKUP(E619,'Kapitel 3'!$C$6:$D$89,2,0)","v":"Verfügt die Organisation über ein Verfahren für das Design\n und die Entwicklung neuer Produkte und Dienstleistungen?"}]
[null,null,null,null,{"$f":"'Technische Seite'!$B$407","v":"F3.2"},{"$f":"'Technische Seite'!$C$407","v":2},{"$f":"VLOOKUP(E620,'Technische Seite'!$AU$406:$BD$418,7,0)","v":"-"},"n.a.",null,{"$f":"VLOOKUP(E620,'Kapitel 3'!$C$6:$D$89,2,0)","v":"Verfügt die Organisation über ein Verfahren, um ihre Produkte mit Hinblick auf Risikocharakterisierung und Risikomanagement zu bewerten und zu priorisieren?"}]
[null,null,null,null,{"$f":"'Technische Seite'!$B$408","v":"F3.3"},{"$f":"'Technische Seite'!$C$408","v":1},{"$f":"VLOOKUP(E621,'Technische Seite'!$AU$406:$BD$418,7,0)","v":"-"},"n.a.",null,{"$f":"VLOOKUP(E621,'Kapitel 3'!$C$6:$D$89,2,0)","v":"Verfügt die Organisation über ein System, um die Anwendbarkeit sowie Änderungen und Einhaltung von internen und externen Anforderungen in Zusammenhang mit dem Sicherheitsmanagement von Chemikalien zu verfolgen/nachzuverfolgen?"}]
[null,null,null,null,{"$f":"'Technische Seite'!$B$409","v":"F3.4"},{"$f":"'Technische Seite'!$C$409","v":1},{"$f":"VLOOKUP(E622,'Technische Seite'!$AU$406:$BD$418,7,0)","v":"-"},"n.a.",null,{"$f":"VLOOKUP(E622,'Kapitel 3'!$C$6:$D$89,2,0)","v":"Verfügt die Organisation über ein Verfahren zum Umgang mit vorhandenen Gefahreninformationen in Zusammenhang mit ihren Produkten?"}]
[null,null,null,null,{"$f":"'Technische Seite'!$B$410","v":"F3.5"},{"$f":"'Technische Seite'!$C$410","v":1},{"$f":"VLOOKUP(E623,'Technische Seite'!$AU$406:$BD$418,7,0)","v":"-"},"n.a.",null,{"$f":"VLOOKUP(E623,'Kapitel 3'!$C$6:$D$89,2,0)","v":"Verfügt die Organisation über ein Verfahren für den Umgang mit Informationen über die Verwendung von und die Exposition durch ihre Produkte?"}]
[null,null,null,null,{"$f":"'Technische Seite'!$B$411","v":"F3.6"},{"$f":"'Technische Seite'!$C$411","v":1},{"$f":"VLOOKUP(E624,'Technische Seite'!$AU$406:$BD$418,7,0)","v":"-"},"n.a.",null,{"$f":"VLOOKUP(E624,'Kapitel 3'!$C$6:$D$89,2,0)","v":"Verfügt die Organisation über ein Verfahren für den Umgang mit neuen Informationen?"}]
[null,null,null,null,{"$f":"'Technische Seite'!$B$412","v":"Q3.7"},{"$f":"'Technische Seite'!$C$412","v":1},{"$f":"VLOOKUP(E625,'Technische Seite'!$AU$406:$BD$418,7,0)","v":"-"},"n.a.",null,{"$f":"VLOOKUP(E625,'Kapitel 3'!$C$6:$D$89,2,0)","v":"Verfügt die Organisation über ein Verfahren zur Risikocharakterisierung auf der Grundlage der gesammelten Informationen?"}]
[null,null,null,null,{"$f":"'Technische Seite'!$B$413","v":"F3.8"},{"$f":"'Technische Seite'!$C$413","v":1},{"$f":"VLOOKUP(E626,'Technische Seite'!$AU$406:$BD$418,7,0)","v":"-"},"n.a.",null,{"$f":"VLOOKUP(E626,'Kapitel 3'!$C$6:$D$89,2,0)","v":"Verfügt die Organisation über ein Verfahren zum Risikomanagement auf der Grundlage der gesammelten Informationen?"}]
[null,null,null,null,{"$f":"'Technische Seite'!$B$414","v":"F3.9"},{"$f":"'Technische Seite'!$C$414","v":2},{"$f":"VLOOKUP(E627,'Technische Seite'!$AU$406:$BD$418,7,0)","v":"-"},"n.a.",null,{"$f":"VLOOKUP(E627,'Kapitel 3'!$C$6:$D$89,2,0)","v":"Verfügt die Organisation über ein effizientes Verfahren, um ihre Produkte nach deren Lieferung nachzuverfolgen und Korrekturmaßnahmen durchzuführen?"}]
[null,null,null,null,{"$f":"'Technische Seite'!$B$415","v":"F3.10"},{"$f":"'Technische Seite'!$C$415","v":2},{"$f":"VLOOKUP(E628,'Technische Seite'!$AU$406:$BD$418,7,0)","v":"-"},"n.a.",null,{"$f":"VLOOKUP(E628,'Kapitel 3'!$C$6:$D$89,2,0)","v":"Kommuniziert die Organisation effizient in der Lieferkette hinsichtlich der für ihre Produkte notwendigen Maßnahmen des Risikomanagements?\n"}]
[null,null,null,null,"KAPITEL 4: Einbeziehung von Geschäftspartnern"]
[null,null,null,null,{"$f":"'Technische Seite'!B482","v":"F4.1"},{"$f":"'Technische Seite'!C482","v":1},{"$f":"VLOOKUP(E630,'Technische Seite'!$AU$482:$BD$489,7,0)","v":"-"},{"$f":"IF(G630=\"-\",\"n.a.\",IF(F630-G630>-1,\"compliant\",\"increase score\"))","v":"n.a."},null,{"$f":"VLOOKUP(E630,'Kapitel 4'!$C$6:$D$91,2,0)","v":"In welcher Form hat sich die Organisation einer verantwortungsvollen Beschaffung verpflichtet?"}]
[null,null,null,null,{"$f":"'Technische Seite'!B483","v":"F4.2"},{"$f":"'Technische Seite'!C483","v":2},{"$f":"VLOOKUP(E631,'Technische Seite'!$AU$482:$BD$489,7,0)","v":"-"},{"$f":"IF(G631=\"-\",\"n.a.\",IF(F631-G631>-1,\"compliant\",\"increase score\"))","v":"n.a."},null,{"$f":"VLOOKUP(E631,'Kapitel 4'!$C$6:$D$91,2,0)","v":"In welcher Weise steigert die Organisation die Zusammenarbeit mit der Wertschöpfungskette?"}]
[null,null,null,null,{"$f":"'Technische Seite'!B484","v":"F4.3"},{"$f":"'Technische Seite'!C484","v":2},{"$f":"VLOOKUP(E632,'Technische Seite'!$AU$482:$BD$489,7,0)","v":"-"},"n.a.",null,{"$f":"VLOOKUP(E632,'Kapitel 4'!$C$6:$D$91,2,0)","v":"In welcher Weise bringt die Organisation ihre Verpflichtung mit Hinblick auf Geschäftsethik zum Ausdruck?"}]
[null,null,null,null,{"$f":"'Technische Seite'!B485","v":"F4.4"},{"$f":"'Technische Seite'!C485","v":2},{"$f":"VLOOKUP(E633,'Technische Seite'!$AU$482:$BD$489,7,0)","v":"-"},"n.a.",null,{"$f":"VLOOKUP(E633,'Kapitel 4'!$C$6:$D$91,2,0)","v":"Wie berücksichtigt die Organisation soziale Fragen und Menschenrechte in ihrer Zusammenarbeit mit Geschäftspartnern?"}]
[null,null,null,null,{"$f":"'Technische Seite'!B486","v":"F4.5"},{"$f":"'Technische Seite'!C486","v":2},{"$f":"VLOOKUP(E634,'Technische Seite'!$AU$482:$BD$489,7,0)","v":"-"},"n.a.",null,{"$f":"VLOOKUP(E634,'Kapitel 4'!$C$6:$D$91,2,0)","v":"In welcher Weise verhindert die Organisation Kinderarbeit?\n\nDie Organisation\n1.\tverfügt über ein System zur Altersprüfung;\n2.\tbeschäftigt keine Kinder unter 15 Jahren (oder älter; die jeweiligen örtlichen Gesetze sind zu beachten). Berufsausbildungen oder Praktika im Rahmen der Schulbildung bzw. bildungsbezogene Praktika sind die einzigen Ausnahmen;\n3.\tstellt sicher, dass die Beschäftigung von Personen unter 18 Jahren nicht deren Schulbesuch beeinträchtigt (die Gesamtzahl der Stunden für den Weg zur Arbeit und Schule und zurück, Schulbesuch und Arbeitstätigkeit beträgt weniger als 10 Stunden täglich);\n4.\tstellt sicher, dass die Tätigkeit junger Arbeitnehmer nicht geistig, körperlich, sozial oder moralisch gefährlich und schädlich ist."}]
[null,null,null,null,{"$f":"'Technische Seite'!B487","v":"F4.6"},{"$f":"'Technische Seite'!C487","v":2},{"$f":"VLOOKUP(E635,'Technische Seite'!$AU$482:$BD$489,7,0)","v":"-"},"n.a.",null,{"$f":"VLOOKUP(E635,'Kapitel 4'!$C$6:$D$91,2,0)","v":"Wie stellt die Organisation sicher, dass ihre Logistikpartner die Anforderungen der Organisation erfüllen?"}]
[null,null,null,null,{"$f":"'Technische Seite'!B488","v":"F4.7"},{"$f":"'Technische Seite'!C488","v":1},{"$f":"VLOOKUP(E636,'Technische Seite'!$AU$482:$BD$489,7,0)","v":"-"},"n.a.",null,{"$f":"VLOOKUP(E636,'Kapitel 4'!$C$6:$D$91,2,0)","v":"In welcher Weise schützt und sichert die Organisation das Eigentum und die Daten nachgeschalteter Anwender oder externer Anbieter, die zur Nutzung oder Einbeziehung/Einarbeitung in Produkte und Dienstleistungen bereitgestellt werden?"}]
[null,null,null,null,{"$f":"'Technische Seite'!B489","v":"F4.8"},{"$f":"'Technische Seite'!C489","v":2},{"$f":"VLOOKUP(E637,'Technische Seite'!$AU$482:$BD$489,7,0)","v":"-"},"n.a.",null,{"$f":"VLOOKUP(E637,'Kapitel 4'!$C$6:$D$91,2,0)","v":"Was beinhaltet der Dialog mit nachgeschalteten Anwendern?"}]
[null,null,null,null,"KAPITEL 5: Berücksichtigung von Anspruchsgruppen"]
[null,null,null,null,{"$f":"'Technische Seite'!B544","v":"F5.1"},{"$f":"'Technische Seite'!C544","v":2},{"$f":"VLOOKUP(E639,'Technische Seite'!$AU$544:$BD$548,7,0)","v":3},{"$f":"IF(G639=\"-\",\"n.a.\",IF(F639-G639>-1,\"konform\",\"Ergebnis verbessern\"))","v":"Ergebnis verbessern"},null,{"$f":"VLOOKUP(E639,'Kapitel 5'!$C$6:$D$89,2,0)","v":"In welcher Weise bezieht die Organisation die für sie relevanten externen Anspruchsgruppen („stakeholder“) ein und wird deren Erwartungen gerecht?"}]
[null,null,null,null,{"$f":"'Technische Seite'!B545","v":"F5.2"},{"$f":"'Technische Seite'!C545","v":1},{"$f":"VLOOKUP(E640,'Technische Seite'!$AU$544:$BD$548,7,0)","v":3},{"$f":"IF(G640=\"-\",\"n.a.\",IF(F640-G640>-1,\"konform\",\"Ergebnis verbessern\"))","v":"Ergebnis verbessern"},null,{"$f":"VLOOKUP(E640,'Kapitel 5'!$C$6:$D$89,2,0)","v":"In welcher Weise führt die Organisation einen Dialog mit der Öffentlichkeit, Behörden und anderen interessierten Kreisen (einschließlich örtlichen Gemeinden/Anwohnern und Kunden) über die Leistung ihrer Aktivitäten, Produkte und Dienstleistungen in den Bereichen Gesundheit, Sicherheit, Umwelt, Energie & Nachhaltigkeit?\n"}]
[null,null,null,null,{"$f":"'Technische Seite'!B546","v":"F5.3"},{"$f":"'Technische Seite'!C546","v":2},{"$f":"VLOOKUP(E641,'Technische Seite'!$AU$544:$BD$548,7,0)","v":3},{"$f":"IF(G641=\"-\",\"n.a.\",IF(F641-G641>-1,\"konform\",\"Ergebnis verbessern\"))","v":"Ergebnis verbessern"},null,{"$f":"VLOOKUP(E641,'Kapitel 5'!$C$6:$D$89,2,0)","v":"In welcher Weise vermittelt die Organisation Informationen aus den Bereichen Gesundheit, Sicherheit, Umwelt, Energie & Nachhaltigkeit?"}]
[null,null,null,null,{"$f":"'Technische Seite'!B547","v":"F5.4"},{"$f":"'Technische Seite'!C547","v":1},{"$f":"VLOOKUP(E642,'Technische Seite'!$AU$544:$BD$548,7,0)","v":"-"},{"$f":"IF(G642=\"-\",\"n.a.\",IF(F642-G642>-1,\"compliant\",\"increase score\"))","v":"n.a."},null,{"$f":"VLOOKUP(E642,'Kapitel 5'!$C$6:$D$89,2,0)","v":"In welcher Weise unterstützt die Organisation örtliche Gemeinden/Anwohner („local communities“)?"}]
[null,null,null,null,{"$f":"'Technische Seite'!B548","v":"F5.5"},{"$f":"'Technische Seite'!C548","v":2},{"$f":"VLOOKUP(E643,'Technische Seite'!$AU$544:$BD$548,7,0)","v":"-"},"n.a.",null,{"$f":"VLOOKUP(E643,'Kapitel 5'!$C$6:$D$89,2,0)","v":"In welcher Weise fördert die Organisation Beschäftigung und Bildung vor Ort?"}]
[null,null,null,null,"KAPITEL 6 : Beitrag zur Nachhaltigkeit"]
[null,null,null,null,{"$f":"'Technische Seite'!B584","v":"F6.1"},{"$f":"'Technische Seite'!C584","v":2},{"$f":"VLOOKUP(E645,'Technische Seite'!$AU$584:$BD$600,7,0)","v":"-"},{"$f":"IF(G645=\"-\",\"n.a.\",IF(F645-G645>-1,\"compliant\",\"increase score\"))","v":"n.a."},null,{"$f":"VLOOKUP(E645,'Kapitel 6'!$C$6:$D$120,2,0)","v":"Wie definiert das Unternehmen relevante Themen und Wesentlichkeiten?"}]
[null,null,null,null,{"$f":"'Technische Seite'!B585","v":"F6.2"},{"$f":"'Technische Seite'!C585","v":1},{"$f":"VLOOKUP(E646,'Technische Seite'!$AU$584:$BD$600,7,0)","v":"-"},{"$f":"IF(G646=\"-\",\"n.a.\",IF(F646-G646>-1,\"compliant\",\"increase score\"))","v":"n.a."},null,{"$f":"VLOOKUP(E646,'Kapitel 6'!$C$6:$D$120,2,0)","v":"Welche Pläne hat die Organisation zum Beitrag für eine nachhaltige Entwicklung? "}]
[null,null,null,null,{"$f":"'Technische Seite'!B586","v":"F6.3"},{"$f":"'Technische Seite'!C586","v":1},{"$f":"VLOOKUP(E647,'Technische Seite'!$AU$584:$BD$600,7,0)","v":"-"},"n.a.",null,{"$f":"VLOOKUP(E647,'Kapitel 6'!$C$6:$D$120,2,0)","v":"Wie steht es bei der Organisation mit der Einbeziehung von Stakeholdern bei Nachhaltigkeit?"}]
[null,null,null,null,{"$f":"'Technische Seite'!B587","v":"F6.4"},{"$f":"'Technische Seite'!C587","v":1},{"$f":"VLOOKUP(E648,'Technische Seite'!$AU$584:$BD$600,7,0)","v":"-"},"n.a.",null,{"$f":"VLOOKUP(E648,'Kapitel 6'!$C$6:$D$120,2,0)","v":"Verfügt die Organisation über einen Prozess für die Entwicklung von Produkten mit besseren Nachhaltigkeitsergebnissen?"}]
[null,null,null,null,{"$f":"'Technische Seite'!B588","v":"F6.5"},{"$f":"'Technische Seite'!C588","v":1},{"$f":"VLOOKUP(E649,'Technische Seite'!$AU$584:$BD$600,7,0)","v":"-"},"n.a.",null,{"$f":"VLOOKUP(E649,'Kapitel 6'!$C$6:$D$120,2,0)","v":"Wie verbessert die Organisation die Ressourceneffizienz in ihren Produktionsprozessen? "}]
[null,null,null,null,{"$f":"'Technische Seite'!B589","v":"F6.6"},{"$f":"'Technische Seite'!C589","v":1},{"$f":"VLOOKUP(E650,'Technische Seite'!$AU$584:$BD$600,7,0)","v":"-"},"n.a.",null,{"$f":"VLOOKUP(E650,'Kapitel 6'!$C$6:$D$120,2,0)","v":"Wie fördert die Organisation die Kreislaufwirtschaft durch ihre Produkte?"}]
[null,null,null,null,{"$f":"'Technische Seite'!B590","v":"F6.7"},{"$f":"'Technische Seite'!C590","v":1},{"$f":"VLOOKUP(E651,'Technische Seite'!$AU$584:$BD$600,7,0)","v":"-"},"n.a.",null,{"$f":"VLOOKUP(E651,'Kapitel 6'!$C$6:$D$120,2,0)","v":"Wie fördert die Organisation Innovation für die Entwicklung von Produkten und Lösungen, die mit den Herausforderungen der Nachhaltigkeit in Einklang stehen?"}]
[null,null,null,null,{"$f":"'Technische Seite'!B591","v":"F6.8"},{"$f":"'Technische Seite'!C591","v":1},{"$f":"VLOOKUP(E652,'Technische Seite'!$AU$584:$BD$600,7,0)","v":"-"},"n.a.",null,{"$f":"VLOOKUP(E652,'Kapitel 6'!$C$6:$D$120,2,0)","v":"Wie fördert die Organisation Innovationspanels und Kooperationen?"}]
[null,null,null,null,{"$f":"'Technische Seite'!B592","v":"F6.9"},{"$f":"'Technische Seite'!C592","v":2},{"$f":"VLOOKUP(E653,'Technische Seite'!$AU$584:$BD$600,7,0)","v":"-"},"n.a.",null,{"$f":"VLOOKUP(E653,'Kapitel 6'!$C$6:$D$120,2,0)","v":"Wie fördert die Organisation nachhaltiges Verbrauchsverhalten?"}]
[null,null,null,null,{"$f":"'Technische Seite'!B593","v":"F6.10"},{"$f":"'Technische Seite'!C593","v":1},{"$f":"VLOOKUP(E654,'Technische Seite'!$AU$584:$BD$600,7,0)","v":"-"},"n.a.",null,{"$f":"VLOOKUP(E654,'Kapitel 6'!$C$6:$D$120,2,0)","v":"Wie kontrolliert und optimiert die Organisation den Wasserverbrauch?"}]
[null,null,null,null,{"$f":"'Technische Seite'!B594","v":"F6.11"},{"$f":"'Technische Seite'!C594","v":1},{"$f":"VLOOKUP(E655,'Technische Seite'!$AU$584:$BD$600,7,0)","v":"-"},"n.a.",null,{"$f":"VLOOKUP(E655,'Kapitel 6'!$C$6:$D$120,2,0)","v":"Wie werden die Auswirkungen der Organisation auf die Biodiversität und die Ökosystemleistungen gehandhabt?"}]
[null,null,null,null,{"$f":"'Technische Seite'!B595","v":"F6.12"},{"$f":"'Technische Seite'!C595","v":2},{"$f":"VLOOKUP(E656,'Technische Seite'!$AU$584:$BD$600,7,0)","v":"-"},"n.a.",null,{"$f":"VLOOKUP(E656,'Kapitel 6'!$C$6:$D$120,2,0)","v":"Wie berücksichtigt die Organisation ihre Abhängigkeit von Ökosystemleistungen?"}]
[null,null,null,null,{"$f":"'Technische Seite'!B596","v":"F6.13"},{"$f":"'Technische Seite'!C596","v":1},{"$f":"VLOOKUP(E657,'Technische Seite'!$AU$584:$BD$600,7,0)","v":"-"},"n.a.",null,{"$f":"VLOOKUP(E657,'Kapitel 6'!$C$6:$D$120,2,0)","v":"Wie handhabt die Organisation ihre Energieeffizienz?"}]
[null,null,null,null,{"$f":"'Technische Seite'!B597","v":"F6.14"},{"$f":"'Technische Seite'!C597","v":2},{"$f":"VLOOKUP(E658,'Technische Seite'!$AU$584:$BD$600,7,0)","v":"-"},"n.a.",null,{"$f":"VLOOKUP(E658,'Kapitel 6'!$C$6:$D$120,2,0)","v":"Wie handhabt die Organisation ihre Emissionen von Treibhausgasen (THG) (anders als durch Energieeinsparung)?"}]
[null,null,null,null,{"$f":"'Technische Seite'!B598","v":"F6.15"},{"$f":"'Technische Seite'!C598","v":1},{"$f":"VLOOKUP(E659,'Technische Seite'!$AU$584:$BD$600,7,0)","v":"-"},"n.a.",null,{"$f":"VLOOKUP(E659,'Kapitel 6'!$C$6:$D$120,2,0)","v":"Welche Strategie hat die Organisation zur Reduzierung von THG-Emissionen?"}]
[null,null,null,null,{"$f":"'Technische Seite'!B599","v":"F6.16"},{"$f":"'Technische Seite'!C599","v":2},{"$f":"VLOOKUP(E660,'Technische Seite'!$AU$584:$BD$600,7,0)","v":3},{"$f":"IF(G660=\"-\",\"n.a.\",IF(F660-G660>-1,\"konform\",\"Ergebnis verbessern\"))","v":"Ergebnis verbessern"},null,{"$f":"VLOOKUP(E660,'Kapitel 6'!$C$6:$D$120,2,0)","v":"Wie bereitet sich die Organisation auf den Klimawandel vor? "}]
[null,null,null,null,{"$f":"'Technische Seite'!B600","v":"F6.17"},{"$f":"'Technische Seite'!C600","v":1},{"$f":"VLOOKUP(E661,'Technische Seite'!$AU$584:$BD$600,7,0)","v":"-"},"n.a.",null,{"$f":"VLOOKUP(E661,'Kapitel 6'!$C$6:$D$120,2,0)","v":"In welcher Weise gewährleistet die Organisation Chancengleichheit bei der Einstellung und während der gesamten beruflichen Laufbahn aller?"}]
[]
[null,null,"Bericht über den Abstand zur Einhaltung von  RC 14001"]
[null,null,null,null,null,"Ihre Bewertung ","Mindestbewertung für RC 14001"]
[null,null,null,null,"KAPITEL 1: Führungskultur im Unternehmen"]
[null,null,null,null,{"$f":"'Technische Seite'!B10","v":"F1.1"},{"$f":"'Technische Seite'!C10","v":1},{"$f":"VLOOKUP(E666,'Technische Seite'!$AU$10:$BD$25,8,0)","v":3},{"$f":"IF(G666=\"-\",\"n.a.\",IF(F666-G666>-1,\"konform\",\"Ergebnis verbessern\"))","v":"Ergebnis verbessern"},null,{"$f":"VLOOKUP(E666,'Kapitel 1'!$C$6:$D$112,2,0)","v":"In welcher Weise wird die Verpflichtung zur Einhaltung gesetzlicher und sonstiger Vorschriften („Compliance“) sowie der Grundsätze von Responsible Care (d. h. Schutz und Förderung der Gesundheit & Sicherheit von Menschen und Umwelt sowie Nachhaltigkeit) auf allen Ebenen der Organisation dargelegt?"}]
[null,null,null,null,{"$f":"'Technische Seite'!B11","v":"F1.2"},{"$f":"'Technische Seite'!C11","v":1},{"$f":"VLOOKUP(E667,'Technische Seite'!$AU$10:$BD$25,8,0)","v":3},"Ergebnis verbessern",null,{"$f":"VLOOKUP(E667,'Kapitel 1'!$C$6:$D$112,2,0)","v":"Wie steuert die Organisation die relevanten Risiken und Chancen?"}]
[null,null,null,null,{"$f":"'Technische Seite'!B12","v":"F1.3"},{"$f":"'Technische Seite'!C12","v":2},{"$f":"VLOOKUP(E668,'Technische Seite'!$AU$10:$BD$25,8,0)","v":2},"konform",null,{"$f":"VLOOKUP(E668,'Kapitel 1'!$C$6:$D$112,2,0)","v":"In welcher Weise erfüllt die Organisation ihre gesetzlichen Verpflichtungen?"}]
[null,null,null,null,{"$f":"'Technische Seite'!B13","v":"F1.4"},{"$f":"'Technische Seite'!C13","v":2},{"$f":"VLOOKUP(E669,'Technische Seite'!$AU$10:$BD$25,8,0)","v":2},"konform",null,{"$f":"VLOOKUP(E669,'Kapitel 1'!$C$6:$D$112,2,0)","v":"Wie stellt die oberste Führungsebene („top management“) sicher, dass Aspekte aus den Bereichen Gesundheit, Sicherheit, Umwelt, Energie & Nachhaltigkeit bestimmten Funktionen zugeordnet sind?"}]
[null,null,null,null,{"$f":"'Technische Seite'!B14","v":"F1.5"},{"$f":"'Technische Seite'!C14","v":3},{"$f":"VLOOKUP(E670,'Technische Seite'!$AU$10:$BD$25,8,0)","v":3},"konform",null,{"$f":"VLOOKUP(E670,'Kapitel 1'!$C$6:$D$112,2,0)","v":"In welcher Weise ist der Vorstand/die Geschäftsleitung der Organisation in den Umgang mit Fragen und Problemen („issues“) in den Bereichen Gesundheit, Sicherheit, Umwelt, Energie & Nachhaltigkeit eingebunden?"}]
[null,null,null,null,{"$f":"'Technische Seite'!B15","v":"F1.6"},{"$f":"'Technische Seite'!C15","v":4},{"$f":"VLOOKUP(E671,'Technische Seite'!$AU$10:$BD$25,8,0)","v":3},"konform",null,{"$f":"VLOOKUP(E671,'Kapitel 1'!$C$6:$D$112,2,0)","v":"Wie werden Verantwortlichkeiten in den Bereichen Gesundheit, Sicherheit, Umwelt, Energie & Nachhaltigkeit in Arbeitsplatzbeschreibungen oder Jahresziele integriert?"}]
[null,null,null,null,{"$f":"'Technische Seite'!B16","v":"F1.7"},{"$f":"'Technische Seite'!C16","v":1},{"$f":"VLOOKUP(E672,'Technische Seite'!$AU$10:$BD$25,8,0)","v":3},"Ergebnis verbessern",null,{"$f":"VLOOKUP(E672,'Kapitel 1'!$C$6:$D$112,2,0)","v":"Wie werden (Kern-)Prozesse in den Bereichen Gesundheit, Sicherheit, Umwelt, Energie & Nachhaltigkeit gelenkt?"}]
[null,null,null,null,{"$f":"'Technische Seite'!B17","v":"F1.8"},{"$f":"'Technische Seite'!C17","v":2},{"$f":"VLOOKUP(E673,'Technische Seite'!$AU$10:$BD$25,8,0)","v":3},"Ergebnis verbessern",null,{"$f":"VLOOKUP(E673,'Kapitel 1'!$C$6:$D$112,2,0)","v":"In welche Weise stellt die oberste Führungsebene eine kontinuierliche Verbesserung der Leistung in den Bereichen Gesundheit, Sicherheit, Umwelt, Energie & Nachhaltigkeit sicher?"}]
[null,null,null,null,{"$f":"'Technische Seite'!B18","v":"F1.9"},{"$f":"'Technische Seite'!C18","v":1},{"$f":"VLOOKUP(E674,'Technische Seite'!$AU$10:$BD$25,8,0)","v":3},"Ergebnis verbessern",null,{"$f":"VLOOKUP(E674,'Kapitel 1'!$C$6:$D$112,2,0)","v":"Wie wird das interne Auditprogramm durchgeführt?"}]
[null,null,null,null,{"$f":"'Technische Seite'!B19","v":"F1.10"},{"$f":"'Technische Seite'!C19","v":3},{"$f":"VLOOKUP(E675,'Technische Seite'!$AU$10:$BD$25,8,0)","v":3},"konform",null,{"$f":"VLOOKUP(E675,'Kapitel 1'!$C$6:$D$112,2,0)","v":"Wie werden Vorfälle untersucht?"}]
[null,null,null,null,{"$f":"'Technische Seite'!B20","v":"F1.11"},{"$f":"'Technische Seite'!C20","v":3},{"$f":"VLOOKUP(E676,'Technische Seite'!$AU$10:$BD$25,8,0)","v":3},"konform",null,{"$f":"VLOOKUP(E676,'Kapitel 1'!$C$6:$D$112,2,0)","v":"In welcher Weise stellt die Organisation die benötigten Verfahren, zeitlichen Mittel und Ressourcen bereit, um Management-Prozesse in den Bereichen Gesundheit, Sicherheit, Umwelt, Energie & Nachhaltigkeit zu verbessern?"}]
[null,null,null,null,{"$f":"'Technische Seite'!B21","v":"F1.12"},{"$f":"'Technische Seite'!C21","v":2},{"$f":"VLOOKUP(E677,'Technische Seite'!$AU$10:$BD$25,8,0)","v":3},"Ergebnis verbessern",null,{"$f":"VLOOKUP(E677,'Kapitel 1'!$C$6:$D$112,2,0)","v":"Wie stellt die Organisation sicher, dass Mitarbeiter über die Unternehmenspolitik und Verfahren in den Bereichen Gesundheit, Sicherheit, Umwelt, Energie & Nachhaltigkeit informiert sind?"}]
[null,null,null,null,{"$f":"'Technische Seite'!B22","v":"F1.13"},{"$f":"'Technische Seite'!C22","v":1},{"$f":"VLOOKUP(E678,'Technische Seite'!$AU$10:$BD$25,8,0)","v":3},"Ergebnis verbessern",null,{"$f":"VLOOKUP(E678,'Kapitel 1'!$C$6:$D$112,2,0)","v":"Wie stellt die Organisation sicher, dass Arbeiter – hinsichtlich der mit ihrer Tätigkeit in Zusammenhang stehenden Aspekten in den Bereichen Gesundheit, Sicherheit, Umwelt, Energie & Nachhaltigkeit – über die erforderlichen Kompetenzen verfügen?"}]
[null,null,null,null,{"$f":"'Technische Seite'!B23","v":"F1.14"},{"$f":"'Technische Seite'!C23","v":4},{"$f":"VLOOKUP(E679,'Technische Seite'!$AU$10:$BD$25,8,0)","v":2},"konform",null,{"$f":"VLOOKUP(E679,'Kapitel 1'!$C$6:$D$112,2,0)","v":"Wie ist die Einbeziehung der Mitarbeiter strukturiert?"}]
[null,null,null,null,{"$f":"'Technische Seite'!B24","v":"F1.15"},{"$f":"'Technische Seite'!C24","v":2},{"$f":"VLOOKUP(E680,'Technische Seite'!$AU$10:$BD$25,8,0)","v":3},"Ergebnis verbessern",null,{"$f":"VLOOKUP(E680,'Kapitel 1'!$C$6:$D$112,2,0)","v":"Wie werden Dokumente aus den Bereichen Gesundheit, Sicherheit, Umwelt, Energie & Nachhaltigkeit verwaltet?"}]
[null,null,null,null,{"$f":"'Technische Seite'!B25","v":"F1.16"},{"$f":"'Technische Seite'!C25","v":2},{"$f":"VLOOKUP(E681,'Technische Seite'!$AU$10:$BD$25,8,0)","v":3},"Ergebnis verbessern",null,{"$f":"VLOOKUP(E681,'Kapitel 1'!$C$6:$D$112,2,0)","v":"In welcher Weise werden Änderungen, die möglicherweise Auswirkungen auf die Bereiche Gesundheit, Sicherheit, Umwelt, Energie & Nachhaltigkeit haben könnten, gesteuert?"}]
[null,null,null,null,"KAPITEL 2: Schutz von Mensch und Umwelt"]
[null,null,null,null,{"$f":"'Technische Seite'!B124","v":"F2.1"},{"$f":"'Technische Seite'!C124","v":1},{"$f":"VLOOKUP(E683,'Technische Seite'!$AU$124:$BD$168,8,0)","v":2},{"$f":"IF(G683=\"-\",\"n.a.\",IF(F683-G683>-1,\"konform\",\"Ergebnis verbessern\"))","v":"Ergebnis verbessern"},null,{"$f":"VLOOKUP(E683,'Kapitel 2'!$C$6:$D$282,2,0)","v":"In welcher Weise verpflichtet sich die Führung der Organisation zu Arbeits- und Gesundheitsschutz?"}]
[null,null,null,null,{"$f":"'Technische Seite'!B125","v":"F2.2"},{"$f":"'Technische Seite'!C125","v":1},{"$f":"VLOOKUP(E684,'Technische Seite'!$AU$124:$BD$168,8,0)","v":"-"},{"$f":"IF(G684=\"-\",\"n.a.\",IF(F684-G684>-1,\"compliant\",\"increase score\"))","v":"n.a."},null,{"$f":"VLOOKUP(E684,'Kapitel 2'!$C$6:$D$282,2,0)","v":"In welcher Weise werden Risiken und Expositionen in den Bereichen Gesundheit & Sicherheit festgestellt?"}]
[null,null,null,null,{"$f":"'Technische Seite'!B126","v":"F2.3"},{"$f":"'Technische Seite'!C126","v":4},{"$f":"VLOOKUP(E685,'Technische Seite'!$AU$124:$BD$168,8,0)","v":"-"},"n.a.",null,{"$f":"VLOOKUP(E685,'Kapitel 2'!$C$6:$D$282,2,0)","v":"In welcher Weise werden die medizinischen Anforderungen bewertet?"}]
[null,null,null,null,{"$f":"'Technische Seite'!B127","v":"F2.4"},{"$f":"'Technische Seite'!C127","v":1},{"$f":"VLOOKUP(E686,'Technische Seite'!$AU$124:$BD$168,8,0)","v":3},{"$f":"IF(G686=\"-\",\"n.a.\",IF(F686-G686>-1,\"konform\",\"Ergebnis verbessern\"))","v":"Ergebnis verbessern"},null,{"$f":"VLOOKUP(E686,'Kapitel 2'!$C$6:$D$282,2,0)","v":"In welcher Weise verbessert die Organisation ihre Leistung in den Bereichen Gesundheit und Sicherheit?"}]
[null,null,null,null,{"$f":"'Technische Seite'!B128","v":"F2.5"},{"$f":"'Technische Seite'!C128","v":2},{"$f":"VLOOKUP(E687,'Technische Seite'!$AU$124:$BD$168,8,0)","v":"-"},"n.a.",null,{"$f":"VLOOKUP(E687,'Kapitel 2'!$C$6:$D$282,2,0)","v":"In welcher Weise werden Wartung und Pflege („maintenance and housekeeping“) gestaltet, um die Sicherheit von Einrichtungen, Anlagen, Werkzeugen und\n(Sicherheits-) Ausrüstungen aufrechtzuerhalten?"}]
[null,null,null,null,{"$f":"'Technische Seite'!B129","v":"F2.6"},{"$f":"'Technische Seite'!C129","v":3},{"$f":"VLOOKUP(E688,'Technische Seite'!$AU$124:$BD$168,8,0)","v":"-"},"n.a.",null,{"$f":"VLOOKUP(E688,'Kapitel 2'!$C$6:$D$282,2,0)","v":"Wie werden die geeignete Auswahl, Wartung und Verwendung von Ausrüstungen in den Bereichen Gesundheit und Sicherheit (z. B. persönliche Schutzausrüstung/PSA) überprüft?"}]
[null,null,null,null,{"$f":"'Technische Seite'!B130","v":"F2.7"},{"$f":"'Technische Seite'!C130","v":1},{"$f":"VLOOKUP(E689,'Technische Seite'!$AU$124:$BD$168,8,0)","v":3},{"$f":"IF(G689=\"-\",\"n.a.\",IF(F689-G689>-1,\"konform\",\"Ergebnis verbessern\"))","v":"Ergebnis verbessern"},null,{"$f":"VLOOKUP(E689,'Kapitel 2'!$C$6:$D$282,2,0)","v":"Wie geht die Organisation mit Stress und Wohlbefinden um?"}]
[null,null,null,null,{"$f":"'Technische Seite'!B131","v":"F2.8"},{"$f":"'Technische Seite'!C131","v":1},{"$f":"VLOOKUP(E690,'Technische Seite'!$AU$124:$BD$168,8,0)","v":4},{"$f":"IF(G690=\"-\",\"n.a.\",IF(F690-G690>-1,\"konform\",\"Ergebnis verbessern\"))","v":"Ergebnis verbessern"},null,{"$f":"VLOOKUP(E690,'Kapitel 2'!$C$6:$D$282,2,0)","v":"In welcher Weise werden Verletzungen am Arbeitsplatz, Vorfälle und Beinahe-Vorfälle untersucht?"}]
[null,null,null,null,{"$f":"'Technische Seite'!B132","v":"F2.9"},{"$f":"'Technische Seite'!C132","v":4},{"$f":"VLOOKUP(E691,'Technische Seite'!$AU$124:$BD$168,8,0)","v":3},{"$f":"IF(G691=\"-\",\"n.a.\",IF(F691-G691>-1,\"konform\",\"Ergebnis verbessern\"))","v":"konform"},null,{"$f":"VLOOKUP(E691,'Kapitel 2'!$C$6:$D$282,2,0)","v":"Wie ist die Organisation auf Notfälle vorbereitet?"}]
[null,null,null,null,{"$f":"'Technische Seite'!B133","v":"F2.10"},{"$f":"'Technische Seite'!C133","v":1},{"$f":"VLOOKUP(E692,'Technische Seite'!$AU$124:$BD$168,8,0)","v":3},{"$f":"IF(G692=\"-\",\"n.a.\",IF(F692-G692>-1,\"konform\",\"Ergebnis verbessern\"))","v":"Ergebnis verbessern"},null,{"$f":"VLOOKUP(E692,'Kapitel 2'!$C$6:$D$282,2,0)","v":"In welcher Weise stellt die Organisation sicher, dass alle Mitarbeiter hinsichtlich der Gesundheits- und Sicherheitsanforderungen, die mit ihrer Tätigkeit in Zusammenhang stehen, über die geeigneten Kompetenzen verfügen?"}]
[null,null,null,null,{"$f":"'Technische Seite'!B134","v":"F2.11"},{"$f":"'Technische Seite'!C134","v":2},{"$f":"VLOOKUP(E693,'Technische Seite'!$AU$124:$BD$168,8,0)","v":"-"},"n.a.",null,{"$f":"VLOOKUP(E693,'Kapitel 2'!$C$6:$D$282,2,0)","v":"Wie verpflichtet sich die Unternehmensleitung zur Verfahrenssicherheit?"}]
[null,null,null,null,{"$f":"'Technische Seite'!B135","v":"F2.12"},{"$f":"'Technische Seite'!C135","v":1},{"$f":"VLOOKUP(E694,'Technische Seite'!$AU$124:$BD$168,8,0)","v":"-"},"n.a.",null,{"$f":"VLOOKUP(E694,'Kapitel 2'!$C$6:$D$282,2,0)","v":"In welcher Weise werden die Identifizierung und Beschreibung der Sicherheit von Verfahren, Ausrüstungen und Standorten der Organisation vorbereitet?"}]
[null,null,null,null,{"$f":"'Technische Seite'!B136","v":"F2.13"},{"$f":"'Technische Seite'!C136","v":2},{"$f":"VLOOKUP(E695,'Technische Seite'!$AU$124:$BD$168,8,0)","v":"-"},"n.a.",null,{"$f":"VLOOKUP(E695,'Kapitel 2'!$C$6:$D$282,2,0)","v":"In welcher Weise werden Verbesserungen im Bereich Verfahrenssicherheit aufgrund von Vorfällen und Unfällen vorgenommen?"}]
[null,null,null,null,{"$f":"'Technische Seite'!B137","v":"F2.14"},{"$f":"'Technische Seite'!C137","v":3},{"$f":"VLOOKUP(E696,'Technische Seite'!$AU$124:$BD$168,8,0)","v":"-"},"n.a.",null,{"$f":"VLOOKUP(E696,'Kapitel 2'!$C$6:$D$282,2,0)","v":"Wie werden Audits und Inspektionen im Bereich Verfahrenssicherheit durchgeführt?"}]
[null,null,null,null,{"$f":"'Technische Seite'!B138","v":"F2.15"},{"$f":"'Technische Seite'!C138","v":1},{"$f":"VLOOKUP(E697,'Technische Seite'!$AU$124:$BD$168,8,0)","v":"-"},"n.a.",null,{"$f":"VLOOKUP(E697,'Kapitel 2'!$C$6:$D$282,2,0)","v":"Wie werden Arbeitsanweisungen kontrolliert und verbessert?"}]
[null,null,null,null,{"$f":"'Technische Seite'!B139","v":"F2.16"},{"$f":"'Technische Seite'!C139","v":1},{"$f":"VLOOKUP(E698,'Technische Seite'!$AU$124:$BD$168,8,0)","v":"-"},"n.a.",null,{"$f":"VLOOKUP(E698,'Kapitel 2'!$C$6:$D$282,2,0)","v":"Wie wird die Anlagenplanung durchgeführt und dokumentiert?"}]
[null,null,null,null,{"$f":"'Technische Seite'!B140","v":"F2.17"},{"$f":"'Technische Seite'!C140","v":4},{"$f":"VLOOKUP(E699,'Technische Seite'!$AU$124:$BD$168,8,0)","v":"-"},"n.a.",null,{"$f":"VLOOKUP(E699,'Kapitel 2'!$C$6:$D$282,2,0)","v":"In welcher Weise wird der Aufbau der Anlage kontrolliert?"}]
[null,null,null,null,{"$f":"'Technische Seite'!B141","v":"F2.18"},{"$f":"'Technische Seite'!C141","v":2},{"$f":"VLOOKUP(E700,'Technische Seite'!$AU$124:$BD$168,8,0)","v":"-"},"n.a.",null,{"$f":"VLOOKUP(E700,'Kapitel 2'!$C$6:$D$282,2,0)","v":"Wie wird „Schutz“ in Anlagen integriert, um zuverlässig zu verhindern, dass ein einziger Fehler katastrophale Folgen hat?"}]
[null,null,null,null,{"$f":"'Technische Seite'!B142","v":"F2.19"},{"$f":"'Technische Seite'!C142","v":2},{"$f":"VLOOKUP(E701,'Technische Seite'!$AU$124:$BD$168,8,0)","v":"-"},"n.a.",null,{"$f":"VLOOKUP(E701,'Kapitel 2'!$C$6:$D$282,2,0)","v":"Gibt es ein vorbeugendes Wartungs- und Pflegeprogramm („maintenance and housekeeping programme“), um die Sicherheit von Einrichtungen, Werkzeugen/Tools und Ausrüstungen aufrechtzuerhalten?"}]
[null,null,null,null,{"$f":"'Technische Seite'!B143","v":"F2.20"},{"$f":"'Technische Seite'!C143","v":1},{"$f":"VLOOKUP(E702,'Technische Seite'!$AU$124:$BD$168,8,0)","v":"-"},"n.a.",null,{"$f":"VLOOKUP(E702,'Kapitel 2'!$C$6:$D$282,2,0)","v":"Im Fall von Energie- oder Betriebsunterbrechungen – wie werden Verfahren in Notfällen gesteuert?"}]
[null,null,null,null,{"$f":"'Technische Seite'!B144","v":"F2.21"},{"$f":"'Technische Seite'!C144","v":3},{"$f":"VLOOKUP(E703,'Technische Seite'!$AU$124:$BD$168,8,0)","v":"-"},"n.a.",null,{"$f":"VLOOKUP(E703,'Kapitel 2'!$C$6:$D$282,2,0)","v":"Wie werden Notfallpläne erstellt?"}]
[null,null,null,null,{"$f":"'Technische Seite'!B145","v":"F2.22"},{"$f":"'Technische Seite'!C145","v":1},{"$f":"VLOOKUP(E704,'Technische Seite'!$AU$124:$BD$168,8,0)","v":"-"},"n.a.",null,{"$f":"VLOOKUP(E704,'Kapitel 2'!$C$6:$D$282,2,0)","v":"In welcher Weise werden die Kompetenz und Schulung von an den Prozessen beteiligten Mitarbeitern und Fremdfirmen sichergestellt?"}]
[null,null,null,null,{"$f":"'Technische Seite'!B146","v":"F2.23"},{"$f":"'Technische Seite'!C146","v":2},{"$f":"VLOOKUP(E705,'Technische Seite'!$AU$124:$BD$168,8,0)","v":"-"},"n.a.",null,{"$f":"VLOOKUP(E705,'Kapitel 2'!$C$6:$D$282,2,0)","v":"Wie werden Informationen über die Risiken von Stoffen und Zubereitungen gemeinsam genutzt/weitergegeben?"}]
[null,null,null,null,{"$f":"'Technische Seite'!B147","v":"F2.24"},{"$f":"'Technische Seite'!C147","v":3},{"$f":"VLOOKUP(E706,'Technische Seite'!$AU$124:$BD$168,8,0)","v":"-"},"n.a.",null,{"$f":"VLOOKUP(E706,'Kapitel 2'!$C$6:$D$282,2,0)","v":"Wie werden Informationen über das Verfahren gemeinsam genutzt/weitergegeben?"}]
[null,null,null,null,{"$f":"'Technische Seite'!B148","v":"F2.25"},{"$f":"'Technische Seite'!C148","v":2},{"$f":"VLOOKUP(E707,'Technische Seite'!$AU$124:$BD$168,8,0)","v":"-"},"n.a.",null,{"$f":"VLOOKUP(E707,'Kapitel 2'!$C$6:$D$282,2,0)","v":"In welcher Weise bewertet die Organisation ihre Logistikpartner mit Hinblick auf Gesundheit, Sicherheit, Umwelt & Nachhaltigkeit, Energieeffizienz und Treibhausgas(THG)-Emissionen?"}]
[null,null,null,null,{"$f":"'Technische Seite'!B149","v":"F2.26"},{"$f":"'Technische Seite'!C149","v":1},{"$f":"VLOOKUP(E708,'Technische Seite'!$AU$124:$BD$168,8,0)","v":"-"},"n.a.",null,{"$f":"VLOOKUP(E708,'Kapitel 2'!$C$6:$D$282,2,0)","v":"Welche Maßnahmen zur Vermeidung von Transportunfällen bzw. Notfallmaßnahmen im Falle von Transportunfällen ergreift die Organisation?"}]
[null,null,null,null,{"$f":"'Technische Seite'!B150","v":"F2.27"},{"$f":"'Technische Seite'!C150","v":1},{"$f":"VLOOKUP(E709,'Technische Seite'!$AU$124:$BD$168,8,0)","v":"-"},"n.a.",null,{"$f":"VLOOKUP(E709,'Kapitel 2'!$C$6:$D$282,2,0)","v":"In welcher Weise identifiziert die Organisation Sicherheitsprobleme?"}]
[null,null,null,null,{"$f":"'Technische Seite'!B151","v":"F2.28"},{"$f":"'Technische Seite'!C151","v":2},{"$f":"VLOOKUP(E710,'Technische Seite'!$AU$124:$BD$168,8,0)","v":"-"},"n.a.",null,{"$f":"VLOOKUP(E710,'Kapitel 2'!$C$6:$D$282,2,0)","v":"In welcher Weise werden das Betreten/Verlassen des Arbeitsortes und eingeschränkt zugänglicher Bereiche durch Mitarbeiter bzw. der dortige Ein- und Ausgang von Materialien kontrolliert?"}]
[null,null,null,null,{"$f":"'Technische Seite'!B152","v":"F2.29"},{"$f":"'Technische Seite'!C152","v":1},{"$f":"VLOOKUP(E711,'Technische Seite'!$AU$124:$BD$168,8,0)","v":"-"},"n.a.",null,{"$f":"VLOOKUP(E711,'Kapitel 2'!$C$6:$D$282,2,0)","v":"Wie wird Cybersecurity überwacht?"}]
[null,null,null,null,{"$f":"'Technische Seite'!B153","v":"F2.30"},{"$f":"'Technische Seite'!C153","v":1},{"$f":"VLOOKUP(E712,'Technische Seite'!$AU$124:$BD$168,8,0)","v":"-"},"n.a.",null,{"$f":"VLOOKUP(E712,'Kapitel 2'!$C$6:$D$282,2,0)","v":"Wie sind Kommunikation und Informationsaustausch im Falle einer Sicherheitskrise organisiert?"}]
[null,null,null,null,{"$f":"'Technische Seite'!B154","v":"F2.31"},{"$f":"'Technische Seite'!C154","v":3},{"$f":"VLOOKUP(E713,'Technische Seite'!$AU$124:$BD$168,8,0)","v":"-"},"n.a.",null,{"$f":"VLOOKUP(E713,'Kapitel 2'!$C$6:$D$282,2,0)","v":"Wie geht die Organisation mit abnormalem Verhalten (einschließlich Risiken der Radikalisierung) um?"}]
[null,null,null,null,{"$f":"'Technische Seite'!B155","v":"F2.32"},{"$f":"'Technische Seite'!C155","v":1},{"$f":"VLOOKUP(E714,'Technische Seite'!$AU$124:$BD$168,8,0)","v":"-"},"n.a.",null,{"$f":"VLOOKUP(E714,'Kapitel 2'!$C$6:$D$282,2,0)","v":"In welcher Weise weist die Organisation die Mitarbeiter an, in Sicherheitsfragen wachsam zu sein?"}]
[null,null,null,null,{"$f":"'Technische Seite'!B156","v":"F2.33"},{"$f":"'Technische Seite'!C156","v":2},{"$f":"VLOOKUP(E715,'Technische Seite'!$AU$124:$BD$168,8,0)","v":3},{"$f":"IF(G715=\"-\",\"n.a.\",IF(F715-G715>-1,\"konform\",\"Ergebnis verbessern\"))","v":"Ergebnis verbessern"},null,{"$f":"VLOOKUP(E715,'Kapitel 2'!$C$6:$D$282,2,0)","v":"In welcher Weise werden die möglichen Umweltauswirkungen der Aktivitäten der Organisation bewertet?"}]
[null,null,null,null,{"$f":"'Technische Seite'!B157","v":"F2.34"},{"$f":"'Technische Seite'!C157","v":1},{"$f":"VLOOKUP(E716,'Technische Seite'!$AU$124:$BD$168,8,0)","v":4},"Ergebnis verbessern",null,{"$f":"VLOOKUP(E716,'Kapitel 2'!$C$6:$D$282,2,0)","v":"In welcher Weise steuert die Organisation ihre Umweltleistung?"}]
[null,null,null,null,{"$f":"'Technische Seite'!B158","v":"F2.35"},{"$f":"'Technische Seite'!C158","v":2},{"$f":"VLOOKUP(E717,'Technische Seite'!$AU$124:$BD$168,8,0)","v":3},"Ergebnis verbessern",null,{"$f":"VLOOKUP(E717,'Kapitel 2'!$C$6:$D$282,2,0)","v":"Wie geht die Organisation mit Abfall um?"}]
[null,null,null,null,{"$f":"'Technische Seite'!B159","v":"F2.36"},{"$f":"'Technische Seite'!C159","v":1},{"$f":"VLOOKUP(E718,'Technische Seite'!$AU$124:$BD$168,8,0)","v":3},"Ergebnis verbessern",null,{"$f":"VLOOKUP(E718,'Kapitel 2'!$C$6:$D$282,2,0)","v":"Wie geht die Organisation mit Risiken für das Grundwasser um?"}]
[null,null,null,null,{"$f":"'Technische Seite'!B160","v":"F2.37"},{"$f":"'Technische Seite'!C160","v":3},{"$f":"VLOOKUP(E719,'Technische Seite'!$AU$124:$BD$168,8,0)","v":3},"konform",null,{"$f":"VLOOKUP(E719,'Kapitel 2'!$C$6:$D$282,2,0)","v":"Wie geht die Organisation mit den Risiken einer Bodenverschmutzung um?"}]
[null,null,null,null,{"$f":"'Technische Seite'!B161","v":"F2.38"},{"$f":"'Technische Seite'!C161","v":1},{"$f":"VLOOKUP(E720,'Technische Seite'!$AU$124:$BD$168,8,0)","v":3},"Ergebnis verbessern",null,{"$f":"VLOOKUP(E720,'Kapitel 2'!$C$6:$D$282,2,0)","v":"Wie geht die Organisation mit vorhandenen Bodenverschmutzungen um?"}]
[null,null,null,null,{"$f":"'Technische Seite'!B162","v":"F2.39"},{"$f":"'Technische Seite'!C162","v":3},{"$f":"VLOOKUP(E721,'Technische Seite'!$AU$124:$BD$168,8,0)","v":3},"konform",null,{"$f":"VLOOKUP(E721,'Kapitel 2'!$C$6:$D$282,2,0)","v":"Wie geht die Organisation mit ihren Emissionen in die Luft um?"}]
[null,null,null,null,{"$f":"'Technische Seite'!B163","v":"F2.40"},{"$f":"'Technische Seite'!C163","v":1},{"$f":"VLOOKUP(E722,'Technische Seite'!$AU$124:$BD$168,8,0)","v":3},"Ergebnis verbessern",null,{"$f":"VLOOKUP(E722,'Kapitel 2'!$C$6:$D$282,2,0)","v":"Wie geht die Organisation mit ihren Emissionen in Wasser um?"}]
[null,null,null,null,{"$f":"'Technische Seite'!B164","v":"F2.41"},{"$f":"'Technische Seite'!C164","v":3},{"$f":"VLOOKUP(E723,'Technische Seite'!$AU$124:$BD$168,8,0)","v":3},"konform",null,{"$f":"VLOOKUP(E723,'Kapitel 2'!$C$6:$D$282,2,0)","v":"Wie geht die Organisation mit Lärmemissionen um?"}]
[null,null,null,null,{"$f":"'Technische Seite'!B165","v":"F2.42"},{"$f":"'Technische Seite'!C165","v":3},{"$f":"VLOOKUP(E724,'Technische Seite'!$AU$124:$BD$168,8,0)","v":3},"konform",null,{"$f":"VLOOKUP(E724,'Kapitel 2'!$C$6:$D$282,2,0)","v":"Wie geht die Organisation mit Geruchsemissionen um?"}]
[null,null,null,null,{"$f":"'Technische Seite'!B166","v":"F2.43"},{"$f":"'Technische Seite'!C166","v":2},{"$f":"VLOOKUP(E725,'Technische Seite'!$AU$124:$BD$168,8,0)","v":3},"Ergebnis verbessern",null,{"$f":"VLOOKUP(E725,'Kapitel 2'!$C$6:$D$282,2,0)","v":"Wie verhindert die Organisation unfallbedingte Emissionen in die Umwelt und wie geht sie ggf. damit um?"}]
[null,null,null,null,{"$f":"'Technische Seite'!B167","v":"F2.44"},{"$f":"'Technische Seite'!C167","v":3},{"$f":"VLOOKUP(E726,'Technische Seite'!$AU$124:$BD$168,8,0)","v":3},"konform",null,{"$f":"VLOOKUP(E726,'Kapitel 2'!$C$6:$D$282,2,0)","v":"In welcher Weise stellt die Organisation sicher, dass alle Mitarbeiter hinsichtlich der Umweltanforderungen, die mit ihrer Tätigkeit in Zusammenhang stehen, über die geeigneten Kompetenzen verfügen?"}]
[null,null,null,null,{"$f":"'Technische Seite'!B168","v":"F2.45"},{"$f":"'Technische Seite'!C168","v":3},{"$f":"VLOOKUP(E727,'Technische Seite'!$AU$124:$BD$168,8,0)","v":2},"konform",null,{"$f":"VLOOKUP(E727,'Kapitel 2'!$C$6:$D$282,2,0)","v":"Wie werden den Interessensgruppen („stakeholder“) der Organisation die Umweltaspekte und deren mögliche Auswirkungen bewusst gemacht?"}]
[null,null,null,null,"KAPITEL 3 : Stärkung von Managementsystemen im Chemikalienbereich"]
[null,null,null,null,{"$f":"'Technische Seite'!$B$406","v":"F3.1"},{"$f":"'Technische Seite'!$C$406","v":1},{"$f":"VLOOKUP(E729,'Technische Seite'!$AU$406:$BD$418,8,0)","v":"-"},{"$f":"IF(G729=\"-\",\"n.a.\",IF(F729-G729>-1,\"compliant\",\"increase score\"))","v":"n.a."},null,{"$f":"VLOOKUP(E729,'Kapitel 3'!$C$6:$D$89,2,0)","v":"Verfügt die Organisation über ein Verfahren für das Design\n und die Entwicklung neuer Produkte und Dienstleistungen?"}]
[null,null,null,null,{"$f":"'Technische Seite'!$B$407","v":"F3.2"},{"$f":"'Technische Seite'!$C$407","v":2},{"$f":"VLOOKUP(E730,'Technische Seite'!$AU$406:$BD$418,8,0)","v":1},{"$f":"IF(G730=\"-\",\"n.a.\",IF(F730-G730>-1,\"konform\",\"Ergebnis verbessern\"))","v":"konform"},null,{"$f":"VLOOKUP(E730,'Kapitel 3'!$C$6:$D$89,2,0)","v":"Verfügt die Organisation über ein Verfahren, um ihre Produkte mit Hinblick auf Risikocharakterisierung und Risikomanagement zu bewerten und zu priorisieren?"}]
[null,null,null,null,{"$f":"'Technische Seite'!$B$408","v":"F3.3"},{"$f":"'Technische Seite'!$C$408","v":1},{"$f":"VLOOKUP(E731,'Technische Seite'!$AU$406:$BD$418,8,0)","v":1},{"$f":"IF(G731=\"-\",\"n.a.\",IF(F731-G731>-1,\"konform\",\"Ergebnis verbessern\"))","v":"konform"},null,{"$f":"VLOOKUP(E731,'Kapitel 3'!$C$6:$D$89,2,0)","v":"Verfügt die Organisation über ein System, um die Anwendbarkeit sowie Änderungen und Einhaltung von internen und externen Anforderungen in Zusammenhang mit dem Sicherheitsmanagement von Chemikalien zu verfolgen/nachzuverfolgen?"}]
[null,null,null,null,{"$f":"'Technische Seite'!$B$409","v":"F3.4"},{"$f":"'Technische Seite'!$C$409","v":1},{"$f":"VLOOKUP(E732,'Technische Seite'!$AU$406:$BD$418,8,0)","v":4},{"$f":"IF(G732=\"-\",\"n.a.\",IF(F732-G732>-1,\"konform\",\"Ergebnis verbessern\"))","v":"Ergebnis verbessern"},null,{"$f":"VLOOKUP(E732,'Kapitel 3'!$C$6:$D$89,2,0)","v":"Verfügt die Organisation über ein Verfahren zum Umgang mit vorhandenen Gefahreninformationen in Zusammenhang mit ihren Produkten?"}]
[null,null,null,null,{"$f":"'Technische Seite'!$B$410","v":"F3.5"},{"$f":"'Technische Seite'!$C$410","v":1},{"$f":"VLOOKUP(E733,'Technische Seite'!$AU$406:$BD$418,8,0)","v":"-"},"n.a.",null,{"$f":"VLOOKUP(E733,'Kapitel 3'!$C$6:$D$89,2,0)","v":"Verfügt die Organisation über ein Verfahren für den Umgang mit Informationen über die Verwendung von und die Exposition durch ihre Produkte?"}]
[null,null,null,null,{"$f":"'Technische Seite'!$B$411","v":"F3.6"},{"$f":"'Technische Seite'!$C$411","v":1},{"$f":"VLOOKUP(E734,'Technische Seite'!$AU$406:$BD$418,8,0)","v":1},{"$f":"IF(G734=\"-\",\"n.a.\",IF(F734-G734>-1,\"konform\",\"Ergebnis verbessern\"))","v":"konform"},null,{"$f":"VLOOKUP(E734,'Kapitel 3'!$C$6:$D$89,2,0)","v":"Verfügt die Organisation über ein Verfahren für den Umgang mit neuen Informationen?"}]
[null,null,null,null,{"$f":"'Technische Seite'!$B$412","v":"Q3.7"},{"$f":"'Technische Seite'!$C$412","v":1},{"$f":"VLOOKUP(E735,'Technische Seite'!$AU$406:$BD$418,8,0)","v":4},{"$f":"IF(G735=\"-\",\"n.a.\",IF(F735-G735>-1,\"konform\",\"Ergebnis verbessern\"))","v":"Ergebnis verbessern"},null,{"$f":"VLOOKUP(E735,'Kapitel 3'!$C$6:$D$89,2,0)","v":"Verfügt die Organisation über ein Verfahren zur Risikocharakterisierung auf der Grundlage der gesammelten Informationen?"}]
[null,null,null,null,{"$f":"'Technische Seite'!$B$413","v":"F3.8"},{"$f":"'Technische Seite'!$C$413","v":1},{"$f":"VLOOKUP(E736,'Technische Seite'!$AU$406:$BD$418,8,0)","v":4},{"$f":"IF(G736=\"-\",\"n.a.\",IF(F736-G736>-1,\"konform\",\"Ergebnis verbessern\"))","v":"Ergebnis verbessern"},null,{"$f":"VLOOKUP(E736,'Kapitel 3'!$C$6:$D$89,2,0)","v":"Verfügt die Organisation über ein Verfahren zum Risikomanagement auf der Grundlage der gesammelten Informationen?"}]
[null,null,null,null,{"$f":"'Technische Seite'!$B$414","v":"F3.9"},{"$f":"'Technische Seite'!$C$414","v":2},{"$f":"VLOOKUP(E737,'Technische Seite'!$AU$406:$BD$418,8,0)","v":4},{"$f":"IF(G737=\"-\",\"n.a.\",IF(F737-G737>-1,\"konform\",\"Ergebnis verbessern\"))","v":"Ergebnis verbessern"},null,{"$f":"VLOOKUP(E737,'Kapitel 3'!$C$6:$D$89,2,0)","v":"Verfügt die Organisation über ein effizientes Verfahren, um ihre Produkte nach deren Lieferung nachzuverfolgen und Korrekturmaßnahmen durchzuführen?"}]
[null,null,null,null,{"$f":"'Technische Seite'!$B$415","v":"F3.10"},{"$f":"'Technische Seite'!$C$415","v":2},{"$f":"VLOOKUP(E738,'Technische Seite'!$AU$406:$BD$418,8,0)","v":4},{"$f":"IF(G738=\"-\",\"n.a.\",IF(F738-G738>-1,\"konform\",\"Ergebnis verbessern\"))","v":"Ergebnis verbessern"},null,{"$f":"VLOOKUP(E738,'Kapitel 3'!$C$6:$D$89,2,0)","v":"Kommuniziert die Organisation effizient in der Lieferkette hinsichtlich der für ihre Produkte notwendigen Maßnahmen des Risikomanagements?\n"}]
[null,null,null,null,"KAPITEL 4: Einbeziehung von Geschäftspartnern"]
[null,null,null,null,{"$f":"'Technische Seite'!B482","v":"F4.1"},{"$f":"'Technische Seite'!C482","v":1},{"$f":"VLOOKUP(E740,'Technische Seite'!$AU$482:$BD$489,8,0)","v":"-"},{"$f":"IF(G740=\"-\",\"n.a.\",IF(F740-G740>-1,\"compliant\",\"increase score\"))","v":"n.a."},null,{"$f":"VLOOKUP(E740,'Kapitel 4'!$C$6:$D$91,2,0)","v":"In welcher Form hat sich die Organisation einer verantwortungsvollen Beschaffung verpflichtet?"}]
[null,null,null,null,{"$f":"'Technische Seite'!B483","v":"F4.2"},{"$f":"'Technische Seite'!C483","v":2},{"$f":"VLOOKUP(E741,'Technische Seite'!$AU$482:$BD$489,8,0)","v":"-"},{"$f":"IF(G741=\"-\",\"n.a.\",IF(F741-G741>-1,\"compliant\",\"increase score\"))","v":"n.a."},null,{"$f":"VLOOKUP(E741,'Kapitel 4'!$C$6:$D$91,2,0)","v":"In welcher Weise steigert die Organisation die Zusammenarbeit mit der Wertschöpfungskette?"}]
[null,null,null,null,{"$f":"'Technische Seite'!B484","v":"F4.3"},{"$f":"'Technische Seite'!C484","v":2},{"$f":"VLOOKUP(E742,'Technische Seite'!$AU$482:$BD$489,8,0)","v":"-"},"n.a.",null,{"$f":"VLOOKUP(E742,'Kapitel 4'!$C$6:$D$91,2,0)","v":"In welcher Weise bringt die Organisation ihre Verpflichtung mit Hinblick auf Geschäftsethik zum Ausdruck?"}]
[null,null,null,null,{"$f":"'Technische Seite'!B485","v":"F4.4"},{"$f":"'Technische Seite'!C485","v":2},{"$f":"VLOOKUP(E743,'Technische Seite'!$AU$482:$BD$489,8,0)","v":"-"},"n.a.",null,{"$f":"VLOOKUP(E743,'Kapitel 4'!$C$6:$D$91,2,0)","v":"Wie berücksichtigt die Organisation soziale Fragen und Menschenrechte in ihrer Zusammenarbeit mit Geschäftspartnern?"}]
[null,null,null,null,{"$f":"'Technische Seite'!B486","v":"F4.5"},{"$f":"'Technische Seite'!C486","v":2},{"$f":"VLOOKUP(E744,'Technische Seite'!$AU$482:$BD$489,8,0)","v":"-"},"n.a.",null,{"$f":"VLOOKUP(E744,'Kapitel 4'!$C$6:$D$91,2,0)","v":"In welcher Weise verhindert die Organisation Kinderarbeit?\n\nDie Organisation\n1.\tverfügt über ein System zur Altersprüfung;\n2.\tbeschäftigt keine Kinder unter 15 Jahren (oder älter; die jeweiligen örtlichen Gesetze sind zu beachten). Berufsausbildungen oder Praktika im Rahmen der Schulbildung bzw. bildungsbezogene Praktika sind die einzigen Ausnahmen;\n3.\tstellt sicher, dass die Beschäftigung von Personen unter 18 Jahren nicht deren Schulbesuch beeinträchtigt (die Gesamtzahl der Stunden für den Weg zur Arbeit und Schule und zurück, Schulbesuch und Arbeitstätigkeit beträgt weniger als 10 Stunden täglich);\n4.\tstellt sicher, dass die Tätigkeit junger Arbeitnehmer nicht geistig, körperlich, sozial oder moralisch gefährlich und schädlich ist."}]
[null,null,null,null,{"$f":"'Technische Seite'!B487","v":"F4.6"},{"$f":"'Technische Seite'!C487","v":2},{"$f":"VLOOKUP(E745,'Technische Seite'!$AU$482:$BD$489,8,0)","v":"-"},"n.a.",null,{"$f":"VLOOKUP(E745,'Kapitel 4'!$C$6:$D$91,2,0)","v":"Wie stellt die Organisation sicher, dass ihre Logistikpartner die Anforderungen der Organisation erfüllen?"}]
[null,null,null,null,{"$f":"'Technische Seite'!B488","v":"F4.7"},{"$f":"'Technische Seite'!C488","v":1},{"$f":"VLOOKUP(E746,'Technische Seite'!$AU$482:$BD$489,8,0)","v":"-"},"n.a.",null,{"$f":"VLOOKUP(E746,'Kapitel 4'!$C$6:$D$91,2,0)","v":"In welcher Weise schützt und sichert die Organisation das Eigentum und die Daten nachgeschalteter Anwender oder externer Anbieter, die zur Nutzung oder Einbeziehung/Einarbeitung in Produkte und Dienstleistungen bereitgestellt werden?"}]
[null,null,null,null,{"$f":"'Technische Seite'!B489","v":"F4.8"},{"$f":"'Technische Seite'!C489","v":2},{"$f":"VLOOKUP(E747,'Technische Seite'!$AU$482:$BD$489,8,0)","v":"-"},"n.a.",null,{"$f":"VLOOKUP(E747,'Kapitel 4'!$C$6:$D$91,2,0)","v":"Was beinhaltet der Dialog mit nachgeschalteten Anwendern?"}]
[null,null,null,null,"KAPITEL 5: Berücksichtigung von Anspruchsgruppen"]
[null,null,null,null,{"$f":"'Technische Seite'!B544","v":"F5.1"},{"$f":"'Technische Seite'!C544","v":2},{"$f":"VLOOKUP(E749,'Technische Seite'!$AU$544:$BD$548,8,0)","v":3},{"$f":"IF(G749=\"-\",\"n.a.\",IF(F749-G749>-1,\"konform\",\"Ergebnis verbessern\"))","v":"Ergebnis verbessern"},null,{"$f":"VLOOKUP(E749,'Kapitel 5'!$C$6:$D$89,2,0)","v":"In welcher Weise bezieht die Organisation die für sie relevanten externen Anspruchsgruppen („stakeholder“) ein und wird deren Erwartungen gerecht?"}]
[null,null,null,null,{"$f":"'Technische Seite'!B545","v":"F5.2"},{"$f":"'Technische Seite'!C545","v":1},{"$f":"VLOOKUP(E750,'Technische Seite'!$AU$544:$BD$548,8,0)","v":"-"},{"$f":"IF(G750=\"-\",\"n.a.\",IF(F750-G750>-1,\"compliant\",\"increase score\"))","v":"n.a."},null,{"$f":"VLOOKUP(E750,'Kapitel 5'!$C$6:$D$89,2,0)","v":"In welcher Weise führt die Organisation einen Dialog mit der Öffentlichkeit, Behörden und anderen interessierten Kreisen (einschließlich örtlichen Gemeinden/Anwohnern und Kunden) über die Leistung ihrer Aktivitäten, Produkte und Dienstleistungen in den Bereichen Gesundheit, Sicherheit, Umwelt, Energie & Nachhaltigkeit?\n"}]
[null,null,null,null,{"$f":"'Technische Seite'!B546","v":"F5.3"},{"$f":"'Technische Seite'!C546","v":2},{"$f":"VLOOKUP(E751,'Technische Seite'!$AU$544:$BD$548,8,0)","v":"-"},"n.a.",null,{"$f":"VLOOKUP(E751,'Kapitel 5'!$C$6:$D$89,2,0)","v":"In welcher Weise vermittelt die Organisation Informationen aus den Bereichen Gesundheit, Sicherheit, Umwelt, Energie & Nachhaltigkeit?"}]
[null,null,null,null,{"$f":"'Technische Seite'!B547","v":"F5.4"},{"$f":"'Technische Seite'!C547","v":1},{"$f":"VLOOKUP(E752,'Technische Seite'!$AU$544:$BD$548,8,0)","v":"-"},"n.a.",null,{"$f":"VLOOKUP(E752,'Kapitel 5'!$C$6:$D$89,2,0)","v":"In welcher Weise unterstützt die Organisation örtliche Gemeinden/Anwohner („local communities“)?"}]
[null,null,null,null,{"$f":"'Technische Seite'!B548","v":"F5.5"},{"$f":"'Technische Seite'!C548","v":2},{"$f":"VLOOKUP(E753,'Technische Seite'!$AU$544:$BD$548,8,0)","v":"-"},"n.a.",null,{"$f":"VLOOKUP(E753,'Kapitel 5'!$C$6:$D$89,2,0)","v":"In welcher Weise fördert die Organisation Beschäftigung und Bildung vor Ort?"}]
[null,null,null,null,"KAPITEL 6 : Beitrag zur Nachhaltigkeit"]
[null,null,null,null,{"$f":"'Technische Seite'!B584","v":"F6.1"},{"$f":"'Technische Seite'!C584","v":2},{"$f":"VLOOKUP(E755,'Technische Seite'!$AU$584:$BD$600,8,0)","v":"-"},{"$f":"IF(G755=\"-\",\"n.a.\",IF(F755-G755>-1,\"compliant\",\"increase score\"))","v":"n.a."},null,{"$f":"VLOOKUP(E755,'Kapitel 6'!$C$6:$D$120,2,0)","v":"Wie definiert das Unternehmen relevante Themen und Wesentlichkeiten?"}]
[null,null,null,null,{"$f":"'Technische Seite'!B585","v":"F6.2"},{"$f":"'Technische Seite'!C585","v":1},{"$f":"VLOOKUP(E756,'Technische Seite'!$AU$584:$BD$600,8,0)","v":"-"},{"$f":"IF(G756=\"-\",\"n.a.\",IF(F756-G756>-1,\"compliant\",\"increase score\"))","v":"n.a."},null,{"$f":"VLOOKUP(E756,'Kapitel 6'!$C$6:$D$120,2,0)","v":"Welche Pläne hat die Organisation zum Beitrag für eine nachhaltige Entwicklung? "}]
[null,null,null,null,{"$f":"'Technische Seite'!B586","v":"F6.3"},{"$f":"'Technische Seite'!C586","v":1},{"$f":"VLOOKUP(E757,'Technische Seite'!$AU$584:$BD$600,8,0)","v":"-"},"n.a.",null,{"$f":"VLOOKUP(E757,'Kapitel 6'!$C$6:$D$120,2,0)","v":"Wie steht es bei der Organisation mit der Einbeziehung von Stakeholdern bei Nachhaltigkeit?"}]
[null,null,null,null,{"$f":"'Technische Seite'!B587","v":"F6.4"},{"$f":"'Technische Seite'!C587","v":1},{"$f":"VLOOKUP(E758,'Technische Seite'!$AU$584:$BD$600,8,0)","v":"-"},"n.a.",null,{"$f":"VLOOKUP(E758,'Kapitel 6'!$C$6:$D$120,2,0)","v":"Verfügt die Organisation über einen Prozess für die Entwicklung von Produkten mit besseren Nachhaltigkeitsergebnissen?"}]
[null,null,null,null,{"$f":"'Technische Seite'!B588","v":"F6.5"},{"$f":"'Technische Seite'!C588","v":1},{"$f":"VLOOKUP(E759,'Technische Seite'!$AU$584:$BD$600,8,0)","v":"-"},"n.a.",null,{"$f":"VLOOKUP(E759,'Kapitel 6'!$C$6:$D$120,2,0)","v":"Wie verbessert die Organisation die Ressourceneffizienz in ihren Produktionsprozessen? "}]
[null,null,null,null,{"$f":"'Technische Seite'!B589","v":"F6.6"},{"$f":"'Technische Seite'!C589","v":1},{"$f":"VLOOKUP(E760,'Technische Seite'!$AU$584:$BD$600,8,0)","v":"-"},"n.a.",null,{"$f":"VLOOKUP(E760,'Kapitel 6'!$C$6:$D$120,2,0)","v":"Wie fördert die Organisation die Kreislaufwirtschaft durch ihre Produkte?"}]
[null,null,null,null,{"$f":"'Technische Seite'!B590","v":"F6.7"},{"$f":"'Technische Seite'!C590","v":1},{"$f":"VLOOKUP(E761,'Technische Seite'!$AU$584:$BD$600,8,0)","v":"-"},"n.a.",null,{"$f":"VLOOKUP(E761,'Kapitel 6'!$C$6:$D$120,2,0)","v":"Wie fördert die Organisation Innovation für die Entwicklung von Produkten und Lösungen, die mit den Herausforderungen der Nachhaltigkeit in Einklang stehen?"}]
[null,null,null,null,{"$f":"'Technische Seite'!B591","v":"F6.8"},{"$f":"'Technische Seite'!C591","v":1},{"$f":"VLOOKUP(E762,'Technische Seite'!$AU$584:$BD$600,8,0)","v":"-"},"n.a.",null,{"$f":"VLOOKUP(E762,'Kapitel 6'!$C$6:$D$120,2,0)","v":"Wie fördert die Organisation Innovationspanels und Kooperationen?"}]
[null,null,null,null,{"$f":"'Technische Seite'!B592","v":"F6.9"},{"$f":"'Technische Seite'!C592","v":2},{"$f":"VLOOKUP(E763,'Technische Seite'!$AU$584:$BD$600,8,0)","v":"-"},"n.a.",null,{"$f":"VLOOKUP(E763,'Kapitel 6'!$C$6:$D$120,2,0)","v":"Wie fördert die Organisation nachhaltiges Verbrauchsverhalten?"}]
[null,null,null,null,{"$f":"'Technische Seite'!B593","v":"F6.10"},{"$f":"'Technische Seite'!C593","v":1},{"$f":"VLOOKUP(E764,'Technische Seite'!$AU$584:$BD$600,8,0)","v":"-"},"n.a.",null,{"$f":"VLOOKUP(E764,'Kapitel 6'!$C$6:$D$120,2,0)","v":"Wie kontrolliert und optimiert die Organisation den Wasserverbrauch?"}]
[null,null,null,null,{"$f":"'Technische Seite'!B594","v":"F6.11"},{"$f":"'Technische Seite'!C594","v":1},{"$f":"VLOOKUP(E765,'Technische Seite'!$AU$584:$BD$600,8,0)","v":"-"},"n.a.",null,{"$f":"VLOOKUP(E765,'Kapitel 6'!$C$6:$D$120,2,0)","v":"Wie werden die Auswirkungen der Organisation auf die Biodiversität und die Ökosystemleistungen gehandhabt?"}]
[null,null,null,null,{"$f":"'Technische Seite'!B595","v":"F6.12"},{"$f":"'Technische Seite'!C595","v":2},{"$f":"VLOOKUP(E766,'Technische Seite'!$AU$584:$BD$600,8,0)","v":"-"},"n.a.",null,{"$f":"VLOOKUP(E766,'Kapitel 6'!$C$6:$D$120,2,0)","v":"Wie berücksichtigt die Organisation ihre Abhängigkeit von Ökosystemleistungen?"}]
[null,null,null,null,{"$f":"'Technische Seite'!B596","v":"F6.13"},{"$f":"'Technische Seite'!C596","v":1},{"$f":"VLOOKUP(E767,'Technische Seite'!$AU$584:$BD$600,8,0)","v":"-"},"n.a.",null,{"$f":"VLOOKUP(E767,'Kapitel 6'!$C$6:$D$120,2,0)","v":"Wie handhabt die Organisation ihre Energieeffizienz?"}]
[null,null,null,null,{"$f":"'Technische Seite'!B597","v":"F6.14"},{"$f":"'Technische Seite'!C597","v":2},{"$f":"VLOOKUP(E768,'Technische Seite'!$AU$584:$BD$600,8,0)","v":"-"},"n.a.",null,{"$f":"VLOOKUP(E768,'Kapitel 6'!$C$6:$D$120,2,0)","v":"Wie handhabt die Organisation ihre Emissionen von Treibhausgasen (THG) (anders als durch Energieeinsparung)?"}]
[null,null,null,null,{"$f":"'Technische Seite'!B598","v":"F6.15"},{"$f":"'Technische Seite'!C598","v":1},{"$f":"VLOOKUP(E769,'Technische Seite'!$AU$584:$BD$600,8,0)","v":"-"},"n.a.",null,{"$f":"VLOOKUP(E769,'Kapitel 6'!$C$6:$D$120,2,0)","v":"Welche Strategie hat die Organisation zur Reduzierung von THG-Emissionen?"}]
[null,null,null,null,{"$f":"'Technische Seite'!B599","v":"F6.16"},{"$f":"'Technische Seite'!C599","v":2},{"$f":"VLOOKUP(E770,'Technische Seite'!$AU$584:$BD$600,8,0)","v":3},{"$f":"IF(G770=\"-\",\"n.a.\",IF(F770-G770>-1,\"konform\",\"Ergebnis verbessern\"))","v":"Ergebnis verbessern"},null,{"$f":"VLOOKUP(E770,'Kapitel 6'!$C$6:$D$120,2,0)","v":"Wie bereitet sich die Organisation auf den Klimawandel vor? "}]
[null,null,null,null,{"$f":"'Technische Seite'!B600","v":"F6.17"},{"$f":"'Technische Seite'!C600","v":1},{"$f":"VLOOKUP(E771,'Technische Seite'!$AU$584:$BD$600,8,0)","v":"-"},"n.a.",null,{"$f":"VLOOKUP(E771,'Kapitel 6'!$C$6:$D$120,2,0)","v":"In welcher Weise gewährleistet die Organisation Chancengleichheit bei der Einstellung und während der gesamten beruflichen Laufbahn aller?"}]
[]
[null,null,"Bericht über den Abstand zur Einhaltung von  RCMS"]
[null,null,null,null,null,"Ihre Bewertung ","Mindestbewertung für RCMS"]
[null,null,null,null,"KAPITEL 1: Führungskultur im Unternehmen"]
[null,null,null,null,{"$f":"'Technische Seite'!B10","v":"F1.1"},{"$f":"'Technische Seite'!C10","v":1},{"$f":"VLOOKUP(E776,'Technische Seite'!$AU$10:$BD$25,9,0)","v":4},{"$f":"IF(G776=\"-\",\"n.a.\",IF(F776-G776>-1,\"konform\",\"Ergebnis verbessern\"))","v":"Ergebnis verbessern"},null,{"$f":"VLOOKUP(E776,'Kapitel 1'!$C$6:$D$112,2,0)","v":"In welcher Weise wird die Verpflichtung zur Einhaltung gesetzlicher und sonstiger Vorschriften („Compliance“) sowie der Grundsätze von Responsible Care (d. h. Schutz und Förderung der Gesundheit & Sicherheit von Menschen und Umwelt sowie Nachhaltigkeit) auf allen Ebenen der Organisation dargelegt?"}]
[null,null,null,null,{"$f":"'Technische Seite'!B11","v":"F1.2"},{"$f":"'Technische Seite'!C11","v":1},{"$f":"VLOOKUP(E777,'Technische Seite'!$AU$10:$BD$25,9,0)","v":"-"},{"$f":"IF(G777=\"-\",\"n.a.\",IF(F777-G777>-1,\"compliant\",\"increase score\"))","v":"n.a."},null,{"$f":"VLOOKUP(E777,'Kapitel 1'!$C$6:$D$112,2,0)","v":"Wie steuert die Organisation die relevanten Risiken und Chancen?"}]
[null,null,null,null,{"$f":"'Technische Seite'!B12","v":"F1.3"},{"$f":"'Technische Seite'!C12","v":2},{"$f":"VLOOKUP(E778,'Technische Seite'!$AU$10:$BD$25,9,0)","v":2},{"$f":"IF(G778=\"-\",\"n.a.\",IF(F778-G778>-1,\"konform\",\"Ergebnis verbessern\"))","v":"konform"},null,{"$f":"VLOOKUP(E778,'Kapitel 1'!$C$6:$D$112,2,0)","v":"In welcher Weise erfüllt die Organisation ihre gesetzlichen Verpflichtungen?"}]
[null,null,null,null,{"$f":"'Technische Seite'!B13","v":"F1.4"},{"$f":"'Technische Seite'!C13","v":2},{"$f":"VLOOKUP(E779,'Technische Seite'!$AU$10:$BD$25,9,0)","v":2},{"$f":"IF(G779=\"-\",\"n.a.\",IF(F779-G779>-1,\"konform\",\"Ergebnis verbessern\"))","v":"konform"},null,{"$f":"VLOOKUP(E779,'Kapitel 1'!$C$6:$D$112,2,0)","v":"Wie stellt die oberste Führungsebene („top management“) sicher, dass Aspekte aus den Bereichen Gesundheit, Sicherheit, Umwelt, Energie & Nachhaltigkeit bestimmten Funktionen zugeordnet sind?"}]
[null,null,null,null,{"$f":"'Technische Seite'!B14","v":"F1.5"},{"$f":"'Technische Seite'!C14","v":3},{"$f":"VLOOKUP(E780,'Technische Seite'!$AU$10:$BD$25,9,0)","v":"-"},"n.a.",null,{"$f":"VLOOKUP(E780,'Kapitel 1'!$C$6:$D$112,2,0)","v":"In welcher Weise ist der Vorstand/die Geschäftsleitung der Organisation in den Umgang mit Fragen und Problemen („issues“) in den Bereichen Gesundheit, Sicherheit, Umwelt, Energie & Nachhaltigkeit eingebunden?"}]
[null,null,null,null,{"$f":"'Technische Seite'!B15","v":"F1.6"},{"$f":"'Technische Seite'!C15","v":4},{"$f":"VLOOKUP(E781,'Technische Seite'!$AU$10:$BD$25,9,0)","v":"-"},"n.a.",null,{"$f":"VLOOKUP(E781,'Kapitel 1'!$C$6:$D$112,2,0)","v":"Wie werden Verantwortlichkeiten in den Bereichen Gesundheit, Sicherheit, Umwelt, Energie & Nachhaltigkeit in Arbeitsplatzbeschreibungen oder Jahresziele integriert?"}]
[null,null,null,null,{"$f":"'Technische Seite'!B16","v":"F1.7"},{"$f":"'Technische Seite'!C16","v":1},{"$f":"VLOOKUP(E782,'Technische Seite'!$AU$10:$BD$25,9,0)","v":3},{"$f":"IF(G782=\"-\",\"n.a.\",IF(F782-G782>-1,\"konform\",\"Ergebnis verbessern\"))","v":"Ergebnis verbessern"},null,{"$f":"VLOOKUP(E782,'Kapitel 1'!$C$6:$D$112,2,0)","v":"Wie werden (Kern-)Prozesse in den Bereichen Gesundheit, Sicherheit, Umwelt, Energie & Nachhaltigkeit gelenkt?"}]
[null,null,null,null,{"$f":"'Technische Seite'!B17","v":"F1.8"},{"$f":"'Technische Seite'!C17","v":2},{"$f":"VLOOKUP(E783,'Technische Seite'!$AU$10:$BD$25,9,0)","v":3},"Ergebnis verbessern",null,{"$f":"VLOOKUP(E783,'Kapitel 1'!$C$6:$D$112,2,0)","v":"In welche Weise stellt die oberste Führungsebene eine kontinuierliche Verbesserung der Leistung in den Bereichen Gesundheit, Sicherheit, Umwelt, Energie & Nachhaltigkeit sicher?"}]
[null,null,null,null,{"$f":"'Technische Seite'!B18","v":"F1.9"},{"$f":"'Technische Seite'!C18","v":1},{"$f":"VLOOKUP(E784,'Technische Seite'!$AU$10:$BD$25,9,0)","v":3},"Ergebnis verbessern",null,{"$f":"VLOOKUP(E784,'Kapitel 1'!$C$6:$D$112,2,0)","v":"Wie wird das interne Auditprogramm durchgeführt?"}]
[null,null,null,null,{"$f":"'Technische Seite'!B19","v":"F1.10"},{"$f":"'Technische Seite'!C19","v":3},{"$f":"VLOOKUP(E785,'Technische Seite'!$AU$10:$BD$25,9,0)","v":3},"konform",null,{"$f":"VLOOKUP(E785,'Kapitel 1'!$C$6:$D$112,2,0)","v":"Wie werden Vorfälle untersucht?"}]
[null,null,null,null,{"$f":"'Technische Seite'!B20","v":"F1.11"},{"$f":"'Technische Seite'!C20","v":3},{"$f":"VLOOKUP(E786,'Technische Seite'!$AU$10:$BD$25,9,0)","v":3},"konform",null,{"$f":"VLOOKUP(E786,'Kapitel 1'!$C$6:$D$112,2,0)","v":"In welcher Weise stellt die Organisation die benötigten Verfahren, zeitlichen Mittel und Ressourcen bereit, um Management-Prozesse in den Bereichen Gesundheit, Sicherheit, Umwelt, Energie & Nachhaltigkeit zu verbessern?"}]
[null,null,null,null,{"$f":"'Technische Seite'!B21","v":"F1.12"},{"$f":"'Technische Seite'!C21","v":2},{"$f":"VLOOKUP(E787,'Technische Seite'!$AU$10:$BD$25,9,0)","v":4},"Ergebnis verbessern",null,{"$f":"VLOOKUP(E787,'Kapitel 1'!$C$6:$D$112,2,0)","v":"Wie stellt die Organisation sicher, dass Mitarbeiter über die Unternehmenspolitik und Verfahren in den Bereichen Gesundheit, Sicherheit, Umwelt, Energie & Nachhaltigkeit informiert sind?"}]
[null,null,null,null,{"$f":"'Technische Seite'!B22","v":"F1.13"},{"$f":"'Technische Seite'!C22","v":1},{"$f":"VLOOKUP(E788,'Technische Seite'!$AU$10:$BD$25,9,0)","v":3},"Ergebnis verbessern",null,{"$f":"VLOOKUP(E788,'Kapitel 1'!$C$6:$D$112,2,0)","v":"Wie stellt die Organisation sicher, dass Arbeiter – hinsichtlich der mit ihrer Tätigkeit in Zusammenhang stehenden Aspekten in den Bereichen Gesundheit, Sicherheit, Umwelt, Energie & Nachhaltigkeit – über die erforderlichen Kompetenzen verfügen?"}]
[null,null,null,null,{"$f":"'Technische Seite'!B23","v":"F1.14"},{"$f":"'Technische Seite'!C23","v":4},{"$f":"VLOOKUP(E789,'Technische Seite'!$AU$10:$BD$25,9,0)","v":3},"konform",null,{"$f":"VLOOKUP(E789,'Kapitel 1'!$C$6:$D$112,2,0)","v":"Wie ist die Einbeziehung der Mitarbeiter strukturiert?"}]
[null,null,null,null,{"$f":"'Technische Seite'!B24","v":"F1.15"},{"$f":"'Technische Seite'!C24","v":2},{"$f":"VLOOKUP(E790,'Technische Seite'!$AU$10:$BD$25,9,0)","v":3},"Ergebnis verbessern",null,{"$f":"VLOOKUP(E790,'Kapitel 1'!$C$6:$D$112,2,0)","v":"Wie werden Dokumente aus den Bereichen Gesundheit, Sicherheit, Umwelt, Energie & Nachhaltigkeit verwaltet?"}]
[null,null,null,null,{"$f":"'Technische Seite'!B25","v":"F1.16"},{"$f":"'Technische Seite'!C25","v":2},{"$f":"VLOOKUP(E791,'Technische Seite'!$AU$10:$BD$25,9,0)","v":3},"Ergebnis verbessern",null,{"$f":"VLOOKUP(E791,'Kapitel 1'!$C$6:$D$112,2,0)","v":"In welcher Weise werden Änderungen, die möglicherweise Auswirkungen auf die Bereiche Gesundheit, Sicherheit, Umwelt, Energie & Nachhaltigkeit haben könnten, gesteuert?"}]
[null,null,null,null,"KAPITEL 2: Schutz von Mensch und Umwelt"]
[null,null,null,null,{"$f":"'Technische Seite'!B124","v":"F2.1"},{"$f":"'Technische Seite'!C124","v":1},{"$f":"VLOOKUP(E793,'Technische Seite'!$AU$124:$BD$168,9,0)","v":"-"},"n.a.",null,{"$f":"VLOOKUP(E793,'Kapitel 2'!$C$6:$D$282,2,0)","v":"In welcher Weise verpflichtet sich die Führung der Organisation zu Arbeits- und Gesundheitsschutz?"}]
[null,null,null,null,{"$f":"'Technische Seite'!B125","v":"F2.2"},{"$f":"'Technische Seite'!C125","v":1},{"$f":"VLOOKUP(E794,'Technische Seite'!$AU$124:$BD$168,9,0)","v":"-"},{"$f":"IF(G794=\"-\",\"n.a.\",IF(F794-G794>-1,\"compliant\",\"increase score\"))","v":"n.a."},null,{"$f":"VLOOKUP(E794,'Kapitel 2'!$C$6:$D$282,2,0)","v":"In welcher Weise werden Risiken und Expositionen in den Bereichen Gesundheit & Sicherheit festgestellt?"}]
[null,null,null,null,{"$f":"'Technische Seite'!B126","v":"F2.3"},{"$f":"'Technische Seite'!C126","v":4},{"$f":"VLOOKUP(E795,'Technische Seite'!$AU$124:$BD$168,9,0)","v":"-"},"n.a.",null,{"$f":"VLOOKUP(E795,'Kapitel 2'!$C$6:$D$282,2,0)","v":"In welcher Weise werden die medizinischen Anforderungen bewertet?"}]
[null,null,null,null,{"$f":"'Technische Seite'!B127","v":"F2.4"},{"$f":"'Technische Seite'!C127","v":1},{"$f":"VLOOKUP(E796,'Technische Seite'!$AU$124:$BD$168,9,0)","v":"-"},"n.a.",null,{"$f":"VLOOKUP(E796,'Kapitel 2'!$C$6:$D$282,2,0)","v":"In welcher Weise verbessert die Organisation ihre Leistung in den Bereichen Gesundheit und Sicherheit?"}]
[null,null,null,null,{"$f":"'Technische Seite'!B128","v":"F2.5"},{"$f":"'Technische Seite'!C128","v":2},{"$f":"VLOOKUP(E797,'Technische Seite'!$AU$124:$BD$168,9,0)","v":"-"},"n.a.",null,{"$f":"VLOOKUP(E797,'Kapitel 2'!$C$6:$D$282,2,0)","v":"In welcher Weise werden Wartung und Pflege („maintenance and housekeeping“) gestaltet, um die Sicherheit von Einrichtungen, Anlagen, Werkzeugen und\n(Sicherheits-) Ausrüstungen aufrechtzuerhalten?"}]
[null,null,null,null,{"$f":"'Technische Seite'!B129","v":"F2.6"},{"$f":"'Technische Seite'!C129","v":3},{"$f":"VLOOKUP(E798,'Technische Seite'!$AU$124:$BD$168,9,0)","v":"-"},"n.a.",null,{"$f":"VLOOKUP(E798,'Kapitel 2'!$C$6:$D$282,2,0)","v":"Wie werden die geeignete Auswahl, Wartung und Verwendung von Ausrüstungen in den Bereichen Gesundheit und Sicherheit (z. B. persönliche Schutzausrüstung/PSA) überprüft?"}]
[null,null,null,null,{"$f":"'Technische Seite'!B130","v":"F2.7"},{"$f":"'Technische Seite'!C130","v":1},{"$f":"VLOOKUP(E799,'Technische Seite'!$AU$124:$BD$168,9,0)","v":"-"},"n.a.",null,{"$f":"VLOOKUP(E799,'Kapitel 2'!$C$6:$D$282,2,0)","v":"Wie geht die Organisation mit Stress und Wohlbefinden um?"}]
[null,null,null,null,{"$f":"'Technische Seite'!B131","v":"F2.8"},{"$f":"'Technische Seite'!C131","v":1},{"$f":"VLOOKUP(E800,'Technische Seite'!$AU$124:$BD$168,9,0)","v":"-"},"n.a.",null,{"$f":"VLOOKUP(E800,'Kapitel 2'!$C$6:$D$282,2,0)","v":"In welcher Weise werden Verletzungen am Arbeitsplatz, Vorfälle und Beinahe-Vorfälle untersucht?"}]
[null,null,null,null,{"$f":"'Technische Seite'!B132","v":"F2.9"},{"$f":"'Technische Seite'!C132","v":4},{"$f":"VLOOKUP(E801,'Technische Seite'!$AU$124:$BD$168,9,0)","v":"-"},"n.a.",null,{"$f":"VLOOKUP(E801,'Kapitel 2'!$C$6:$D$282,2,0)","v":"Wie ist die Organisation auf Notfälle vorbereitet?"}]
[null,null,null,null,{"$f":"'Technische Seite'!B133","v":"F2.10"},{"$f":"'Technische Seite'!C133","v":1},{"$f":"VLOOKUP(E802,'Technische Seite'!$AU$124:$BD$168,9,0)","v":"-"},"n.a.",null,{"$f":"VLOOKUP(E802,'Kapitel 2'!$C$6:$D$282,2,0)","v":"In welcher Weise stellt die Organisation sicher, dass alle Mitarbeiter hinsichtlich der Gesundheits- und Sicherheitsanforderungen, die mit ihrer Tätigkeit in Zusammenhang stehen, über die geeigneten Kompetenzen verfügen?"}]
[null,null,null,null,{"$f":"'Technische Seite'!B134","v":"F2.11"},{"$f":"'Technische Seite'!C134","v":2},{"$f":"VLOOKUP(E803,'Technische Seite'!$AU$124:$BD$168,9,0)","v":"-"},"n.a.",null,{"$f":"VLOOKUP(E803,'Kapitel 2'!$C$6:$D$282,2,0)","v":"Wie verpflichtet sich die Unternehmensleitung zur Verfahrenssicherheit?"}]
[null,null,null,null,{"$f":"'Technische Seite'!B135","v":"F2.12"},{"$f":"'Technische Seite'!C135","v":1},{"$f":"VLOOKUP(E804,'Technische Seite'!$AU$124:$BD$168,9,0)","v":"-"},"n.a.",null,{"$f":"VLOOKUP(E804,'Kapitel 2'!$C$6:$D$282,2,0)","v":"In welcher Weise werden die Identifizierung und Beschreibung der Sicherheit von Verfahren, Ausrüstungen und Standorten der Organisation vorbereitet?"}]
[null,null,null,null,{"$f":"'Technische Seite'!B136","v":"F2.13"},{"$f":"'Technische Seite'!C136","v":2},{"$f":"VLOOKUP(E805,'Technische Seite'!$AU$124:$BD$168,9,0)","v":"-"},"n.a.",null,{"$f":"VLOOKUP(E805,'Kapitel 2'!$C$6:$D$282,2,0)","v":"In welcher Weise werden Verbesserungen im Bereich Verfahrenssicherheit aufgrund von Vorfällen und Unfällen vorgenommen?"}]
[null,null,null,null,{"$f":"'Technische Seite'!B137","v":"F2.14"},{"$f":"'Technische Seite'!C137","v":3},{"$f":"VLOOKUP(E806,'Technische Seite'!$AU$124:$BD$168,9,0)","v":"-"},"n.a.",null,{"$f":"VLOOKUP(E806,'Kapitel 2'!$C$6:$D$282,2,0)","v":"Wie werden Audits und Inspektionen im Bereich Verfahrenssicherheit durchgeführt?"}]
[null,null,null,null,{"$f":"'Technische Seite'!B138","v":"F2.15"},{"$f":"'Technische Seite'!C138","v":1},{"$f":"VLOOKUP(E807,'Technische Seite'!$AU$124:$BD$168,9,0)","v":"-"},"n.a.",null,{"$f":"VLOOKUP(E807,'Kapitel 2'!$C$6:$D$282,2,0)","v":"Wie werden Arbeitsanweisungen kontrolliert und verbessert?"}]
[null,null,null,null,{"$f":"'Technische Seite'!B139","v":"F2.16"},{"$f":"'Technische Seite'!C139","v":1},{"$f":"VLOOKUP(E808,'Technische Seite'!$AU$124:$BD$168,9,0)","v":"-"},"n.a.",null,{"$f":"VLOOKUP(E808,'Kapitel 2'!$C$6:$D$282,2,0)","v":"Wie wird die Anlagenplanung durchgeführt und dokumentiert?"}]
[null,null,null,null,{"$f":"'Technische Seite'!B140","v":"F2.17"},{"$f":"'Technische Seite'!C140","v":4},{"$f":"VLOOKUP(E809,'Technische Seite'!$AU$124:$BD$168,9,0)","v":"-"},"n.a.",null,{"$f":"VLOOKUP(E809,'Kapitel 2'!$C$6:$D$282,2,0)","v":"In welcher Weise wird der Aufbau der Anlage kontrolliert?"}]
[null,null,null,null,{"$f":"'Technische Seite'!B141","v":"F2.18"},{"$f":"'Technische Seite'!C141","v":2},{"$f":"VLOOKUP(E810,'Technische Seite'!$AU$124:$BD$168,9,0)","v":"-"},"n.a.",null,{"$f":"VLOOKUP(E810,'Kapitel 2'!$C$6:$D$282,2,0)","v":"Wie wird „Schutz“ in Anlagen integriert, um zuverlässig zu verhindern, dass ein einziger Fehler katastrophale Folgen hat?"}]
[null,null,null,null,{"$f":"'Technische Seite'!B142","v":"F2.19"},{"$f":"'Technische Seite'!C142","v":2},{"$f":"VLOOKUP(E811,'Technische Seite'!$AU$124:$BD$168,9,0)","v":"-"},"n.a.",null,{"$f":"VLOOKUP(E811,'Kapitel 2'!$C$6:$D$282,2,0)","v":"Gibt es ein vorbeugendes Wartungs- und Pflegeprogramm („maintenance and housekeeping programme“), um die Sicherheit von Einrichtungen, Werkzeugen/Tools und Ausrüstungen aufrechtzuerhalten?"}]
[null,null,null,null,{"$f":"'Technische Seite'!B143","v":"F2.20"},{"$f":"'Technische Seite'!C143","v":1},{"$f":"VLOOKUP(E812,'Technische Seite'!$AU$124:$BD$168,9,0)","v":"-"},"n.a.",null,{"$f":"VLOOKUP(E812,'Kapitel 2'!$C$6:$D$282,2,0)","v":"Im Fall von Energie- oder Betriebsunterbrechungen – wie werden Verfahren in Notfällen gesteuert?"}]
[null,null,null,null,{"$f":"'Technische Seite'!B144","v":"F2.21"},{"$f":"'Technische Seite'!C144","v":3},{"$f":"VLOOKUP(E813,'Technische Seite'!$AU$124:$BD$168,9,0)","v":"-"},"n.a.",null,{"$f":"VLOOKUP(E813,'Kapitel 2'!$C$6:$D$282,2,0)","v":"Wie werden Notfallpläne erstellt?"}]
[null,null,null,null,{"$f":"'Technische Seite'!B145","v":"F2.22"},{"$f":"'Technische Seite'!C145","v":1},{"$f":"VLOOKUP(E814,'Technische Seite'!$AU$124:$BD$168,9,0)","v":"-"},"n.a.",null,{"$f":"VLOOKUP(E814,'Kapitel 2'!$C$6:$D$282,2,0)","v":"In welcher Weise werden die Kompetenz und Schulung von an den Prozessen beteiligten Mitarbeitern und Fremdfirmen sichergestellt?"}]
[null,null,null,null,{"$f":"'Technische Seite'!B146","v":"F2.23"},{"$f":"'Technische Seite'!C146","v":2},{"$f":"VLOOKUP(E815,'Technische Seite'!$AU$124:$BD$168,9,0)","v":"-"},"n.a.",null,{"$f":"VLOOKUP(E815,'Kapitel 2'!$C$6:$D$282,2,0)","v":"Wie werden Informationen über die Risiken von Stoffen und Zubereitungen gemeinsam genutzt/weitergegeben?"}]
[null,null,null,null,{"$f":"'Technische Seite'!B147","v":"F2.24"},{"$f":"'Technische Seite'!C147","v":3},{"$f":"VLOOKUP(E816,'Technische Seite'!$AU$124:$BD$168,9,0)","v":"-"},"n.a.",null,{"$f":"VLOOKUP(E816,'Kapitel 2'!$C$6:$D$282,2,0)","v":"Wie werden Informationen über das Verfahren gemeinsam genutzt/weitergegeben?"}]
[null,null,null,null,{"$f":"'Technische Seite'!B148","v":"F2.25"},{"$f":"'Technische Seite'!C148","v":2},{"$f":"VLOOKUP(E817,'Technische Seite'!$AU$124:$BD$168,9,0)","v":"-"},"n.a.",null,{"$f":"VLOOKUP(E817,'Kapitel 2'!$C$6:$D$282,2,0)","v":"In welcher Weise bewertet die Organisation ihre Logistikpartner mit Hinblick auf Gesundheit, Sicherheit, Umwelt & Nachhaltigkeit, Energieeffizienz und Treibhausgas(THG)-Emissionen?"}]
[null,null,null,null,{"$f":"'Technische Seite'!B149","v":"F2.26"},{"$f":"'Technische Seite'!C149","v":1},{"$f":"VLOOKUP(E818,'Technische Seite'!$AU$124:$BD$168,9,0)","v":"-"},"n.a.",null,{"$f":"VLOOKUP(E818,'Kapitel 2'!$C$6:$D$282,2,0)","v":"Welche Maßnahmen zur Vermeidung von Transportunfällen bzw. Notfallmaßnahmen im Falle von Transportunfällen ergreift die Organisation?"}]
[null,null,null,null,{"$f":"'Technische Seite'!B150","v":"F2.27"},{"$f":"'Technische Seite'!C150","v":1},{"$f":"VLOOKUP(E819,'Technische Seite'!$AU$124:$BD$168,9,0)","v":"-"},"n.a.",null,{"$f":"VLOOKUP(E819,'Kapitel 2'!$C$6:$D$282,2,0)","v":"In welcher Weise identifiziert die Organisation Sicherheitsprobleme?"}]
[null,null,null,null,{"$f":"'Technische Seite'!B151","v":"F2.28"},{"$f":"'Technische Seite'!C151","v":2},{"$f":"VLOOKUP(E820,'Technische Seite'!$AU$124:$BD$168,9,0)","v":"-"},"n.a.",null,{"$f":"VLOOKUP(E820,'Kapitel 2'!$C$6:$D$282,2,0)","v":"In welcher Weise werden das Betreten/Verlassen des Arbeitsortes und eingeschränkt zugänglicher Bereiche durch Mitarbeiter bzw. der dortige Ein- und Ausgang von Materialien kontrolliert?"}]
[null,null,null,null,{"$f":"'Technische Seite'!B152","v":"F2.29"},{"$f":"'Technische Seite'!C152","v":1},{"$f":"VLOOKUP(E821,'Technische Seite'!$AU$124:$BD$168,9,0)","v":"-"},"n.a.",null,{"$f":"VLOOKUP(E821,'Kapitel 2'!$C$6:$D$282,2,0)","v":"Wie wird Cybersecurity überwacht?"}]
[null,null,null,null,{"$f":"'Technische Seite'!B153","v":"F2.30"},{"$f":"'Technische Seite'!C153","v":1},{"$f":"VLOOKUP(E822,'Technische Seite'!$AU$124:$BD$168,9,0)","v":"-"},"n.a.",null,{"$f":"VLOOKUP(E822,'Kapitel 2'!$C$6:$D$282,2,0)","v":"Wie sind Kommunikation und Informationsaustausch im Falle einer Sicherheitskrise organisiert?"}]
[null,null,null,null,{"$f":"'Technische Seite'!B154","v":"F2.31"},{"$f":"'Technische Seite'!C154","v":3},{"$f":"VLOOKUP(E823,'Technische Seite'!$AU$124:$BD$168,9,0)","v":"-"},"n.a.",null,{"$f":"VLOOKUP(E823,'Kapitel 2'!$C$6:$D$282,2,0)","v":"Wie geht die Organisation mit abnormalem Verhalten (einschließlich Risiken der Radikalisierung) um?"}]
[null,null,null,null,{"$f":"'Technische Seite'!B155","v":"F2.32"},{"$f":"'Technische Seite'!C155","v":1},{"$f":"VLOOKUP(E824,'Technische Seite'!$AU$124:$BD$168,9,0)","v":"-"},"n.a.",null,{"$f":"VLOOKUP(E824,'Kapitel 2'!$C$6:$D$282,2,0)","v":"In welcher Weise weist die Organisation die Mitarbeiter an, in Sicherheitsfragen wachsam zu sein?"}]
[null,null,null,null,{"$f":"'Technische Seite'!B156","v":"F2.33"},{"$f":"'Technische Seite'!C156","v":2},{"$f":"VLOOKUP(E825,'Technische Seite'!$AU$124:$BD$168,9,0)","v":3},{"$f":"IF(G825=\"-\",\"n.a.\",IF(F825-G825>-1,\"konform\",\"Ergebnis verbessern\"))","v":"Ergebnis verbessern"},null,{"$f":"VLOOKUP(E825,'Kapitel 2'!$C$6:$D$282,2,0)","v":"In welcher Weise werden die möglichen Umweltauswirkungen der Aktivitäten der Organisation bewertet?"}]
[null,null,null,null,{"$f":"'Technische Seite'!B157","v":"F2.34"},{"$f":"'Technische Seite'!C157","v":1},{"$f":"VLOOKUP(E826,'Technische Seite'!$AU$124:$BD$168,9,0)","v":"-"},"n.a.",null,{"$f":"VLOOKUP(E826,'Kapitel 2'!$C$6:$D$282,2,0)","v":"In welcher Weise steuert die Organisation ihre Umweltleistung?"}]
[null,null,null,null,{"$f":"'Technische Seite'!B158","v":"F2.35"},{"$f":"'Technische Seite'!C158","v":2},{"$f":"VLOOKUP(E827,'Technische Seite'!$AU$124:$BD$168,9,0)","v":3},{"$f":"IF(G827=\"-\",\"n.a.\",IF(F827-G827>-1,\"konform\",\"Ergebnis verbessern\"))","v":"Ergebnis verbessern"},null,{"$f":"VLOOKUP(E827,'Kapitel 2'!$C$6:$D$282,2,0)","v":"Wie geht die Organisation mit Abfall um?"}]
[null,null,null,null,{"$f":"'Technische Seite'!B159","v":"F2.36"},{"$f":"'Technische Seite'!C159","v":1},{"$f":"VLOOKUP(E828,'Technische Seite'!$AU$124:$BD$168,9,0)","v":3},"Ergebnis verbessern",null,{"$f":"VLOOKUP(E828,'Kapitel 2'!$C$6:$D$282,2,0)","v":"Wie geht die Organisation mit Risiken für das Grundwasser um?"}]
[null,null,null,null,{"$f":"'Technische Seite'!B160","v":"F2.37"},{"$f":"'Technische Seite'!C160","v":3},{"$f":"VLOOKUP(E829,'Technische Seite'!$AU$124:$BD$168,9,0)","v":3},"konform",null,{"$f":"VLOOKUP(E829,'Kapitel 2'!$C$6:$D$282,2,0)","v":"Wie geht die Organisation mit den Risiken einer Bodenverschmutzung um?"}]
[null,null,null,null,{"$f":"'Technische Seite'!B161","v":"F2.38"},{"$f":"'Technische Seite'!C161","v":1},{"$f":"VLOOKUP(E830,'Technische Seite'!$AU$124:$BD$168,9,0)","v":3},"Ergebnis verbessern",null,{"$f":"VLOOKUP(E830,'Kapitel 2'!$C$6:$D$282,2,0)","v":"Wie geht die Organisation mit vorhandenen Bodenverschmutzungen um?"}]
[null,null,null,null,{"$f":"'Technische Seite'!B162","v":"F2.39"},{"$f":"'Technische Seite'!C162","v":3},{"$f":"VLOOKUP(E831,'Technische Seite'!$AU$124:$BD$168,9,0)","v":3},"konform",null,{"$f":"VLOOKUP(E831,'Kapitel 2'!$C$6:$D$282,2,0)","v":"Wie geht die Organisation mit ihren Emissionen in die Luft um?"}]
[null,null,null,null,{"$f":"'Technische Seite'!B163","v":"F2.40"},{"$f":"'Technische Seite'!C163","v":1},{"$f":"VLOOKUP(E832,'Technische Seite'!$AU$124:$BD$168,9,0)","v":3},"Ergebnis verbessern",null,{"$f":"VLOOKUP(E832,'Kapitel 2'!$C$6:$D$282,2,0)","v":"Wie geht die Organisation mit ihren Emissionen in Wasser um?"}]
[null,null,null,null,{"$f":"'Technische Seite'!B164","v":"F2.41"},{"$f":"'Technische Seite'!C164","v":3},{"$f":"VLOOKUP(E833,'Technische Seite'!$AU$124:$BD$168,9,0)","v":3},"konform",null,{"$f":"VLOOKUP(E833,'Kapitel 2'!$C$6:$D$282,2,0)","v":"Wie geht die Organisation mit Lärmemissionen um?"}]
[null,null,null,null,{"$f":"'Technische Seite'!B165","v":"F2.42"},{"$f":"'Technische Seite'!C165","v":3},{"$f":"VLOOKUP(E834,'Technische Seite'!$AU$124:$BD$168,9,0)","v":3},"konform",null,{"$f":"VLOOKUP(E834,'Kapitel 2'!$C$6:$D$282,2,0)","v":"Wie geht die Organisation mit Geruchsemissionen um?"}]
[null,null,null,null,{"$f":"'Technische Seite'!B166","v":"F2.43"},{"$f":"'Technische Seite'!C166","v":2},{"$f":"VLOOKUP(E835,'Technische Seite'!$AU$124:$BD$168,9,0)","v":"-"},"n.a.",null,{"$f":"VLOOKUP(E835,'Kapitel 2'!$C$6:$D$282,2,0)","v":"Wie verhindert die Organisation unfallbedingte Emissionen in die Umwelt und wie geht sie ggf. damit um?"}]
[null,null,null,null,{"$f":"'Technische Seite'!B167","v":"F2.44"},{"$f":"'Technische Seite'!C167","v":3},{"$f":"VLOOKUP(E836,'Technische Seite'!$AU$124:$BD$168,9,0)","v":3},{"$f":"IF(G836=\"-\",\"n.a.\",IF(F836-G836>-1,\"konform\",\"Ergebnis verbessern\"))","v":"konform"},null,{"$f":"VLOOKUP(E836,'Kapitel 2'!$C$6:$D$282,2,0)","v":"In welcher Weise stellt die Organisation sicher, dass alle Mitarbeiter hinsichtlich der Umweltanforderungen, die mit ihrer Tätigkeit in Zusammenhang stehen, über die geeigneten Kompetenzen verfügen?"}]
[null,null,null,null,{"$f":"'Technische Seite'!B168","v":"F2.45"},{"$f":"'Technische Seite'!C168","v":3},{"$f":"VLOOKUP(E837,'Technische Seite'!$AU$124:$BD$168,9,0)","v":2},{"$f":"IF(G837=\"-\",\"n.a.\",IF(F837-G837>-1,\"konform\",\"Ergebnis verbessern\"))","v":"konform"},null,{"$f":"VLOOKUP(E837,'Kapitel 2'!$C$6:$D$282,2,0)","v":"Wie werden den Interessensgruppen („stakeholder“) der Organisation die Umweltaspekte und deren mögliche Auswirkungen bewusst gemacht?"}]
[null,null,null,null,"KAPITEL 3 : Stärkung von Managementsystemen im Chemikalienbereich"]
[null,null,null,null,{"$f":"'Technische Seite'!$B$406","v":"F3.1"},{"$f":"'Technische Seite'!$C$406","v":1},{"$f":"VLOOKUP(E839,'Technische Seite'!$AU$406:$BD$418,9,0)","v":3},{"$f":"IF(G839=\"-\",\"n.a.\",IF(F839-G839>-1,\"konform\",\"Ergebnis verbessern\"))","v":"Ergebnis verbessern"},null,{"$f":"VLOOKUP(E839,'Kapitel 3'!$C$6:$D$89,2,0)","v":"Verfügt die Organisation über ein Verfahren für das Design\n und die Entwicklung neuer Produkte und Dienstleistungen?"}]
[null,null,null,null,{"$f":"'Technische Seite'!$B$407","v":"F3.2"},{"$f":"'Technische Seite'!$C$407","v":2},{"$f":"VLOOKUP(E840,'Technische Seite'!$AU$406:$BD$418,9,0)","v":2},{"$f":"IF(G840=\"-\",\"n.a.\",IF(F840-G840>-1,\"konform\",\"Ergebnis verbessern\"))","v":"konform"},null,{"$f":"VLOOKUP(E840,'Kapitel 3'!$C$6:$D$89,2,0)","v":"Verfügt die Organisation über ein Verfahren, um ihre Produkte mit Hinblick auf Risikocharakterisierung und Risikomanagement zu bewerten und zu priorisieren?"}]
[null,null,null,null,{"$f":"'Technische Seite'!$B$408","v":"F3.3"},{"$f":"'Technische Seite'!$C$408","v":1},{"$f":"VLOOKUP(E841,'Technische Seite'!$AU$406:$BD$418,9,0)","v":"-"},{"$f":"IF(G841=\"-\",\"n.a.\",IF(F841-G841>-1,\"compliant\",\"increase score\"))","v":"n.a."},null,{"$f":"VLOOKUP(E841,'Kapitel 3'!$C$6:$D$89,2,0)","v":"Verfügt die Organisation über ein System, um die Anwendbarkeit sowie Änderungen und Einhaltung von internen und externen Anforderungen in Zusammenhang mit dem Sicherheitsmanagement von Chemikalien zu verfolgen/nachzuverfolgen?"}]
[null,null,null,null,{"$f":"'Technische Seite'!$B$409","v":"F3.4"},{"$f":"'Technische Seite'!$C$409","v":1},{"$f":"VLOOKUP(E842,'Technische Seite'!$AU$406:$BD$418,9,0)","v":4},{"$f":"IF(G842=\"-\",\"n.a.\",IF(F842-G842>-1,\"konform\",\"Ergebnis verbessern\"))","v":"Ergebnis verbessern"},null,{"$f":"VLOOKUP(E842,'Kapitel 3'!$C$6:$D$89,2,0)","v":"Verfügt die Organisation über ein Verfahren zum Umgang mit vorhandenen Gefahreninformationen in Zusammenhang mit ihren Produkten?"}]
[null,null,null,null,{"$f":"'Technische Seite'!$B$410","v":"F3.5"},{"$f":"'Technische Seite'!$C$410","v":1},{"$f":"VLOOKUP(E843,'Technische Seite'!$AU$406:$BD$418,9,0)","v":"-"},"n.a.",null,{"$f":"VLOOKUP(E843,'Kapitel 3'!$C$6:$D$89,2,0)","v":"Verfügt die Organisation über ein Verfahren für den Umgang mit Informationen über die Verwendung von und die Exposition durch ihre Produkte?"}]
[null,null,null,null,{"$f":"'Technische Seite'!$B$411","v":"F3.6"},{"$f":"'Technische Seite'!$C$411","v":1},{"$f":"VLOOKUP(E844,'Technische Seite'!$AU$406:$BD$418,9,0)","v":"-"},"n.a.",null,{"$f":"VLOOKUP(E844,'Kapitel 3'!$C$6:$D$89,2,0)","v":"Verfügt die Organisation über ein Verfahren für den Umgang mit neuen Informationen?"}]
[null,null,null,null,{"$f":"'Technische Seite'!$B$412","v":"Q3.7"},{"$f":"'Technische Seite'!$C$412","v":1},{"$f":"VLOOKUP(E845,'Technische Seite'!$AU$406:$BD$418,9,0)","v":4},{"$f":"IF(G845=\"-\",\"n.a.\",IF(F845-G845>-1,\"konform\",\"Ergebnis verbessern\"))","v":"Ergebnis verbessern"},null,{"$f":"VLOOKUP(E845,'Kapitel 3'!$C$6:$D$89,2,0)","v":"Verfügt die Organisation über ein Verfahren zur Risikocharakterisierung auf der Grundlage der gesammelten Informationen?"}]
[null,null,null,null,{"$f":"'Technische Seite'!$B$413","v":"F3.8"},{"$f":"'Technische Seite'!$C$413","v":1},{"$f":"VLOOKUP(E846,'Technische Seite'!$AU$406:$BD$418,9,0)","v":4},{"$f":"IF(G846=\"-\",\"n.a.\",IF(F846-G846>-1,\"konform\",\"Ergebnis verbessern\"))","v":"Ergebnis verbessern"},null,{"$f":"VLOOKUP(E846,'Kapitel 3'!$C$6:$D$89,2,0)","v":"Verfügt die Organisation über ein Verfahren zum Risikomanagement auf der Grundlage der gesammelten Informationen?"}]
[null,null,null,null,{"$f":"'Technische Seite'!$B$414","v":"F3.9"},{"$f":"'Technische Seite'!$C$414","v":2},{"$f":"VLOOKUP(E847,'Technische Seite'!$AU$406:$BD$418,9,0)","v":4},{"$f":"IF(G847=\"-\",\"n.a.\",IF(F847-G847>-1,\"konform\",\"Ergebnis verbessern\"))","v":"Ergebnis verbessern"},null,{"$f":"VLOOKUP(E847,'Kapitel 3'!$C$6:$D$89,2,0)","v":"Verfügt die Organisation über ein effizientes Verfahren, um ihre Produkte nach deren Lieferung nachzuverfolgen und Korrekturmaßnahmen durchzuführen?"}]
[null,null,null,null,{"$f":"'Technische Seite'!$B$415","v":"F3.10"},{"$f":"'Technische Seite'!$C$415","v":2},{"$f":"VLOOKUP(E848,'Technische Seite'!$AU$406:$BD$418,9,0)","v":4},{"$f":"IF(G848=\"-\",\"n.a.\",IF(F848-G848>-1,\"konform\",\"Ergebnis verbessern\"))","v":"Ergebnis verbessern"},null,{"$f":"VLOOKUP(E848,'Kapitel 3'!$C$6:$D$89,2,0)","v":"Kommuniziert die Organisation effizient in der Lieferkette hinsichtlich der für ihre Produkte notwendigen Maßnahmen des Risikomanagements?\n"}]
[null,null,null,null,"KAPITEL 4: Einbeziehung von Geschäftspartnern"]
[null,null,null,null,{"$f":"'Technische Seite'!B482","v":"F4.1"},{"$f":"'Technische Seite'!C482","v":1},{"$f":"VLOOKUP(E850,'Technische Seite'!$AU$482:$BD$489,9,0)","v":3},{"$f":"IF(G850=\"-\",\"n.a.\",IF(F850-G850>-1,\"konform\",\"Ergebnis verbessern\"))","v":"Ergebnis verbessern"},null,{"$f":"VLOOKUP(E850,'Kapitel 4'!$C$6:$D$91,2,0)","v":"In welcher Form hat sich die Organisation einer verantwortungsvollen Beschaffung verpflichtet?"}]
[null,null,null,null,{"$f":"'Technische Seite'!B483","v":"F4.2"},{"$f":"'Technische Seite'!C483","v":2},{"$f":"VLOOKUP(E851,'Technische Seite'!$AU$482:$BD$489,9,0)","v":"-"},{"$f":"IF(G851=\"-\",\"n.a.\",IF(F851-G851>-1,\"compliant\",\"increase score\"))","v":"n.a."},null,{"$f":"VLOOKUP(E851,'Kapitel 4'!$C$6:$D$91,2,0)","v":"In welcher Weise steigert die Organisation die Zusammenarbeit mit der Wertschöpfungskette?"}]
[null,null,null,null,{"$f":"'Technische Seite'!B484","v":"F4.3"},{"$f":"'Technische Seite'!C484","v":2},{"$f":"VLOOKUP(E852,'Technische Seite'!$AU$482:$BD$489,9,0)","v":"-"},"n.a.",null,{"$f":"VLOOKUP(E852,'Kapitel 4'!$C$6:$D$91,2,0)","v":"In welcher Weise bringt die Organisation ihre Verpflichtung mit Hinblick auf Geschäftsethik zum Ausdruck?"}]
[null,null,null,null,{"$f":"'Technische Seite'!B485","v":"F4.4"},{"$f":"'Technische Seite'!C485","v":2},{"$f":"VLOOKUP(E853,'Technische Seite'!$AU$482:$BD$489,9,0)","v":"-"},"n.a.",null,{"$f":"VLOOKUP(E853,'Kapitel 4'!$C$6:$D$91,2,0)","v":"Wie berücksichtigt die Organisation soziale Fragen und Menschenrechte in ihrer Zusammenarbeit mit Geschäftspartnern?"}]
[null,null,null,null,{"$f":"'Technische Seite'!B486","v":"F4.5"},{"$f":"'Technische Seite'!C486","v":2},{"$f":"VLOOKUP(E854,'Technische Seite'!$AU$482:$BD$489,9,0)","v":"-"},"n.a.",null,{"$f":"VLOOKUP(E854,'Kapitel 4'!$C$6:$D$91,2,0)","v":"In welcher Weise verhindert die Organisation Kinderarbeit?\n\nDie Organisation\n1.\tverfügt über ein System zur Altersprüfung;\n2.\tbeschäftigt keine Kinder unter 15 Jahren (oder älter; die jeweiligen örtlichen Gesetze sind zu beachten). Berufsausbildungen oder Praktika im Rahmen der Schulbildung bzw. bildungsbezogene Praktika sind die einzigen Ausnahmen;\n3.\tstellt sicher, dass die Beschäftigung von Personen unter 18 Jahren nicht deren Schulbesuch beeinträchtigt (die Gesamtzahl der Stunden für den Weg zur Arbeit und Schule und zurück, Schulbesuch und Arbeitstätigkeit beträgt weniger als 10 Stunden täglich);\n4.\tstellt sicher, dass die Tätigkeit junger Arbeitnehmer nicht geistig, körperlich, sozial oder moralisch gefährlich und schädlich ist."}]
[null,null,null,null,{"$f":"'Technische Seite'!B487","v":"F4.6"},{"$f":"'Technische Seite'!C487","v":2},{"$f":"VLOOKUP(E855,'Technische Seite'!$AU$482:$BD$489,9,0)","v":3},{"$f":"IF(G855=\"-\",\"n.a.\",IF(F855-G855>-1,\"konform\",\"Ergebnis verbessern\"))","v":"Ergebnis verbessern"},null,{"$f":"VLOOKUP(E855,'Kapitel 4'!$C$6:$D$91,2,0)","v":"Wie stellt die Organisation sicher, dass ihre Logistikpartner die Anforderungen der Organisation erfüllen?"}]
[null,null,null,null,{"$f":"'Technische Seite'!B488","v":"F4.7"},{"$f":"'Technische Seite'!C488","v":1},{"$f":"VLOOKUP(E856,'Technische Seite'!$AU$482:$BD$489,9,0)","v":"-"},"n.a.",null,{"$f":"VLOOKUP(E856,'Kapitel 4'!$C$6:$D$91,2,0)","v":"In welcher Weise schützt und sichert die Organisation das Eigentum und die Daten nachgeschalteter Anwender oder externer Anbieter, die zur Nutzung oder Einbeziehung/Einarbeitung in Produkte und Dienstleistungen bereitgestellt werden?"}]
[null,null,null,null,{"$f":"'Technische Seite'!B489","v":"F4.8"},{"$f":"'Technische Seite'!C489","v":2},{"$f":"VLOOKUP(E857,'Technische Seite'!$AU$482:$BD$489,9,0)","v":"-"},"n.a.",null,{"$f":"VLOOKUP(E857,'Kapitel 4'!$C$6:$D$91,2,0)","v":"Was beinhaltet der Dialog mit nachgeschalteten Anwendern?"}]
[null,null,null,null,"KAPITEL 5: Berücksichtigung von Anspruchsgruppen"]
[null,null,null,null,{"$f":"'Technische Seite'!B544","v":"F5.1"},{"$f":"'Technische Seite'!C544","v":2},{"$f":"VLOOKUP(E859,'Technische Seite'!$AU$544:$BD$548,9,0)","v":4},{"$f":"IF(G859=\"-\",\"n.a.\",IF(F859-G859>-1,\"konform\",\"Ergebnis verbessern\"))","v":"Ergebnis verbessern"},null,{"$f":"VLOOKUP(E859,'Kapitel 5'!$C$6:$D$89,2,0)","v":"In welcher Weise bezieht die Organisation die für sie relevanten externen Anspruchsgruppen („stakeholder“) ein und wird deren Erwartungen gerecht?"}]
[null,null,null,null,{"$f":"'Technische Seite'!B545","v":"F5.2"},{"$f":"'Technische Seite'!C545","v":1},{"$f":"VLOOKUP(E860,'Technische Seite'!$AU$544:$BD$548,9,0)","v":4},{"$f":"IF(G860=\"-\",\"n.a.\",IF(F860-G860>-1,\"konform\",\"Ergebnis verbessern\"))","v":"Ergebnis verbessern"},null,{"$f":"VLOOKUP(E860,'Kapitel 5'!$C$6:$D$89,2,0)","v":"In welcher Weise führt die Organisation einen Dialog mit der Öffentlichkeit, Behörden und anderen interessierten Kreisen (einschließlich örtlichen Gemeinden/Anwohnern und Kunden) über die Leistung ihrer Aktivitäten, Produkte und Dienstleistungen in den Bereichen Gesundheit, Sicherheit, Umwelt, Energie & Nachhaltigkeit?\n"}]
[null,null,null,null,{"$f":"'Technische Seite'!B546","v":"F5.3"},{"$f":"'Technische Seite'!C546","v":2},{"$f":"VLOOKUP(E861,'Technische Seite'!$AU$544:$BD$548,9,0)","v":"-"},{"$f":"IF(G861=\"-\",\"n.a.\",IF(F861-G861>-1,\"compliant\",\"increase score\"))","v":"n.a."},null,{"$f":"VLOOKUP(E861,'Kapitel 5'!$C$6:$D$89,2,0)","v":"In welcher Weise vermittelt die Organisation Informationen aus den Bereichen Gesundheit, Sicherheit, Umwelt, Energie & Nachhaltigkeit?"}]
[null,null,null,null,{"$f":"'Technische Seite'!B547","v":"F5.4"},{"$f":"'Technische Seite'!C547","v":1},{"$f":"VLOOKUP(E862,'Technische Seite'!$AU$544:$BD$548,9,0)","v":"-"},"n.a.",null,{"$f":"VLOOKUP(E862,'Kapitel 5'!$C$6:$D$89,2,0)","v":"In welcher Weise unterstützt die Organisation örtliche Gemeinden/Anwohner („local communities“)?"}]
[null,null,null,null,{"$f":"'Technische Seite'!B548","v":"F5.5"},{"$f":"'Technische Seite'!C548","v":2},{"$f":"VLOOKUP(E863,'Technische Seite'!$AU$544:$BD$548,9,0)","v":"-"},"n.a.",null,{"$f":"VLOOKUP(E863,'Kapitel 5'!$C$6:$D$89,2,0)","v":"In welcher Weise fördert die Organisation Beschäftigung und Bildung vor Ort?"}]
[null,null,null,null,"KAPITEL 6 : Beitrag zur Nachhaltigkeit"]
[null,null,null,null,{"$f":"'Technische Seite'!B584","v":"F6.1"},{"$f":"'Technische Seite'!C584","v":2},{"$f":"VLOOKUP(E865,'Technische Seite'!$AU$584:$BD$600,9,0)","v":"-"},{"$f":"IF(G865=\"-\",\"n.a.\",IF(F865-G865>-1,\"compliant\",\"increase score\"))","v":"n.a."},null,{"$f":"VLOOKUP(E865,'Kapitel 6'!$C$6:$D$120,2,0)","v":"Wie definiert das Unternehmen relevante Themen und Wesentlichkeiten?"}]
[null,null,null,null,{"$f":"'Technische Seite'!B585","v":"F6.2"},{"$f":"'Technische Seite'!C585","v":1},{"$f":"VLOOKUP(E866,'Technische Seite'!$AU$584:$BD$600,9,0)","v":"-"},{"$f":"IF(G866=\"-\",\"n.a.\",IF(F866-G866>-1,\"compliant\",\"increase score\"))","v":"n.a."},null,{"$f":"VLOOKUP(E866,'Kapitel 6'!$C$6:$D$120,2,0)","v":"Welche Pläne hat die Organisation zum Beitrag für eine nachhaltige Entwicklung? "}]
[null,null,null,null,{"$f":"'Technische Seite'!B586","v":"F6.3"},{"$f":"'Technische Seite'!C586","v":1},{"$f":"VLOOKUP(E867,'Technische Seite'!$AU$584:$BD$600,9,0)","v":"-"},"n.a.",null,{"$f":"VLOOKUP(E867,'Kapitel 6'!$C$6:$D$120,2,0)","v":"Wie steht es bei der Organisation mit der Einbeziehung von Stakeholdern bei Nachhaltigkeit?"}]
[null,null,null,null,{"$f":"'Technische Seite'!B587","v":"F6.4"},{"$f":"'Technische Seite'!C587","v":1},{"$f":"VLOOKUP(E868,'Technische Seite'!$AU$584:$BD$600,9,0)","v":"-"},"n.a.",null,{"$f":"VLOOKUP(E868,'Kapitel 6'!$C$6:$D$120,2,0)","v":"Verfügt die Organisation über einen Prozess für die Entwicklung von Produkten mit besseren Nachhaltigkeitsergebnissen?"}]
[null,null,null,null,{"$f":"'Technische Seite'!B588","v":"F6.5"},{"$f":"'Technische Seite'!C588","v":1},{"$f":"VLOOKUP(E869,'Technische Seite'!$AU$584:$BD$600,9,0)","v":"-"},"n.a.",null,{"$f":"VLOOKUP(E869,'Kapitel 6'!$C$6:$D$120,2,0)","v":"Wie verbessert die Organisation die Ressourceneffizienz in ihren Produktionsprozessen? "}]
[null,null,null,null,{"$f":"'Technische Seite'!B589","v":"F6.6"},{"$f":"'Technische Seite'!C589","v":1},{"$f":"VLOOKUP(E870,'Technische Seite'!$AU$584:$BD$600,9,0)","v":"-"},"n.a.",null,{"$f":"VLOOKUP(E870,'Kapitel 6'!$C$6:$D$120,2,0)","v":"Wie fördert die Organisation die Kreislaufwirtschaft durch ihre Produkte?"}]
[null,null,null,null,{"$f":"'Technische Seite'!B590","v":"F6.7"},{"$f":"'Technische Seite'!C590","v":1},{"$f":"VLOOKUP(E871,'Technische Seite'!$AU$584:$BD$600,9,0)","v":"-"},"n.a.",null,{"$f":"VLOOKUP(E871,'Kapitel 6'!$C$6:$D$120,2,0)","v":"Wie fördert die Organisation Innovation für die Entwicklung von Produkten und Lösungen, die mit den Herausforderungen der Nachhaltigkeit in Einklang stehen?"}]
[null,null,null,null,{"$f":"'Technische Seite'!B591","v":"F6.8"},{"$f":"'Technische Seite'!C591","v":1},{"$f":"VLOOKUP(E872,'Technische Seite'!$AU$584:$BD$600,9,0)","v":"-"},"n.a.",null,{"$f":"VLOOKUP(E872,'Kapitel 6'!$C$6:$D$120,2,0)","v":"Wie fördert die Organisation Innovationspanels und Kooperationen?"}]
[null,null,null,null,{"$f":"'Technische Seite'!B592","v":"F6.9"},{"$f":"'Technische Seite'!C592","v":2},{"$f":"VLOOKUP(E873,'Technische Seite'!$AU$584:$BD$600,9,0)","v":"-"},"n.a.",null,{"$f":"VLOOKUP(E873,'Kapitel 6'!$C$6:$D$120,2,0)","v":"Wie fördert die Organisation nachhaltiges Verbrauchsverhalten?"}]
[null,null,null,null,{"$f":"'Technische Seite'!B593","v":"F6.10"},{"$f":"'Technische Seite'!C593","v":1},{"$f":"VLOOKUP(E874,'Technische Seite'!$AU$584:$BD$600,9,0)","v":"-"},"n.a.",null,{"$f":"VLOOKUP(E874,'Kapitel 6'!$C$6:$D$120,2,0)","v":"Wie kontrolliert und optimiert die Organisation den Wasserverbrauch?"}]
[null,null,null,null,{"$f":"'Technische Seite'!B594","v":"F6.11"},{"$f":"'Technische Seite'!C594","v":1},{"$f":"VLOOKUP(E875,'Technische Seite'!$AU$584:$BD$600,9,0)","v":"-"},"n.a.",null,{"$f":"VLOOKUP(E875,'Kapitel 6'!$C$6:$D$120,2,0)","v":"Wie werden die Auswirkungen der Organisation auf die Biodiversität und die Ökosystemleistungen gehandhabt?"}]
[null,null,null,null,{"$f":"'Technische Seite'!B595","v":"F6.12"},{"$f":"'Technische Seite'!C595","v":2},{"$f":"VLOOKUP(E876,'Technische Seite'!$AU$584:$BD$600,9,0)","v":"-"},"n.a.",null,{"$f":"VLOOKUP(E876,'Kapitel 6'!$C$6:$D$120,2,0)","v":"Wie berücksichtigt die Organisation ihre Abhängigkeit von Ökosystemleistungen?"}]
[null,null,null,null,{"$f":"'Technische Seite'!B596","v":"F6.13"},{"$f":"'Technische Seite'!C596","v":1},{"$f":"VLOOKUP(E877,'Technische Seite'!$AU$584:$BD$600,9,0)","v":"-"},"n.a.",null,{"$f":"VLOOKUP(E877,'Kapitel 6'!$C$6:$D$120,2,0)","v":"Wie handhabt die Organisation ihre Energieeffizienz?"}]
[null,null,null,null,{"$f":"'Technische Seite'!B597","v":"F6.14"},{"$f":"'Technische Seite'!C597","v":2},{"$f":"VLOOKUP(E878,'Technische Seite'!$AU$584:$BD$600,9,0)","v":"-"},"n.a.",null,{"$f":"VLOOKUP(E878,'Kapitel 6'!$C$6:$D$120,2,0)","v":"Wie handhabt die Organisation ihre Emissionen von Treibhausgasen (THG) (anders als durch Energieeinsparung)?"}]
[null,null,null,null,{"$f":"'Technische Seite'!B598","v":"F6.15"},{"$f":"'Technische Seite'!C598","v":1},{"$f":"VLOOKUP(E879,'Technische Seite'!$AU$584:$BD$600,9,0)","v":"-"},"n.a.",null,{"$f":"VLOOKUP(E879,'Kapitel 6'!$C$6:$D$120,2,0)","v":"Welche Strategie hat die Organisation zur Reduzierung von THG-Emissionen?"}]
[null,null,null,null,{"$f":"'Technische Seite'!B599","v":"F6.16"},{"$f":"'Technische Seite'!C599","v":2},{"$f":"VLOOKUP(E880,'Technische Seite'!$AU$584:$BD$600,9,0)","v":3},{"$f":"IF(G880=\"-\",\"n.a.\",IF(F880-G880>-1,\"konform\",\"Ergebnis verbessern\"))","v":"Ergebnis verbessern"},null,{"$f":"VLOOKUP(E880,'Kapitel 6'!$C$6:$D$120,2,0)","v":"Wie bereitet sich die Organisation auf den Klimawandel vor? "}]
[null,null,null,null,{"$f":"'Technische Seite'!B600","v":"F6.17"},{"$f":"'Technische Seite'!C600","v":1},{"$f":"VLOOKUP(E881,'Technische Seite'!$AU$584:$BD$600,9,0)","v":"-"},"n.a.",null,{"$f":"VLOOKUP(E881,'Kapitel 6'!$C$6:$D$120,2,0)","v":"In welcher Weise gewährleistet die Organisation Chancengleichheit bei der Einstellung und während der gesamten beruflichen Laufbahn aller?"}]
[]
[null,null,"Bericht über den Abstand zur Einhaltung von  GHS"]
[null,null,null,null,null,"Ihre Bewertung ","Mindestbewertung für RCMS"]
[null,null,null,null,"KAPITEL 1: Führungskultur im Unternehmen"]
[null,null,null,null,{"$f":"'Technische Seite'!B10","v":"F1.1"},{"$f":"'Technische Seite'!C10","v":1},{"$f":"VLOOKUP(E886,'Technische Seite'!$AU$10:$BD$25,10,0)","v":"-"},{"$f":"IF(G886=\"-\",\"n.a.\",IF(F886-G886>-1,\"compliant\",\"increase score\"))","v":"n.a."},null,{"$f":"VLOOKUP(E886,'Kapitel 1'!$C$6:$D$112,2,0)","v":"In welcher Weise wird die Verpflichtung zur Einhaltung gesetzlicher und sonstiger Vorschriften („Compliance“) sowie der Grundsätze von Responsible Care (d. h. Schutz und Förderung der Gesundheit & Sicherheit von Menschen und Umwelt sowie Nachhaltigkeit) auf allen Ebenen der Organisation dargelegt?"}]
[null,null,null,null,{"$f":"'Technische Seite'!B11","v":"F1.2"},{"$f":"'Technische Seite'!C11","v":1},{"$f":"VLOOKUP(E887,'Technische Seite'!$AU$10:$BD$25,10,0)","v":"-"},"n.a.",null,{"$f":"VLOOKUP(E887,'Kapitel 1'!$C$6:$D$112,2,0)","v":"Wie steuert die Organisation die relevanten Risiken und Chancen?"}]
[null,null,null,null,{"$f":"'Technische Seite'!B12","v":"F1.3"},{"$f":"'Technische Seite'!C12","v":2},{"$f":"VLOOKUP(E888,'Technische Seite'!$AU$10:$BD$25,10,0)","v":"-"},"n.a.",null,{"$f":"VLOOKUP(E888,'Kapitel 1'!$C$6:$D$112,2,0)","v":"In welcher Weise erfüllt die Organisation ihre gesetzlichen Verpflichtungen?"}]
[null,null,null,null,{"$f":"'Technische Seite'!B13","v":"F1.4"},{"$f":"'Technische Seite'!C13","v":2},{"$f":"VLOOKUP(E889,'Technische Seite'!$AU$10:$BD$25,10,0)","v":"-"},"n.a.",null,{"$f":"VLOOKUP(E889,'Kapitel 1'!$C$6:$D$112,2,0)","v":"Wie stellt die oberste Führungsebene („top management“) sicher, dass Aspekte aus den Bereichen Gesundheit, Sicherheit, Umwelt, Energie & Nachhaltigkeit bestimmten Funktionen zugeordnet sind?"}]
[null,null,null,null,{"$f":"'Technische Seite'!B14","v":"F1.5"},{"$f":"'Technische Seite'!C14","v":3},{"$f":"VLOOKUP(E890,'Technische Seite'!$AU$10:$BD$25,10,0)","v":"-"},"n.a.",null,{"$f":"VLOOKUP(E890,'Kapitel 1'!$C$6:$D$112,2,0)","v":"In welcher Weise ist der Vorstand/die Geschäftsleitung der Organisation in den Umgang mit Fragen und Problemen („issues“) in den Bereichen Gesundheit, Sicherheit, Umwelt, Energie & Nachhaltigkeit eingebunden?"}]
[null,null,null,null,{"$f":"'Technische Seite'!B15","v":"F1.6"},{"$f":"'Technische Seite'!C15","v":4},{"$f":"VLOOKUP(E891,'Technische Seite'!$AU$10:$BD$25,10,0)","v":"-"},"n.a.",null,{"$f":"VLOOKUP(E891,'Kapitel 1'!$C$6:$D$112,2,0)","v":"Wie werden Verantwortlichkeiten in den Bereichen Gesundheit, Sicherheit, Umwelt, Energie & Nachhaltigkeit in Arbeitsplatzbeschreibungen oder Jahresziele integriert?"}]
[null,null,null,null,{"$f":"'Technische Seite'!B16","v":"F1.7"},{"$f":"'Technische Seite'!C16","v":1},{"$f":"VLOOKUP(E892,'Technische Seite'!$AU$10:$BD$25,10,0)","v":"-"},"n.a.",null,{"$f":"VLOOKUP(E892,'Kapitel 1'!$C$6:$D$112,2,0)","v":"Wie werden (Kern-)Prozesse in den Bereichen Gesundheit, Sicherheit, Umwelt, Energie & Nachhaltigkeit gelenkt?"}]
[null,null,null,null,{"$f":"'Technische Seite'!B17","v":"F1.8"},{"$f":"'Technische Seite'!C17","v":2},{"$f":"VLOOKUP(E893,'Technische Seite'!$AU$10:$BD$25,10,0)","v":"-"},"n.a.",null,{"$f":"VLOOKUP(E893,'Kapitel 1'!$C$6:$D$112,2,0)","v":"In welche Weise stellt die oberste Führungsebene eine kontinuierliche Verbesserung der Leistung in den Bereichen Gesundheit, Sicherheit, Umwelt, Energie & Nachhaltigkeit sicher?"}]
[null,null,null,null,{"$f":"'Technische Seite'!B18","v":"F1.9"},{"$f":"'Technische Seite'!C18","v":1},{"$f":"VLOOKUP(E894,'Technische Seite'!$AU$10:$BD$25,10,0)","v":"-"},"n.a.",null,{"$f":"VLOOKUP(E894,'Kapitel 1'!$C$6:$D$112,2,0)","v":"Wie wird das interne Auditprogramm durchgeführt?"}]
[null,null,null,null,{"$f":"'Technische Seite'!B19","v":"F1.10"},{"$f":"'Technische Seite'!C19","v":3},{"$f":"VLOOKUP(E895,'Technische Seite'!$AU$10:$BD$25,10,0)","v":"-"},"n.a.",null,{"$f":"VLOOKUP(E895,'Kapitel 1'!$C$6:$D$112,2,0)","v":"Wie werden Vorfälle untersucht?"}]
[null,null,null,null,{"$f":"'Technische Seite'!B20","v":"F1.11"},{"$f":"'Technische Seite'!C20","v":3},{"$f":"VLOOKUP(E896,'Technische Seite'!$AU$10:$BD$25,10,0)","v":"-"},"n.a.",null,{"$f":"VLOOKUP(E896,'Kapitel 1'!$C$6:$D$112,2,0)","v":"In welcher Weise stellt die Organisation die benötigten Verfahren, zeitlichen Mittel und Ressourcen bereit, um Management-Prozesse in den Bereichen Gesundheit, Sicherheit, Umwelt, Energie & Nachhaltigkeit zu verbessern?"}]
[null,null,null,null,{"$f":"'Technische Seite'!B21","v":"F1.12"},{"$f":"'Technische Seite'!C21","v":2},{"$f":"VLOOKUP(E897,'Technische Seite'!$AU$10:$BD$25,10,0)","v":"-"},"n.a.",null,{"$f":"VLOOKUP(E897,'Kapitel 1'!$C$6:$D$112,2,0)","v":"Wie stellt die Organisation sicher, dass Mitarbeiter über die Unternehmenspolitik und Verfahren in den Bereichen Gesundheit, Sicherheit, Umwelt, Energie & Nachhaltigkeit informiert sind?"}]
[null,null,null,null,{"$f":"'Technische Seite'!B22","v":"F1.13"},{"$f":"'Technische Seite'!C22","v":1},{"$f":"VLOOKUP(E898,'Technische Seite'!$AU$10:$BD$25,10,0)","v":"-"},"n.a.",null,{"$f":"VLOOKUP(E898,'Kapitel 1'!$C$6:$D$112,2,0)","v":"Wie stellt die Organisation sicher, dass Arbeiter – hinsichtlich der mit ihrer Tätigkeit in Zusammenhang stehenden Aspekten in den Bereichen Gesundheit, Sicherheit, Umwelt, Energie & Nachhaltigkeit – über die erforderlichen Kompetenzen verfügen?"}]
[null,null,null,null,{"$f":"'Technische Seite'!B23","v":"F1.14"},{"$f":"'Technische Seite'!C23","v":4},{"$f":"VLOOKUP(E899,'Technische Seite'!$AU$10:$BD$25,10,0)","v":"-"},"n.a.",null,{"$f":"VLOOKUP(E899,'Kapitel 1'!$C$6:$D$112,2,0)","v":"Wie ist die Einbeziehung der Mitarbeiter strukturiert?"}]
[null,null,null,null,{"$f":"'Technische Seite'!B24","v":"F1.15"},{"$f":"'Technische Seite'!C24","v":2},{"$f":"VLOOKUP(E900,'Technische Seite'!$AU$10:$BD$25,10,0)","v":"-"},"n.a.",null,{"$f":"VLOOKUP(E900,'Kapitel 1'!$C$6:$D$112,2,0)","v":"Wie werden Dokumente aus den Bereichen Gesundheit, Sicherheit, Umwelt, Energie & Nachhaltigkeit verwaltet?"}]
[null,null,null,null,{"$f":"'Technische Seite'!B25","v":"F1.16"},{"$f":"'Technische Seite'!C25","v":2},{"$f":"VLOOKUP(E901,'Technische Seite'!$AU$10:$BD$25,10,0)","v":"-"},"n.a.",null,{"$f":"VLOOKUP(E901,'Kapitel 1'!$C$6:$D$112,2,0)","v":"In welcher Weise werden Änderungen, die möglicherweise Auswirkungen auf die Bereiche Gesundheit, Sicherheit, Umwelt, Energie & Nachhaltigkeit haben könnten, gesteuert?"}]
[null,null,null,null,"KAPITEL 2: Schutz von Mensch und Umwelt"]
[null,null,null,null,{"$f":"'Technische Seite'!B124","v":"F2.1"},{"$f":"'Technische Seite'!C124","v":1},{"$f":"VLOOKUP(E903,'Technische Seite'!$AU$124:$BD$168,10,0)","v":"-"},{"$f":"IF(G903=\"-\",\"n.a.\",IF(F903-G903>-1,\"compliant\",\"increase score\"))","v":"n.a."},null,{"$f":"VLOOKUP(E903,'Kapitel 2'!$C$6:$D$282,2,0)","v":"In welcher Weise verpflichtet sich die Führung der Organisation zu Arbeits- und Gesundheitsschutz?"}]
[null,null,null,null,{"$f":"'Technische Seite'!B125","v":"F2.2"},{"$f":"'Technische Seite'!C125","v":1},{"$f":"VLOOKUP(E904,'Technische Seite'!$AU$124:$BD$168,10,0)","v":"-"},"n.a.",null,{"$f":"VLOOKUP(E904,'Kapitel 2'!$C$6:$D$282,2,0)","v":"In welcher Weise werden Risiken und Expositionen in den Bereichen Gesundheit & Sicherheit festgestellt?"}]
[null,null,null,null,{"$f":"'Technische Seite'!B126","v":"F2.3"},{"$f":"'Technische Seite'!C126","v":4},{"$f":"VLOOKUP(E905,'Technische Seite'!$AU$124:$BD$168,10,0)","v":"-"},"n.a.",null,{"$f":"VLOOKUP(E905,'Kapitel 2'!$C$6:$D$282,2,0)","v":"In welcher Weise werden die medizinischen Anforderungen bewertet?"}]
[null,null,null,null,{"$f":"'Technische Seite'!B127","v":"F2.4"},{"$f":"'Technische Seite'!C127","v":1},{"$f":"VLOOKUP(E906,'Technische Seite'!$AU$124:$BD$168,10,0)","v":"-"},"n.a.",null,{"$f":"VLOOKUP(E906,'Kapitel 2'!$C$6:$D$282,2,0)","v":"In welcher Weise verbessert die Organisation ihre Leistung in den Bereichen Gesundheit und Sicherheit?"}]
[null,null,null,null,{"$f":"'Technische Seite'!B128","v":"F2.5"},{"$f":"'Technische Seite'!C128","v":2},{"$f":"VLOOKUP(E907,'Technische Seite'!$AU$124:$BD$168,10,0)","v":"-"},"n.a.",null,{"$f":"VLOOKUP(E907,'Kapitel 2'!$C$6:$D$282,2,0)","v":"In welcher Weise werden Wartung und Pflege („maintenance and housekeeping“) gestaltet, um die Sicherheit von Einrichtungen, Anlagen, Werkzeugen und\n(Sicherheits-) Ausrüstungen aufrechtzuerhalten?"}]
[null,null,null,null,{"$f":"'Technische Seite'!B129","v":"F2.6"},{"$f":"'Technische Seite'!C129","v":3},{"$f":"VLOOKUP(E908,'Technische Seite'!$AU$124:$BD$168,10,0)","v":"-"},"n.a.",null,{"$f":"VLOOKUP(E908,'Kapitel 2'!$C$6:$D$282,2,0)","v":"Wie werden die geeignete Auswahl, Wartung und Verwendung von Ausrüstungen in den Bereichen Gesundheit und Sicherheit (z. B. persönliche Schutzausrüstung/PSA) überprüft?"}]
[null,null,null,null,{"$f":"'Technische Seite'!B130","v":"F2.7"},{"$f":"'Technische Seite'!C130","v":1},{"$f":"VLOOKUP(E909,'Technische Seite'!$AU$124:$BD$168,10,0)","v":"-"},"n.a.",null,{"$f":"VLOOKUP(E909,'Kapitel 2'!$C$6:$D$282,2,0)","v":"Wie geht die Organisation mit Stress und Wohlbefinden um?"}]
[null,null,null,null,{"$f":"'Technische Seite'!B131","v":"F2.8"},{"$f":"'Technische Seite'!C131","v":1},{"$f":"VLOOKUP(E910,'Technische Seite'!$AU$124:$BD$168,10,0)","v":"-"},"n.a.",null,{"$f":"VLOOKUP(E910,'Kapitel 2'!$C$6:$D$282,2,0)","v":"In welcher Weise werden Verletzungen am Arbeitsplatz, Vorfälle und Beinahe-Vorfälle untersucht?"}]
[null,null,null,null,{"$f":"'Technische Seite'!B132","v":"F2.9"},{"$f":"'Technische Seite'!C132","v":4},{"$f":"VLOOKUP(E911,'Technische Seite'!$AU$124:$BD$168,10,0)","v":"-"},"n.a.",null,{"$f":"VLOOKUP(E911,'Kapitel 2'!$C$6:$D$282,2,0)","v":"Wie ist die Organisation auf Notfälle vorbereitet?"}]
[null,null,null,null,{"$f":"'Technische Seite'!B133","v":"F2.10"},{"$f":"'Technische Seite'!C133","v":1},{"$f":"VLOOKUP(E912,'Technische Seite'!$AU$124:$BD$168,10,0)","v":"-"},"n.a.",null,{"$f":"VLOOKUP(E912,'Kapitel 2'!$C$6:$D$282,2,0)","v":"In welcher Weise stellt die Organisation sicher, dass alle Mitarbeiter hinsichtlich der Gesundheits- und Sicherheitsanforderungen, die mit ihrer Tätigkeit in Zusammenhang stehen, über die geeigneten Kompetenzen verfügen?"}]
[null,null,null,null,{"$f":"'Technische Seite'!B134","v":"F2.11"},{"$f":"'Technische Seite'!C134","v":2},{"$f":"VLOOKUP(E913,'Technische Seite'!$AU$124:$BD$168,10,0)","v":"-"},"n.a.",null,{"$f":"VLOOKUP(E913,'Kapitel 2'!$C$6:$D$282,2,0)","v":"Wie verpflichtet sich die Unternehmensleitung zur Verfahrenssicherheit?"}]
[null,null,null,null,{"$f":"'Technische Seite'!B135","v":"F2.12"},{"$f":"'Technische Seite'!C135","v":1},{"$f":"VLOOKUP(E914,'Technische Seite'!$AU$124:$BD$168,10,0)","v":"-"},"n.a.",null,{"$f":"VLOOKUP(E914,'Kapitel 2'!$C$6:$D$282,2,0)","v":"In welcher Weise werden die Identifizierung und Beschreibung der Sicherheit von Verfahren, Ausrüstungen und Standorten der Organisation vorbereitet?"}]
[null,null,null,null,{"$f":"'Technische Seite'!B136","v":"F2.13"},{"$f":"'Technische Seite'!C136","v":2},{"$f":"VLOOKUP(E915,'Technische Seite'!$AU$124:$BD$168,10,0)","v":"-"},"n.a.",null,{"$f":"VLOOKUP(E915,'Kapitel 2'!$C$6:$D$282,2,0)","v":"In welcher Weise werden Verbesserungen im Bereich Verfahrenssicherheit aufgrund von Vorfällen und Unfällen vorgenommen?"}]
[null,null,null,null,{"$f":"'Technische Seite'!B137","v":"F2.14"},{"$f":"'Technische Seite'!C137","v":3},{"$f":"VLOOKUP(E916,'Technische Seite'!$AU$124:$BD$168,10,0)","v":"-"},"n.a.",null,{"$f":"VLOOKUP(E916,'Kapitel 2'!$C$6:$D$282,2,0)","v":"Wie werden Audits und Inspektionen im Bereich Verfahrenssicherheit durchgeführt?"}]
[null,null,null,null,{"$f":"'Technische Seite'!B138","v":"F2.15"},{"$f":"'Technische Seite'!C138","v":1},{"$f":"VLOOKUP(E917,'Technische Seite'!$AU$124:$BD$168,10,0)","v":"-"},"n.a.",null,{"$f":"VLOOKUP(E917,'Kapitel 2'!$C$6:$D$282,2,0)","v":"Wie werden Arbeitsanweisungen kontrolliert und verbessert?"}]
[null,null,null,null,{"$f":"'Technische Seite'!B139","v":"F2.16"},{"$f":"'Technische Seite'!C139","v":1},{"$f":"VLOOKUP(E918,'Technische Seite'!$AU$124:$BD$168,10,0)","v":"-"},"n.a.",null,{"$f":"VLOOKUP(E918,'Kapitel 2'!$C$6:$D$282,2,0)","v":"Wie wird die Anlagenplanung durchgeführt und dokumentiert?"}]
[null,null,null,null,{"$f":"'Technische Seite'!B140","v":"F2.17"},{"$f":"'Technische Seite'!C140","v":4},{"$f":"VLOOKUP(E919,'Technische Seite'!$AU$124:$BD$168,10,0)","v":"-"},"n.a.",null,{"$f":"VLOOKUP(E919,'Kapitel 2'!$C$6:$D$282,2,0)","v":"In welcher Weise wird der Aufbau der Anlage kontrolliert?"}]
[null,null,null,null,{"$f":"'Technische Seite'!B141","v":"F2.18"},{"$f":"'Technische Seite'!C141","v":2},{"$f":"VLOOKUP(E920,'Technische Seite'!$AU$124:$BD$168,10,0)","v":"-"},"n.a.",null,{"$f":"VLOOKUP(E920,'Kapitel 2'!$C$6:$D$282,2,0)","v":"Wie wird „Schutz“ in Anlagen integriert, um zuverlässig zu verhindern, dass ein einziger Fehler katastrophale Folgen hat?"}]
[null,null,null,null,{"$f":"'Technische Seite'!B142","v":"F2.19"},{"$f":"'Technische Seite'!C142","v":2},{"$f":"VLOOKUP(E921,'Technische Seite'!$AU$124:$BD$168,10,0)","v":"-"},"n.a.",null,{"$f":"VLOOKUP(E921,'Kapitel 2'!$C$6:$D$282,2,0)","v":"Gibt es ein vorbeugendes Wartungs- und Pflegeprogramm („maintenance and housekeeping programme“), um die Sicherheit von Einrichtungen, Werkzeugen/Tools und Ausrüstungen aufrechtzuerhalten?"}]
[null,null,null,null,{"$f":"'Technische Seite'!B143","v":"F2.20"},{"$f":"'Technische Seite'!C143","v":1},{"$f":"VLOOKUP(E922,'Technische Seite'!$AU$124:$BD$168,10,0)","v":"-"},"n.a.",null,{"$f":"VLOOKUP(E922,'Kapitel 2'!$C$6:$D$282,2,0)","v":"Im Fall von Energie- oder Betriebsunterbrechungen – wie werden Verfahren in Notfällen gesteuert?"}]
[null,null,null,null,{"$f":"'Technische Seite'!B144","v":"F2.21"},{"$f":"'Technische Seite'!C144","v":3},{"$f":"VLOOKUP(E923,'Technische Seite'!$AU$124:$BD$168,10,0)","v":"-"},"n.a.",null,{"$f":"VLOOKUP(E923,'Kapitel 2'!$C$6:$D$282,2,0)","v":"Wie werden Notfallpläne erstellt?"}]
[null,null,null,null,{"$f":"'Technische Seite'!B145","v":"F2.22"},{"$f":"'Technische Seite'!C145","v":1},{"$f":"VLOOKUP(E924,'Technische Seite'!$AU$124:$BD$168,10,0)","v":"-"},"n.a.",null,{"$f":"VLOOKUP(E924,'Kapitel 2'!$C$6:$D$282,2,0)","v":"In welcher Weise werden die Kompetenz und Schulung von an den Prozessen beteiligten Mitarbeitern und Fremdfirmen sichergestellt?"}]
[null,null,null,null,{"$f":"'Technische Seite'!B146","v":"F2.23"},{"$f":"'Technische Seite'!C146","v":2},{"$f":"VLOOKUP(E925,'Technische Seite'!$AU$124:$BD$168,10,0)","v":"-"},"n.a.",null,{"$f":"VLOOKUP(E925,'Kapitel 2'!$C$6:$D$282,2,0)","v":"Wie werden Informationen über die Risiken von Stoffen und Zubereitungen gemeinsam genutzt/weitergegeben?"}]
[null,null,null,null,{"$f":"'Technische Seite'!B147","v":"F2.24"},{"$f":"'Technische Seite'!C147","v":3},{"$f":"VLOOKUP(E926,'Technische Seite'!$AU$124:$BD$168,10,0)","v":"-"},"n.a.",null,{"$f":"VLOOKUP(E926,'Kapitel 2'!$C$6:$D$282,2,0)","v":"Wie werden Informationen über das Verfahren gemeinsam genutzt/weitergegeben?"}]
[null,null,null,null,{"$f":"'Technische Seite'!B148","v":"F2.25"},{"$f":"'Technische Seite'!C148","v":2},{"$f":"VLOOKUP(E927,'Technische Seite'!$AU$124:$BD$168,10,0)","v":"-"},"n.a.",null,{"$f":"VLOOKUP(E927,'Kapitel 2'!$C$6:$D$282,2,0)","v":"In welcher Weise bewertet die Organisation ihre Logistikpartner mit Hinblick auf Gesundheit, Sicherheit, Umwelt & Nachhaltigkeit, Energieeffizienz und Treibhausgas(THG)-Emissionen?"}]
[null,null,null,null,{"$f":"'Technische Seite'!B149","v":"F2.26"},{"$f":"'Technische Seite'!C149","v":1},{"$f":"VLOOKUP(E928,'Technische Seite'!$AU$124:$BD$168,10,0)","v":"-"},"n.a.",null,{"$f":"VLOOKUP(E928,'Kapitel 2'!$C$6:$D$282,2,0)","v":"Welche Maßnahmen zur Vermeidung von Transportunfällen bzw. Notfallmaßnahmen im Falle von Transportunfällen ergreift die Organisation?"}]
[null,null,null,null,{"$f":"'Technische Seite'!B150","v":"F2.27"},{"$f":"'Technische Seite'!C150","v":1},{"$f":"VLOOKUP(E929,'Technische Seite'!$AU$124:$BD$168,10,0)","v":"-"},"n.a.",null,{"$f":"VLOOKUP(E929,'Kapitel 2'!$C$6:$D$282,2,0)","v":"In welcher Weise identifiziert die Organisation Sicherheitsprobleme?"}]
[null,null,null,null,{"$f":"'Technische Seite'!B151","v":"F2.28"},{"$f":"'Technische Seite'!C151","v":2},{"$f":"VLOOKUP(E930,'Technische Seite'!$AU$124:$BD$168,10,0)","v":"-"},"n.a.",null,{"$f":"VLOOKUP(E930,'Kapitel 2'!$C$6:$D$282,2,0)","v":"In welcher Weise werden das Betreten/Verlassen des Arbeitsortes und eingeschränkt zugänglicher Bereiche durch Mitarbeiter bzw. der dortige Ein- und Ausgang von Materialien kontrolliert?"}]
[null,null,null,null,{"$f":"'Technische Seite'!B152","v":"F2.29"},{"$f":"'Technische Seite'!C152","v":1},{"$f":"VLOOKUP(E931,'Technische Seite'!$AU$124:$BD$168,10,0)","v":"-"},"n.a.",null,{"$f":"VLOOKUP(E931,'Kapitel 2'!$C$6:$D$282,2,0)","v":"Wie wird Cybersecurity überwacht?"}]
[null,null,null,null,{"$f":"'Technische Seite'!B153","v":"F2.30"},{"$f":"'Technische Seite'!C153","v":1},{"$f":"VLOOKUP(E932,'Technische Seite'!$AU$124:$BD$168,10,0)","v":"-"},"n.a.",null,{"$f":"VLOOKUP(E932,'Kapitel 2'!$C$6:$D$282,2,0)","v":"Wie sind Kommunikation und Informationsaustausch im Falle einer Sicherheitskrise organisiert?"}]
[null,null,null,null,{"$f":"'Technische Seite'!B154","v":"F2.31"},{"$f":"'Technische Seite'!C154","v":3},{"$f":"VLOOKUP(E933,'Technische Seite'!$AU$124:$BD$168,10,0)","v":"-"},"n.a.",null,{"$f":"VLOOKUP(E933,'Kapitel 2'!$C$6:$D$282,2,0)","v":"Wie geht die Organisation mit abnormalem Verhalten (einschließlich Risiken der Radikalisierung) um?"}]
[null,null,null,null,{"$f":"'Technische Seite'!B155","v":"F2.32"},{"$f":"'Technische Seite'!C155","v":1},{"$f":"VLOOKUP(E934,'Technische Seite'!$AU$124:$BD$168,10,0)","v":"-"},"n.a.",null,{"$f":"VLOOKUP(E934,'Kapitel 2'!$C$6:$D$282,2,0)","v":"In welcher Weise weist die Organisation die Mitarbeiter an, in Sicherheitsfragen wachsam zu sein?"}]
[null,null,null,null,{"$f":"'Technische Seite'!B156","v":"F2.33"},{"$f":"'Technische Seite'!C156","v":2},{"$f":"VLOOKUP(E935,'Technische Seite'!$AU$124:$BD$168,10,0)","v":"-"},"n.a.",null,{"$f":"VLOOKUP(E935,'Kapitel 2'!$C$6:$D$282,2,0)","v":"In welcher Weise werden die möglichen Umweltauswirkungen der Aktivitäten der Organisation bewertet?"}]
[null,null,null,null,{"$f":"'Technische Seite'!B157","v":"F2.34"},{"$f":"'Technische Seite'!C157","v":1},{"$f":"VLOOKUP(E936,'Technische Seite'!$AU$124:$BD$168,10,0)","v":"-"},"n.a.",null,{"$f":"VLOOKUP(E936,'Kapitel 2'!$C$6:$D$282,2,0)","v":"In welcher Weise steuert die Organisation ihre Umweltleistung?"}]
[null,null,null,null,{"$f":"'Technische Seite'!B158","v":"F2.35"},{"$f":"'Technische Seite'!C158","v":2},{"$f":"VLOOKUP(E937,'Technische Seite'!$AU$124:$BD$168,10,0)","v":"-"},"n.a.",null,{"$f":"VLOOKUP(E937,'Kapitel 2'!$C$6:$D$282,2,0)","v":"Wie geht die Organisation mit Abfall um?"}]
[null,null,null,null,{"$f":"'Technische Seite'!B159","v":"F2.36"},{"$f":"'Technische Seite'!C159","v":1},{"$f":"VLOOKUP(E938,'Technische Seite'!$AU$124:$BD$168,10,0)","v":"-"},"n.a.",null,{"$f":"VLOOKUP(E938,'Kapitel 2'!$C$6:$D$282,2,0)","v":"Wie geht die Organisation mit Risiken für das Grundwasser um?"}]
[null,null,null,null,{"$f":"'Technische Seite'!B160","v":"F2.37"},{"$f":"'Technische Seite'!C160","v":3},{"$f":"VLOOKUP(E939,'Technische Seite'!$AU$124:$BD$168,10,0)","v":"-"},"n.a.",null,{"$f":"VLOOKUP(E939,'Kapitel 2'!$C$6:$D$282,2,0)","v":"Wie geht die Organisation mit den Risiken einer Bodenverschmutzung um?"}]
[null,null,null,null,{"$f":"'Technische Seite'!B161","v":"F2.38"},{"$f":"'Technische Seite'!C161","v":1},{"$f":"VLOOKUP(E940,'Technische Seite'!$AU$124:$BD$168,10,0)","v":"-"},"n.a.",null,{"$f":"VLOOKUP(E940,'Kapitel 2'!$C$6:$D$282,2,0)","v":"Wie geht die Organisation mit vorhandenen Bodenverschmutzungen um?"}]
[null,null,null,null,{"$f":"'Technische Seite'!B162","v":"F2.39"},{"$f":"'Technische Seite'!C162","v":3},{"$f":"VLOOKUP(E941,'Technische Seite'!$AU$124:$BD$168,10,0)","v":"-"},"n.a.",null,{"$f":"VLOOKUP(E941,'Kapitel 2'!$C$6:$D$282,2,0)","v":"Wie geht die Organisation mit ihren Emissionen in die Luft um?"}]
[null,null,null,null,{"$f":"'Technische Seite'!B163","v":"F2.40"},{"$f":"'Technische Seite'!C163","v":1},{"$f":"VLOOKUP(E942,'Technische Seite'!$AU$124:$BD$168,10,0)","v":"-"},"n.a.",null,{"$f":"VLOOKUP(E942,'Kapitel 2'!$C$6:$D$282,2,0)","v":"Wie geht die Organisation mit ihren Emissionen in Wasser um?"}]
[null,null,null,null,{"$f":"'Technische Seite'!B164","v":"F2.41"},{"$f":"'Technische Seite'!C164","v":3},{"$f":"VLOOKUP(E943,'Technische Seite'!$AU$124:$BD$168,10,0)","v":"-"},"n.a.",null,{"$f":"VLOOKUP(E943,'Kapitel 2'!$C$6:$D$282,2,0)","v":"Wie geht die Organisation mit Lärmemissionen um?"}]
[null,null,null,null,{"$f":"'Technische Seite'!B165","v":"F2.42"},{"$f":"'Technische Seite'!C165","v":3},{"$f":"VLOOKUP(E944,'Technische Seite'!$AU$124:$BD$168,10,0)","v":"-"},"n.a.",null,{"$f":"VLOOKUP(E944,'Kapitel 2'!$C$6:$D$282,2,0)","v":"Wie geht die Organisation mit Geruchsemissionen um?"}]
[null,null,null,null,{"$f":"'Technische Seite'!B166","v":"F2.43"},{"$f":"'Technische Seite'!C166","v":2},{"$f":"VLOOKUP(E945,'Technische Seite'!$AU$124:$BD$168,10,0)","v":"-"},"n.a.",null,{"$f":"VLOOKUP(E945,'Kapitel 2'!$C$6:$D$282,2,0)","v":"Wie verhindert die Organisation unfallbedingte Emissionen in die Umwelt und wie geht sie ggf. damit um?"}]
[null,null,null,null,{"$f":"'Technische Seite'!B167","v":"F2.44"},{"$f":"'Technische Seite'!C167","v":3},{"$f":"VLOOKUP(E946,'Technische Seite'!$AU$124:$BD$168,10,0)","v":"-"},"n.a.",null,{"$f":"VLOOKUP(E946,'Kapitel 2'!$C$6:$D$282,2,0)","v":"In welcher Weise stellt die Organisation sicher, dass alle Mitarbeiter hinsichtlich der Umweltanforderungen, die mit ihrer Tätigkeit in Zusammenhang stehen, über die geeigneten Kompetenzen verfügen?"}]
[null,null,null,null,{"$f":"'Technische Seite'!B168","v":"F2.45"},{"$f":"'Technische Seite'!C168","v":3},{"$f":"VLOOKUP(E947,'Technische Seite'!$AU$124:$BD$168,10,0)","v":"-"},"n.a.",null,{"$f":"VLOOKUP(E947,'Kapitel 2'!$C$6:$D$282,2,0)","v":"Wie werden den Interessensgruppen („stakeholder“) der Organisation die Umweltaspekte und deren mögliche Auswirkungen bewusst gemacht?"}]
[null,null,null,null,"KAPITEL 3 : Stärkung von Managementsystemen im Chemikalienbereich"]
[null,null,null,null,{"$f":"'Technische Seite'!$B$406","v":"F3.1"},{"$f":"'Technische Seite'!$C$406","v":1},{"$f":"VLOOKUP(E949,'Technische Seite'!$AU$406:$BD$418,10,0)","v":"-"},{"$f":"IF(G949=\"-\",\"n.a.\",IF(F949-G949>-1,\"compliant\",\"increase score\"))","v":"n.a."},null,{"$f":"VLOOKUP(E949,'Kapitel 3'!$C$6:$D$89,2,0)","v":"Verfügt die Organisation über ein Verfahren für das Design\n und die Entwicklung neuer Produkte und Dienstleistungen?"}]
[null,null,null,null,{"$f":"'Technische Seite'!$B$407","v":"F3.2"},{"$f":"'Technische Seite'!$C$407","v":2},{"$f":"VLOOKUP(E950,'Technische Seite'!$AU$406:$BD$418,10,0)","v":"-"},"n.a.",null,{"$f":"VLOOKUP(E950,'Kapitel 3'!$C$6:$D$89,2,0)","v":"Verfügt die Organisation über ein Verfahren, um ihre Produkte mit Hinblick auf Risikocharakterisierung und Risikomanagement zu bewerten und zu priorisieren?"}]
[null,null,null,null,{"$f":"'Technische Seite'!$B$408","v":"F3.3"},{"$f":"'Technische Seite'!$C$408","v":1},{"$f":"VLOOKUP(E951,'Technische Seite'!$AU$406:$BD$418,10,0)","v":3},{"$f":"IF(G951=\"-\",\"n.a.\",IF(F951-G951>-1,\"konform\",\"Ergebnis verbessern\"))","v":"Ergebnis verbessern"},null,{"$f":"VLOOKUP(E951,'Kapitel 3'!$C$6:$D$89,2,0)","v":"Verfügt die Organisation über ein System, um die Anwendbarkeit sowie Änderungen und Einhaltung von internen und externen Anforderungen in Zusammenhang mit dem Sicherheitsmanagement von Chemikalien zu verfolgen/nachzuverfolgen?"}]
[null,null,null,null,{"$f":"'Technische Seite'!$B$409","v":"F3.4"},{"$f":"'Technische Seite'!$C$409","v":1},{"$f":"VLOOKUP(E952,'Technische Seite'!$AU$406:$BD$418,10,0)","v":"-"},"n.a.",null,{"$f":"VLOOKUP(E952,'Kapitel 3'!$C$6:$D$89,2,0)","v":"Verfügt die Organisation über ein Verfahren zum Umgang mit vorhandenen Gefahreninformationen in Zusammenhang mit ihren Produkten?"}]
[null,null,null,null,{"$f":"'Technische Seite'!$B$410","v":"F3.5"},{"$f":"'Technische Seite'!$C$410","v":1},{"$f":"VLOOKUP(E953,'Technische Seite'!$AU$406:$BD$418,10,0)","v":"-"},"n.a.",null,{"$f":"VLOOKUP(E953,'Kapitel 3'!$C$6:$D$89,2,0)","v":"Verfügt die Organisation über ein Verfahren für den Umgang mit Informationen über die Verwendung von und die Exposition durch ihre Produkte?"}]
[null,null,null,null,{"$f":"'Technische Seite'!$B$411","v":"F3.6"},{"$f":"'Technische Seite'!$C$411","v":1},{"$f":"VLOOKUP(E954,'Technische Seite'!$AU$406:$BD$418,10,0)","v":"-"},"n.a.",null,{"$f":"VLOOKUP(E954,'Kapitel 3'!$C$6:$D$89,2,0)","v":"Verfügt die Organisation über ein Verfahren für den Umgang mit neuen Informationen?"}]
[null,null,null,null,{"$f":"'Technische Seite'!$B$412","v":"Q3.7"},{"$f":"'Technische Seite'!$C$412","v":1},{"$f":"VLOOKUP(E955,'Technische Seite'!$AU$406:$BD$418,10,0)","v":"-"},"n.a.",null,{"$f":"VLOOKUP(E955,'Kapitel 3'!$C$6:$D$89,2,0)","v":"Verfügt die Organisation über ein Verfahren zur Risikocharakterisierung auf der Grundlage der gesammelten Informationen?"}]
[null,null,null,null,{"$f":"'Technische Seite'!$B$413","v":"F3.8"},{"$f":"'Technische Seite'!$C$413","v":1},{"$f":"VLOOKUP(E956,'Technische Seite'!$AU$406:$BD$418,10,0)","v":1},{"$f":"IF(G956=\"-\",\"n.a.\",IF(F956-G956>-1,\"konform\",\"Ergebnis verbessern\"))","v":"konform"},null,{"$f":"VLOOKUP(E956,'Kapitel 3'!$C$6:$D$89,2,0)","v":"Verfügt die Organisation über ein Verfahren zum Risikomanagement auf der Grundlage der gesammelten Informationen?"}]
[null,null,null,null,{"$f":"'Technische Seite'!$B$414","v":"F3.9"},{"$f":"'Technische Seite'!$C$414","v":2},{"$f":"VLOOKUP(E957,'Technische Seite'!$AU$406:$BD$418,10,0)","v":"-"},"n.a.",null,{"$f":"VLOOKUP(E957,'Kapitel 3'!$C$6:$D$89,2,0)","v":"Verfügt die Organisation über ein effizientes Verfahren, um ihre Produkte nach deren Lieferung nachzuverfolgen und Korrekturmaßnahmen durchzuführen?"}]
[null,null,null,null,{"$f":"'Technische Seite'!$B$415","v":"F3.10"},{"$f":"'Technische Seite'!$C$415","v":2},{"$f":"VLOOKUP(E958,'Technische Seite'!$AU$406:$BD$418,10,0)","v":1},{"$f":"IF(G958=\"-\",\"n.a.\",IF(F958-G958>-1,\"konform\",\"Ergebnis verbessern\"))","v":"konform"},null,{"$f":"VLOOKUP(E958,'Kapitel 3'!$C$6:$D$89,2,0)","v":"Kommuniziert die Organisation effizient in der Lieferkette hinsichtlich der für ihre Produkte notwendigen Maßnahmen des Risikomanagements?\n"}]
[null,null,null,null,"KAPITEL 4: Einbeziehung von Geschäftspartnern"]
[null,null,null,null,{"$f":"'Technische Seite'!B482","v":"F4.1"},{"$f":"'Technische Seite'!C482","v":1},{"$f":"VLOOKUP(E960,'Technische Seite'!$AU$482:$BD$489,10,0)","v":"-"},{"$f":"IF(G960=\"-\",\"n.a.\",IF(F960-G960>-1,\"compliant\",\"increase score\"))","v":"n.a."},null,{"$f":"VLOOKUP(E960,'Kapitel 4'!$C$6:$D$91,2,0)","v":"In welcher Form hat sich die Organisation einer verantwortungsvollen Beschaffung verpflichtet?"}]
[null,null,null,null,{"$f":"'Technische Seite'!B483","v":"F4.2"},{"$f":"'Technische Seite'!C483","v":2},{"$f":"VLOOKUP(E961,'Technische Seite'!$AU$482:$BD$489,10,0)","v":"-"},"n.a.",null,{"$f":"VLOOKUP(E961,'Kapitel 4'!$C$6:$D$91,2,0)","v":"In welcher Weise steigert die Organisation die Zusammenarbeit mit der Wertschöpfungskette?"}]
[null,null,null,null,{"$f":"'Technische Seite'!B484","v":"F4.3"},{"$f":"'Technische Seite'!C484","v":2},{"$f":"VLOOKUP(E962,'Technische Seite'!$AU$482:$BD$489,10,0)","v":"-"},"n.a.",null,{"$f":"VLOOKUP(E962,'Kapitel 4'!$C$6:$D$91,2,0)","v":"In welcher Weise bringt die Organisation ihre Verpflichtung mit Hinblick auf Geschäftsethik zum Ausdruck?"}]
[null,null,null,null,{"$f":"'Technische Seite'!B485","v":"F4.4"},{"$f":"'Technische Seite'!C485","v":2},{"$f":"VLOOKUP(E963,'Technische Seite'!$AU$482:$BD$489,10,0)","v":"-"},"n.a.",null,{"$f":"VLOOKUP(E963,'Kapitel 4'!$C$6:$D$91,2,0)","v":"Wie berücksichtigt die Organisation soziale Fragen und Menschenrechte in ihrer Zusammenarbeit mit Geschäftspartnern?"}]
[null,null,null,null,{"$f":"'Technische Seite'!B486","v":"F4.5"},{"$f":"'Technische Seite'!C486","v":2},{"$f":"VLOOKUP(E964,'Technische Seite'!$AU$482:$BD$489,10,0)","v":"-"},"n.a.",null,{"$f":"VLOOKUP(E964,'Kapitel 4'!$C$6:$D$91,2,0)","v":"In welcher Weise verhindert die Organisation Kinderarbeit?\n\nDie Organisation\n1.\tverfügt über ein System zur Altersprüfung;\n2.\tbeschäftigt keine Kinder unter 15 Jahren (oder älter; die jeweiligen örtlichen Gesetze sind zu beachten). Berufsausbildungen oder Praktika im Rahmen der Schulbildung bzw. bildungsbezogene Praktika sind die einzigen Ausnahmen;\n3.\tstellt sicher, dass die Beschäftigung von Personen unter 18 Jahren nicht deren Schulbesuch beeinträchtigt (die Gesamtzahl der Stunden für den Weg zur Arbeit und Schule und zurück, Schulbesuch und Arbeitstätigkeit beträgt weniger als 10 Stunden täglich);\n4.\tstellt sicher, dass die Tätigkeit junger Arbeitnehmer nicht geistig, körperlich, sozial oder moralisch gefährlich und schädlich ist."}]
[null,null,null,null,{"$f":"'Technische Seite'!B487","v":"F4.6"},{"$f":"'Technische Seite'!C487","v":2},{"$f":"VLOOKUP(E965,'Technische Seite'!$AU$482:$BD$489,10,0)","v":"-"},"n.a.",null,{"$f":"VLOOKUP(E965,'Kapitel 4'!$C$6:$D$91,2,0)","v":"Wie stellt die Organisation sicher, dass ihre Logistikpartner die Anforderungen der Organisation erfüllen?"}]
[null,null,null,null,{"$f":"'Technische Seite'!B488","v":"F4.7"},{"$f":"'Technische Seite'!C488","v":1},{"$f":"VLOOKUP(E966,'Technische Seite'!$AU$482:$BD$489,10,0)","v":"-"},"n.a.",null,{"$f":"VLOOKUP(E966,'Kapitel 4'!$C$6:$D$91,2,0)","v":"In welcher Weise schützt und sichert die Organisation das Eigentum und die Daten nachgeschalteter Anwender oder externer Anbieter, die zur Nutzung oder Einbeziehung/Einarbeitung in Produkte und Dienstleistungen bereitgestellt werden?"}]
[null,null,null,null,{"$f":"'Technische Seite'!B489","v":"F4.8"},{"$f":"'Technische Seite'!C489","v":2},{"$f":"VLOOKUP(E967,'Technische Seite'!$AU$482:$BD$489,10,0)","v":"-"},"n.a.",null,{"$f":"VLOOKUP(E967,'Kapitel 4'!$C$6:$D$91,2,0)","v":"Was beinhaltet der Dialog mit nachgeschalteten Anwendern?"}]
[null,null,null,null,"KAPITEL 5: Berücksichtigung von Anspruchsgruppen"]
[null,null,null,null,{"$f":"'Technische Seite'!B544","v":"F5.1"},{"$f":"'Technische Seite'!C544","v":2},{"$f":"VLOOKUP(E969,'Technische Seite'!$AU$544:$BD$548,10,0)","v":"-"},{"$f":"IF(G969=\"-\",\"n.a.\",IF(F969-G969>-1,\"compliant\",\"increase score\"))","v":"n.a."},null,{"$f":"VLOOKUP(E969,'Kapitel 5'!$C$6:$D$89,2,0)","v":"In welcher Weise bezieht die Organisation die für sie relevanten externen Anspruchsgruppen („stakeholder“) ein und wird deren Erwartungen gerecht?"}]
[null,null,null,null,{"$f":"'Technische Seite'!B545","v":"F5.2"},{"$f":"'Technische Seite'!C545","v":1},{"$f":"VLOOKUP(E970,'Technische Seite'!$AU$544:$BD$548,10,0)","v":"-"},"n.a.",null,{"$f":"VLOOKUP(E970,'Kapitel 5'!$C$6:$D$89,2,0)","v":"In welcher Weise führt die Organisation einen Dialog mit der Öffentlichkeit, Behörden und anderen interessierten Kreisen (einschließlich örtlichen Gemeinden/Anwohnern und Kunden) über die Leistung ihrer Aktivitäten, Produkte und Dienstleistungen in den Bereichen Gesundheit, Sicherheit, Umwelt, Energie & Nachhaltigkeit?\n"}]
[null,null,null,null,{"$f":"'Technische Seite'!B546","v":"F5.3"},{"$f":"'Technische Seite'!C546","v":2},{"$f":"VLOOKUP(E971,'Technische Seite'!$AU$544:$BD$548,10,0)","v":"-"},"n.a.",null,{"$f":"VLOOKUP(E971,'Kapitel 5'!$C$6:$D$89,2,0)","v":"In welcher Weise vermittelt die Organisation Informationen aus den Bereichen Gesundheit, Sicherheit, Umwelt, Energie & Nachhaltigkeit?"}]
[null,null,null,null,{"$f":"'Technische Seite'!B547","v":"F5.4"},{"$f":"'Technische Seite'!C547","v":1},{"$f":"VLOOKUP(E972,'Technische Seite'!$AU$544:$BD$548,10,0)","v":"-"},"n.a.",null,{"$f":"VLOOKUP(E972,'Kapitel 5'!$C$6:$D$89,2,0)","v":"In welcher Weise unterstützt die Organisation örtliche Gemeinden/Anwohner („local communities“)?"}]
[null,null,null,null,{"$f":"'Technische Seite'!B548","v":"F5.5"},{"$f":"'Technische Seite'!C548","v":2},{"$f":"VLOOKUP(E973,'Technische Seite'!$AU$544:$BD$548,10,0)","v":"-"},"n.a.",null,{"$f":"VLOOKUP(E973,'Kapitel 5'!$C$6:$D$89,2,0)","v":"In welcher Weise fördert die Organisation Beschäftigung und Bildung vor Ort?"}]
[null,null,null,null,"KAPITEL 6 : Beitrag zur Nachhaltigkeit"]
[null,null,null,null,{"$f":"'Technische Seite'!B584","v":"F6.1"},{"$f":"'Technische Seite'!C584","v":2},{"$f":"VLOOKUP(E975,'Technische Seite'!$AU$584:$BD$600,10,0)","v":"-"},{"$f":"IF(G975=\"-\",\"n.a.\",IF(F975-G975>-1,\"compliant\",\"increase score\"))","v":"n.a."},null,{"$f":"VLOOKUP(E975,'Kapitel 6'!$C$6:$D$120,2,0)","v":"Wie definiert das Unternehmen relevante Themen und Wesentlichkeiten?"}]
[null,null,null,null,{"$f":"'Technische Seite'!B585","v":"F6.2"},{"$f":"'Technische Seite'!C585","v":1},{"$f":"VLOOKUP(E976,'Technische Seite'!$AU$584:$BD$600,10,0)","v":"-"},{"$f":"IF(G976=\"-\",\"n.a.\",IF(F976-G976>-1,\"compliant\",\"increase score\"))","v":"n.a."},null,{"$f":"VLOOKUP(E976,'Kapitel 6'!$C$6:$D$120,2,0)","v":"Welche Pläne hat die Organisation zum Beitrag für eine nachhaltige Entwicklung? "}]
[null,null,null,null,{"$f":"'Technische Seite'!B586","v":"F6.3"},{"$f":"'Technische Seite'!C586","v":1},{"$f":"VLOOKUP(E977,'Technische Seite'!$AU$584:$BD$600,10,0)","v":"-"},"n.a.",null,{"$f":"VLOOKUP(E977,'Kapitel 6'!$C$6:$D$120,2,0)","v":"Wie steht es bei der Organisation mit der Einbeziehung von Stakeholdern bei Nachhaltigkeit?"}]
[null,null,null,null,{"$f":"'Technische Seite'!B587","v":"F6.4"},{"$f":"'Technische Seite'!C587","v":1},{"$f":"VLOOKUP(E978,'Technische Seite'!$AU$584:$BD$600,10,0)","v":"-"},"n.a.",null,{"$f":"VLOOKUP(E978,'Kapitel 6'!$C$6:$D$120,2,0)","v":"Verfügt die Organisation über einen Prozess für die Entwicklung von Produkten mit besseren Nachhaltigkeitsergebnissen?"}]
[null,null,null,null,{"$f":"'Technische Seite'!B588","v":"F6.5"},{"$f":"'Technische Seite'!C588","v":1},{"$f":"VLOOKUP(E979,'Technische Seite'!$AU$584:$BD$600,10,0)","v":"-"},"n.a.",null,{"$f":"VLOOKUP(E979,'Kapitel 6'!$C$6:$D$120,2,0)","v":"Wie verbessert die Organisation die Ressourceneffizienz in ihren Produktionsprozessen? "}]
[null,null,null,null,{"$f":"'Technische Seite'!B589","v":"F6.6"},{"$f":"'Technische Seite'!C589","v":1},{"$f":"VLOOKUP(E980,'Technische Seite'!$AU$584:$BD$600,10,0)","v":"-"},"n.a.",null,{"$f":"VLOOKUP(E980,'Kapitel 6'!$C$6:$D$120,2,0)","v":"Wie fördert die Organisation die Kreislaufwirtschaft durch ihre Produkte?"}]
[null,null,null,null,{"$f":"'Technische Seite'!B590","v":"F6.7"},{"$f":"'Technische Seite'!C590","v":1},{"$f":"VLOOKUP(E981,'Technische Seite'!$AU$584:$BD$600,10,0)","v":"-"},"n.a.",null,{"$f":"VLOOKUP(E981,'Kapitel 6'!$C$6:$D$120,2,0)","v":"Wie fördert die Organisation Innovation für die Entwicklung von Produkten und Lösungen, die mit den Herausforderungen der Nachhaltigkeit in Einklang stehen?"}]
[null,null,null,null,{"$f":"'Technische Seite'!B591","v":"F6.8"},{"$f":"'Technische Seite'!C591","v":1},{"$f":"VLOOKUP(E982,'Technische Seite'!$AU$584:$BD$600,10,0)","v":"-"},"n.a.",null,{"$f":"VLOOKUP(E982,'Kapitel 6'!$C$6:$D$120,2,0)","v":"Wie fördert die Organisation Innovationspanels und Kooperationen?"}]
[null,null,null,null,{"$f":"'Technische Seite'!B592","v":"F6.9"},{"$f":"'Technische Seite'!C592","v":2},{"$f":"VLOOKUP(E983,'Technische Seite'!$AU$584:$BD$600,10,0)","v":"-"},"n.a.",null,{"$f":"VLOOKUP(E983,'Kapitel 6'!$C$6:$D$120,2,0)","v":"Wie fördert die Organisation nachhaltiges Verbrauchsverhalten?"}]
[null,null,null,null,{"$f":"'Technische Seite'!B593","v":"F6.10"},{"$f":"'Technische Seite'!C593","v":1},{"$f":"VLOOKUP(E984,'Technische Seite'!$AU$584:$BD$600,10,0)","v":"-"},"n.a.",null,{"$f":"VLOOKUP(E984,'Kapitel 6'!$C$6:$D$120,2,0)","v":"Wie kontrolliert und optimiert die Organisation den Wasserverbrauch?"}]
[null,null,null,null,{"$f":"'Technische Seite'!B594","v":"F6.11"},{"$f":"'Technische Seite'!C594","v":1},{"$f":"VLOOKUP(E985,'Technische Seite'!$AU$584:$BD$600,10,0)","v":"-"},"n.a.",null,{"$f":"VLOOKUP(E985,'Kapitel 6'!$C$6:$D$120,2,0)","v":"Wie werden die Auswirkungen der Organisation auf die Biodiversität und die Ökosystemleistungen gehandhabt?"}]
[null,null,null,null,{"$f":"'Technische Seite'!B595","v":"F6.12"},{"$f":"'Technische Seite'!C595","v":2},{"$f":"VLOOKUP(E986,'Technische Seite'!$AU$584:$BD$600,10,0)","v":"-"},"n.a.",null,{"$f":"VLOOKUP(E986,'Kapitel 6'!$C$6:$D$120,2,0)","v":"Wie berücksichtigt die Organisation ihre Abhängigkeit von Ökosystemleistungen?"}]
[null,null,null,null,{"$f":"'Technische Seite'!B596","v":"F6.13"},{"$f":"'Technische Seite'!C596","v":1},{"$f":"VLOOKUP(E987,'Technische Seite'!$AU$584:$BD$600,10,0)","v":"-"},"n.a.",null,{"$f":"VLOOKUP(E987,'Kapitel 6'!$C$6:$D$120,2,0)","v":"Wie handhabt die Organisation ihre Energieeffizienz?"}]
[null,null,null,null,{"$f":"'Technische Seite'!B597","v":"F6.14"},{"$f":"'Technische Seite'!C597","v":2},{"$f":"VLOOKUP(E988,'Technische Seite'!$AU$584:$BD$600,10,0)","v":"-"},"n.a.",null,{"$f":"VLOOKUP(E988,'Kapitel 6'!$C$6:$D$120,2,0)","v":"Wie handhabt die Organisation ihre Emissionen von Treibhausgasen (THG) (anders als durch Energieeinsparung)?"}]
[null,null,null,null,{"$f":"'Technische Seite'!B598","v":"F6.15"},{"$f":"'Technische Seite'!C598","v":1},{"$f":"VLOOKUP(E989,'Technische Seite'!$AU$584:$BD$600,10,0)","v":"-"},"n.a.",null,{"$f":"VLOOKUP(E989,'Kapitel 6'!$C$6:$D$120,2,0)","v":"Welche Strategie hat die Organisation zur Reduzierung von THG-Emissionen?"}]
[null,null,null,null,{"$f":"'Technische Seite'!B599","v":"F6.16"},{"$f":"'Technische Seite'!C599","v":2},{"$f":"VLOOKUP(E990,'Technische Seite'!$AU$584:$BD$600,10,0)","v":"-"},"n.a.",null,{"$f":"VLOOKUP(E990,'Kapitel 6'!$C$6:$D$120,2,0)","v":"Wie bereitet sich die Organisation auf den Klimawandel vor? "}]
[null,null,null,null,{"$f":"'Technische Seite'!B600","v":"F6.17"},{"$f":"'Technische Seite'!C600","v":1},{"$f":"VLOOKUP(E991,'Technische Seite'!$AU$584:$BD$600,10,0)","v":"-"},"n.a.",null,{"$f":"VLOOKUP(E991,'Kapitel 6'!$C$6:$D$120,2,0)","v":"In welcher Weise gewährleistet die Organisation Chancengleichheit bei der Einstellung und während der gesamten beruflichen Laufbahn aller?"}]

{"sheet":"SDG-Bericht","index":13,"n_rows":109,"n_cols":22,"rows_kept":109,"cut":false,"hidden":false,"merged":[]}
[]
[null,null,null,"Your answer"]
[]
[null,{"$f":"'Technische SDG'!B3","v":"F1.1"},{"$f":"VLOOKUP(B4,'Kapitel 1'!$C$6:$D$112,2,0)","v":"In welcher Weise wird die Verpflichtung zur Einhaltung gesetzlicher und sonstiger Vorschriften („Compliance“) sowie der Grundsätze von Responsible Care (d. h. Schutz und Förderung der Gesundheit & Sicherheit von Menschen und Umwelt sowie Nachhaltigkeit) auf allen Ebenen der Organisation dargelegt?"},{"$f":"'Technische SDG'!C3","v":1},{"$f":"COUNTIF(F4:V4,\"\")","v":17},{"$f":"IF('Technische SDG'!D3=\"\",\"\",IF($D4=\"\",\"please complete\",IF($D4>'Technische SDG'!D3-1,\":-)\",CONCATENATE(\"increase until \",'Technische SDG'!D3))))","v":""},{"$f":"IF('Technische SDG'!E3=\"\",\"\",IF($D4=\"\",\"please complete\",IF($D4>'Technische SDG'!E3-1,\":-)\",CONCATENATE(\"increase until \",'Technische SDG'!E3))))","v":""},{"$f":"IF('Technische SDG'!F3=\"\",\"\",IF($D4=\"\",\"please complete\",IF($D4>'Technische SDG'!F3-1,\":-)\",CONCATENATE(\"increase until \",'Technische SDG'!F3))))","v":""},{"$f":"IF('Technische SDG'!G3=\"\",\"\",IF($D4=\"\",\"please complete\",IF($D4>'Technische SDG'!G3-1,\":-)\",CONCATENATE(\"increase until \",'Technische SDG'!G3))))","v":""},{"$f":"IF('Technische SDG'!H3=\"\",\"\",IF($D4=\"\",\"please complete\",IF($D4>'Technische SDG'!H3-1,\":-)\",CONCATENATE(\"increase until \",'Technische SDG'!H3))))","v":""},{"$f":"IF('Technische SDG'!I3=\"\",\"\",IF($D4=\"\",\"please complete\",IF($D4>'Technische SDG'!I3-1,\":-)\",CONCATENATE(\"increase until \",'Technische SDG'!I3))))","v":""},{"$f":"IF('Technische SDG'!J3=\"\",\"\",IF($D4=\"\",\"please complete\",IF($D4>'Technische SDG'!J3-1,\":-)\",CONCATENATE(\"increase until \",'Technische SDG'!J3))))","v":""},{"$f":"IF('Technische SDG'!K3=\"\",\"\",IF($D4=\"\",\"please complete\",IF($D4>'Technische SDG'!K3-1,\":-)\",CONCATENATE(\"increase until \",'Technische SDG'!K3))))","v":""},{"$f":"IF('Technische SDG'!L3=\"\",\"\",IF($D4=\"\",\"please complete\",IF($D4>'Technische SDG'!L3-1,\":-)\",CONCATENATE(\"increase until \",'Technische SDG'!L3))))","v":""},{"$f":"IF('Technische SDG'!M3=\"\",\"\",IF($D4=\"\",\"please complete\",IF($D4>'Technische SDG'!M3-1,\":-)\",CONCATENATE(\"increase until \",'Technische SDG'!M3))))","v":""},{"$f":"IF('Technische SDG'!N3=\"\",\"\",IF($D4=\"\",\"please complete\",IF($D4>'Technische SDG'!N3-1,\":-)\",CONCATENATE(\"increase until \",'Technische SDG'!N3))))","v":""},{"$f":"IF('Technische SDG'!O3=\"\",\"\",IF($D4=\"\",\"please complete\",IF($D4>'Technische SDG'!O3-1,\":-)\",CONCATENATE(\"increase until \",'Technische SDG'!O3))))","v":""},{"$f":"IF('Technische SDG'!P3=\"\",\"\",IF($D4=\"\",\"please complete\",IF($D4>'Technische SDG'!P3-1,\":-)\",CONCATENATE(\"increase until \",'Technische SDG'!P3))))","v":""},{"$f":"IF('Technische SDG'!Q3=\"\",\"\",IF($D4=\"\",\"please complete\",IF($D4>'Technische SDG'!Q3-1,\":-)\",CONCATENATE(\"increase until \",'Technische SDG'!Q3))))","v":""},{"$f":"IF('Technische SDG'!R3=\"\",\"\",IF($D4=\"\",\"please complete\",IF($D4>'Technische SDG'!R3-1,\":-)\",CONCATENATE(\"increase until \",'Technische SDG'!R3))))","v":""},{"$f":"IF('Technische SDG'!S3=\"\",\"\",IF($D4=\"\",\"please complete\",IF($D4>'Technische SDG'!S3-1,\":-)\",CONCATENATE(\"increase until \",'Technische SDG'!S3))))","v":""},{"$f":"IF('Technische SDG'!T3=\"\",\"\",IF($D4=\"\",\"please complete\",IF($D4>'Technische SDG'!T3-1,\":-)\",CONCATENATE(\"increase until \",'Technische SDG'!T3))))","v":""}]
[null,{"$f":"'Technische SDG'!B4","v":"F1.2"},{"$f":"VLOOKUP(B5,'Kapitel 1'!$C$6:$D$112,2,0)","v":"Wie steuert die Organisation die relevanten Risiken und Chancen?"},{"$f":"'Technische SDG'!C4","v":1},{"$f":"COUNTIF(F5:V5,\"\")","v":17},{"$f":"IF('Technische SDG'!D4=\"\",\"\",IF($D5=\"\",\"please complete\",IF($D5>'Technische SDG'!D4-1,\":-)\",CONCATENATE(\"increase until \",'Technische SDG'!D4))))","v":""},{"$f":"IF('Technische SDG'!E4=\"\",\"\",IF($D5=\"\",\"please complete\",IF($D5>'Technische SDG'!E4-1,\":-)\",CONCATENATE(\"increase until \",'Technische SDG'!E4))))","v":""},{"$f":"IF('Technische SDG'!F4=\"\",\"\",IF($D5=\"\",\"please complete\",IF($D5>'Technische SDG'!F4-1,\":-)\",CONCATENATE(\"increase until \",'Technische SDG'!F4))))","v":""},{"$f":"IF('Technische SDG'!G4=\"\",\"\",IF($D5=\"\",\"please complete\",IF($D5>'Technische SDG'!G4-1,\":-)\",CONCATENATE(\"increase until \",'Technische SDG'!G4))))","v":""},{"$f":"IF('Technische SDG'!H4=\"\",\"\",IF($D5=\"\",\"please complete\",IF($D5>'Technische SDG'!H4-1,\":-)\",CONCATENATE(\"increase until \",'Technische SDG'!H4))))","v":""},{"$f":"IF('Technische SDG'!I4=\"\",\"\",IF($D5=\"\",\"please complete\",IF($D5>'Technische SDG'!I4-1,\":-)\",CONCATENATE(\"increase until \",'Technische SDG'!I4))))","v":""},{"$f":"IF('Technische SDG'!J4=\"\",\"\",IF($D5=\"\",\"please complete\",IF($D5>'Technische SDG'!J4-1,\":-)\",CONCATENATE(\"increase until \",'Technische SDG'!J4))))","v":""},{"$f":"IF('Technische SDG'!K4=\"\",\"\",IF($D5=\"\",\"please complete\",IF($D5>'Technische SDG'!K4-1,\":-)\",CONCATENATE(\"increase until \",'Technische SDG'!K4))))","v":""},{"$f":"IF('Technische SDG'!L4=\"\",\"\",IF($D5=\"\",\"please complete\",IF($D5>'Technische SDG'!L4-1,\":-)\",CONCATENATE(\"increase until \",'Technische SDG'!L4))))","v":""},{"$f":"IF('Technische SDG'!M4=\"\",\"\",IF($D5=\"\",\"please complete\",IF($D5>'Technische SDG'!M4-1,\":-)\",CONCATENATE(\"increase until \",'Technische SDG'!M4))))","v":""},{"$f":"IF('Technische SDG'!N4=\"\",\"\",IF($D5=\"\",\"please complete\",IF($D5>'Technische SDG'!N4-1,\":-)\",CONCATENATE(\"increase until \",'Technische SDG'!N4))))","v":""},{"$f":"IF('Technische SDG'!O4=\"\",\"\",IF($D5=\"\",\"please complete\",IF($D5>'Technische SDG'!O4-1,\":-)\",CONCATENATE(\"increase until \",'Technische SDG'!O4))))","v":""},{"$f":"IF('Technische SDG'!P4=\"\",\"\",IF($D5=\"\",\"please complete\",IF($D5>'Technische SDG'!P4-1,\":-)\",CONCATENATE(\"increase until \",'Technische SDG'!P4))))","v":""},{"$f":"IF('Technische SDG'!Q4=\"\",\"\",IF($D5=\"\",\"please complete\",IF($D5>'Technische SDG'!Q4-1,\":-)\",CONCATENATE(\"increase until \",'Technische SDG'!Q4))))","v":""},{"$f":"IF('Technische SDG'!R4=\"\",\"\",IF($D5=\"\",\"please complete\",IF($D5>'Technische SDG'!R4-1,\":-)\",CONCATENATE(\"increase until \",'Technische SDG'!R4))))","v":""},{"$f":"IF('Technische SDG'!S4=\"\",\"\",IF($D5=\"\",\"please complete\",IF($D5>'Technische SDG'!S4-1,\":-)\",CONCATENATE(\"increase until \",'Technische SDG'!S4))))","v":""},{"$f":"IF('Technische SDG'!T4=\"\",\"\",IF($D5=\"\",\"please complete\",IF($D5>'Technische SDG'!T4-1,\":-)\",CONCATENATE(\"increase until \",'Technische SDG'!T4))))","v":""}]
[null,{"$f":"'Technische SDG'!B5","v":"F1.3"},{"$f":"VLOOKUP(B6,'Kapitel 1'!$C$6:$D$112,2,0)","v":"In welcher Weise erfüllt die Organisation ihre gesetzlichen Verpflichtungen?"},{"$f":"'Technische SDG'!C5","v":2},17,{"$f":"IF('Technische SDG'!D5=\"\",\"\",IF($D6=\"\",\"please complete\",IF($D6>'Technische SDG'!D5-1,\":-)\",CONCATENATE(\"increase until \",'Technische SDG'!D5))))","v":""},{"$f":"IF('Technische SDG'!E5=\"\",\"\",IF($D6=\"\",\"please complete\",IF($D6>'Technische SDG'!E5-1,\":-)\",CONCATENATE(\"increase until \",'Technische SDG'!E5))))","v":""},{"$f":"IF('Technische SDG'!F5=\"\",\"\",IF($D6=\"\",\"please complete\",IF($D6>'Technische SDG'!F5-1,\":-)\",CONCATENATE(\"increase until \",'Technische SDG'!F5))))","v":""},{"$f":"IF('Technische SDG'!G5=\"\",\"\",IF($D6=\"\",\"please complete\",IF($D6>'Technische SDG'!G5-1,\":-)\",CONCATENATE(\"increase until \",'Technische SDG'!G5))))","v":""},{"$f":"IF('Technische SDG'!H5=\"\",\"\",IF($D6=\"\",\"please complete\",IF($D6>'Technische SDG'!H5-1,\":-)\",CONCATENATE(\"increase until \",'Technische SDG'!H5))))","v":""},{"$f":"IF('Technische SDG'!I5=\"\",\"\",IF($D6=\"\",\"please complete\",IF($D6>'Technische SDG'!I5-1,\":-)\",CONCATENATE(\"increase until \",'Technische SDG'!I5))))","v":""},{"$f":"IF('Technische SDG'!J5=\"\",\"\",IF($D6=\"\",\"please complete\",IF($D6>'Technische SDG'!J5-1,\":-)\",CONCATENATE(\"increase until \",'Technische SDG'!J5))))","v":""},{"$f":"IF('Technische SDG'!K5=\"\",\"\",IF($D6=\"\",\"please complete\",IF($D6>'Technische SDG'!K5-1,\":-)\",CONCATENATE(\"increase until \",'Technische SDG'!K5))))","v":""},{"$f":"IF('Technische SDG'!L5=\"\",\"\",IF($D6=\"\",\"please complete\",IF($D6>'Technische SDG'!L5-1,\":-)\",CONCATENATE(\"increase until \",'Technische SDG'!L5))))","v":""},{"$f":"IF('Technische SDG'!M5=\"\",\"\",IF($D6=\"\",\"please complete\",IF($D6>'Technische SDG'!M5-1,\":-)\",CONCATENATE(\"increase until \",'Technische SDG'!M5))))","v":""},{"$f":"IF('Technische SDG'!N5=\"\",\"\",IF($D6=\"\",\"please complete\",IF($D6>'Technische SDG'!N5-1,\":-)\",CONCATENATE(\"increase until \",'Technische SDG'!N5))))","v":""},{"$f":"IF('Technische SDG'!O5=\"\",\"\",IF($D6=\"\",\"please complete\",IF($D6>'Technische SDG'!O5-1,\":-)\",CONCATENATE(\"increase until \",'Technische SDG'!O5))))","v":""},{"$f":"IF('Technische SDG'!P5=\"\",\"\",IF($D6=\"\",\"please complete\",IF($D6>'Technische SDG'!P5-1,\":-)\",CONCATENATE(\"increase until \",'Technische SDG'!P5))))","v":""},{"$f":"IF('Technische SDG'!Q5=\"\",\"\",IF($D6=\"\",\"please complete\",IF($D6>'Technische SDG'!Q5-1,\":-)\",CONCATENATE(\"increase until \",'Technische SDG'!Q5))))","v":""},{"$f":"IF('Technische SDG'!R5=\"\",\"\",IF($D6=\"\",\"please complete\",IF($D6>'Technische SDG'!R5-1,\":-)\",CONCATENATE(\"increase until \",'Technische SDG'!R5))))","v":""},{"$f":"IF('Technische SDG'!S5=\"\",\"\",IF($D6=\"\",\"please complete\",IF($D6>'Technische SDG'!S5-1,\":-)\",CONCATENATE(\"increase until \",'Technische SDG'!S5))))","v":""},{"$f":"IF('Technische SDG'!T5=\"\",\"\",IF($D6=\"\",\"please complete\",IF($D6>'Technische SDG'!T5-1,\":-)\",CONCATENATE(\"increase until \",'Technische SDG'!T5))))","v":""}]
[null,{"$f":"'Technische SDG'!B6","v":"F1.4"},{"$f":"VLOOKUP(B7,'Kapitel 1'!$C$6:$D$112,2,0)","v":"Wie stellt die oberste Führungsebene („top management“) sicher, dass Aspekte aus den Bereichen Gesundheit, Sicherheit, Umwelt, Energie & Nachhaltigkeit bestimmten Funktionen zugeordnet sind?"},{"$f":"'Technische SDG'!C6","v":2},17,{"$f":"IF('Technische SDG'!D6=\"\",\"\",IF($D7=\"\",\"please complete\",IF($D7>'Technische SDG'!D6-1,\":-)\",CONCATENATE(\"increase until \",'Technische SDG'!D6))))","v":""},{"$f":"IF('Technische SDG'!E6=\"\",\"\",IF($D7=\"\",\"please complete\",IF($D7>'Technische SDG'!E6-1,\":-)\",CONCATENATE(\"increase until \",'Technische SDG'!E6))))","v":""},{"$f":"IF('Technische SDG'!F6=\"\",\"\",IF($D7=\"\",\"please complete\",IF($D7>'Technische SDG'!F6-1,\":-)\",CONCATENATE(\"increase until \",'Technische SDG'!F6))))","v":""},{"$f":"IF('Technische SDG'!G6=\"\",\"\",IF($D7=\"\",\"please complete\",IF($D7>'Technische SDG'!G6-1,\":-)\",CONCATENATE(\"increase until \",'Technische SDG'!G6))))","v":""},{"$f":"IF('Technische SDG'!H6=\"\",\"\",IF($D7=\"\",\"please complete\",IF($D7>'Technische SDG'!H6-1,\":-)\",CONCATENATE(\"increase until \",'Technische SDG'!H6))))","v":""},{"$f":"IF('Technische SDG'!I6=\"\",\"\",IF($D7=\"\",\"please complete\",IF($D7>'Technische SDG'!I6-1,\":-)\",CONCATENATE(\"increase until \",'Technische SDG'!I6))))","v":""},{"$f":"IF('Technische SDG'!J6=\"\",\"\",IF($D7=\"\",\"please complete\",IF($D7>'Technische SDG'!J6-1,\":-)\",CONCATENATE(\"increase until \",'Technische SDG'!J6))))","v":""},{"$f":"IF('Technische SDG'!K6=\"\",\"\",IF($D7=\"\",\"please complete\",IF($D7>'Technische SDG'!K6-1,\":-)\",CONCATENATE(\"increase until \",'Technische SDG'!K6))))","v":""},{"$f":"IF('Technische SDG'!L6=\"\",\"\",IF($D7=\"\",\"please complete\",IF($D7>'Technische SDG'!L6-1,\":-)\",CONCATENATE(\"increase until \",'Technische SDG'!L6))))","v":""},{"$f":"IF('Technische SDG'!M6=\"\",\"\",IF($D7=\"\",\"please complete\",IF($D7>'Technische SDG'!M6-1,\":-)\",CONCATENATE(\"increase until \",'Technische SDG'!M6))))","v":""},{"$f":"IF('Technische SDG'!N6=\"\",\"\",IF($D7=\"\",\"please complete\",IF($D7>'Technische SDG'!N6-1,\":-)\",CONCATENATE(\"increase until \",'Technische SDG'!N6))))","v":""},{"$f":"IF('Technische SDG'!O6=\"\",\"\",IF($D7=\"\",\"please complete\",IF($D7>'Technische SDG'!O6-1,\":-)\",CONCATENATE(\"increase until \",'Technische SDG'!O6))))","v":""},{"$f":"IF('Technische SDG'!P6=\"\",\"\",IF($D7=\"\",\"please complete\",IF($D7>'Technische SDG'!P6-1,\":-)\",CONCATENATE(\"increase until \",'Technische SDG'!P6))))","v":""},{"$f":"IF('Technische SDG'!Q6=\"\",\"\",IF($D7=\"\",\"please complete\",IF($D7>'Technische SDG'!Q6-1,\":-)\",CONCATENATE(\"increase until \",'Technische SDG'!Q6))))","v":""},{"$f":"IF('Technische SDG'!R6=\"\",\"\",IF($D7=\"\",\"please complete\",IF($D7>'Technische SDG'!R6-1,\":-)\",CONCATENATE(\"increase until \",'Technische SDG'!R6))))","v":""},{"$f":"IF('Technische SDG'!S6=\"\",\"\",IF($D7=\"\",\"please complete\",IF($D7>'Technische SDG'!S6-1,\":-)\",CONCATENATE(\"increase until \",'Technische SDG'!S6))))","v":""},{"$f":"IF('Technische SDG'!T6=\"\",\"\",IF($D7=\"\",\"please complete\",IF($D7>'Technische SDG'!T6-1,\":-)\",CONCATENATE(\"increase until \",'Technische SDG'!T6))))","v":""}]
[null,{"$f":"'Technische SDG'!B7","v":"F1.5"},{"$f":"VLOOKUP(B8,'Kapitel 1'!$C$6:$D$112,2,0)","v":"In welcher Weise ist der Vorstand/die Geschäftsleitung der Organisation in den Umgang mit Fragen und Problemen („issues“) in den Bereichen Gesundheit, Sicherheit, Umwelt, Energie & Nachhaltigkeit eingebunden?"},{"$f":"'Technische SDG'!C7","v":3},17,{"$f":"IF('Technische SDG'!D7=\"\",\"\",IF($D8=\"\",\"please complete\",IF($D8>'Technische SDG'!D7-1,\":-)\",CONCATENATE(\"increase until \",'Technische SDG'!D7))))","v":""},{"$f":"IF('Technische SDG'!E7=\"\",\"\",IF($D8=\"\",\"please complete\",IF($D8>'Technische SDG'!E7-1,\":-)\",CONCATENATE(\"increase until \",'Technische SDG'!E7))))","v":""},{"$f":"IF('Technische SDG'!F7=\"\",\"\",IF($D8=\"\",\"please complete\",IF($D8>'Technische SDG'!F7-1,\":-)\",CONCATENATE(\"increase until \",'Technische SDG'!F7))))","v":""},{"$f":"IF('Technische SDG'!G7=\"\",\"\",IF($D8=\"\",\"please complete\",IF($D8>'Technische SDG'!G7-1,\":-)\",CONCATENATE(\"increase until \",'Technische SDG'!G7))))","v":""},{"$f":"IF('Technische SDG'!H7=\"\",\"\",IF($D8=\"\",\"please complete\",IF($D8>'Technische SDG'!H7-1,\":-)\",CONCATENATE(\"increase until \",'Technische SDG'!H7))))","v":""},{"$f":"IF('Technische SDG'!I7=\"\",\"\",IF($D8=\"\",\"please complete\",IF($D8>'Technische SDG'!I7-1,\":-)\",CONCATENATE(\"increase until \",'Technische SDG'!I7))))","v":""},{"$f":"IF('Technische SDG'!J7=\"\",\"\",IF($D8=\"\",\"please complete\",IF($D8>'Technische SDG'!J7-1,\":-)\",CONCATENATE(\"increase until \",'Technische SDG'!J7))))","v":""},{"$f":"IF('Technische SDG'!K7=\"\",\"\",IF($D8=\"\",\"please complete\",IF($D8>'Technische SDG'!K7-1,\":-)\",CONCATENATE(\"increase until \",'Technische SDG'!K7))))","v":""},{"$f":"IF('Technische SDG'!L7=\"\",\"\",IF($D8=\"\",\"please complete\",IF($D8>'Technische SDG'!L7-1,\":-)\",CONCATENATE(\"increase until \",'Technische SDG'!L7))))","v":""},{"$f":"IF('Technische SDG'!M7=\"\",\"\",IF($D8=\"\",\"please complete\",IF($D8>'Technische SDG'!M7-1,\":-)\",CONCATENATE(\"increase until \",'Technische SDG'!M7))))","v":""},{"$f":"IF('Technische SDG'!N7=\"\",\"\",IF($D8=\"\",\"please complete\",IF($D8>'Technische SDG'!N7-1,\":-)\",CONCATENATE(\"increase until \",'Technische SDG'!N7))))","v":""},{"$f":"IF('Technische SDG'!O7=\"\",\"\",IF($D8=\"\",\"please complete\",IF($D8>'Technische SDG'!O7-1,\":-)\",CONCATENATE(\"increase until \",'Technische SDG'!O7))))","v":""},{"$f":"IF('Technische SDG'!P7=\"\",\"\",IF($D8=\"\",\"please complete\",IF($D8>'Technische SDG'!P7-1,\":-)\",CONCATENATE(\"increase until \",'Technische SDG'!P7))))","v":""},{"$f":"IF('Technische SDG'!Q7=\"\",\"\",IF($D8=\"\",\"please complete\",IF($D8>'Technische SDG'!Q7-1,\":-)\",CONCATENATE(\"increase until \",'Technische SDG'!Q7))))","v":""},{"$f":"IF('Technische SDG'!R7=\"\",\"\",IF($D8=\"\",\"please complete\",IF($D8>'Technische SDG'!R7-1,\":-)\",CONCATENATE(\"increase until \",'Technische SDG'!R7))))","v":""},{"$f":"IF('Technische SDG'!S7=\"\",\"\",IF($D8=\"\",\"please complete\",IF($D8>'Technische SDG'!S7-1,\":-)\",CONCATENATE(\"increase until \",'Technische SDG'!S7))))","v":""},{"$f":"IF('Technische SDG'!T7=\"\",\"\",IF($D8=\"\",\"please complete\",IF($D8>'Technische SDG'!T7-1,\":-)\",CONCATENATE(\"increase until \",'Technische SDG'!T7))))","v":""}]
[null,{"$f":"'Technische SDG'!B8","v":"F1.6"},{"$f":"VLOOKUP(B9,'Kapitel 1'!$C$6:$D$112,2,0)","v":"Wie werden Verantwortlichkeiten in den Bereichen Gesundheit, Sicherheit, Umwelt, Energie & Nachhaltigkeit in Arbeitsplatzbeschreibungen oder Jahresziele integriert?"},{"$f":"'Technische SDG'!C8","v":4},17,{"$f":"IF('Technische SDG'!D8=\"\",\"\",IF($D9=\"\",\"please complete\",IF($D9>'Technische SDG'!D8-1,\":-)\",CONCATENATE(\"increase until \",'Technische SDG'!D8))))","v":""},{"$f":"IF('Technische SDG'!E8=\"\",\"\",IF($D9=\"\",\"please complete\",IF($D9>'Technische SDG'!E8-1,\":-)\",CONCATENATE(\"increase until \",'Technische SDG'!E8))))","v":""},{"$f":"IF('Technische SDG'!F8=\"\",\"\",IF($D9=\"\",\"please complete\",IF($D9>'Technische SDG'!F8-1,\":-)\",CONCATENATE(\"increase until \",'Technische SDG'!F8))))","v":""},{"$f":"IF('Technische SDG'!G8=\"\",\"\",IF($D9=\"\",\"please complete\",IF($D9>'Technische SDG'!G8-1,\":-)\",CONCATENATE(\"increase until \",'Technische SDG'!G8))))","v":""},{"$f":"IF('Technische SDG'!H8=\"\",\"\",IF($D9=\"\",\"please complete\",IF($D9>'Technische SDG'!H8-1,\":-)\",CONCATENATE(\"increase until \",'Technische SDG'!H8))))","v":""},{"$f":"IF('Technische SDG'!I8=\"\",\"\",IF($D9=\"\",\"please complete\",IF($D9>'Technische SDG'!I8-1,\":-)\",CONCATENATE(\"increase until \",'Technische SDG'!I8))))","v":""},{"$f":"IF('Technische SDG'!J8=\"\",\"\",IF($D9=\"\",\"please complete\",IF($D9>'Technische SDG'!J8-1,\":-)\",CONCATENATE(\"increase until \",'Technische SDG'!J8))))","v":""},{"$f":"IF('Technische SDG'!K8=\"\",\"\",IF($D9=\"\",\"please complete\",IF($D9>'Technische SDG'!K8-1,\":-)\",CONCATENATE(\"increase until \",'Technische SDG'!K8))))","v":""},{"$f":"IF('Technische SDG'!L8=\"\",\"\",IF($D9=\"\",\"please complete\",IF($D9>'Technische SDG'!L8-1,\":-)\",CONCATENATE(\"increase until \",'Technische SDG'!L8))))","v":""},{"$f":"IF('Technische SDG'!M8=\"\",\"\",IF($D9=\"\",\"please complete\",IF($D9>'Technische SDG'!M8-1,\":-)\",CONCATENATE(\"increase until \",'Technische SDG'!M8))))","v":""},{"$f":"IF('Technische SDG'!N8=\"\",\"\",IF($D9=\"\",\"please complete\",IF($D9>'Technische SDG'!N8-1,\":-)\",CONCATENATE(\"increase until \",'Technische SDG'!N8))))","v":""},{"$f":"IF('Technische SDG'!O8=\"\",\"\",IF($D9=\"\",\"please complete\",IF($D9>'Technische SDG'!O8-1,\":-)\",CONCATENATE(\"increase until \",'Technische SDG'!O8))))","v":""},{"$f":"IF('Technische SDG'!P8=\"\",\"\",IF($D9=\"\",\"please complete\",IF($D9>'Technische SDG'!P8-1,\":-)\",CONCATENATE(\"increase until \",'Technische SDG'!P8))))","v":""},{"$f":"IF('Technische SDG'!Q8=\"\",\"\",IF($D9=\"\",\"please complete\",IF($D9>'Technische SDG'!Q8-1,\":-)\",CONCATENATE(\"increase until \",'Technische SDG'!Q8))))","v":""},{"$f":"IF('Technische SDG'!R8=\"\",\"\",IF($D9=\"\",\"please complete\",IF($D9>'Technische SDG'!R8-1,\":-)\",CONCATENATE(\"increase until \",'Technische SDG'!R8))))","v":""},{"$f":"IF('Technische SDG'!S8=\"\",\"\",IF($D9=\"\",\"please complete\",IF($D9>'Technische SDG'!S8-1,\":-)\",CONCATENATE(\"increase until \",'Technische SDG'!S8))))","v":""},{"$f":"IF('Technische SDG'!T8=\"\",\"\",IF($D9=\"\",\"please complete\",IF($D9>'Technische SDG'!T8-1,\":-)\",CONCATENATE(\"increase until \",'Technische SDG'!T8))))","v":""}]
[null,{"$f":"'Technische SDG'!B9","v":"F1.7"},{"$f":"VLOOKUP(B10,'Kapitel 1'!$C$6:$D$112,2,0)","v":"Wie werden (Kern-)Prozesse in den Bereichen Gesundheit, Sicherheit, Umwelt, Energie & Nachhaltigkeit gelenkt?"},{"$f":"'Technische SDG'!C9","v":1},17,{"$f":"IF('Technische SDG'!D9=\"\",\"\",IF($D10=\"\",\"please complete\",IF($D10>'Technische SDG'!D9-1,\":-)\",CONCATENATE(\"increase until \",'Technische SDG'!D9))))","v":""},{"$f":"IF('Technische SDG'!E9=\"\",\"\",IF($D10=\"\",\"please complete\",IF($D10>'Technische SDG'!E9-1,\":-)\",CONCATENATE(\"increase until \",'Technische SDG'!E9))))","v":""},{"$f":"IF('Technische SDG'!F9=\"\",\"\",IF($D10=\"\",\"please complete\",IF($D10>'Technische SDG'!F9-1,\":-)\",CONCATENATE(\"increase until \",'Technische SDG'!F9))))","v":""},{"$f":"IF('Technische SDG'!G9=\"\",\"\",IF($D10=\"\",\"please complete\",IF($D10>'Technische SDG'!G9-1,\":-)\",CONCATENATE(\"increase until \",'Technische SDG'!G9))))","v":""},{"$f":"IF('Technische SDG'!H9=\"\",\"\",IF($D10=\"\",\"please complete\",IF($D10>'Technische SDG'!H9-1,\":-)\",CONCATENATE(\"increase until \",'Technische SDG'!H9))))","v":""},{"$f":"IF('Technische SDG'!I9=\"\",\"\",IF($D10=\"\",\"please complete\",IF($D10>'Technische SDG'!I9-1,\":-)\",CONCATENATE(\"increase until \",'Technische SDG'!I9))))","v":""},{"$f":"IF('Technische SDG'!J9=\"\",\"\",IF($D10=\"\",\"please complete\",IF($D10>'Technische SDG'!J9-1,\":-)\",CONCATENATE(\"increase until \",'Technische SDG'!J9))))","v":""},{"$f":"IF('Technische SDG'!K9=\"\",\"\",IF($D10=\"\",\"please complete\",IF($D10>'Technische SDG'!K9-1,\":-)\",CONCATENATE(\"increase until \",'Technische SDG'!K9))))","v":""},{"$f":"IF('Technische SDG'!L9=\"\",\"\",IF($D10=\"\",\"please complete\",IF($D10>'Technische SDG'!L9-1,\":-)\",CONCATENATE(\"increase until \",'Technische SDG'!L9))))","v":""},{"$f":"IF('Technische SDG'!M9=\"\",\"\",IF($D10=\"\",\"please complete\",IF($D10>'Technische SDG'!M9-1,\":-)\",CONCATENATE(\"increase until \",'Technische SDG'!M9))))","v":""},{"$f":"IF('Technische SDG'!N9=\"\",\"\",IF($D10=\"\",\"please complete\",IF($D10>'Technische SDG'!N9-1,\":-)\",CONCATENATE(\"increase until \",'Technische SDG'!N9))))","v":""},{"$f":"IF('Technische SDG'!O9=\"\",\"\",IF($D10=\"\",\"please complete\",IF($D10>'Technische SDG'!O9-1,\":-)\",CONCATENATE(\"increase until \",'Technische SDG'!O9))))","v":""},{"$f":"IF('Technische SDG'!P9=\"\",\"\",IF($D10=\"\",\"please complete\",IF($D10>'Technische SDG'!P9-1,\":-)\",CONCATENATE(\"increase until \",'Technische SDG'!P9))))","v":""},{"$f":"IF('Technische SDG'!Q9=\"\",\"\",IF($D10=\"\",\"please complete\",IF($D10>'Technische SDG'!Q9-1,\":-)\",CONCATENATE(\"increase until \",'Technische SDG'!Q9))))","v":""},{"$f":"IF('Technische SDG'!R9=\"\",\"\",IF($D10=\"\",\"please complete\",IF($D10>'Technische SDG'!R9-1,\":-)\",CONCATENATE(\"increase until \",'Technische SDG'!R9))))","v":""},{"$f":"IF('Technische SDG'!S9=\"\",\"\",IF($D10=\"\",\"please complete\",IF($D10>'Technische SDG'!S9-1,\":-)\",CONCATENATE(\"increase until \",'Technische SDG'!S9))))","v":""},{"$f":"IF('Technische SDG'!T9=\"\",\"\",IF($D10=\"\",\"please complete\",IF($D10>'Technische SDG'!T9-1,\":-)\",CONCATENATE(\"increase until \",'Technische SDG'!T9))))","v":""}]
[null,{"$f":"'Technische SDG'!B10","v":"F1.8"},{"$f":"VLOOKUP(B11,'Kapitel 1'!$C$6:$D$112,2,0)","v":"In welche Weise stellt die oberste Führungsebene eine kontinuierliche Verbesserung der Leistung in den Bereichen Gesundheit, Sicherheit, Umwelt, Energie & Nachhaltigkeit sicher?"},{"$f":"'Technische SDG'!C10","v":2},17,{"$f":"IF('Technische SDG'!D10=\"\",\"\",IF($D11=\"\",\"please complete\",IF($D11>'Technische SDG'!D10-1,\":-)\",CONCATENATE(\"increase until \",'Technische SDG'!D10))))","v":""},{"$f":"IF('Technische SDG'!E10=\"\",\"\",IF($D11=\"\",\"please complete\",IF($D11>'Technische SDG'!E10-1,\":-)\",CONCATENATE(\"increase until \",'Technische SDG'!E10))))","v":""},{"$f":"IF('Technische SDG'!F10=\"\",\"\",IF($D11=\"\",\"please complete\",IF($D11>'Technische SDG'!F10-1,\":-)\",CONCATENATE(\"increase until \",'Technische SDG'!F10))))","v":""},{"$f":"IF('Technische SDG'!G10=\"\",\"\",IF($D11=\"\",\"please complete\",IF($D11>'Technische SDG'!G10-1,\":-)\",CONCATENATE(\"increase until \",'Technische SDG'!G10))))","v":""},{"$f":"IF('Technische SDG'!H10=\"\",\"\",IF($D11=\"\",\"please complete\",IF($D11>'Technische SDG'!H10-1,\":-)\",CONCATENATE(\"increase until \",'Technische SDG'!H10))))","v":""},{"$f":"IF('Technische SDG'!I10=\"\",\"\",IF($D11=\"\",\"please complete\",IF($D11>'Technische SDG'!I10-1,\":-)\",CONCATENATE(\"increase until \",'Technische SDG'!I10))))","v":""},{"$f":"IF('Technische SDG'!J10=\"\",\"\",IF($D11=\"\",\"please complete\",IF($D11>'Technische SDG'!J10-1,\":-)\",CONCATENATE(\"increase until \",'Technische SDG'!J10))))","v":""},{"$f":"IF('Technische SDG'!K10=\"\",\"\",IF($D11=\"\",\"please complete\",IF($D11>'Technische SDG'!K10-1,\":-)\",CONCATENATE(\"increase until \",'Technische SDG'!K10))))","v":""},{"$f":"IF('Technische SDG'!L10=\"\",\"\",IF($D11=\"\",\"please complete\",IF($D11>'Technische SDG'!L10-1,\":-)\",CONCATENATE(\"increase until \",'Technische SDG'!L10))))","v":""},{"$f":"IF('Technische SDG'!M10=\"\",\"\",IF($D11=\"\",\"please complete\",IF($D11>'Technische SDG'!M10-1,\":-)\",CONCATENATE(\"increase until \",'Technische SDG'!M10))))","v":""},{"$f":"IF('Technische SDG'!N10=\"\",\"\",IF($D11=\"\",\"please complete\",IF($D11>'Technische SDG'!N10-1,\":-)\",CONCATENATE(\"increase until \",'Technische SDG'!N10))))","v":""},{"$f":"IF('Technische SDG'!O10=\"\",\"\",IF($D11=\"\",\"please complete\",IF($D11>'Technische SDG'!O10-1,\":-)\",CONCATENATE(\"increase until \",'Technische SDG'!O10))))","v":""},{"$f":"IF('Technische SDG'!P10=\"\",\"\",IF($D11=\"\",\"please complete\",IF($D11>'Technische SDG'!P10-1,\":-)\",CONCATENATE(\"increase until \",'Technische SDG'!P10))))","v":""},{"$f":"IF('Technische SDG'!Q10=\"\",\"\",IF($D11=\"\",\"please complete\",IF($D11>'Technische SDG'!Q10-1,\":-)\",CONCATENATE(\"increase until \",'Technische SDG'!Q10))))","v":""},{"$f":"IF('Technische SDG'!R10=\"\",\"\",IF($D11=\"\",\"please complete\",IF($D11>'Technische SDG'!R10-1,\":-)\",CONCATENATE(\"increase until \",'Technische SDG'!R10))))","v":""},{"$f":"IF('Technische SDG'!S10=\"\",\"\",IF($D11=\"\",\"please complete\",IF($D11>'Technische SDG'!S10-1,\":-)\",CONCATENATE(\"increase until \",'Technische SDG'!S10))))","v":""},{"$f":"IF('Technische SDG'!T10=\"\",\"\",IF($D11=\"\",\"please complete\",IF($D11>'Technische SDG'!T10-1,\":-)\",CONCATENATE(\"increase until \",'Technische SDG'!T10))))","v":""}]
[null,{"$f":"'Technische SDG'!B11","v":"F1.9"},{"$f":"VLOOKUP(B12,'Kapitel 1'!$C$6:$D$112,2,0)","v":"Wie wird das interne Auditprogramm durchgeführt?"},{"$f":"'Technische SDG'!C11","v":1},17,{"$f":"IF('Technische SDG'!D11=\"\",\"\",IF($D12=\"\",\"please complete\",IF($D12>'Technische SDG'!D11-1,\":-)\",CONCATENATE(\"increase until \",'Technische SDG'!D11))))","v":""},{"$f":"IF('Technische SDG'!E11=\"\",\"\",IF($D12=\"\",\"please complete\",IF($D12>'Technische SDG'!E11-1,\":-)\",CONCATENATE(\"increase until \",'Technische SDG'!E11))))","v":""},{"$f":"IF('Technische SDG'!F11=\"\",\"\",IF($D12=\"\",\"please complete\",IF($D12>'Technische SDG'!F11-1,\":-)\",CONCATENATE(\"increase until \",'Technische SDG'!F11))))","v":""},{"$f":"IF('Technische SDG'!G11=\"\",\"\",IF($D12=\"\",\"please complete\",IF($D12>'Technische SDG'!G11-1,\":-)\",CONCATENATE(\"increase until \",'Technische SDG'!G11))))","v":""},{"$f":"IF('Technische SDG'!H11=\"\",\"\",IF($D12=\"\",\"please complete\",IF($D12>'Technische SDG'!H11-1,\":-)\",CONCATENATE(\"increase until \",'Technische SDG'!H11))))","v":""},{"$f":"IF('Technische SDG'!I11=\"\",\"\",IF($D12=\"\",\"please complete\",IF($D12>'Technische SDG'!I11-1,\":-)\",CONCATENATE(\"increase until \",'Technische SDG'!I11))))","v":""},{"$f":"IF('Technische SDG'!J11=\"\",\"\",IF($D12=\"\",\"please complete\",IF($D12>'Technische SDG'!J11-1,\":-)\",CONCATENATE(\"increase until \",'Technische SDG'!J11))))","v":""},{"$f":"IF('Technische SDG'!K11=\"\",\"\",IF($D12=\"\",\"please complete\",IF($D12>'Technische SDG'!K11-1,\":-)\",CONCATENATE(\"increase until \",'Technische SDG'!K11))))","v":""},{"$f":"IF('Technische SDG'!L11=\"\",\"\",IF($D12=\"\",\"please complete\",IF($D12>'Technische SDG'!L11-1,\":-)\",CONCATENATE(\"increase until \",'Technische SDG'!L11))))","v":""},{"$f":"IF('Technische SDG'!M11=\"\",\"\",IF($D12=\"\",\"please complete\",IF($D12>'Technische SDG'!M11-1,\":-)\",CONCATENATE(\"increase until \",'Technische SDG'!M11))))","v":""},{"$f":"IF('Technische SDG'!N11=\"\",\"\",IF($D12=\"\",\"please complete\",IF($D12>'Technische SDG'!N11-1,\":-)\",CONCATENATE(\"increase until \",'Technische SDG'!N11))))","v":""},{"$f":"IF('Technische SDG'!O11=\"\",\"\",IF($D12=\"\",\"please complete\",IF($D12>'Technische SDG'!O11-1,\":-)\",CONCATENATE(\"increase until \",'Technische SDG'!O11))))","v":""},{"$f":"IF('Technische SDG'!P11=\"\",\"\",IF($D12=\"\",\"please complete\",IF($D12>'Technische SDG'!P11-1,\":-)\",CONCATENATE(\"increase until \",'Technische SDG'!P11))))","v":""},{"$f":"IF('Technische SDG'!Q11=\"\",\"\",IF($D12=\"\",\"please complete\",IF($D12>'Technische SDG'!Q11-1,\":-)\",CONCATENATE(\"increase until \",'Technische SDG'!Q11))))","v":""},{"$f":"IF('Technische SDG'!R11=\"\",\"\",IF($D12=\"\",\"please complete\",IF($D12>'Technische SDG'!R11-1,\":-)\",CONCATENATE(\"increase until \",'Technische SDG'!R11))))","v":""},{"$f":"IF('Technische SDG'!S11=\"\",\"\",IF($D12=\"\",\"please complete\",IF($D12>'Technische SDG'!S11-1,\":-)\",CONCATENATE(\"increase until \",'Technische SDG'!S11))))","v":""},{"$f":"IF('Technische SDG'!T11=\"\",\"\",IF($D12=\"\",\"please complete\",IF($D12>'Technische SDG'!T11-1,\":-)\",CONCATENATE(\"increase until \",'Technische SDG'!T11))))","v":""}]
[null,{"$f":"'Technische SDG'!B12","v":"F1.10"},{"$f":"VLOOKUP(B13,'Kapitel 1'!$C$6:$D$112,2,0)","v":"Wie werden Vorfälle untersucht?"},{"$f":"'Technische SDG'!C12","v":3},17,{"$f":"IF('Technische SDG'!D12=\"\",\"\",IF($D13=\"\",\"please complete\",IF($D13>'Technische SDG'!D12-1,\":-)\",CONCATENATE(\"increase until \",'Technische SDG'!D12))))","v":""},{"$f":"IF('Technische SDG'!E12=\"\",\"\",IF($D13=\"\",\"please complete\",IF($D13>'Technische SDG'!E12-1,\":-)\",CONCATENATE(\"increase until \",'Technische SDG'!E12))))","v":""},{"$f":"IF('Technische SDG'!F12=\"\",\"\",IF($D13=\"\",\"please complete\",IF($D13>'Technische SDG'!F12-1,\":-)\",CONCATENATE(\"increase until \",'Technische SDG'!F12))))","v":""},{"$f":"IF('Technische SDG'!G12=\"\",\"\",IF($D13=\"\",\"please complete\",IF($D13>'Technische SDG'!G12-1,\":-)\",CONCATENATE(\"increase until \",'Technische SDG'!G12))))","v":""},{"$f":"IF('Technische SDG'!H12=\"\",\"\",IF($D13=\"\",\"please complete\",IF($D13>'Technische SDG'!H12-1,\":-)\",CONCATENATE(\"increase until \",'Technische SDG'!H12))))","v":""},{"$f":"IF('Technische SDG'!I12=\"\",\"\",IF($D13=\"\",\"please complete\",IF($D13>'Technische SDG'!I12-1,\":-)\",CONCATENATE(\"increase until \",'Technische SDG'!I12))))","v":""},{"$f":"IF('Technische SDG'!J12=\"\",\"\",IF($D13=\"\",\"please complete\",IF($D13>'Technische SDG'!J12-1,\":-)\",CONCATENATE(\"increase until \",'Technische SDG'!J12))))","v":""},{"$f":"IF('Technische SDG'!K12=\"\",\"\",IF($D13=\"\",\"please complete\",IF($D13>'Technische SDG'!K12-1,\":-)\",CONCATENATE(\"increase until \",'Technische SDG'!K12))))","v":""},{"$f":"IF('Technische SDG'!L12=\"\",\"\",IF($D13=\"\",\"please complete\",IF($D13>'Technische SDG'!L12-1,\":-)\",CONCATENATE(\"increase until \",'Technische SDG'!L12))))","v":""},{"$f":"IF('Technische SDG'!M12=\"\",\"\",IF($D13=\"\",\"please complete\",IF($D13>'Technische SDG'!M12-1,\":-)\",CONCATENATE(\"increase until \",'Technische SDG'!M12))))","v":""},{"$f":"IF('Technische SDG'!N12=\"\",\"\",IF($D13=\"\",\"please complete\",IF($D13>'Technische SDG'!N12-1,\":-)\",CONCATENATE(\"increase until \",'Technische SDG'!N12))))","v":""},{"$f":"IF('Technische SDG'!O12=\"\",\"\",IF($D13=\"\",\"please complete\",IF($D13>'Technische SDG'!O12-1,\":-)\",CONCATENATE(\"increase until \",'Technische SDG'!O12))))","v":""},{"$f":"IF('Technische SDG'!P12=\"\",\"\",IF($D13=\"\",\"please complete\",IF($D13>'Technische SDG'!P12-1,\":-)\",CONCATENATE(\"increase until \",'Technische SDG'!P12))))","v":""},{"$f":"IF('Technische SDG'!Q12=\"\",\"\",IF($D13=\"\",\"please complete\",IF($D13>'Technische SDG'!Q12-1,\":-)\",CONCATENATE(\"increase until \",'Technische SDG'!Q12))))","v":""},{"$f":"IF('Technische SDG'!R12=\"\",\"\",IF($D13=\"\",\"please complete\",IF($D13>'Technische SDG'!R12-1,\":-)\",CONCATENATE(\"increase until \",'Technische SDG'!R12))))","v":""},{"$f":"IF('Technische SDG'!S12=\"\",\"\",IF($D13=\"\",\"please complete\",IF($D13>'Technische SDG'!S12-1,\":-)\",CONCATENATE(\"increase until \",'Technische SDG'!S12))))","v":""},{"$f":"IF('Technische SDG'!T12=\"\",\"\",IF($D13=\"\",\"please complete\",IF($D13>'Technische SDG'!T12-1,\":-)\",CONCATENATE(\"increase until \",'Technische SDG'!T12))))","v":""}]
[null,{"$f":"'Technische SDG'!B13","v":"F1.11"},{"$f":"VLOOKUP(B14,'Kapitel 1'!$C$6:$D$112,2,0)","v":"In welcher Weise stellt die Organisation die benötigten Verfahren, zeitlichen Mittel und Ressourcen bereit, um Management-Prozesse in den Bereichen Gesundheit, Sicherheit, Umwelt, Energie & Nachhaltigkeit zu verbessern?"},{"$f":"'Technische SDG'!C13","v":3},17,{"$f":"IF('Technische SDG'!D13=\"\",\"\",IF($D14=\"\",\"please complete\",IF($D14>'Technische SDG'!D13-1,\":-)\",CONCATENATE(\"increase until \",'Technische SDG'!D13))))","v":""},{"$f":"IF('Technische SDG'!E13=\"\",\"\",IF($D14=\"\",\"please complete\",IF($D14>'Technische SDG'!E13-1,\":-)\",CONCATENATE(\"increase until \",'Technische SDG'!E13))))","v":""},{"$f":"IF('Technische SDG'!F13=\"\",\"\",IF($D14=\"\",\"please complete\",IF($D14>'Technische SDG'!F13-1,\":-)\",CONCATENATE(\"increase until \",'Technische SDG'!F13))))","v":""},{"$f":"IF('Technische SDG'!G13=\"\",\"\",IF($D14=\"\",\"please complete\",IF($D14>'Technische SDG'!G13-1,\":-)\",CONCATENATE(\"increase until \",'Technische SDG'!G13))))","v":""},{"$f":"IF('Technische SDG'!H13=\"\",\"\",IF($D14=\"\",\"please complete\",IF($D14>'Technische SDG'!H13-1,\":-)\",CONCATENATE(\"increase until \",'Technische SDG'!H13))))","v":""},{"$f":"IF('Technische SDG'!I13=\"\",\"\",IF($D14=\"\",\"please complete\",IF($D14>'Technische SDG'!I13-1,\":-)\",CONCATENATE(\"increase until \",'Technische SDG'!I13))))","v":""},{"$f":"IF('Technische SDG'!J13=\"\",\"\",IF($D14=\"\",\"please complete\",IF($D14>'Technische SDG'!J13-1,\":-)\",CONCATENATE(\"increase until \",'Technische SDG'!J13))))","v":""},{"$f":"IF('Technische SDG'!K13=\"\",\"\",IF($D14=\"\",\"please complete\",IF($D14>'Technische SDG'!K13-1,\":-)\",CONCATENATE(\"increase until \",'Technische SDG'!K13))))","v":""},{"$f":"IF('Technische SDG'!L13=\"\",\"\",IF($D14=\"\",\"please complete\",IF($D14>'Technische SDG'!L13-1,\":-)\",CONCATENATE(\"increase until \",'Technische SDG'!L13))))","v":""},{"$f":"IF('Technische SDG'!M13=\"\",\"\",IF($D14=\"\",\"please complete\",IF($D14>'Technische SDG'!M13-1,\":-)\",CONCATENATE(\"increase until \",'Technische SDG'!M13))))","v":""},{"$f":"IF('Technische SDG'!N13=\"\",\"\",IF($D14=\"\",\"please complete\",IF($D14>'Technische SDG'!N13-1,\":-)\",CONCATENATE(\"increase until \",'Technische SDG'!N13))))","v":""},{"$f":"IF('Technische SDG'!O13=\"\",\"\",IF($D14=\"\",\"please complete\",IF($D14>'Technische SDG'!O13-1,\":-)\",CONCATENATE(\"increase until \",'Technische SDG'!O13))))","v":""},{"$f":"IF('Technische SDG'!P13=\"\",\"\",IF($D14=\"\",\"please complete\",IF($D14>'Technische SDG'!P13-1,\":-)\",CONCATENATE(\"increase until \",'Technische SDG'!P13))))","v":""},{"$f":"IF('Technische SDG'!Q13=\"\",\"\",IF($D14=\"\",\"please complete\",IF($D14>'Technische SDG'!Q13-1,\":-)\",CONCATENATE(\"increase until \",'Technische SDG'!Q13))))","v":""},{"$f":"IF('Technische SDG'!R13=\"\",\"\",IF($D14=\"\",\"please complete\",IF($D14>'Technische SDG'!R13-1,\":-)\",CONCATENATE(\"increase until \",'Technische SDG'!R13))))","v":""},{"$f":"IF('Technische SDG'!S13=\"\",\"\",IF($D14=\"\",\"please complete\",IF($D14>'Technische SDG'!S13-1,\":-)\",CONCATENATE(\"increase until \",'Technische SDG'!S13))))","v":""},{"$f":"IF('Technische SDG'!T13=\"\",\"\",IF($D14=\"\",\"please complete\",IF($D14>'Technische SDG'!T13-1,\":-)\",CONCATENATE(\"increase until \",'Technische SDG'!T13))))","v":""}]
[null,{"$f":"'Technische SDG'!B14","v":"F1.12"},{"$f":"VLOOKUP(B15,'Kapitel 1'!$C$6:$D$112,2,0)","v":"Wie stellt die Organisation sicher, dass Mitarbeiter über die Unternehmenspolitik und Verfahren in den Bereichen Gesundheit, Sicherheit, Umwelt, Energie & Nachhaltigkeit informiert sind?"},{"$f":"'Technische SDG'!C14","v":2},17,{"$f":"IF('Technische SDG'!D14=\"\",\"\",IF($D15=\"\",\"please complete\",IF($D15>'Technische SDG'!D14-1,\":-)\",CONCATENATE(\"increase until \",'Technische SDG'!D14))))","v":""},{"$f":"IF('Technische SDG'!E14=\"\",\"\",IF($D15=\"\",\"please complete\",IF($D15>'Technische SDG'!E14-1,\":-)\",CONCATENATE(\"increase until \",'Technische SDG'!E14))))","v":""},{"$f":"IF('Technische SDG'!F14=\"\",\"\",IF($D15=\"\",\"please complete\",IF($D15>'Technische SDG'!F14-1,\":-)\",CONCATENATE(\"increase until \",'Technische SDG'!F14))))","v":""},{"$f":"IF('Technische SDG'!G14=\"\",\"\",IF($D15=\"\",\"please complete\",IF($D15>'Technische SDG'!G14-1,\":-)\",CONCATENATE(\"increase until \",'Technische SDG'!G14))))","v":""},{"$f":"IF('Technische SDG'!H14=\"\",\"\",IF($D15=\"\",\"please complete\",IF($D15>'Technische SDG'!H14-1,\":-)\",CONCATENATE(\"increase until \",'Technische SDG'!H14))))","v":""},{"$f":"IF('Technische SDG'!I14=\"\",\"\",IF($D15=\"\",\"please complete\",IF($D15>'Technische SDG'!I14-1,\":-)\",CONCATENATE(\"increase until \",'Technische SDG'!I14))))","v":""},{"$f":"IF('Technische SDG'!J14=\"\",\"\",IF($D15=\"\",\"please complete\",IF($D15>'Technische SDG'!J14-1,\":-)\",CONCATENATE(\"increase until \",'Technische SDG'!J14))))","v":""},{"$f":"IF('Technische SDG'!K14=\"\",\"\",IF($D15=\"\",\"please complete\",IF($D15>'Technische SDG'!K14-1,\":-)\",CONCATENATE(\"increase until \",'Technische SDG'!K14))))","v":""},{"$f":"IF('Technische SDG'!L14=\"\",\"\",IF($D15=\"\",\"please complete\",IF($D15>'Technische SDG'!L14-1,\":-)\",CONCATENATE(\"increase until \",'Technische SDG'!L14))))","v":""},{"$f":"IF('Technische SDG'!M14=\"\",\"\",IF($D15=\"\",\"please complete\",IF($D15>'Technische SDG'!M14-1,\":-)\",CONCATENATE(\"increase until \",'Technische SDG'!M14))))","v":""},{"$f":"IF('Technische SDG'!N14=\"\",\"\",IF($D15=\"\",\"please complete\",IF($D15>'Technische SDG'!N14-1,\":-)\",CONCATENATE(\"increase until \",'Technische SDG'!N14))))","v":""},{"$f":"IF('Technische SDG'!O14=\"\",\"\",IF($D15=\"\",\"please complete\",IF($D15>'Technische SDG'!O14-1,\":-)\",CONCATENATE(\"increase until \",'Technische SDG'!O14))))","v":""},{"$f":"IF('Technische SDG'!P14=\"\",\"\",IF($D15=\"\",\"please complete\",IF($D15>'Technische SDG'!P14-1,\":-)\",CONCATENATE(\"increase until \",'Technische SDG'!P14))))","v":""},{"$f":"IF('Technische SDG'!Q14=\"\",\"\",IF($D15=\"\",\"please complete\",IF($D15>'Technische SDG'!Q14-1,\":-)\",CONCATENATE(\"increase until \",'Technische SDG'!Q14))))","v":""},{"$f":"IF('Technische SDG'!R14=\"\",\"\",IF($D15=\"\",\"please complete\",IF($D15>'Technische SDG'!R14-1,\":-)\",CONCATENATE(\"increase until \",'Technische SDG'!R14))))","v":""},{"$f":"IF('Technische SDG'!S14=\"\",\"\",IF($D15=\"\",\"please complete\",IF($D15>'Technische SDG'!S14-1,\":-)\",CONCATENATE(\"increase until \",'Technische SDG'!S14))))","v":""},{"$f":"IF('Technische SDG'!T14=\"\",\"\",IF($D15=\"\",\"please complete\",IF($D15>'Technische SDG'!T14-1,\":-)\",CONCATENATE(\"increase until \",'Technische SDG'!T14))))","v":""}]
[null,{"$f":"'Technische SDG'!B15","v":"F1.13"},{"$f":"VLOOKUP(B16,'Kapitel 1'!$C$6:$D$112,2,0)","v":"Wie stellt die Organisation sicher, dass Arbeiter – hinsichtlich der mit ihrer Tätigkeit in Zusammenhang stehenden Aspekten in den Bereichen Gesundheit, Sicherheit, Umwelt, Energie & Nachhaltigkeit – über die erforderlichen Kompetenzen verfügen?"},{"$f":"'Technische SDG'!C15","v":1},17,{"$f":"IF('Technische SDG'!D15=\"\",\"\",IF($D16=\"\",\"please complete\",IF($D16>'Technische SDG'!D15-1,\":-)\",CONCATENATE(\"increase until \",'Technische SDG'!D15))))","v":""},{"$f":"IF('Technische SDG'!E15=\"\",\"\",IF($D16=\"\",\"please complete\",IF($D16>'Technische SDG'!E15-1,\":-)\",CONCATENATE(\"increase until \",'Technische SDG'!E15))))","v":""},{"$f":"IF('Technische SDG'!F15=\"\",\"\",IF($D16=\"\",\"please complete\",IF($D16>'Technische SDG'!F15-1,\":-)\",CONCATENATE(\"increase until \",'Technische SDG'!F15))))","v":""},{"$f":"IF('Technische SDG'!G15=\"\",\"\",IF($D16=\"\",\"please complete\",IF($D16>'Technische SDG'!G15-1,\":-)\",CONCATENATE(\"increase until \",'Technische SDG'!G15))))","v":""},{"$f":"IF('Technische SDG'!H15=\"\",\"\",IF($D16=\"\",\"please complete\",IF($D16>'Technische SDG'!H15-1,\":-)\",CONCATENATE(\"increase until \",'Technische SDG'!H15))))","v":""},{"$f":"IF('Technische SDG'!I15=\"\",\"\",IF($D16=\"\",\"please complete\",IF($D16>'Technische SDG'!I15-1,\":-)\",CONCATENATE(\"increase until \",'Technische SDG'!I15))))","v":""},{"$f":"IF('Technische SDG'!J15=\"\",\"\",IF($D16=\"\",\"please complete\",IF($D16>'Technische SDG'!J15-1,\":-)\",CONCATENATE(\"increase until \",'Technische SDG'!J15))))","v":""},{"$f":"IF('Technische SDG'!K15=\"\",\"\",IF($D16=\"\",\"please complete\",IF($D16>'Technische SDG'!K15-1,\":-)\",CONCATENATE(\"increase until \",'Technische SDG'!K15))))","v":""},{"$f":"IF('Technische SDG'!L15=\"\",\"\",IF($D16=\"\",\"please complete\",IF($D16>'Technische SDG'!L15-1,\":-)\",CONCATENATE(\"increase until \",'Technische SDG'!L15))))","v":""},{"$f":"IF('Technische SDG'!M15=\"\",\"\",IF($D16=\"\",\"please complete\",IF($D16>'Technische SDG'!M15-1,\":-)\",CONCATENATE(\"increase until \",'Technische SDG'!M15))))","v":""},{"$f":"IF('Technische SDG'!N15=\"\",\"\",IF($D16=\"\",\"please complete\",IF($D16>'Technische SDG'!N15-1,\":-)\",CONCATENATE(\"increase until \",'Technische SDG'!N15))))","v":""},{"$f":"IF('Technische SDG'!O15=\"\",\"\",IF($D16=\"\",\"please complete\",IF($D16>'Technische SDG'!O15-1,\":-)\",CONCATENATE(\"increase until \",'Technische SDG'!O15))))","v":""},{"$f":"IF('Technische SDG'!P15=\"\",\"\",IF($D16=\"\",\"please complete\",IF($D16>'Technische SDG'!P15-1,\":-)\",CONCATENATE(\"increase until \",'Technische SDG'!P15))))","v":""},{"$f":"IF('Technische SDG'!Q15=\"\",\"\",IF($D16=\"\",\"please complete\",IF($D16>'Technische SDG'!Q15-1,\":-)\",CONCATENATE(\"increase until \",'Technische SDG'!Q15))))","v":""},{"$f":"IF('Technische SDG'!R15=\"\",\"\",IF($D16=\"\",\"please complete\",IF($D16>'Technische SDG'!R15-1,\":-)\",CONCATENATE(\"increase until \",'Technische SDG'!R15))))","v":""},{"$f":"IF('Technische SDG'!S15=\"\",\"\",IF($D16=\"\",\"please complete\",IF($D16>'Technische SDG'!S15-1,\":-)\",CONCATENATE(\"increase until \",'Technische SDG'!S15))))","v":""},{"$f":"IF('Technische SDG'!T15=\"\",\"\",IF($D16=\"\",\"please complete\",IF($D16>'Technische SDG'!T15-1,\":-)\",CONCATENATE(\"increase until \",'Technische SDG'!T15))))","v":""}]
[null,{"$f":"'Technische SDG'!B16","v":"F1.14"},{"$f":"VLOOKUP(B17,'Kapitel 1'!$C$6:$D$112,2,0)","v":"Wie ist die Einbeziehung der Mitarbeiter strukturiert?"},{"$f":"'Technische SDG'!C16","v":4},17,{"$f":"IF('Technische SDG'!D16=\"\",\"\",IF($D17=\"\",\"please complete\",IF($D17>'Technische SDG'!D16-1,\":-)\",CONCATENATE(\"increase until \",'Technische SDG'!D16))))","v":""},{"$f":"IF('Technische SDG'!E16=\"\",\"\",IF($D17=\"\",\"please complete\",IF($D17>'Technische SDG'!E16-1,\":-)\",CONCATENATE(\"increase until \",'Technische SDG'!E16))))","v":""},{"$f":"IF('Technische SDG'!F16=\"\",\"\",IF($D17=\"\",\"please complete\",IF($D17>'Technische SDG'!F16-1,\":-)\",CONCATENATE(\"increase until \",'Technische SDG'!F16))))","v":""},{"$f":"IF('Technische SDG'!G16=\"\",\"\",IF($D17=\"\",\"please complete\",IF($D17>'Technische SDG'!G16-1,\":-)\",CONCATENATE(\"increase until \",'Technische SDG'!G16))))","v":""},{"$f":"IF('Technische SDG'!H16=\"\",\"\",IF($D17=\"\",\"please complete\",IF($D17>'Technische SDG'!H16-1,\":-)\",CONCATENATE(\"increase until \",'Technische SDG'!H16))))","v":""},{"$f":"IF('Technische SDG'!I16=\"\",\"\",IF($D17=\"\",\"please complete\",IF($D17>'Technische SDG'!I16-1,\":-)\",CONCATENATE(\"increase until \",'Technische SDG'!I16))))","v":""},{"$f":"IF('Technische SDG'!J16=\"\",\"\",IF($D17=\"\",\"please complete\",IF($D17>'Technische SDG'!J16-1,\":-)\",CONCATENATE(\"increase until \",'Technische SDG'!J16))))","v":""},{"$f":"IF('Technische SDG'!K16=\"\",\"\",IF($D17=\"\",\"please complete\",IF($D17>'Technische SDG'!K16-1,\":-)\",CONCATENATE(\"increase until \",'Technische SDG'!K16))))","v":""},{"$f":"IF('Technische SDG'!L16=\"\",\"\",IF($D17=\"\",\"please complete\",IF($D17>'Technische SDG'!L16-1,\":-)\",CONCATENATE(\"increase until \",'Technische SDG'!L16))))","v":""},{"$f":"IF('Technische SDG'!M16=\"\",\"\",IF($D17=\"\",\"please complete\",IF($D17>'Technische SDG'!M16-1,\":-)\",CONCATENATE(\"increase until \",'Technische SDG'!M16))))","v":""},{"$f":"IF('Technische SDG'!N16=\"\",\"\",IF($D17=\"\",\"please complete\",IF($D17>'Technische SDG'!N16-1,\":-)\",CONCATENATE(\"increase until \",'Technische SDG'!N16))))","v":""},{"$f":"IF('Technische SDG'!O16=\"\",\"\",IF($D17=\"\",\"please complete\",IF($D17>'Technische SDG'!O16-1,\":-)\",CONCATENATE(\"increase until \",'Technische SDG'!O16))))","v":""},{"$f":"IF('Technische SDG'!P16=\"\",\"\",IF($D17=\"\",\"please complete\",IF($D17>'Technische SDG'!P16-1,\":-)\",CONCATENATE(\"increase until \",'Technische SDG'!P16))))","v":""},{"$f":"IF('Technische SDG'!Q16=\"\",\"\",IF($D17=\"\",\"please complete\",IF($D17>'Technische SDG'!Q16-1,\":-)\",CONCATENATE(\"increase until \",'Technische SDG'!Q16))))","v":""},{"$f":"IF('Technische SDG'!R16=\"\",\"\",IF($D17=\"\",\"please complete\",IF($D17>'Technische SDG'!R16-1,\":-)\",CONCATENATE(\"increase until \",'Technische SDG'!R16))))","v":""},{"$f":"IF('Technische SDG'!S16=\"\",\"\",IF($D17=\"\",\"please complete\",IF($D17>'Technische SDG'!S16-1,\":-)\",CONCATENATE(\"increase until \",'Technische SDG'!S16))))","v":""},{"$f":"IF('Technische SDG'!T16=\"\",\"\",IF($D17=\"\",\"please complete\",IF($D17>'Technische SDG'!T16-1,\":-)\",CONCATENATE(\"increase until \",'Technische SDG'!T16))))","v":""}]
[null,{"$f":"'Technische SDG'!B17","v":"F1.15"},{"$f":"VLOOKUP(B18,'Kapitel 1'!$C$6:$D$112,2,0)","v":"Wie werden Dokumente aus den Bereichen Gesundheit, Sicherheit, Umwelt, Energie & Nachhaltigkeit verwaltet?"},{"$f":"'Technische SDG'!C17","v":2},17,{"$f":"IF('Technische SDG'!D17=\"\",\"\",IF($D18=\"\",\"please complete\",IF($D18>'Technische SDG'!D17-1,\":-)\",CONCATENATE(\"increase until \",'Technische SDG'!D17))))","v":""},{"$f":"IF('Technische SDG'!E17=\"\",\"\",IF($D18=\"\",\"please complete\",IF($D18>'Technische SDG'!E17-1,\":-)\",CONCATENATE(\"increase until \",'Technische SDG'!E17))))","v":""},{"$f":"IF('Technische SDG'!F17=\"\",\"\",IF($D18=\"\",\"please complete\",IF($D18>'Technische SDG'!F17-1,\":-)\",CONCATENATE(\"increase until \",'Technische SDG'!F17))))","v":""},{"$f":"IF('Technische SDG'!G17=\"\",\"\",IF($D18=\"\",\"please complete\",IF($D18>'Technische SDG'!G17-1,\":-)\",CONCATENATE(\"increase until \",'Technische SDG'!G17))))","v":""},{"$f":"IF('Technische SDG'!H17=\"\",\"\",IF($D18=\"\",\"please complete\",IF($D18>'Technische SDG'!H17-1,\":-)\",CONCATENATE(\"increase until \",'Technische SDG'!H17))))","v":""},{"$f":"IF('Technische SDG'!I17=\"\",\"\",IF($D18=\"\",\"please complete\",IF($D18>'Technische SDG'!I17-1,\":-)\",CONCATENATE(\"increase until \",'Technische SDG'!I17))))","v":""},{"$f":"IF('Technische SDG'!J17=\"\",\"\",IF($D18=\"\",\"please complete\",IF($D18>'Technische SDG'!J17-1,\":-)\",CONCATENATE(\"increase until \",'Technische SDG'!J17))))","v":""},{"$f":"IF('Technische SDG'!K17=\"\",\"\",IF($D18=\"\",\"please complete\",IF($D18>'Technische SDG'!K17-1,\":-)\",CONCATENATE(\"increase until \",'Technische SDG'!K17))))","v":""},{"$f":"IF('Technische SDG'!L17=\"\",\"\",IF($D18=\"\",\"please complete\",IF($D18>'Technische SDG'!L17-1,\":-)\",CONCATENATE(\"increase until \",'Technische SDG'!L17))))","v":""},{"$f":"IF('Technische SDG'!M17=\"\",\"\",IF($D18=\"\",\"please complete\",IF($D18>'Technische SDG'!M17-1,\":-)\",CONCATENATE(\"increase until \",'Technische SDG'!M17))))","v":""},{"$f":"IF('Technische SDG'!N17=\"\",\"\",IF($D18=\"\",\"please complete\",IF($D18>'Technische SDG'!N17-1,\":-)\",CONCATENATE(\"increase until \",'Technische SDG'!N17))))","v":""},{"$f":"IF('Technische SDG'!O17=\"\",\"\",IF($D18=\"\",\"please complete\",IF($D18>'Technische SDG'!O17-1,\":-)\",CONCATENATE(\"increase until \",'Technische SDG'!O17))))","v":""},{"$f":"IF('Technische SDG'!P17=\"\",\"\",IF($D18=\"\",\"please complete\",IF($D18>'Technische SDG'!P17-1,\":-)\",CONCATENATE(\"increase until \",'Technische SDG'!P17))))","v":""},{"$f":"IF('Technische SDG'!Q17=\"\",\"\",IF($D18=\"\",\"please complete\",IF($D18>'Technische SDG'!Q17-1,\":-)\",CONCATENATE(\"increase until \",'Technische SDG'!Q17))))","v":""},{"$f":"IF('Technische SDG'!R17=\"\",\"\",IF($D18=\"\",\"please complete\",IF($D18>'Technische SDG'!R17-1,\":-)\",CONCATENATE(\"increase until \",'Technische SDG'!R17))))","v":""},{"$f":"IF('Technische SDG'!S17=\"\",\"\",IF($D18=\"\",\"please complete\",IF($D18>'Technische SDG'!S17-1,\":-)\",CONCATENATE(\"increase until \",'Technische SDG'!S17))))","v":""},{"$f":"IF('Technische SDG'!T17=\"\",\"\",IF($D18=\"\",\"please complete\",IF($D18>'Technische SDG'!T17-1,\":-)\",CONCATENATE(\"increase until \",'Technische SDG'!T17))))","v":""}]
[null,{"$f":"'Technische SDG'!B18","v":"F1.16"},{"$f":"VLOOKUP(B19,'Kapitel 1'!$C$6:$D$112,2,0)","v":"In welcher Weise werden Änderungen, die möglicherweise Auswirkungen auf die Bereiche Gesundheit, Sicherheit, Umwelt, Energie & Nachhaltigkeit haben könnten, gesteuert?"},{"$f":"'Technische SDG'!C18","v":2},17,{"$f":"IF('Technische SDG'!D18=\"\",\"\",IF($D19=\"\",\"please complete\",IF($D19>'Technische SDG'!D18-1,\":-)\",CONCATENATE(\"increase until \",'Technische SDG'!D18))))","v":""},{"$f":"IF('Technische SDG'!E18=\"\",\"\",IF($D19=\"\",\"please complete\",IF($D19>'Technische SDG'!E18-1,\":-)\",CONCATENATE(\"increase until \",'Technische SDG'!E18))))","v":""},{"$f":"IF('Technische SDG'!F18=\"\",\"\",IF($D19=\"\",\"please complete\",IF($D19>'Technische SDG'!F18-1,\":-)\",CONCATENATE(\"increase until \",'Technische SDG'!F18))))","v":""},{"$f":"IF('Technische SDG'!G18=\"\",\"\",IF($D19=\"\",\"please complete\",IF($D19>'Technische SDG'!G18-1,\":-)\",CONCATENATE(\"increase until \",'Technische SDG'!G18))))","v":""},{"$f":"IF('Technische SDG'!H18=\"\",\"\",IF($D19=\"\",\"please complete\",IF($D19>'Technische SDG'!H18-1,\":-)\",CONCATENATE(\"increase until \",'Technische SDG'!H18))))","v":""},{"$f":"IF('Technische SDG'!I18=\"\",\"\",IF($D19=\"\",\"please complete\",IF($D19>'Technische SDG'!I18-1,\":-)\",CONCATENATE(\"increase until \",'Technische SDG'!I18))))","v":""},{"$f":"IF('Technische SDG'!J18=\"\",\"\",IF($D19=\"\",\"please complete\",IF($D19>'Technische SDG'!J18-1,\":-)\",CONCATENATE(\"increase until \",'Technische SDG'!J18))))","v":""},{"$f":"IF('Technische SDG'!K18=\"\",\"\",IF($D19=\"\",\"please complete\",IF($D19>'Technische SDG'!K18-1,\":-)\",CONCATENATE(\"increase until \",'Technische SDG'!K18))))","v":""},{"$f":"IF('Technische SDG'!L18=\"\",\"\",IF($D19=\"\",\"please complete\",IF($D19>'Technische SDG'!L18-1,\":-)\",CONCATENATE(\"increase until \",'Technische SDG'!L18))))","v":""},{"$f":"IF('Technische SDG'!M18=\"\",\"\",IF($D19=\"\",\"please complete\",IF($D19>'Technische SDG'!M18-1,\":-)\",CONCATENATE(\"increase until \",'Technische SDG'!M18))))","v":""},{"$f":"IF('Technische SDG'!N18=\"\",\"\",IF($D19=\"\",\"please complete\",IF($D19>'Technische SDG'!N18-1,\":-)\",CONCATENATE(\"increase until \",'Technische SDG'!N18))))","v":""},{"$f":"IF('Technische SDG'!O18=\"\",\"\",IF($D19=\"\",\"please complete\",IF($D19>'Technische SDG'!O18-1,\":-)\",CONCATENATE(\"increase until \",'Technische SDG'!O18))))","v":""},{"$f":"IF('Technische SDG'!P18=\"\",\"\",IF($D19=\"\",\"please complete\",IF($D19>'Technische SDG'!P18-1,\":-)\",CONCATENATE(\"increase until \",'Technische SDG'!P18))))","v":""},{"$f":"IF('Technische SDG'!Q18=\"\",\"\",IF($D19=\"\",\"please complete\",IF($D19>'Technische SDG'!Q18-1,\":-)\",CONCATENATE(\"increase until \",'Technische SDG'!Q18))))","v":""},{"$f":"IF('Technische SDG'!R18=\"\",\"\",IF($D19=\"\",\"please complete\",IF($D19>'Technische SDG'!R18-1,\":-)\",CONCATENATE(\"increase until \",'Technische SDG'!R18))))","v":""},{"$f":"IF('Technische SDG'!S18=\"\",\"\",IF($D19=\"\",\"please complete\",IF($D19>'Technische SDG'!S18-1,\":-)\",CONCATENATE(\"increase until \",'Technische SDG'!S18))))","v":""},{"$f":"IF('Technische SDG'!T18=\"\",\"\",IF($D19=\"\",\"please complete\",IF($D19>'Technische SDG'!T18-1,\":-)\",CONCATENATE(\"increase until \",'Technische SDG'!T18))))","v":""}]
[]
[null,{"$f":"'Technische SDG'!B20","v":"F2.1"},{"$f":"VLOOKUP(B21,'Kapitel 2'!$C$6:$D$278,2,0)","v":"In welcher Weise verpflichtet sich die Führung der Organisation zu Arbeits- und Gesundheitsschutz?"},{"$f":"'Technische SDG'!C20","v":1},16,{"$f":"IF('Technische SDG'!D20=\"\",\"\",IF($D21=\"\",\"bitte ausfüllen \",IF($D21>'Technische SDG'!D20-1,\":-)\",CONCATENATE(\"Verbessern bis   \",'Technische SDG'!D20))))","v":""},{"$f":"IF('Technische SDG'!E20=\"\",\"\",IF($D21=\"\",\"bitte ausfüllen \",IF($D21>'Technische SDG'!E20-1,\":-)\",CONCATENATE(\"Verbessern bis   \",'Technische SDG'!E20))))","v":""},{"$f":"IF('Technische SDG'!F20=\"\",\"\",IF($D21=\"\",\"bitte ausfüllen \",IF($D21>'Technische SDG'!F20-1,\":-)\",CONCATENATE(\"Verbessern bis   \",'Technische SDG'!F20))))","v":""},{"$f":"IF('Technische SDG'!G20=\"\",\"\",IF($D21=\"\",\"bitte ausfüllen \",IF($D21>'Technische SDG'!G20-1,\":-)\",CONCATENATE(\"Verbessern bis   \",'Technische SDG'!G20))))","v":""},{"$f":"IF('Technische SDG'!H20=\"\",\"\",IF($D21=\"\",\"bitte ausfüllen \",IF($D21>'Technische SDG'!H20-1,\":-)\",CONCATENATE(\"Verbessern bis   \",'Technische SDG'!H20))))","v":""},{"$f":"IF('Technische SDG'!I20=\"\",\"\",IF($D21=\"\",\"bitte ausfüllen \",IF($D21>'Technische SDG'!I20-1,\":-)\",CONCATENATE(\"Verbessern bis   \",'Technische SDG'!I20))))","v":""},{"$f":"IF('Technische SDG'!J20=\"\",\"\",IF($D21=\"\",\"bitte ausfüllen \",IF($D21>'Technische SDG'!J20-1,\":-)\",CONCATENATE(\"Verbessern bis   \",'Technische SDG'!J20))))","v":""},{"$f":"IF('Technische SDG'!K20=\"\",\"\",IF($D21=\"\",\"bitte ausfüllen \",IF($D21>'Technische SDG'!K20-1,\":-)\",CONCATENATE(\"Verbessern bis   \",'Technische SDG'!K20))))","v":"Verbessern bis   3"},{"$f":"IF('Technische SDG'!L20=\"\",\"\",IF($D21=\"\",\"bitte ausfüllen \",IF($D21>'Technische SDG'!L20-1,\":-)\",CONCATENATE(\"Verbessern bis   \",'Technische SDG'!L20))))","v":""},{"$f":"IF('Technische SDG'!M20=\"\",\"\",IF($D21=\"\",\"bitte ausfüllen \",IF($D21>'Technische SDG'!M20-1,\":-)\",CONCATENATE(\"Verbessern bis   \",'Technische SDG'!M20))))","v":""},{"$f":"IF('Technische SDG'!N20=\"\",\"\",IF($D21=\"\",\"bitte ausfüllen \",IF($D21>'Technische SDG'!N20-1,\":-)\",CONCATENATE(\"Verbessern bis   \",'Technische SDG'!N20))))","v":""},{"$f":"IF('Technische SDG'!O20=\"\",\"\",IF($D21=\"\",\"bitte ausfüllen \",IF($D21>'Technische SDG'!O20-1,\":-)\",CONCATENATE(\"Verbessern bis   \",'Technische SDG'!O20))))","v":""},{"$f":"IF('Technische SDG'!P20=\"\",\"\",IF($D21=\"\",\"bitte ausfüllen \",IF($D21>'Technische SDG'!P20-1,\":-)\",CONCATENATE(\"Verbessern bis   \",'Technische SDG'!P20))))","v":""},{"$f":"IF('Technische SDG'!Q20=\"\",\"\",IF($D21=\"\",\"bitte ausfüllen \",IF($D21>'Technische SDG'!Q20-1,\":-)\",CONCATENATE(\"Verbessern bis   \",'Technische SDG'!Q20))))","v":""},{"$f":"IF('Technische SDG'!R20=\"\",\"\",IF($D21=\"\",\"bitte ausfüllen \",IF($D21>'Technische SDG'!R20-1,\":-)\",CONCATENATE(\"Verbessern bis   \",'Technische SDG'!R20))))","v":""},{"$f":"IF('Technische SDG'!S20=\"\",\"\",IF($D21=\"\",\"bitte ausfüllen \",IF($D21>'Technische SDG'!S20-1,\":-)\",CONCATENATE(\"Verbessern bis   \",'Technische SDG'!S20))))","v":""},{"$f":"IF('Technische SDG'!T20=\"\",\"\",IF($D21=\"\",\"bitte ausfüllen \",IF($D21>'Technische SDG'!T20-1,\":-)\",CONCATENATE(\"Verbessern bis   \",'Technische SDG'!T20))))","v":""}]
[null,{"$f":"'Technische SDG'!B21","v":"F2.2"},{"$f":"VLOOKUP(B22,'Kapitel 2'!$C$6:$D$278,2,0)","v":"In welcher Weise werden Risiken und Expositionen in den Bereichen Gesundheit & Sicherheit festgestellt?"},{"$f":"'Technische SDG'!C21","v":1},16,{"$f":"IF('Technische SDG'!D21=\"\",\"\",IF($D22=\"\",\"bitte ausfüllen \",IF($D22>'Technische SDG'!D21-1,\":-)\",CONCATENATE(\"Verbessern bis   \",'Technische SDG'!D21))))","v":""},{"$f":"IF('Technische SDG'!E21=\"\",\"\",IF($D22=\"\",\"bitte ausfüllen \",IF($D22>'Technische SDG'!E21-1,\":-)\",CONCATENATE(\"Verbessern bis   \",'Technische SDG'!E21))))","v":""},{"$f":"IF('Technische SDG'!F21=\"\",\"\",IF($D22=\"\",\"bitte ausfüllen \",IF($D22>'Technische SDG'!F21-1,\":-)\",CONCATENATE(\"Verbessern bis   \",'Technische SDG'!F21))))","v":""},{"$f":"IF('Technische SDG'!G21=\"\",\"\",IF($D22=\"\",\"bitte ausfüllen \",IF($D22>'Technische SDG'!G21-1,\":-)\",CONCATENATE(\"Verbessern bis   \",'Technische SDG'!G21))))","v":""},{"$f":"IF('Technische SDG'!H21=\"\",\"\",IF($D22=\"\",\"bitte ausfüllen \",IF($D22>'Technische SDG'!H21-1,\":-)\",CONCATENATE(\"Verbessern bis   \",'Technische SDG'!H21))))","v":""},{"$f":"IF('Technische SDG'!I21=\"\",\"\",IF($D22=\"\",\"bitte ausfüllen \",IF($D22>'Technische SDG'!I21-1,\":-)\",CONCATENATE(\"Verbessern bis   \",'Technische SDG'!I21))))","v":""},{"$f":"IF('Technische SDG'!J21=\"\",\"\",IF($D22=\"\",\"bitte ausfüllen \",IF($D22>'Technische SDG'!J21-1,\":-)\",CONCATENATE(\"Verbessern bis   \",'Technische SDG'!J21))))","v":""},{"$f":"IF('Technische SDG'!K21=\"\",\"\",IF($D22=\"\",\"bitte ausfüllen \",IF($D22>'Technische SDG'!K21-1,\":-)\",CONCATENATE(\"Verbessern bis   \",'Technische SDG'!K21))))","v":"Verbessern bis   3"},{"$f":"IF('Technische SDG'!L21=\"\",\"\",IF($D22=\"\",\"bitte ausfüllen \",IF($D22>'Technische SDG'!L21-1,\":-)\",CONCATENATE(\"Verbessern bis   \",'Technische SDG'!L21))))","v":""},{"$f":"IF('Technische SDG'!M21=\"\",\"\",IF($D22=\"\",\"bitte ausfüllen \",IF($D22>'Technische SDG'!M21-1,\":-)\",CONCATENATE(\"Verbessern bis   \",'Technische SDG'!M21))))","v":""},{"$f":"IF('Technische SDG'!N21=\"\",\"\",IF($D22=\"\",\"bitte ausfüllen \",IF($D22>'Technische SDG'!N21-1,\":-)\",CONCATENATE(\"Verbessern bis   \",'Technische SDG'!N21))))","v":""},{"$f":"IF('Technische SDG'!O21=\"\",\"\",IF($D22=\"\",\"bitte ausfüllen \",IF($D22>'Technische SDG'!O21-1,\":-)\",CONCATENATE(\"Verbessern bis   \",'Technische SDG'!O21))))","v":""},{"$f":"IF('Technische SDG'!P21=\"\",\"\",IF($D22=\"\",\"bitte ausfüllen \",IF($D22>'Technische SDG'!P21-1,\":-)\",CONCATENATE(\"Verbessern bis   \",'Technische SDG'!P21))))","v":""},{"$f":"IF('Technische SDG'!Q21=\"\",\"\",IF($D22=\"\",\"bitte ausfüllen \",IF($D22>'Technische SDG'!Q21-1,\":-)\",CONCATENATE(\"Verbessern bis   \",'Technische SDG'!Q21))))","v":""},{"$f":"IF('Technische SDG'!R21=\"\",\"\",IF($D22=\"\",\"bitte ausfüllen \",IF($D22>'Technische SDG'!R21-1,\":-)\",CONCATENATE(\"Verbessern bis   \",'Technische SDG'!R21))))","v":""},{"$f":"IF('Technische SDG'!S21=\"\",\"\",IF($D22=\"\",\"bitte ausfüllen \",IF($D22>'Technische SDG'!S21-1,\":-)\",CONCATENATE(\"Verbessern bis   \",'Technische SDG'!S21))))","v":""},{"$f":"IF('Technische SDG'!T21=\"\",\"\",IF($D22=\"\",\"bitte ausfüllen \",IF($D22>'Technische SDG'!T21-1,\":-)\",CONCATENATE(\"Verbessern bis   \",'Technische SDG'!T21))))","v":""}]
[null,{"$f":"'Technische SDG'!B22","v":"F2.3"},{"$f":"VLOOKUP(B23,'Kapitel 2'!$C$6:$D$278,2,0)","v":"In welcher Weise werden die medizinischen Anforderungen bewertet?"},{"$f":"'Technische SDG'!C22","v":4},16,{"$f":"IF('Technische SDG'!D22=\"\",\"\",IF($D23=\"\",\"bitte ausfüllen \",IF($D23>'Technische SDG'!D22-1,\":-)\",CONCATENATE(\"Verbessern bis   \",'Technische SDG'!D22))))","v":""},{"$f":"IF('Technische SDG'!E22=\"\",\"\",IF($D23=\"\",\"bitte ausfüllen \",IF($D23>'Technische SDG'!E22-1,\":-)\",CONCATENATE(\"Verbessern bis   \",'Technische SDG'!E22))))","v":""},{"$f":"IF('Technische SDG'!F22=\"\",\"\",IF($D23=\"\",\"bitte ausfüllen \",IF($D23>'Technische SDG'!F22-1,\":-)\",CONCATENATE(\"Verbessern bis   \",'Technische SDG'!F22))))","v":""},{"$f":"IF('Technische SDG'!G22=\"\",\"\",IF($D23=\"\",\"bitte ausfüllen \",IF($D23>'Technische SDG'!G22-1,\":-)\",CONCATENATE(\"Verbessern bis   \",'Technische SDG'!G22))))","v":""},{"$f":"IF('Technische SDG'!H22=\"\",\"\",IF($D23=\"\",\"bitte ausfüllen \",IF($D23>'Technische SDG'!H22-1,\":-)\",CONCATENATE(\"Verbessern bis   \",'Technische SDG'!H22))))","v":""},{"$f":"IF('Technische SDG'!I22=\"\",\"\",IF($D23=\"\",\"bitte ausfüllen \",IF($D23>'Technische SDG'!I22-1,\":-)\",CONCATENATE(\"Verbessern bis   \",'Technische SDG'!I22))))","v":""},{"$f":"IF('Technische SDG'!J22=\"\",\"\",IF($D23=\"\",\"bitte ausfüllen \",IF($D23>'Technische SDG'!J22-1,\":-)\",CONCATENATE(\"Verbessern bis   \",'Technische SDG'!J22))))","v":""},{"$f":"IF('Technische SDG'!K22=\"\",\"\",IF($D23=\"\",\"bitte ausfüllen \",IF($D23>'Technische SDG'!K22-1,\":-)\",CONCATENATE(\"Verbessern bis   \",'Technische SDG'!K22))))","v":":-)"},{"$f":"IF('Technische SDG'!L22=\"\",\"\",IF($D23=\"\",\"bitte ausfüllen \",IF($D23>'Technische SDG'!L22-1,\":-)\",CONCATENATE(\"Verbessern bis   \",'Technische SDG'!L22))))","v":""},{"$f":"IF('Technische SDG'!M22=\"\",\"\",IF($D23=\"\",\"bitte ausfüllen \",IF($D23>'Technische SDG'!M22-1,\":-)\",CONCATENATE(\"Verbessern bis   \",'Technische SDG'!M22))))","v":""},{"$f":"IF('Technische SDG'!N22=\"\",\"\",IF($D23=\"\",\"bitte ausfüllen \",IF($D23>'Technische SDG'!N22-1,\":-)\",CONCATENATE(\"Verbessern bis   \",'Technische SDG'!N22))))","v":""},{"$f":"IF('Technische SDG'!O22=\"\",\"\",IF($D23=\"\",\"bitte ausfüllen \",IF($D23>'Technische SDG'!O22-1,\":-)\",CONCATENATE(\"Verbessern bis   \",'Technische SDG'!O22))))","v":""},{"$f":"IF('Technische SDG'!P22=\"\",\"\",IF($D23=\"\",\"bitte ausfüllen \",IF($D23>'Technische SDG'!P22-1,\":-)\",CONCATENATE(\"Verbessern bis   \",'Technische SDG'!P22))))","v":""},{"$f":"IF('Technische SDG'!Q22=\"\",\"\",IF($D23=\"\",\"bitte ausfüllen \",IF($D23>'Technische SDG'!Q22-1,\":-)\",CONCATENATE(\"Verbessern bis   \",'Technische SDG'!Q22))))","v":""},{"$f":"IF('Technische SDG'!R22=\"\",\"\",IF($D23=\"\",\"bitte ausfüllen \",IF($D23>'Technische SDG'!R22-1,\":-)\",CONCATENATE(\"Verbessern bis   \",'Technische SDG'!R22))))","v":""},{"$f":"IF('Technische SDG'!S22=\"\",\"\",IF($D23=\"\",\"bitte ausfüllen \",IF($D23>'Technische SDG'!S22-1,\":-)\",CONCATENATE(\"Verbessern bis   \",'Technische SDG'!S22))))","v":""},{"$f":"IF('Technische SDG'!T22=\"\",\"\",IF($D23=\"\",\"bitte ausfüllen \",IF($D23>'Technische SDG'!T22-1,\":-)\",CONCATENATE(\"Verbessern bis   \",'Technische SDG'!T22))))","v":""}]
[null,{"$f":"'Technische SDG'!B23","v":"F2.4"},{"$f":"VLOOKUP(B24,'Kapitel 2'!$C$6:$D$278,2,0)","v":"In welcher Weise verbessert die Organisation ihre Leistung in den Bereichen Gesundheit und Sicherheit?"},{"$f":"'Technische SDG'!C23","v":1},17,{"$f":"IF('Technische SDG'!D23=\"\",\"\",IF($D24=\"\",\"please complete\",IF($D24>'Technische SDG'!D23-1,\":-)\",CONCATENATE(\"increase until \",'Technische SDG'!D23))))","v":""},{"$f":"IF('Technische SDG'!E23=\"\",\"\",IF($D24=\"\",\"please complete\",IF($D24>'Technische SDG'!E23-1,\":-)\",CONCATENATE(\"increase until \",'Technische SDG'!E23))))","v":""},{"$f":"IF('Technische SDG'!F23=\"\",\"\",IF($D24=\"\",\"please complete\",IF($D24>'Technische SDG'!F23-1,\":-)\",CONCATENATE(\"increase until \",'Technische SDG'!F23))))","v":""},{"$f":"IF('Technische SDG'!G23=\"\",\"\",IF($D24=\"\",\"please complete\",IF($D24>'Technische SDG'!G23-1,\":-)\",CONCATENATE(\"increase until \",'Technische SDG'!G23))))","v":""},{"$f":"IF('Technische SDG'!H23=\"\",\"\",IF($D24=\"\",\"please complete\",IF($D24>'Technische SDG'!H23-1,\":-)\",CONCATENATE(\"increase until \",'Technische SDG'!H23))))","v":""},{"$f":"IF('Technische SDG'!I23=\"\",\"\",IF($D24=\"\",\"please complete\",IF($D24>'Technische SDG'!I23-1,\":-)\",CONCATENATE(\"increase until \",'Technische SDG'!I23))))","v":""},{"$f":"IF('Technische SDG'!J23=\"\",\"\",IF($D24=\"\",\"please complete\",IF($D24>'Technische SDG'!J23-1,\":-)\",CONCATENATE(\"increase until \",'Technische SDG'!J23))))","v":""},{"$f":"IF('Technische SDG'!K23=\"\",\"\",IF($D24=\"\",\"please complete\",IF($D24>'Technische SDG'!K23-1,\":-)\",CONCATENATE(\"increase until \",'Technische SDG'!K23))))","v":""},{"$f":"IF('Technische SDG'!L23=\"\",\"\",IF($D24=\"\",\"please complete\",IF($D24>'Technische SDG'!L23-1,\":-)\",CONCATENATE(\"increase until \",'Technische SDG'!L23))))","v":""},{"$f":"IF('Technische SDG'!M23=\"\",\"\",IF($D24=\"\",\"please complete\",IF($D24>'Technische SDG'!M23-1,\":-)\",CONCATENATE(\"increase until \",'Technische SDG'!M23))))","v":""},{"$f":"IF('Technische SDG'!N23=\"\",\"\",IF($D24=\"\",\"please complete\",IF($D24>'Technische SDG'!N23-1,\":-)\",CONCATENATE(\"increase until \",'Technische SDG'!N23))))","v":""},{"$f":"IF('Technische SDG'!O23=\"\",\"\",IF($D24=\"\",\"please complete\",IF($D24>'Technische SDG'!O23-1,\":-)\",CONCATENATE(\"increase until \",'Technische SDG'!O23))))","v":""},{"$f":"IF('Technische SDG'!P23=\"\",\"\",IF($D24=\"\",\"please complete\",IF($D24>'Technische SDG'!P23-1,\":-)\",CONCATENATE(\"increase until \",'Technische SDG'!P23))))","v":""},{"$f":"IF('Technische SDG'!Q23=\"\",\"\",IF($D24=\"\",\"please complete\",IF($D24>'Technische SDG'!Q23-1,\":-)\",CONCATENATE(\"increase until \",'Technische SDG'!Q23))))","v":""},{"$f":"IF('Technische SDG'!R23=\"\",\"\",IF($D24=\"\",\"please complete\",IF($D24>'Technische SDG'!R23-1,\":-)\",CONCATENATE(\"increase until \",'Technische SDG'!R23))))","v":""},{"$f":"IF('Technische SDG'!S23=\"\",\"\",IF($D24=\"\",\"please complete\",IF($D24>'Technische SDG'!S23-1,\":-)\",CONCATENATE(\"increase until \",'Technische SDG'!S23))))","v":""},{"$f":"IF('Technische SDG'!T23=\"\",\"\",IF($D24=\"\",\"please complete\",IF($D24>'Technische SDG'!T23-1,\":-)\",CONCATENATE(\"increase until \",'Technische SDG'!T23))))","v":""}]
[null,{"$f":"'Technische SDG'!B24","v":"F2.5"},{"$f":"VLOOKUP(B25,'Kapitel 2'!$C$6:$D$278,2,0)","v":"In welcher Weise werden Wartung und Pflege („maintenance and housekeeping“) gestaltet, um die Sicherheit von Einrichtungen, Anlagen, Werkzeugen und\n(Sicherheits-) Ausrüstungen aufrechtzuerhalten?"},{"$f":"'Technische SDG'!C24","v":2},17,{"$f":"IF('Technische SDG'!D24=\"\",\"\",IF($D25=\"\",\"please complete\",IF($D25>'Technische SDG'!D24-1,\":-)\",CONCATENATE(\"increase until \",'Technische SDG'!D24))))","v":""},{"$f":"IF('Technische SDG'!E24=\"\",\"\",IF($D25=\"\",\"please complete\",IF($D25>'Technische SDG'!E24-1,\":-)\",CONCATENATE(\"increase until \",'Technische SDG'!E24))))","v":""},{"$f":"IF('Technische SDG'!F24=\"\",\"\",IF($D25=\"\",\"please complete\",IF($D25>'Technische SDG'!F24-1,\":-)\",CONCATENATE(\"increase until \",'Technische SDG'!F24))))","v":""},{"$f":"IF('Technische SDG'!G24=\"\",\"\",IF($D25=\"\",\"please complete\",IF($D25>'Technische SDG'!G24-1,\":-)\",CONCATENATE(\"increase until \",'Technische SDG'!G24))))","v":""},{"$f":"IF('Technische SDG'!H24=\"\",\"\",IF($D25=\"\",\"please complete\",IF($D25>'Technische SDG'!H24-1,\":-)\",CONCATENATE(\"increase until \",'Technische SDG'!H24))))","v":""},{"$f":"IF('Technische SDG'!I24=\"\",\"\",IF($D25=\"\",\"please complete\",IF($D25>'Technische SDG'!I24-1,\":-)\",CONCATENATE(\"increase until \",'Technische SDG'!I24))))","v":""},{"$f":"IF('Technische SDG'!J24=\"\",\"\",IF($D25=\"\",\"please complete\",IF($D25>'Technische SDG'!J24-1,\":-)\",CONCATENATE(\"increase until \",'Technische SDG'!J24))))","v":""},{"$f":"IF('Technische SDG'!K24=\"\",\"\",IF($D25=\"\",\"please complete\",IF($D25>'Technische SDG'!K24-1,\":-)\",CONCATENATE(\"increase until \",'Technische SDG'!K24))))","v":""},{"$f":"IF('Technische SDG'!L24=\"\",\"\",IF($D25=\"\",\"please complete\",IF($D25>'Technische SDG'!L24-1,\":-)\",CONCATENATE(\"increase until \",'Technische SDG'!L24))))","v":""},{"$f":"IF('Technische SDG'!M24=\"\",\"\",IF($D25=\"\",\"please complete\",IF($D25>'Technische SDG'!M24-1,\":-)\",CONCATENATE(\"increase until \",'Technische SDG'!M24))))","v":""},{"$f":"IF('Technische SDG'!N24=\"\",\"\",IF($D25=\"\",\"please complete\",IF($D25>'Technische SDG'!N24-1,\":-)\",CONCATENATE(\"increase until \",'Technische SDG'!N24))))","v":""},{"$f":"IF('Technische SDG'!O24=\"\",\"\",IF($D25=\"\",\"please complete\",IF($D25>'Technische SDG'!O24-1,\":-)\",CONCATENATE(\"increase until \",'Technische SDG'!O24))))","v":""},{"$f":"IF('Technische SDG'!P24=\"\",\"\",IF($D25=\"\",\"please complete\",IF($D25>'Technische SDG'!P24-1,\":-)\",CONCATENATE(\"increase until \",'Technische SDG'!P24))))","v":""},{"$f":"IF('Technische SDG'!Q24=\"\",\"\",IF($D25=\"\",\"please complete\",IF($D25>'Technische SDG'!Q24-1,\":-)\",CONCATENATE(\"increase until \",'Technische SDG'!Q24))))","v":""},{"$f":"IF('Technische SDG'!R24=\"\",\"\",IF($D25=\"\",\"please complete\",IF($D25>'Technische SDG'!R24-1,\":-)\",CONCATENATE(\"increase until \",'Technische SDG'!R24))))","v":""},{"$f":"IF('Technische SDG'!S24=\"\",\"\",IF($D25=\"\",\"please complete\",IF($D25>'Technische SDG'!S24-1,\":-)\",CONCATENATE(\"increase until \",'Technische SDG'!S24))))","v":""},{"$f":"IF('Technische SDG'!T24=\"\",\"\",IF($D25=\"\",\"please complete\",IF($D25>'Technische SDG'!T24-1,\":-)\",CONCATENATE(\"increase until \",'Technische SDG'!T24))))","v":""}]
[null,{"$f":"'Technische SDG'!B25","v":"F2.6"},{"$f":"VLOOKUP(B26,'Kapitel 2'!$C$6:$D$278,2,0)","v":"Wie werden die geeignete Auswahl, Wartung und Verwendung von Ausrüstungen in den Bereichen Gesundheit und Sicherheit (z. B. persönliche Schutzausrüstung/PSA) überprüft?"},{"$f":"'Technische SDG'!C25","v":3},17,{"$f":"IF('Technische SDG'!D25=\"\",\"\",IF($D26=\"\",\"please complete\",IF($D26>'Technische SDG'!D25-1,\":-)\",CONCATENATE(\"increase until \",'Technische SDG'!D25))))","v":""},{"$f":"IF('Technische SDG'!E25=\"\",\"\",IF($D26=\"\",\"please complete\",IF($D26>'Technische SDG'!E25-1,\":-)\",CONCATENATE(\"increase until \",'Technische SDG'!E25))))","v":""},{"$f":"IF('Technische SDG'!F25=\"\",\"\",IF($D26=\"\",\"please complete\",IF($D26>'Technische SDG'!F25-1,\":-)\",CONCATENATE(\"increase until \",'Technische SDG'!F25))))","v":""},{"$f":"IF('Technische SDG'!G25=\"\",\"\",IF($D26=\"\",\"please complete\",IF($D26>'Technische SDG'!G25-1,\":-)\",CONCATENATE(\"increase until \",'Technische SDG'!G25))))","v":""},{"$f":"IF('Technische SDG'!H25=\"\",\"\",IF($D26=\"\",\"please complete\",IF($D26>'Technische SDG'!H25-1,\":-)\",CONCATENATE(\"increase until \",'Technische SDG'!H25))))","v":""},{"$f":"IF('Technische SDG'!I25=\"\",\"\",IF($D26=\"\",\"please complete\",IF($D26>'Technische SDG'!I25-1,\":-)\",CONCATENATE(\"increase until \",'Technische SDG'!I25))))","v":""},{"$f":"IF('Technische SDG'!J25=\"\",\"\",IF($D26=\"\",\"please complete\",IF($D26>'Technische SDG'!J25-1,\":-)\",CONCATENATE(\"increase until \",'Technische SDG'!J25))))","v":""},{"$f":"IF('Technische SDG'!K25=\"\",\"\",IF($D26=\"\",\"please complete\",IF($D26>'Technische SDG'!K25-1,\":-)\",CONCATENATE(\"increase until \",'Technische SDG'!K25))))","v":""},{"$f":"IF('Technische SDG'!L25=\"\",\"\",IF($D26=\"\",\"please complete\",IF($D26>'Technische SDG'!L25-1,\":-)\",CONCATENATE(\"increase until \",'Technische SDG'!L25))))","v":""},{"$f":"IF('Technische SDG'!M25=\"\",\"\",IF($D26=\"\",\"please complete\",IF($D26>'Technische SDG'!M25-1,\":-)\",CONCATENATE(\"increase until \",'Technische SDG'!M25))))","v":""},{"$f":"IF('Technische SDG'!N25=\"\",\"\",IF($D26=\"\",\"please complete\",IF($D26>'Technische SDG'!N25-1,\":-)\",CONCATENATE(\"increase until \",'Technische SDG'!N25))))","v":""},{"$f":"IF('Technische SDG'!O25=\"\",\"\",IF($D26=\"\",\"please complete\",IF($D26>'Technische SDG'!O25-1,\":-)\",CONCATENATE(\"increase until \",'Technische SDG'!O25))))","v":""},{"$f":"IF('Technische SDG'!P25=\"\",\"\",IF($D26=\"\",\"please complete\",IF($D26>'Technische SDG'!P25-1,\":-)\",CONCATENATE(\"increase until \",'Technische SDG'!P25))))","v":""},{"$f":"IF('Technische SDG'!Q25=\"\",\"\",IF($D26=\"\",\"please complete\",IF($D26>'Technische SDG'!Q25-1,\":-)\",CONCATENATE(\"increase until \",'Technische SDG'!Q25))))","v":""},{"$f":"IF('Technische SDG'!R25=\"\",\"\",IF($D26=\"\",\"please complete\",IF($D26>'Technische SDG'!R25-1,\":-)\",CONCATENATE(\"increase until \",'Technische SDG'!R25))))","v":""},{"$f":"IF('Technische SDG'!S25=\"\",\"\",IF($D26=\"\",\"please complete\",IF($D26>'Technische SDG'!S25-1,\":-)\",CONCATENATE(\"increase until \",'Technische SDG'!S25))))","v":""},{"$f":"IF('Technische SDG'!T25=\"\",\"\",IF($D26=\"\",\"please complete\",IF($D26>'Technische SDG'!T25-1,\":-)\",CONCATENATE(\"increase until \",'Technische SDG'!T25))))","v":""}]
[null,{"$f":"'Technische SDG'!B26","v":"F2.7"},{"$f":"VLOOKUP(B27,'Kapitel 2'!$C$6:$D$278,2,0)","v":"Wie geht die Organisation mit Stress und Wohlbefinden um?"},{"$f":"'Technische SDG'!C26","v":1},16,{"$f":"IF('Technische SDG'!D26=\"\",\"\",IF($D27=\"\",\"bitte ausfüllen \",IF($D27>'Technische SDG'!D26-1,\":-)\",CONCATENATE(\"Verbessern bis   \",'Technische SDG'!D26))))","v":""},{"$f":"IF('Technische SDG'!E26=\"\",\"\",IF($D27=\"\",\"bitte ausfüllen \",IF($D27>'Technische SDG'!E26-1,\":-)\",CONCATENATE(\"Verbessern bis   \",'Technische SDG'!E26))))","v":""},{"$f":"IF('Technische SDG'!F26=\"\",\"\",IF($D27=\"\",\"bitte ausfüllen \",IF($D27>'Technische SDG'!F26-1,\":-)\",CONCATENATE(\"Verbessern bis   \",'Technische SDG'!F26))))","v":""},{"$f":"IF('Technische SDG'!G26=\"\",\"\",IF($D27=\"\",\"bitte ausfüllen \",IF($D27>'Technische SDG'!G26-1,\":-)\",CONCATENATE(\"Verbessern bis   \",'Technische SDG'!G26))))","v":""},{"$f":"IF('Technische SDG'!H26=\"\",\"\",IF($D27=\"\",\"bitte ausfüllen \",IF($D27>'Technische SDG'!H26-1,\":-)\",CONCATENATE(\"Verbessern bis   \",'Technische SDG'!H26))))","v":""},{"$f":"IF('Technische SDG'!I26=\"\",\"\",IF($D27=\"\",\"bitte ausfüllen \",IF($D27>'Technische SDG'!I26-1,\":-)\",CONCATENATE(\"Verbessern bis   \",'Technische SDG'!I26))))","v":""},{"$f":"IF('Technische SDG'!J26=\"\",\"\",IF($D27=\"\",\"bitte ausfüllen \",IF($D27>'Technische SDG'!J26-1,\":-)\",CONCATENATE(\"Verbessern bis   \",'Technische SDG'!J26))))","v":""},{"$f":"IF('Technische SDG'!K26=\"\",\"\",IF($D27=\"\",\"bitte ausfüllen \",IF($D27>'Technische SDG'!K26-1,\":-)\",CONCATENATE(\"Verbessern bis   \",'Technische SDG'!K26))))","v":"Verbessern bis   3"},{"$f":"IF('Technische SDG'!L26=\"\",\"\",IF($D27=\"\",\"bitte ausfüllen \",IF($D27>'Technische SDG'!L26-1,\":-)\",CONCATENATE(\"Verbessern bis   \",'Technische SDG'!L26))))","v":""},{"$f":"IF('Technische SDG'!M26=\"\",\"\",IF($D27=\"\",\"bitte ausfüllen \",IF($D27>'Technische SDG'!M26-1,\":-)\",CONCATENATE(\"Verbessern bis   \",'Technische SDG'!M26))))","v":""},{"$f":"IF('Technische SDG'!N26=\"\",\"\",IF($D27=\"\",\"bitte ausfüllen \",IF($D27>'Technische SDG'!N26-1,\":-)\",CONCATENATE(\"Verbessern bis   \",'Technische SDG'!N26))))","v":""},{"$f":"IF('Technische SDG'!O26=\"\",\"\",IF($D27=\"\",\"bitte ausfüllen \",IF($D27>'Technische SDG'!O26-1,\":-)\",CONCATENATE(\"Verbessern bis   \",'Technische SDG'!O26))))","v":""},{"$f":"IF('Technische SDG'!P26=\"\",\"\",IF($D27=\"\",\"bitte ausfüllen \",IF($D27>'Technische SDG'!P26-1,\":-)\",CONCATENATE(\"Verbessern bis   \",'Technische SDG'!P26))))","v":""},{"$f":"IF('Technische SDG'!Q26=\"\",\"\",IF($D27=\"\",\"bitte ausfüllen \",IF($D27>'Technische SDG'!Q26-1,\":-)\",CONCATENATE(\"Verbessern bis   \",'Technische SDG'!Q26))))","v":""},{"$f":"IF('Technische SDG'!R26=\"\",\"\",IF($D27=\"\",\"bitte ausfüllen \",IF($D27>'Technische SDG'!R26-1,\":-)\",CONCATENATE(\"Verbessern bis   \",'Technische SDG'!R26))))","v":""},{"$f":"IF('Technische SDG'!S26=\"\",\"\",IF($D27=\"\",\"bitte ausfüllen \",IF($D27>'Technische SDG'!S26-1,\":-)\",CONCATENATE(\"Verbessern bis   \",'Technische SDG'!S26))))","v":""},{"$f":"IF('Technische SDG'!T26=\"\",\"\",IF($D27=\"\",\"bitte ausfüllen \",IF($D27>'Technische SDG'!T26-1,\":-)\",CONCATENATE(\"Verbessern bis   \",'Technische SDG'!T26))))","v":""}]
[null,{"$f":"'Technische SDG'!B27","v":"F2.8"},{"$f":"VLOOKUP(B28,'Kapitel 2'!$C$6:$D$278,2,0)","v":"In welcher Weise werden Verletzungen am Arbeitsplatz, Vorfälle und Beinahe-Vorfälle untersucht?"},{"$f":"'Technische SDG'!C27","v":1},16,{"$f":"IF('Technische SDG'!D27=\"\",\"\",IF($D28=\"\",\"bitte ausfüllen \",IF($D28>'Technische SDG'!D27-1,\":-)\",CONCATENATE(\"Verbessern bis   \",'Technische SDG'!D27))))","v":""},{"$f":"IF('Technische SDG'!E27=\"\",\"\",IF($D28=\"\",\"bitte ausfüllen \",IF($D28>'Technische SDG'!E27-1,\":-)\",CONCATENATE(\"Verbessern bis   \",'Technische SDG'!E27))))","v":""},{"$f":"IF('Technische SDG'!F27=\"\",\"\",IF($D28=\"\",\"bitte ausfüllen \",IF($D28>'Technische SDG'!F27-1,\":-)\",CONCATENATE(\"Verbessern bis   \",'Technische SDG'!F27))))","v":""},{"$f":"IF('Technische SDG'!G27=\"\",\"\",IF($D28=\"\",\"bitte ausfüllen \",IF($D28>'Technische SDG'!G27-1,\":-)\",CONCATENATE(\"Verbessern bis   \",'Technische SDG'!G27))))","v":""},{"$f":"IF('Technische SDG'!H27=\"\",\"\",IF($D28=\"\",\"bitte ausfüllen \",IF($D28>'Technische SDG'!H27-1,\":-)\",CONCATENATE(\"Verbessern bis   \",'Technische SDG'!H27))))","v":""},{"$f":"IF('Technische SDG'!I27=\"\",\"\",IF($D28=\"\",\"bitte ausfüllen \",IF($D28>'Technische SDG'!I27-1,\":-)\",CONCATENATE(\"Verbessern bis   \",'Technische SDG'!I27))))","v":""},{"$f":"IF('Technische SDG'!J27=\"\",\"\",IF($D28=\"\",\"bitte ausfüllen \",IF($D28>'Technische SDG'!J27-1,\":-)\",CONCATENATE(\"Verbessern bis   \",'Technische SDG'!J27))))","v":""},{"$f":"IF('Technische SDG'!K27=\"\",\"\",IF($D28=\"\",\"bitte ausfüllen \",IF($D28>'Technische SDG'!K27-1,\":-)\",CONCATENATE(\"Verbessern bis   \",'Technische SDG'!K27))))","v":"Verbessern bis   3"},{"$f":"IF('Technische SDG'!L27=\"\",\"\",IF($D28=\"\",\"bitte ausfüllen \",IF($D28>'Technische SDG'!L27-1,\":-)\",CONCATENATE(\"Verbessern bis   \",'Technische SDG'!L27))))","v":""},{"$f":"IF('Technische SDG'!M27=\"\",\"\",IF($D28=\"\",\"bitte ausfüllen \",IF($D28>'Technische SDG'!M27-1,\":-)\",CONCATENATE(\"Verbessern bis   \",'Technische SDG'!M27))))","v":""},{"$f":"IF('Technische SDG'!N27=\"\",\"\",IF($D28=\"\",\"bitte ausfüllen \",IF($D28>'Technische SDG'!N27-1,\":-)\",CONCATENATE(\"Verbessern bis   \",'Technische SDG'!N27))))","v":""},{"$f":"IF('Technische SDG'!O27=\"\",\"\",IF($D28=\"\",\"bitte ausfüllen \",IF($D28>'Technische SDG'!O27-1,\":-)\",CONCATENATE(\"Verbessern bis   \",'Technische SDG'!O27))))","v":""},{"$f":"IF('Technische SDG'!P27=\"\",\"\",IF($D28=\"\",\"bitte ausfüllen \",IF($D28>'Technische SDG'!P27-1,\":-)\",CONCATENATE(\"Verbessern bis   \",'Technische SDG'!P27))))","v":""},{"$f":"IF('Technische SDG'!Q27=\"\",\"\",IF($D28=\"\",\"bitte ausfüllen \",IF($D28>'Technische SDG'!Q27-1,\":-)\",CONCATENATE(\"Verbessern bis   \",'Technische SDG'!Q27))))","v":""},{"$f":"IF('Technische SDG'!R27=\"\",\"\",IF($D28=\"\",\"bitte ausfüllen \",IF($D28>'Technische SDG'!R27-1,\":-)\",CONCATENATE(\"Verbessern bis   \",'Technische SDG'!R27))))","v":""},{"$f":"IF('Technische SDG'!S27=\"\",\"\",IF($D28=\"\",\"bitte ausfüllen \",IF($D28>'Technische SDG'!S27-1,\":-)\",CONCATENATE(\"Verbessern bis   \",'Technische SDG'!S27))))","v":""},{"$f":"IF('Technische SDG'!T27=\"\",\"\",IF($D28=\"\",\"bitte ausfüllen \",IF($D28>'Technische SDG'!T27-1,\":-)\",CONCATENATE(\"Verbessern bis   \",'Technische SDG'!T27))))","v":""}]
[null,{"$f":"'Technische SDG'!B28","v":"F2.9"},{"$f":"VLOOKUP(B29,'Kapitel 2'!$C$6:$D$278,2,0)","v":"Wie ist die Organisation auf Notfälle vorbereitet?"},{"$f":"'Technische SDG'!C28","v":4},17,{"$f":"IF('Technische SDG'!D28=\"\",\"\",IF($D29=\"\",\"please complete\",IF($D29>'Technische SDG'!D28-1,\":-)\",CONCATENATE(\"increase until \",'Technische SDG'!D28))))","v":""},{"$f":"IF('Technische SDG'!E28=\"\",\"\",IF($D29=\"\",\"please complete\",IF($D29>'Technische SDG'!E28-1,\":-)\",CONCATENATE(\"increase until \",'Technische SDG'!E28))))","v":""},{"$f":"IF('Technische SDG'!F28=\"\",\"\",IF($D29=\"\",\"please complete\",IF($D29>'Technische SDG'!F28-1,\":-)\",CONCATENATE(\"increase until \",'Technische SDG'!F28))))","v":""},{"$f":"IF('Technische SDG'!G28=\"\",\"\",IF($D29=\"\",\"please complete\",IF($D29>'Technische SDG'!G28-1,\":-)\",CONCATENATE(\"increase until \",'Technische SDG'!G28))))","v":""},{"$f":"IF('Technische SDG'!H28=\"\",\"\",IF($D29=\"\",\"please complete\",IF($D29>'Technische SDG'!H28-1,\":-)\",CONCATENATE(\"increase until \",'Technische SDG'!H28))))","v":""},{"$f":"IF('Technische SDG'!I28=\"\",\"\",IF($D29=\"\",\"please complete\",IF($D29>'Technische SDG'!I28-1,\":-)\",CONCATENATE(\"increase until \",'Technische SDG'!I28))))","v":""},{"$f":"IF('Technische SDG'!J28=\"\",\"\",IF($D29=\"\",\"please complete\",IF($D29>'Technische SDG'!J28-1,\":-)\",CONCATENATE(\"increase until \",'Technische SDG'!J28))))","v":""},{"$f":"IF('Technische SDG'!K28=\"\",\"\",IF($D29=\"\",\"please complete\",IF($D29>'Technische SDG'!K28-1,\":-)\",CONCATENATE(\"increase until \",'Technische SDG'!K28))))","v":""},{"$f":"IF('Technische SDG'!L28=\"\",\"\",IF($D29=\"\",\"please complete\",IF($D29>'Technische SDG'!L28-1,\":-)\",CONCATENATE(\"increase until \",'Technische SDG'!L28))))","v":""},{"$f":"IF('Technische SDG'!M28=\"\",\"\",IF($D29=\"\",\"please complete\",IF($D29>'Technische SDG'!M28-1,\":-)\",CONCATENATE(\"increase until \",'Technische SDG'!M28))))","v":""},{"$f":"IF('Technische SDG'!N28=\"\",\"\",IF($D29=\"\",\"please complete\",IF($D29>'Technische SDG'!N28-1,\":-)\",CONCATENATE(\"increase until \",'Technische SDG'!N28))))","v":""},{"$f":"IF('Technische SDG'!O28=\"\",\"\",IF($D29=\"\",\"please complete\",IF($D29>'Technische SDG'!O28-1,\":-)\",CONCATENATE(\"increase until \",'Technische SDG'!O28))))","v":""},{"$f":"IF('Technische SDG'!P28=\"\",\"\",IF($D29=\"\",\"please complete\",IF($D29>'Technische SDG'!P28-1,\":-)\",CONCATENATE(\"increase until \",'Technische SDG'!P28))))","v":""},{"$f":"IF('Technische SDG'!Q28=\"\",\"\",IF($D29=\"\",\"please complete\",IF($D29>'Technische SDG'!Q28-1,\":-)\",CONCATENATE(\"increase until \",'Technische SDG'!Q28))))","v":""},{"$f":"IF('Technische SDG'!R28=\"\",\"\",IF($D29=\"\",\"please complete\",IF($D29>'Technische SDG'!R28-1,\":-)\",CONCATENATE(\"increase until \",'Technische SDG'!R28))))","v":""},{"$f":"IF('Technische SDG'!S28=\"\",\"\",IF($D29=\"\",\"please complete\",IF($D29>'Technische SDG'!S28-1,\":-)\",CONCATENATE(\"increase until \",'Technische SDG'!S28))))","v":""},{"$f":"IF('Technische SDG'!T28=\"\",\"\",IF($D29=\"\",\"please complete\",IF($D29>'Technische SDG'!T28-1,\":-)\",CONCATENATE(\"increase until \",'Technische SDG'!T28))))","v":""}]
[null,{"$f":"'Technische SDG'!B29","v":"F2.10"},{"$f":"VLOOKUP(B30,'Kapitel 2'!$C$6:$D$278,2,0)","v":"In welcher Weise stellt die Organisation sicher, dass alle Mitarbeiter hinsichtlich der Gesundheits- und Sicherheitsanforderungen, die mit ihrer Tätigkeit in Zusammenhang stehen, über die geeigneten Kompetenzen verfügen?"},{"$f":"'Technische SDG'!C29","v":1},16,{"$f":"IF('Technische SDG'!D29=\"\",\"\",IF($D30=\"\",\"bitte ausfüllen \",IF($D30>'Technische SDG'!D29-1,\":-)\",CONCATENATE(\"Verbessern bis   \",'Technische SDG'!D29))))","v":""},{"$f":"IF('Technische SDG'!E29=\"\",\"\",IF($D30=\"\",\"bitte ausfüllen \",IF($D30>'Technische SDG'!E29-1,\":-)\",CONCATENATE(\"Verbessern bis   \",'Technische SDG'!E29))))","v":""},{"$f":"IF('Technische SDG'!F29=\"\",\"\",IF($D30=\"\",\"bitte ausfüllen \",IF($D30>'Technische SDG'!F29-1,\":-)\",CONCATENATE(\"Verbessern bis   \",'Technische SDG'!F29))))","v":""},{"$f":"IF('Technische SDG'!G29=\"\",\"\",IF($D30=\"\",\"bitte ausfüllen \",IF($D30>'Technische SDG'!G29-1,\":-)\",CONCATENATE(\"Verbessern bis   \",'Technische SDG'!G29))))","v":""},{"$f":"IF('Technische SDG'!H29=\"\",\"\",IF($D30=\"\",\"bitte ausfüllen \",IF($D30>'Technische SDG'!H29-1,\":-)\",CONCATENATE(\"Verbessern bis   \",'Technische SDG'!H29))))","v":""},{"$f":"IF('Technische SDG'!I29=\"\",\"\",IF($D30=\"\",\"bitte ausfüllen \",IF($D30>'Technische SDG'!I29-1,\":-)\",CONCATENATE(\"Verbessern bis   \",'Technische SDG'!I29))))","v":""},{"$f":"IF('Technische SDG'!J29=\"\",\"\",IF($D30=\"\",\"bitte ausfüllen \",IF($D30>'Technische SDG'!J29-1,\":-)\",CONCATENATE(\"Verbessern bis   \",'Technische SDG'!J29))))","v":""},{"$f":"IF('Technische SDG'!K29=\"\",\"\",IF($D30=\"\",\"bitte ausfüllen \",IF($D30>'Technische SDG'!K29-1,\":-)\",CONCATENATE(\"Verbessern bis   \",'Technische SDG'!K29))))","v":"Verbessern bis   3"},{"$f":"IF('Technische SDG'!L29=\"\",\"\",IF($D30=\"\",\"bitte ausfüllen \",IF($D30>'Technische SDG'!L29-1,\":-)\",CONCATENATE(\"Verbessern bis   \",'Technische SDG'!L29))))","v":""},{"$f":"IF('Technische SDG'!M29=\"\",\"\",IF($D30=\"\",\"bitte ausfüllen \",IF($D30>'Technische SDG'!M29-1,\":-)\",CONCATENATE(\"Verbessern bis   \",'Technische SDG'!M29))))","v":""},{"$f":"IF('Technische SDG'!N29=\"\",\"\",IF($D30=\"\",\"bitte ausfüllen \",IF($D30>'Technische SDG'!N29-1,\":-)\",CONCATENATE(\"Verbessern bis   \",'Technische SDG'!N29))))","v":""},{"$f":"IF('Technische SDG'!O29=\"\",\"\",IF($D30=\"\",\"bitte ausfüllen \",IF($D30>'Technische SDG'!O29-1,\":-)\",CONCATENATE(\"Verbessern bis   \",'Technische SDG'!O29))))","v":""},{"$f":"IF('Technische SDG'!P29=\"\",\"\",IF($D30=\"\",\"bitte ausfüllen \",IF($D30>'Technische SDG'!P29-1,\":-)\",CONCATENATE(\"Verbessern bis   \",'Technische SDG'!P29))))","v":""},{"$f":"IF('Technische SDG'!Q29=\"\",\"\",IF($D30=\"\",\"bitte ausfüllen \",IF($D30>'Technische SDG'!Q29-1,\":-)\",CONCATENATE(\"Verbessern bis   \",'Technische SDG'!Q29))))","v":""},{"$f":"IF('Technische SDG'!R29=\"\",\"\",IF($D30=\"\",\"bitte ausfüllen \",IF($D30>'Technische SDG'!R29-1,\":-)\",CONCATENATE(\"Verbessern bis   \",'Technische SDG'!R29))))","v":""},{"$f":"IF('Technische SDG'!S29=\"\",\"\",IF($D30=\"\",\"bitte ausfüllen \",IF($D30>'Technische SDG'!S29-1,\":-)\",CONCATENATE(\"Verbessern bis   \",'Technische SDG'!S29))))","v":""},{"$f":"IF('Technische SDG'!T29=\"\",\"\",IF($D30=\"\",\"bitte ausfüllen \",IF($D30>'Technische SDG'!T29-1,\":-)\",CONCATENATE(\"Verbessern bis   \",'Technische SDG'!T29))))","v":""}]
[null,{"$f":"'Technische SDG'!B30","v":"F2.11"},{"$f":"VLOOKUP(B31,'Kapitel 2'!$C$6:$D$278,2,0)","v":"Wie verpflichtet sich die Unternehmensleitung zur Verfahrenssicherheit?"},{"$f":"'Technische SDG'!C30","v":2},17,{"$f":"IF('Technische SDG'!D30=\"\",\"\",IF($D31=\"\",\"please complete\",IF($D31>'Technische SDG'!D30-1,\":-)\",CONCATENATE(\"increase until \",'Technische SDG'!D30))))","v":""},{"$f":"IF('Technische SDG'!E30=\"\",\"\",IF($D31=\"\",\"please complete\",IF($D31>'Technische SDG'!E30-1,\":-)\",CONCATENATE(\"increase until \",'Technische SDG'!E30))))","v":""},{"$f":"IF('Technische SDG'!F30=\"\",\"\",IF($D31=\"\",\"please complete\",IF($D31>'Technische SDG'!F30-1,\":-)\",CONCATENATE(\"increase until \",'Technische SDG'!F30))))","v":""},{"$f":"IF('Technische SDG'!G30=\"\",\"\",IF($D31=\"\",\"please complete\",IF($D31>'Technische SDG'!G30-1,\":-)\",CONCATENATE(\"increase until \",'Technische SDG'!G30))))","v":""},{"$f":"IF('Technische SDG'!H30=\"\",\"\",IF($D31=\"\",\"please complete\",IF($D31>'Technische SDG'!H30-1,\":-)\",CONCATENATE(\"increase until \",'Technische SDG'!H30))))","v":""},{"$f":"IF('Technische SDG'!I30=\"\",\"\",IF($D31=\"\",\"please complete\",IF($D31>'Technische SDG'!I30-1,\":-)\",CONCATENATE(\"increase until \",'Technische SDG'!I30))))","v":""},{"$f":"IF('Technische SDG'!J30=\"\",\"\",IF($D31=\"\",\"please complete\",IF($D31>'Technische SDG'!J30-1,\":-)\",CONCATENATE(\"increase until \",'Technische SDG'!J30))))","v":""},{"$f":"IF('Technische SDG'!K30=\"\",\"\",IF($D31=\"\",\"please complete\",IF($D31>'Technische SDG'!K30-1,\":-)\",CONCATENATE(\"increase until \",'Technische SDG'!K30))))","v":""},{"$f":"IF('Technische SDG'!L30=\"\",\"\",IF($D31=\"\",\"please complete\",IF($D31>'Technische SDG'!L30-1,\":-)\",CONCATENATE(\"increase until \",'Technische SDG'!L30))))","v":""},{"$f":"IF('Technische SDG'!M30=\"\",\"\",IF($D31=\"\",\"please complete\",IF($D31>'Technische SDG'!M30-1,\":-)\",CONCATENATE(\"increase until \",'Technische SDG'!M30))))","v":""},{"$f":"IF('Technische SDG'!N30=\"\",\"\",IF($D31=\"\",\"please complete\",IF($D31>'Technische SDG'!N30-1,\":-)\",CONCATENATE(\"increase until \",'Technische SDG'!N30))))","v":""},{"$f":"IF('Technische SDG'!O30=\"\",\"\",IF($D31=\"\",\"please complete\",IF($D31>'Technische SDG'!O30-1,\":-)\",CONCATENATE(\"increase until \",'Technische SDG'!O30))))","v":""},{"$f":"IF('Technische SDG'!P30=\"\",\"\",IF($D31=\"\",\"please complete\",IF($D31>'Technische SDG'!P30-1,\":-)\",CONCATENATE(\"increase until \",'Technische SDG'!P30))))","v":""},{"$f":"IF('Technische SDG'!Q30=\"\",\"\",IF($D31=\"\",\"please complete\",IF($D31>'Technische SDG'!Q30-1,\":-)\",CONCATENATE(\"increase until \",'Technische SDG'!Q30))))","v":""},{"$f":"IF('Technische SDG'!R30=\"\",\"\",IF($D31=\"\",\"please complete\",IF($D31>'Technische SDG'!R30-1,\":-)\",CONCATENATE(\"increase until \",'Technische SDG'!R30))))","v":""},{"$f":"IF('Technische SDG'!S30=\"\",\"\",IF($D31=\"\",\"please complete\",IF($D31>'Technische SDG'!S30-1,\":-)\",CONCATENATE(\"increase until \",'Technische SDG'!S30))))","v":""},{"$f":"IF('Technische SDG'!T30=\"\",\"\",IF($D31=\"\",\"please complete\",IF($D31>'Technische SDG'!T30-1,\":-)\",CONCATENATE(\"increase until \",'Technische SDG'!T30))))","v":""}]
[null,{"$f":"'Technische SDG'!B31","v":"F2.12"},{"$f":"VLOOKUP(B32,'Kapitel 2'!$C$6:$D$278,2,0)","v":"In welcher Weise werden die Identifizierung und Beschreibung der Sicherheit von Verfahren, Ausrüstungen und Standorten der Organisation vorbereitet?"},{"$f":"'Technische SDG'!C31","v":1},17,{"$f":"IF('Technische SDG'!D31=\"\",\"\",IF($D32=\"\",\"please complete\",IF($D32>'Technische SDG'!D31-1,\":-)\",CONCATENATE(\"increase until \",'Technische SDG'!D31))))","v":""},{"$f":"IF('Technische SDG'!E31=\"\",\"\",IF($D32=\"\",\"please complete\",IF($D32>'Technische SDG'!E31-1,\":-)\",CONCATENATE(\"increase until \",'Technische SDG'!E31))))","v":""},{"$f":"IF('Technische SDG'!F31=\"\",\"\",IF($D32=\"\",\"please complete\",IF($D32>'Technische SDG'!F31-1,\":-)\",CONCATENATE(\"increase until \",'Technische SDG'!F31))))","v":""},{"$f":"IF('Technische SDG'!G31=\"\",\"\",IF($D32=\"\",\"please complete\",IF($D32>'Technische SDG'!G31-1,\":-)\",CONCATENATE(\"increase until \",'Technische SDG'!G31))))","v":""},{"$f":"IF('Technische SDG'!H31=\"\",\"\",IF($D32=\"\",\"please complete\",IF($D32>'Technische SDG'!H31-1,\":-)\",CONCATENATE(\"increase until \",'Technische SDG'!H31))))","v":""},{"$f":"IF('Technische SDG'!I31=\"\",\"\",IF($D32=\"\",\"please complete\",IF($D32>'Technische SDG'!I31-1,\":-)\",CONCATENATE(\"increase until \",'Technische SDG'!I31))))","v":""},{"$f":"IF('Technische SDG'!J31=\"\",\"\",IF($D32=\"\",\"please complete\",IF($D32>'Technische SDG'!J31-1,\":-)\",CONCATENATE(\"increase until \",'Technische SDG'!J31))))","v":""},{"$f":"IF('Technische SDG'!K31=\"\",\"\",IF($D32=\"\",\"please complete\",IF($D32>'Technische SDG'!K31-1,\":-)\",CONCATENATE(\"increase until \",'Technische SDG'!K31))))","v":""},{"$f":"IF('Technische SDG'!L31=\"\",\"\",IF($D32=\"\",\"please complete\",IF($D32>'Technische SDG'!L31-1,\":-)\",CONCATENATE(\"increase until \",'Technische SDG'!L31))))","v":""},{"$f":"IF('Technische SDG'!M31=\"\",\"\",IF($D32=\"\",\"please complete\",IF($D32>'Technische SDG'!M31-1,\":-)\",CONCATENATE(\"increase until \",'Technische SDG'!M31))))","v":""},{"$f":"IF('Technische SDG'!N31=\"\",\"\",IF($D32=\"\",\"please complete\",IF($D32>'Technische SDG'!N31-1,\":-)\",CONCATENATE(\"increase until \",'Technische SDG'!N31))))","v":""},{"$f":"IF('Technische SDG'!O31=\"\",\"\",IF($D32=\"\",\"please complete\",IF($D32>'Technische SDG'!O31-1,\":-)\",CONCATENATE(\"increase until \",'Technische SDG'!O31))))","v":""},{"$f":"IF('Technische SDG'!P31=\"\",\"\",IF($D32=\"\",\"please complete\",IF($D32>'Technische SDG'!P31-1,\":-)\",CONCATENATE(\"increase until \",'Technische SDG'!P31))))","v":""},{"$f":"IF('Technische SDG'!Q31=\"\",\"\",IF($D32=\"\",\"please complete\",IF($D32>'Technische SDG'!Q31-1,\":-)\",CONCATENATE(\"increase until \",'Technische SDG'!Q31))))","v":""},{"$f":"IF('Technische SDG'!R31=\"\",\"\",IF($D32=\"\",\"please complete\",IF($D32>'Technische SDG'!R31-1,\":-)\",CONCATENATE(\"increase until \",'Technische SDG'!R31))))","v":""},{"$f":"IF('Technische SDG'!S31=\"\",\"\",IF($D32=\"\",\"please complete\",IF($D32>'Technische SDG'!S31-1,\":-)\",CONCATENATE(\"increase until \",'Technische SDG'!S31))))","v":""},{"$f":"IF('Technische SDG'!T31=\"\",\"\",IF($D32=\"\",\"please complete\",IF($D32>'Technische SDG'!T31-1,\":-)\",CONCATENATE(\"increase until \",'Technische SDG'!T31))))","v":""}]
[null,{"$f":"'Technische SDG'!B32","v":"F2.13"},{"$f":"VLOOKUP(B33,'Kapitel 2'!$C$6:$D$278,2,0)","v":"In welcher Weise werden Verbesserungen im Bereich Verfahrenssicherheit aufgrund von Vorfällen und Unfällen vorgenommen?"},{"$f":"'Technische SDG'!C32","v":2},17,{"$f":"IF('Technische SDG'!D32=\"\",\"\",IF($D33=\"\",\"please complete\",IF($D33>'Technische SDG'!D32-1,\":-)\",CONCATENATE(\"increase until \",'Technische SDG'!D32))))","v":""},{"$f":"IF('Technische SDG'!E32=\"\",\"\",IF($D33=\"\",\"please complete\",IF($D33>'Technische SDG'!E32-1,\":-)\",CONCATENATE(\"increase until \",'Technische SDG'!E32))))","v":""},{"$f":"IF('Technische SDG'!F32=\"\",\"\",IF($D33=\"\",\"please complete\",IF($D33>'Technische SDG'!F32-1,\":-)\",CONCATENATE(\"increase until \",'Technische SDG'!F32))))","v":""},{"$f":"IF('Technische SDG'!G32=\"\",\"\",IF($D33=\"\",\"please complete\",IF($D33>'Technische SDG'!G32-1,\":-)\",CONCATENATE(\"increase until \",'Technische SDG'!G32))))","v":""},{"$f":"IF('Technische SDG'!H32=\"\",\"\",IF($D33=\"\",\"please complete\",IF($D33>'Technische SDG'!H32-1,\":-)\",CONCATENATE(\"increase until \",'Technische SDG'!H32))))","v":""},{"$f":"IF('Technische SDG'!I32=\"\",\"\",IF($D33=\"\",\"please complete\",IF($D33>'Technische SDG'!I32-1,\":-)\",CONCATENATE(\"increase until \",'Technische SDG'!I32))))","v":""},{"$f":"IF('Technische SDG'!J32=\"\",\"\",IF($D33=\"\",\"please complete\",IF($D33>'Technische SDG'!J32-1,\":-)\",CONCATENATE(\"increase until \",'Technische SDG'!J32))))","v":""},{"$f":"IF('Technische SDG'!K32=\"\",\"\",IF($D33=\"\",\"please complete\",IF($D33>'Technische SDG'!K32-1,\":-)\",CONCATENATE(\"increase until \",'Technische SDG'!K32))))","v":""},{"$f":"IF('Technische SDG'!L32=\"\",\"\",IF($D33=\"\",\"please complete\",IF($D33>'Technische SDG'!L32-1,\":-)\",CONCATENATE(\"increase until \",'Technische SDG'!L32))))","v":""},{"$f":"IF('Technische SDG'!M32=\"\",\"\",IF($D33=\"\",\"please complete\",IF($D33>'Technische SDG'!M32-1,\":-)\",CONCATENATE(\"increase until \",'Technische SDG'!M32))))","v":""},{"$f":"IF('Technische SDG'!N32=\"\",\"\",IF($D33=\"\",\"please complete\",IF($D33>'Technische SDG'!N32-1,\":-)\",CONCATENATE(\"increase until \",'Technische SDG'!N32))))","v":""},{"$f":"IF('Technische SDG'!O32=\"\",\"\",IF($D33=\"\",\"please complete\",IF($D33>'Technische SDG'!O32-1,\":-)\",CONCATENATE(\"increase until \",'Technische SDG'!O32))))","v":""},{"$f":"IF('Technische SDG'!P32=\"\",\"\",IF($D33=\"\",\"please complete\",IF($D33>'Technische SDG'!P32-1,\":-)\",CONCATENATE(\"increase until \",'Technische SDG'!P32))))","v":""},{"$f":"IF('Technische SDG'!Q32=\"\",\"\",IF($D33=\"\",\"please complete\",IF($D33>'Technische SDG'!Q32-1,\":-)\",CONCATENATE(\"increase until \",'Technische SDG'!Q32))))","v":""},{"$f":"IF('Technische SDG'!R32=\"\",\"\",IF($D33=\"\",\"please complete\",IF($D33>'Technische SDG'!R32-1,\":-)\",CONCATENATE(\"increase until \",'Technische SDG'!R32))))","v":""},{"$f":"IF('Technische SDG'!S32=\"\",\"\",IF($D33=\"\",\"please complete\",IF($D33>'Technische SDG'!S32-1,\":-)\",CONCATENATE(\"increase until \",'Technische SDG'!S32))))","v":""},{"$f":"IF('Technische SDG'!T32=\"\",\"\",IF($D33=\"\",\"please complete\",IF($D33>'Technische SDG'!T32-1,\":-)\",CONCATENATE(\"increase until \",'Technische SDG'!T32))))","v":""}]
[null,{"$f":"'Technische SDG'!B33","v":"F2.14"},{"$f":"VLOOKUP(B34,'Kapitel 2'!$C$6:$D$278,2,0)","v":"Wie werden Audits und Inspektionen im Bereich Verfahrenssicherheit durchgeführt?"},{"$f":"'Technische SDG'!C33","v":3},17,{"$f":"IF('Technische SDG'!D33=\"\",\"\",IF($D34=\"\",\"please complete\",IF($D34>'Technische SDG'!D33-1,\":-)\",CONCATENATE(\"increase until \",'Technische SDG'!D33))))","v":""},{"$f":"IF('Technische SDG'!E33=\"\",\"\",IF($D34=\"\",\"please complete\",IF($D34>'Technische SDG'!E33-1,\":-)\",CONCATENATE(\"increase until \",'Technische SDG'!E33))))","v":""},{"$f":"IF('Technische SDG'!F33=\"\",\"\",IF($D34=\"\",\"please complete\",IF($D34>'Technische SDG'!F33-1,\":-)\",CONCATENATE(\"increase until \",'Technische SDG'!F33))))","v":""},{"$f":"IF('Technische SDG'!G33=\"\",\"\",IF($D34=\"\",\"please complete\",IF($D34>'Technische SDG'!G33-1,\":-)\",CONCATENATE(\"increase until \",'Technische SDG'!G33))))","v":""},{"$f":"IF('Technische SDG'!H33=\"\",\"\",IF($D34=\"\",\"please complete\",IF($D34>'Technische SDG'!H33-1,\":-)\",CONCATENATE(\"increase until \",'Technische SDG'!H33))))","v":""},{"$f":"IF('Technische SDG'!I33=\"\",\"\",IF($D34=\"\",\"please complete\",IF($D34>'Technische SDG'!I33-1,\":-)\",CONCATENATE(\"increase until \",'Technische SDG'!I33))))","v":""},{"$f":"IF('Technische SDG'!J33=\"\",\"\",IF($D34=\"\",\"please complete\",IF($D34>'Technische SDG'!J33-1,\":-)\",CONCATENATE(\"increase until \",'Technische SDG'!J33))))","v":""},{"$f":"IF('Technische SDG'!K33=\"\",\"\",IF($D34=\"\",\"please complete\",IF($D34>'Technische SDG'!K33-1,\":-)\",CONCATENATE(\"increase until \",'Technische SDG'!K33))))","v":""},{"$f":"IF('Technische SDG'!L33=\"\",\"\",IF($D34=\"\",\"please complete\",IF($D34>'Technische SDG'!L33-1,\":-)\",CONCATENATE(\"increase until \",'Technische SDG'!L33))))","v":""},{"$f":"IF('Technische SDG'!M33=\"\",\"\",IF($D34=\"\",\"please complete\",IF($D34>'Technische SDG'!M33-1,\":-)\",CONCATENATE(\"increase until \",'Technische SDG'!M33))))","v":""},{"$f":"IF('Technische SDG'!N33=\"\",\"\",IF($D34=\"\",\"please complete\",IF($D34>'Technische SDG'!N33-1,\":-)\",CONCATENATE(\"increase until \",'Technische SDG'!N33))))","v":""},{"$f":"IF('Technische SDG'!O33=\"\",\"\",IF($D34=\"\",\"please complete\",IF($D34>'Technische SDG'!O33-1,\":-)\",CONCATENATE(\"increase until \",'Technische SDG'!O33))))","v":""},{"$f":"IF('Technische SDG'!P33=\"\",\"\",IF($D34=\"\",\"please complete\",IF($D34>'Technische SDG'!P33-1,\":-)\",CONCATENATE(\"increase until \",'Technische SDG'!P33))))","v":""},{"$f":"IF('Technische SDG'!Q33=\"\",\"\",IF($D34=\"\",\"please complete\",IF($D34>'Technische SDG'!Q33-1,\":-)\",CONCATENATE(\"increase until \",'Technische SDG'!Q33))))","v":""},{"$f":"IF('Technische SDG'!R33=\"\",\"\",IF($D34=\"\",\"please complete\",IF($D34>'Technische SDG'!R33-1,\":-)\",CONCATENATE(\"increase until \",'Technische SDG'!R33))))","v":""},{"$f":"IF('Technische SDG'!S33=\"\",\"\",IF($D34=\"\",\"please complete\",IF($D34>'Technische SDG'!S33-1,\":-)\",CONCATENATE(\"increase until \",'Technische SDG'!S33))))","v":""},{"$f":"IF('Technische SDG'!T33=\"\",\"\",IF($D34=\"\",\"please complete\",IF($D34>'Technische SDG'!T33-1,\":-)\",CONCATENATE(\"increase until \",'Technische SDG'!T33))))","v":""}]
[null,{"$f":"'Technische SDG'!B34","v":"F2.15"},{"$f":"VLOOKUP(B35,'Kapitel 2'!$C$6:$D$278,2,0)","v":"Wie werden Arbeitsanweisungen kontrolliert und verbessert?"},{"$f":"'Technische SDG'!C34","v":1},17,{"$f":"IF('Technische SDG'!D34=\"\",\"\",IF($D35=\"\",\"please complete\",IF($D35>'Technische SDG'!D34-1,\":-)\",CONCATENATE(\"increase until \",'Technische SDG'!D34))))","v":""},{"$f":"IF('Technische SDG'!E34=\"\",\"\",IF($D35=\"\",\"please complete\",IF($D35>'Technische SDG'!E34-1,\":-)\",CONCATENATE(\"increase until \",'Technische SDG'!E34))))","v":""},{"$f":"IF('Technische SDG'!F34=\"\",\"\",IF($D35=\"\",\"please complete\",IF($D35>'Technische SDG'!F34-1,\":-)\",CONCATENATE(\"increase until \",'Technische SDG'!F34))))","v":""},{"$f":"IF('Technische SDG'!G34=\"\",\"\",IF($D35=\"\",\"please complete\",IF($D35>'Technische SDG'!G34-1,\":-)\",CONCATENATE(\"increase until \",'Technische SDG'!G34))))","v":""},{"$f":"IF('Technische SDG'!H34=\"\",\"\",IF($D35=\"\",\"please complete\",IF($D35>'Technische SDG'!H34-1,\":-)\",CONCATENATE(\"increase until \",'Technische SDG'!H34))))","v":""},{"$f":"IF('Technische SDG'!I34=\"\",\"\",IF($D35=\"\",\"please complete\",IF($D35>'Technische SDG'!I34-1,\":-)\",CONCATENATE(\"increase until \",'Technische SDG'!I34))))","v":""},{"$f":"IF('Technische SDG'!J34=\"\",\"\",IF($D35=\"\",\"please complete\",IF($D35>'Technische SDG'!J34-1,\":-)\",CONCATENATE(\"increase until \",'Technische SDG'!J34))))","v":""},{"$f":"IF('Technische SDG'!K34=\"\",\"\",IF($D35=\"\",\"please complete\",IF($D35>'Technische SDG'!K34-1,\":-)\",CONCATENATE(\"increase until \",'Technische SDG'!K34))))","v":""},{"$f":"IF('Technische SDG'!L34=\"\",\"\",IF($D35=\"\",\"please complete\",IF($D35>'Technische SDG'!L34-1,\":-)\",CONCATENATE(\"increase until \",'Technische SDG'!L34))))","v":""},{"$f":"IF('Technische SDG'!M34=\"\",\"\",IF($D35=\"\",\"please complete\",IF($D35>'Technische SDG'!M34-1,\":-)\",CONCATENATE(\"increase until \",'Technische SDG'!M34))))","v":""},{"$f":"IF('Technische SDG'!N34=\"\",\"\",IF($D35=\"\",\"please complete\",IF($D35>'Technische SDG'!N34-1,\":-)\",CONCATENATE(\"increase until \",'Technische SDG'!N34))))","v":""},{"$f":"IF('Technische SDG'!O34=\"\",\"\",IF($D35=\"\",\"please complete\",IF($D35>'Technische SDG'!O34-1,\":-)\",CONCATENATE(\"increase until \",'Technische SDG'!O34))))","v":""},{"$f":"IF('Technische SDG'!P34=\"\",\"\",IF($D35=\"\",\"please complete\",IF($D35>'Technische SDG'!P34-1,\":-)\",CONCATENATE(\"increase until \",'Technische SDG'!P34))))","v":""},{"$f":"IF('Technische SDG'!Q34=\"\",\"\",IF($D35=\"\",\"please complete\",IF($D35>'Technische SDG'!Q34-1,\":-)\",CONCATENATE(\"increase until \",'Technische SDG'!Q34))))","v":""},{"$f":"IF('Technische SDG'!R34=\"\",\"\",IF($D35=\"\",\"please complete\",IF($D35>'Technische SDG'!R34-1,\":-)\",CONCATENATE(\"increase until \",'Technische SDG'!R34))))","v":""},{"$f":"IF('Technische SDG'!S34=\"\",\"\",IF($D35=\"\",\"please complete\",IF($D35>'Technische SDG'!S34-1,\":-)\",CONCATENATE(\"increase until \",'Technische SDG'!S34))))","v":""},{"$f":"IF('Technische SDG'!T34=\"\",\"\",IF($D35=\"\",\"please complete\",IF($D35>'Technische SDG'!T34-1,\":-)\",CONCATENATE(\"increase until \",'Technische SDG'!T34))))","v":""}]
[null,{"$f":"'Technische SDG'!B35","v":"F2.16"},{"$f":"VLOOKUP(B36,'Kapitel 2'!$C$6:$D$278,2,0)","v":"Wie wird die Anlagenplanung durchgeführt und dokumentiert?"},{"$f":"'Technische SDG'!C35","v":1},17,{"$f":"IF('Technische SDG'!D35=\"\",\"\",IF($D36=\"\",\"please complete\",IF($D36>'Technische SDG'!D35-1,\":-)\",CONCATENATE(\"increase until \",'Technische SDG'!D35))))","v":""},{"$f":"IF('Technische SDG'!E35=\"\",\"\",IF($D36=\"\",\"please complete\",IF($D36>'Technische SDG'!E35-1,\":-)\",CONCATENATE(\"increase until \",'Technische SDG'!E35))))","v":""},{"$f":"IF('Technische SDG'!F35=\"\",\"\",IF($D36=\"\",\"please complete\",IF($D36>'Technische SDG'!F35-1,\":-)\",CONCATENATE(\"increase until \",'Technische SDG'!F35))))","v":""},{"$f":"IF('Technische SDG'!G35=\"\",\"\",IF($D36=\"\",\"please complete\",IF($D36>'Technische SDG'!G35-1,\":-)\",CONCATENATE(\"increase until \",'Technische SDG'!G35))))","v":""},{"$f":"IF('Technische SDG'!H35=\"\",\"\",IF($D36=\"\",\"please complete\",IF($D36>'Technische SDG'!H35-1,\":-)\",CONCATENATE(\"increase until \",'Technische SDG'!H35))))","v":""},{"$f":"IF('Technische SDG'!I35=\"\",\"\",IF($D36=\"\",\"please complete\",IF($D36>'Technische SDG'!I35-1,\":-)\",CONCATENATE(\"increase until \",'Technische SDG'!I35))))","v":""},{"$f":"IF('Technische SDG'!J35=\"\",\"\",IF($D36=\"\",\"please complete\",IF($D36>'Technische SDG'!J35-1,\":-)\",CONCATENATE(\"increase until \",'Technische SDG'!J35))))","v":""},{"$f":"IF('Technische SDG'!K35=\"\",\"\",IF($D36=\"\",\"please complete\",IF($D36>'Technische SDG'!K35-1,\":-)\",CONCATENATE(\"increase until \",'Technische SDG'!K35))))","v":""},{"$f":"IF('Technische SDG'!L35=\"\",\"\",IF($D36=\"\",\"please complete\",IF($D36>'Technische SDG'!L35-1,\":-)\",CONCATENATE(\"increase until \",'Technische SDG'!L35))))","v":""},{"$f":"IF('Technische SDG'!M35=\"\",\"\",IF($D36=\"\",\"please complete\",IF($D36>'Technische SDG'!M35-1,\":-)\",CONCATENATE(\"increase until \",'Technische SDG'!M35))))","v":""},{"$f":"IF('Technische SDG'!N35=\"\",\"\",IF($D36=\"\",\"please complete\",IF($D36>'Technische SDG'!N35-1,\":-)\",CONCATENATE(\"increase until \",'Technische SDG'!N35))))","v":""},{"$f":"IF('Technische SDG'!O35=\"\",\"\",IF($D36=\"\",\"please complete\",IF($D36>'Technische SDG'!O35-1,\":-)\",CONCATENATE(\"increase until \",'Technische SDG'!O35))))","v":""},{"$f":"IF('Technische SDG'!P35=\"\",\"\",IF($D36=\"\",\"please complete\",IF($D36>'Technische SDG'!P35-1,\":-)\",CONCATENATE(\"increase until \",'Technische SDG'!P35))))","v":""},{"$f":"IF('Technische SDG'!Q35=\"\",\"\",IF($D36=\"\",\"please complete\",IF($D36>'Technische SDG'!Q35-1,\":-)\",CONCATENATE(\"increase until \",'Technische SDG'!Q35))))","v":""},{"$f":"IF('Technische SDG'!R35=\"\",\"\",IF($D36=\"\",\"please complete\",IF($D36>'Technische SDG'!R35-1,\":-)\",CONCATENATE(\"increase until \",'Technische SDG'!R35))))","v":""},{"$f":"IF('Technische SDG'!S35=\"\",\"\",IF($D36=\"\",\"please complete\",IF($D36>'Technische SDG'!S35-1,\":-)\",CONCATENATE(\"increase until \",'Technische SDG'!S35))))","v":""},{"$f":"IF('Technische SDG'!T35=\"\",\"\",IF($D36=\"\",\"please complete\",IF($D36>'Technische SDG'!T35-1,\":-)\",CONCATENATE(\"increase until \",'Technische SDG'!T35))))","v":""}]
[null,{"$f":"'Technische SDG'!B36","v":"F2.17"},{"$f":"VLOOKUP(B37,'Kapitel 2'!$C$6:$D$278,2,0)","v":"In welcher Weise wird der Aufbau der Anlage kontrolliert?"},{"$f":"'Technische SDG'!C36","v":4},17,{"$f":"IF('Technische SDG'!D36=\"\",\"\",IF($D37=\"\",\"please complete\",IF($D37>'Technische SDG'!D36-1,\":-)\",CONCATENATE(\"increase until \",'Technische SDG'!D36))))","v":""},{"$f":"IF('Technische SDG'!E36=\"\",\"\",IF($D37=\"\",\"please complete\",IF($D37>'Technische SDG'!E36-1,\":-)\",CONCATENATE(\"increase until \",'Technische SDG'!E36))))","v":""},{"$f":"IF('Technische SDG'!F36=\"\",\"\",IF($D37=\"\",\"please complete\",IF($D37>'Technische SDG'!F36-1,\":-)\",CONCATENATE(\"increase until \",'Technische SDG'!F36))))","v":""},{"$f":"IF('Technische SDG'!G36=\"\",\"\",IF($D37=\"\",\"please complete\",IF($D37>'Technische SDG'!G36-1,\":-)\",CONCATENATE(\"increase until \",'Technische SDG'!G36))))","v":""},{"$f":"IF('Technische SDG'!H36=\"\",\"\",IF($D37=\"\",\"please complete\",IF($D37>'Technische SDG'!H36-1,\":-)\",CONCATENATE(\"increase until \",'Technische SDG'!H36))))","v":""},{"$f":"IF('Technische SDG'!I36=\"\",\"\",IF($D37=\"\",\"please complete\",IF($D37>'Technische SDG'!I36-1,\":-)\",CONCATENATE(\"increase until \",'Technische SDG'!I36))))","v":""},{"$f":"IF('Technische SDG'!J36=\"\",\"\",IF($D37=\"\",\"please complete\",IF($D37>'Technische SDG'!J36-1,\":-)\",CONCATENATE(\"increase until \",'Technische SDG'!J36))))","v":""},{"$f":"IF('Technische SDG'!K36=\"\",\"\",IF($D37=\"\",\"please complete\",IF($D37>'Technische SDG'!K36-1,\":-)\",CONCATENATE(\"increase until \",'Technische SDG'!K36))))","v":""},{"$f":"IF('Technische SDG'!L36=\"\",\"\",IF($D37=\"\",\"please complete\",IF($D37>'Technische SDG'!L36-1,\":-)\",CONCATENATE(\"increase until \",'Technische SDG'!L36))))","v":""},{"$f":"IF('Technische SDG'!M36=\"\",\"\",IF($D37=\"\",\"please complete\",IF($D37>'Technische SDG'!M36-1,\":-)\",CONCATENATE(\"increase until \",'Technische SDG'!M36))))","v":""},{"$f":"IF('Technische SDG'!N36=\"\",\"\",IF($D37=\"\",\"please complete\",IF($D37>'Technische SDG'!N36-1,\":-)\",CONCATENATE(\"increase until \",'Technische SDG'!N36))))","v":""},{"$f":"IF('Technische SDG'!O36=\"\",\"\",IF($D37=\"\",\"please complete\",IF($D37>'Technische SDG'!O36-1,\":-)\",CONCATENATE(\"increase until \",'Technische SDG'!O36))))","v":""},{"$f":"IF('Technische SDG'!P36=\"\",\"\",IF($D37=\"\",\"please complete\",IF($D37>'Technische SDG'!P36-1,\":-)\",CONCATENATE(\"increase until \",'Technische SDG'!P36))))","v":""},{"$f":"IF('Technische SDG'!Q36=\"\",\"\",IF($D37=\"\",\"please complete\",IF($D37>'Technische SDG'!Q36-1,\":-)\",CONCATENATE(\"increase until \",'Technische SDG'!Q36))))","v":""},{"$f":"IF('Technische SDG'!R36=\"\",\"\",IF($D37=\"\",\"please complete\",IF($D37>'Technische SDG'!R36-1,\":-)\",CONCATENATE(\"increase until \",'Technische SDG'!R36))))","v":""},{"$f":"IF('Technische SDG'!S36=\"\",\"\",IF($D37=\"\",\"please complete\",IF($D37>'Technische SDG'!S36-1,\":-)\",CONCATENATE(\"increase until \",'Technische SDG'!S36))))","v":""},{"$f":"IF('Technische SDG'!T36=\"\",\"\",IF($D37=\"\",\"please complete\",IF($D37>'Technische SDG'!T36-1,\":-)\",CONCATENATE(\"increase until \",'Technische SDG'!T36))))","v":""}]
[null,{"$f":"'Technische SDG'!B37","v":"F2.18"},{"$f":"VLOOKUP(B38,'Kapitel 2'!$C$6:$D$278,2,0)","v":"Wie wird „Schutz“ in Anlagen integriert, um zuverlässig zu verhindern, dass ein einziger Fehler katastrophale Folgen hat?"},{"$f":"'Technische SDG'!C37","v":2},17,{"$f":"IF('Technische SDG'!D37=\"\",\"\",IF($D38=\"\",\"please complete\",IF($D38>'Technische SDG'!D37-1,\":-)\",CONCATENATE(\"increase until \",'Technische SDG'!D37))))","v":""},{"$f":"IF('Technische SDG'!E37=\"\",\"\",IF($D38=\"\",\"please complete\",IF($D38>'Technische SDG'!E37-1,\":-)\",CONCATENATE(\"increase until \",'Technische SDG'!E37))))","v":""},{"$f":"IF('Technische SDG'!F37=\"\",\"\",IF($D38=\"\",\"please complete\",IF($D38>'Technische SDG'!F37-1,\":-)\",CONCATENATE(\"increase until \",'Technische SDG'!F37))))","v":""},{"$f":"IF('Technische SDG'!G37=\"\",\"\",IF($D38=\"\",\"please complete\",IF($D38>'Technische SDG'!G37-1,\":-)\",CONCATENATE(\"increase until \",'Technische SDG'!G37))))","v":""},{"$f":"IF('Technische SDG'!H37=\"\",\"\",IF($D38=\"\",\"please complete\",IF($D38>'Technische SDG'!H37-1,\":-)\",CONCATENATE(\"increase until \",'Technische SDG'!H37))))","v":""},{"$f":"IF('Technische SDG'!I37=\"\",\"\",IF($D38=\"\",\"please complete\",IF($D38>'Technische SDG'!I37-1,\":-)\",CONCATENATE(\"increase until \",'Technische SDG'!I37))))","v":""},{"$f":"IF('Technische SDG'!J37=\"\",\"\",IF($D38=\"\",\"please complete\",IF($D38>'Technische SDG'!J37-1,\":-)\",CONCATENATE(\"increase until \",'Technische SDG'!J37))))","v":""},{"$f":"IF('Technische SDG'!K37=\"\",\"\",IF($D38=\"\",\"please complete\",IF($D38>'Technische SDG'!K37-1,\":-)\",CONCATENATE(\"increase until \",'Technische SDG'!K37))))","v":""},{"$f":"IF('Technische SDG'!L37=\"\",\"\",IF($D38=\"\",\"please complete\",IF($D38>'Technische SDG'!L37-1,\":-)\",CONCATENATE(\"increase until \",'Technische SDG'!L37))))","v":""},{"$f":"IF('Technische SDG'!M37=\"\",\"\",IF($D38=\"\",\"please complete\",IF($D38>'Technische SDG'!M37-1,\":-)\",CONCATENATE(\"increase until \",'Technische SDG'!M37))))","v":""},{"$f":"IF('Technische SDG'!N37=\"\",\"\",IF($D38=\"\",\"please complete\",IF($D38>'Technische SDG'!N37-1,\":-)\",CONCATENATE(\"increase until \",'Technische SDG'!N37))))","v":""},{"$f":"IF('Technische SDG'!O37=\"\",\"\",IF($D38=\"\",\"please complete\",IF($D38>'Technische SDG'!O37-1,\":-)\",CONCATENATE(\"increase until \",'Technische SDG'!O37))))","v":""},{"$f":"IF('Technische SDG'!P37=\"\",\"\",IF($D38=\"\",\"please complete\",IF($D38>'Technische SDG'!P37-1,\":-)\",CONCATENATE(\"increase until \",'Technische SDG'!P37))))","v":""},{"$f":"IF('Technische SDG'!Q37=\"\",\"\",IF($D38=\"\",\"please complete\",IF($D38>'Technische SDG'!Q37-1,\":-)\",CONCATENATE(\"increase until \",'Technische SDG'!Q37))))","v":""},{"$f":"IF('Technische SDG'!R37=\"\",\"\",IF($D38=\"\",\"please complete\",IF($D38>'Technische SDG'!R37-1,\":-)\",CONCATENATE(\"increase until \",'Technische SDG'!R37))))","v":""},{"$f":"IF('Technische SDG'!S37=\"\",\"\",IF($D38=\"\",\"please complete\",IF($D38>'Technische SDG'!S37-1,\":-)\",CONCATENATE(\"increase until \",'Technische SDG'!S37))))","v":""},{"$f":"IF('Technische SDG'!T37=\"\",\"\",IF($D38=\"\",\"please complete\",IF($D38>'Technische SDG'!T37-1,\":-)\",CONCATENATE(\"increase until \",'Technische SDG'!T37))))","v":""}]
[null,{"$f":"'Technische SDG'!B38","v":"F2.19"},{"$f":"VLOOKUP(B39,'Kapitel 2'!$C$6:$D$278,2,0)","v":"Gibt es ein vorbeugendes Wartungs- und Pflegeprogramm („maintenance and housekeeping programme“), um die Sicherheit von Einrichtungen, Werkzeugen/Tools und Ausrüstungen aufrechtzuerhalten?"},{"$f":"'Technische SDG'!C38","v":2},17,{"$f":"IF('Technische SDG'!D38=\"\",\"\",IF($D39=\"\",\"please complete\",IF($D39>'Technische SDG'!D38-1,\":-)\",CONCATENATE(\"increase until \",'Technische SDG'!D38))))","v":""},{"$f":"IF('Technische SDG'!E38=\"\",\"\",IF($D39=\"\",\"please complete\",IF($D39>'Technische SDG'!E38-1,\":-)\",CONCATENATE(\"increase until \",'Technische SDG'!E38))))","v":""},{"$f":"IF('Technische SDG'!F38=\"\",\"\",IF($D39=\"\",\"please complete\",IF($D39>'Technische SDG'!F38-1,\":-)\",CONCATENATE(\"increase until \",'Technische SDG'!F38))))","v":""},{"$f":"IF('Technische SDG'!G38=\"\",\"\",IF($D39=\"\",\"please complete\",IF($D39>'Technische SDG'!G38-1,\":-)\",CONCATENATE(\"increase until \",'Technische SDG'!G38))))","v":""},{"$f":"IF('Technische SDG'!H38=\"\",\"\",IF($D39=\"\",\"please complete\",IF($D39>'Technische SDG'!H38-1,\":-)\",CONCATENATE(\"increase until \",'Technische SDG'!H38))))","v":""},{"$f":"IF('Technische SDG'!I38=\"\",\"\",IF($D39=\"\",\"please complete\",IF($D39>'Technische SDG'!I38-1,\":-)\",CONCATENATE(\"increase until \",'Technische SDG'!I38))))","v":""},{"$f":"IF('Technische SDG'!J38=\"\",\"\",IF($D39=\"\",\"please complete\",IF($D39>'Technische SDG'!J38-1,\":-)\",CONCATENATE(\"increase until \",'Technische SDG'!J38))))","v":""},{"$f":"IF('Technische SDG'!K38=\"\",\"\",IF($D39=\"\",\"please complete\",IF($D39>'Technische SDG'!K38-1,\":-)\",CONCATENATE(\"increase until \",'Technische SDG'!K38))))","v":""},{"$f":"IF('Technische SDG'!L38=\"\",\"\",IF($D39=\"\",\"please complete\",IF($D39>'Technische SDG'!L38-1,\":-)\",CONCATENATE(\"increase until \",'Technische SDG'!L38))))","v":""},{"$f":"IF('Technische SDG'!M38=\"\",\"\",IF($D39=\"\",\"please complete\",IF($D39>'Technische SDG'!M38-1,\":-)\",CONCATENATE(\"increase until \",'Technische SDG'!M38))))","v":""},{"$f":"IF('Technische SDG'!N38=\"\",\"\",IF($D39=\"\",\"please complete\",IF($D39>'Technische SDG'!N38-1,\":-)\",CONCATENATE(\"increase until \",'Technische SDG'!N38))))","v":""},{"$f":"IF('Technische SDG'!O38=\"\",\"\",IF($D39=\"\",\"please complete\",IF($D39>'Technische SDG'!O38-1,\":-)\",CONCATENATE(\"increase until \",'Technische SDG'!O38))))","v":""},{"$f":"IF('Technische SDG'!P38=\"\",\"\",IF($D39=\"\",\"please complete\",IF($D39>'Technische SDG'!P38-1,\":-)\",CONCATENATE(\"increase until \",'Technische SDG'!P38))))","v":""},{"$f":"IF('Technische SDG'!Q38=\"\",\"\",IF($D39=\"\",\"please complete\",IF($D39>'Technische SDG'!Q38-1,\":-)\",CONCATENATE(\"increase until \",'Technische SDG'!Q38))))","v":""},{"$f":"IF('Technische SDG'!R38=\"\",\"\",IF($D39=\"\",\"please complete\",IF($D39>'Technische SDG'!R38-1,\":-)\",CONCATENATE(\"increase until \",'Technische SDG'!R38))))","v":""},{"$f":"IF('Technische SDG'!S38=\"\",\"\",IF($D39=\"\",\"please complete\",IF($D39>'Technische SDG'!S38-1,\":-)\",CONCATENATE(\"increase until \",'Technische SDG'!S38))))","v":""},{"$f":"IF('Technische SDG'!T38=\"\",\"\",IF($D39=\"\",\"please complete\",IF($D39>'Technische SDG'!T38-1,\":-)\",CONCATENATE(\"increase until \",'Technische SDG'!T38))))","v":""}]
[null,{"$f":"'Technische SDG'!B39","v":"F2.20"},{"$f":"VLOOKUP(B40,'Kapitel 2'!$C$6:$D$278,2,0)","v":"Im Fall von Energie- oder Betriebsunterbrechungen – wie werden Verfahren in Notfällen gesteuert?"},{"$f":"'Technische SDG'!C39","v":1},17,{"$f":"IF('Technische SDG'!D39=\"\",\"\",IF($D40=\"\",\"please complete\",IF($D40>'Technische SDG'!D39-1,\":-)\",CONCATENATE(\"increase until \",'Technische SDG'!D39))))","v":""},{"$f":"IF('Technische SDG'!E39=\"\",\"\",IF($D40=\"\",\"please complete\",IF($D40>'Technische SDG'!E39-1,\":-)\",CONCATENATE(\"increase until \",'Technische SDG'!E39))))","v":""},{"$f":"IF('Technische SDG'!F39=\"\",\"\",IF($D40=\"\",\"please complete\",IF($D40>'Technische SDG'!F39-1,\":-)\",CONCATENATE(\"increase until \",'Technische SDG'!F39))))","v":""},{"$f":"IF('Technische SDG'!G39=\"\",\"\",IF($D40=\"\",\"please complete\",IF($D40>'Technische SDG'!G39-1,\":-)\",CONCATENATE(\"increase until \",'Technische SDG'!G39))))","v":""},{"$f":"IF('Technische SDG'!H39=\"\",\"\",IF($D40=\"\",\"please complete\",IF($D40>'Technische SDG'!H39-1,\":-)\",CONCATENATE(\"increase until \",'Technische SDG'!H39))))","v":""},{"$f":"IF('Technische SDG'!I39=\"\",\"\",IF($D40=\"\",\"please complete\",IF($D40>'Technische SDG'!I39-1,\":-)\",CONCATENATE(\"increase until \",'Technische SDG'!I39))))","v":""},{"$f":"IF('Technische SDG'!J39=\"\",\"\",IF($D40=\"\",\"please complete\",IF($D40>'Technische SDG'!J39-1,\":-)\",CONCATENATE(\"increase until \",'Technische SDG'!J39))))","v":""},{"$f":"IF('Technische SDG'!K39=\"\",\"\",IF($D40=\"\",\"please complete\",IF($D40>'Technische SDG'!K39-1,\":-)\",CONCATENATE(\"increase until \",'Technische SDG'!K39))))","v":""},{"$f":"IF('Technische SDG'!L39=\"\",\"\",IF($D40=\"\",\"please complete\",IF($D40>'Technische SDG'!L39-1,\":-)\",CONCATENATE(\"increase until \",'Technische SDG'!L39))))","v":""},{"$f":"IF('Technische SDG'!M39=\"\",\"\",IF($D40=\"\",\"please complete\",IF($D40>'Technische SDG'!M39-1,\":-)\",CONCATENATE(\"increase until \",'Technische SDG'!M39))))","v":""},{"$f":"IF('Technische SDG'!N39=\"\",\"\",IF($D40=\"\",\"please complete\",IF($D40>'Technische SDG'!N39-1,\":-)\",CONCATENATE(\"increase until \",'Technische SDG'!N39))))","v":""},{"$f":"IF('Technische SDG'!O39=\"\",\"\",IF($D40=\"\",\"please complete\",IF($D40>'Technische SDG'!O39-1,\":-)\",CONCATENATE(\"increase until \",'Technische SDG'!O39))))","v":""},{"$f":"IF('Technische SDG'!P39=\"\",\"\",IF($D40=\"\",\"please complete\",IF($D40>'Technische SDG'!P39-1,\":-)\",CONCATENATE(\"increase until \",'Technische SDG'!P39))))","v":""},{"$f":"IF('Technische SDG'!Q39=\"\",\"\",IF($D40=\"\",\"please complete\",IF($D40>'Technische SDG'!Q39-1,\":-)\",CONCATENATE(\"increase until \",'Technische SDG'!Q39))))","v":""},{"$f":"IF('Technische SDG'!R39=\"\",\"\",IF($D40=\"\",\"please complete\",IF($D40>'Technische SDG'!R39-1,\":-)\",CONCATENATE(\"increase until \",'Technische SDG'!R39))))","v":""},{"$f":"IF('Technische SDG'!S39=\"\",\"\",IF($D40=\"\",\"please complete\",IF($D40>'Technische SDG'!S39-1,\":-)\",CONCATENATE(\"increase until \",'Technische SDG'!S39))))","v":""},{"$f":"IF('Technische SDG'!T39=\"\",\"\",IF($D40=\"\",\"please complete\",IF($D40>'Technische SDG'!T39-1,\":-)\",CONCATENATE(\"increase until \",'Technische SDG'!T39))))","v":""}]
[null,{"$f":"'Technische SDG'!B40","v":"F2.21"},{"$f":"VLOOKUP(B41,'Kapitel 2'!$C$6:$D$278,2,0)","v":"Wie werden Notfallpläne erstellt?"},{"$f":"'Technische SDG'!C40","v":3},17,{"$f":"IF('Technische SDG'!D40=\"\",\"\",IF($D41=\"\",\"please complete\",IF($D41>'Technische SDG'!D40-1,\":-)\",CONCATENATE(\"increase until \",'Technische SDG'!D40))))","v":""},{"$f":"IF('Technische SDG'!E40=\"\",\"\",IF($D41=\"\",\"please complete\",IF($D41>'Technische SDG'!E40-1,\":-)\",CONCATENATE(\"increase until \",'Technische SDG'!E40))))","v":""},{"$f":"IF('Technische SDG'!F40=\"\",\"\",IF($D41=\"\",\"please complete\",IF($D41>'Technische SDG'!F40-1,\":-)\",CONCATENATE(\"increase until \",'Technische SDG'!F40))))","v":""},{"$f":"IF('Technische SDG'!G40=\"\",\"\",IF($D41=\"\",\"please complete\",IF($D41>'Technische SDG'!G40-1,\":-)\",CONCATENATE(\"increase until \",'Technische SDG'!G40))))","v":""},{"$f":"IF('Technische SDG'!H40=\"\",\"\",IF($D41=\"\",\"please complete\",IF($D41>'Technische SDG'!H40-1,\":-)\",CONCATENATE(\"increase until \",'Technische SDG'!H40))))","v":""},{"$f":"IF('Technische SDG'!I40=\"\",\"\",IF($D41=\"\",\"please complete\",IF($D41>'Technische SDG'!I40-1,\":-)\",CONCATENATE(\"increase until \",'Technische SDG'!I40))))","v":""},{"$f":"IF('Technische SDG'!J40=\"\",\"\",IF($D41=\"\",\"please complete\",IF($D41>'Technische SDG'!J40-1,\":-)\",CONCATENATE(\"increase until \",'Technische SDG'!J40))))","v":""},{"$f":"IF('Technische SDG'!K40=\"\",\"\",IF($D41=\"\",\"please complete\",IF($D41>'Technische SDG'!K40-1,\":-)\",CONCATENATE(\"increase until \",'Technische SDG'!K40))))","v":""},{"$f":"IF('Technische SDG'!L40=\"\",\"\",IF($D41=\"\",\"please complete\",IF($D41>'Technische SDG'!L40-1,\":-)\",CONCATENATE(\"increase until \",'Technische SDG'!L40))))","v":""},{"$f":"IF('Technische SDG'!M40=\"\",\"\",IF($D41=\"\",\"please complete\",IF($D41>'Technische SDG'!M40-1,\":-)\",CONCATENATE(\"increase until \",'Technische SDG'!M40))))","v":""},{"$f":"IF('Technische SDG'!N40=\"\",\"\",IF($D41=\"\",\"please complete\",IF($D41>'Technische SDG'!N40-1,\":-)\",CONCATENATE(\"increase until \",'Technische SDG'!N40))))","v":""},{"$f":"IF('Technische SDG'!O40=\"\",\"\",IF($D41=\"\",\"please complete\",IF($D41>'Technische SDG'!O40-1,\":-)\",CONCATENATE(\"increase until \",'Technische SDG'!O40))))","v":""},{"$f":"IF('Technische SDG'!P40=\"\",\"\",IF($D41=\"\",\"please complete\",IF($D41>'Technische SDG'!P40-1,\":-)\",CONCATENATE(\"increase until \",'Technische SDG'!P40))))","v":""},{"$f":"IF('Technische SDG'!Q40=\"\",\"\",IF($D41=\"\",\"please complete\",IF($D41>'Technische SDG'!Q40-1,\":-)\",CONCATENATE(\"increase until \",'Technische SDG'!Q40))))","v":""},{"$f":"IF('Technische SDG'!R40=\"\",\"\",IF($D41=\"\",\"please complete\",IF($D41>'Technische SDG'!R40-1,\":-)\",CONCATENATE(\"increase until \",'Technische SDG'!R40))))","v":""},{"$f":"IF('Technische SDG'!S40=\"\",\"\",IF($D41=\"\",\"please complete\",IF($D41>'Technische SDG'!S40-1,\":-)\",CONCATENATE(\"increase until \",'Technische SDG'!S40))))","v":""},{"$f":"IF('Technische SDG'!T40=\"\",\"\",IF($D41=\"\",\"please complete\",IF($D41>'Technische SDG'!T40-1,\":-)\",CONCATENATE(\"increase until \",'Technische SDG'!T40))))","v":""}]
[null,{"$f":"'Technische SDG'!B41","v":"F2.22"},{"$f":"VLOOKUP(B42,'Kapitel 2'!$C$6:$D$278,2,0)","v":"In welcher Weise werden die Kompetenz und Schulung von an den Prozessen beteiligten Mitarbeitern und Fremdfirmen sichergestellt?"},{"$f":"'Technische SDG'!C41","v":1},17,{"$f":"IF('Technische SDG'!D41=\"\",\"\",IF($D42=\"\",\"please complete\",IF($D42>'Technische SDG'!D41-1,\":-)\",CONCATENATE(\"increase until \",'Technische SDG'!D41))))","v":""},{"$f":"IF('Technische SDG'!E41=\"\",\"\",IF($D42=\"\",\"please complete\",IF($D42>'Technische SDG'!E41-1,\":-)\",CONCATENATE(\"increase until \",'Technische SDG'!E41))))","v":""},{"$f":"IF('Technische SDG'!F41=\"\",\"\",IF($D42=\"\",\"please complete\",IF($D42>'Technische SDG'!F41-1,\":-)\",CONCATENATE(\"increase until \",'Technische SDG'!F41))))","v":""},{"$f":"IF('Technische SDG'!G41=\"\",\"\",IF($D42=\"\",\"please complete\",IF($D42>'Technische SDG'!G41-1,\":-)\",CONCATENATE(\"increase until \",'Technische SDG'!G41))))","v":""},{"$f":"IF('Technische SDG'!H41=\"\",\"\",IF($D42=\"\",\"please complete\",IF($D42>'Technische SDG'!H41-1,\":-)\",CONCATENATE(\"increase until \",'Technische SDG'!H41))))","v":""},{"$f":"IF('Technische SDG'!I41=\"\",\"\",IF($D42=\"\",\"please complete\",IF($D42>'Technische SDG'!I41-1,\":-)\",CONCATENATE(\"increase until \",'Technische SDG'!I41))))","v":""},{"$f":"IF('Technische SDG'!J41=\"\",\"\",IF($D42=\"\",\"please complete\",IF($D42>'Technische SDG'!J41-1,\":-)\",CONCATENATE(\"increase until \",'Technische SDG'!J41))))","v":""},{"$f":"IF('Technische SDG'!K41=\"\",\"\",IF($D42=\"\",\"please complete\",IF($D42>'Technische SDG'!K41-1,\":-)\",CONCATENATE(\"increase until \",'Technische SDG'!K41))))","v":""},{"$f":"IF('Technische SDG'!L41=\"\",\"\",IF($D42=\"\",\"please complete\",IF($D42>'Technische SDG'!L41-1,\":-)\",CONCATENATE(\"increase until \",'Technische SDG'!L41))))","v":""},{"$f":"IF('Technische SDG'!M41=\"\",\"\",IF($D42=\"\",\"please complete\",IF($D42>'Technische SDG'!M41-1,\":-)\",CONCATENATE(\"increase until \",'Technische SDG'!M41))))","v":""},{"$f":"IF('Technische SDG'!N41=\"\",\"\",IF($D42=\"\",\"please complete\",IF($D42>'Technische SDG'!N41-1,\":-)\",CONCATENATE(\"increase until \",'Technische SDG'!N41))))","v":""},{"$f":"IF('Technische SDG'!O41=\"\",\"\",IF($D42=\"\",\"please complete\",IF($D42>'Technische SDG'!O41-1,\":-)\",CONCATENATE(\"increase until \",'Technische SDG'!O41))))","v":""},{"$f":"IF('Technische SDG'!P41=\"\",\"\",IF($D42=\"\",\"please complete\",IF($D42>'Technische SDG'!P41-1,\":-)\",CONCATENATE(\"increase until \",'Technische SDG'!P41))))","v":""},{"$f":"IF('Technische SDG'!Q41=\"\",\"\",IF($D42=\"\",\"please complete\",IF($D42>'Technische SDG'!Q41-1,\":-)\",CONCATENATE(\"increase until \",'Technische SDG'!Q41))))","v":""},{"$f":"IF('Technische SDG'!R41=\"\",\"\",IF($D42=\"\",\"please complete\",IF($D42>'Technische SDG'!R41-1,\":-)\",CONCATENATE(\"increase until \",'Technische SDG'!R41))))","v":""},{"$f":"IF('Technische SDG'!S41=\"\",\"\",IF($D42=\"\",\"please complete\",IF($D42>'Technische SDG'!S41-1,\":-)\",CONCATENATE(\"increase until \",'Technische SDG'!S41))))","v":""},{"$f":"IF('Technische SDG'!T41=\"\",\"\",IF($D42=\"\",\"please complete\",IF($D42>'Technische SDG'!T41-1,\":-)\",CONCATENATE(\"increase until \",'Technische SDG'!T41))))","v":""}]
[null,{"$f":"'Technische SDG'!B42","v":"F2.23"},{"$f":"VLOOKUP(B43,'Kapitel 2'!$C$6:$D$278,2,0)","v":"Wie werden Informationen über die Risiken von Stoffen und Zubereitungen gemeinsam genutzt/weitergegeben?"},{"$f":"'Technische SDG'!C42","v":2},17,{"$f":"IF('Technische SDG'!D42=\"\",\"\",IF($D43=\"\",\"please complete\",IF($D43>'Technische SDG'!D42-1,\":-)\",CONCATENATE(\"increase until \",'Technische SDG'!D42))))","v":""},{"$f":"IF('Technische SDG'!E42=\"\",\"\",IF($D43=\"\",\"please complete\",IF($D43>'Technische SDG'!E42-1,\":-)\",CONCATENATE(\"increase until \",'Technische SDG'!E42))))","v":""},{"$f":"IF('Technische SDG'!F42=\"\",\"\",IF($D43=\"\",\"please complete\",IF($D43>'Technische SDG'!F42-1,\":-)\",CONCATENATE(\"increase until \",'Technische SDG'!F42))))","v":""},{"$f":"IF('Technische SDG'!G42=\"\",\"\",IF($D43=\"\",\"please complete\",IF($D43>'Technische SDG'!G42-1,\":-)\",CONCATENATE(\"increase until \",'Technische SDG'!G42))))","v":""},{"$f":"IF('Technische SDG'!H42=\"\",\"\",IF($D43=\"\",\"please complete\",IF($D43>'Technische SDG'!H42-1,\":-)\",CONCATENATE(\"increase until \",'Technische SDG'!H42))))","v":""},{"$f":"IF('Technische SDG'!I42=\"\",\"\",IF($D43=\"\",\"please complete\",IF($D43>'Technische SDG'!I42-1,\":-)\",CONCATENATE(\"increase until \",'Technische SDG'!I42))))","v":""},{"$f":"IF('Technische SDG'!J42=\"\",\"\",IF($D43=\"\",\"please complete\",IF($D43>'Technische SDG'!J42-1,\":-)\",CONCATENATE(\"increase until \",'Technische SDG'!J42))))","v":""},{"$f":"IF('Technische SDG'!K42=\"\",\"\",IF($D43=\"\",\"please complete\",IF($D43>'Technische SDG'!K42-1,\":-)\",CONCATENATE(\"increase until \",'Technische SDG'!K42))))","v":""},{"$f":"IF('Technische SDG'!L42=\"\",\"\",IF($D43=\"\",\"please complete\",IF($D43>'Technische SDG'!L42-1,\":-)\",CONCATENATE(\"increase until \",'Technische SDG'!L42))))","v":""},{"$f":"IF('Technische SDG'!M42=\"\",\"\",IF($D43=\"\",\"please complete\",IF($D43>'Technische SDG'!M42-1,\":-)\",CONCATENATE(\"increase until \",'Technische SDG'!M42))))","v":""},{"$f":"IF('Technische SDG'!N42=\"\",\"\",IF($D43=\"\",\"please complete\",IF($D43>'Technische SDG'!N42-1,\":-)\",CONCATENATE(\"increase until \",'Technische SDG'!N42))))","v":""},{"$f":"IF('Technische SDG'!O42=\"\",\"\",IF($D43=\"\",\"please complete\",IF($D43>'Technische SDG'!O42-1,\":-)\",CONCATENATE(\"increase until \",'Technische SDG'!O42))))","v":""},{"$f":"IF('Technische SDG'!P42=\"\",\"\",IF($D43=\"\",\"please complete\",IF($D43>'Technische SDG'!P42-1,\":-)\",CONCATENATE(\"increase until \",'Technische SDG'!P42))))","v":""},{"$f":"IF('Technische SDG'!Q42=\"\",\"\",IF($D43=\"\",\"please complete\",IF($D43>'Technische SDG'!Q42-1,\":-)\",CONCATENATE(\"increase until \",'Technische SDG'!Q42))))","v":""},{"$f":"IF('Technische SDG'!R42=\"\",\"\",IF($D43=\"\",\"please complete\",IF($D43>'Technische SDG'!R42-1,\":-)\",CONCATENATE(\"increase until \",'Technische SDG'!R42))))","v":""},{"$f":"IF('Technische SDG'!S42=\"\",\"\",IF($D43=\"\",\"please complete\",IF($D43>'Technische SDG'!S42-1,\":-)\",CONCATENATE(\"increase until \",'Technische SDG'!S42))))","v":""},{"$f":"IF('Technische SDG'!T42=\"\",\"\",IF($D43=\"\",\"please complete\",IF($D43>'Technische SDG'!T42-1,\":-)\",CONCATENATE(\"increase until \",'Technische SDG'!T42))))","v":""}]
[null,{"$f":"'Technische SDG'!B43","v":"F2.24"},{"$f":"VLOOKUP(B44,'Kapitel 2'!$C$6:$D$278,2,0)","v":"Wie werden Informationen über das Verfahren gemeinsam genutzt/weitergegeben?"},{"$f":"'Technische SDG'!C43","v":3},17,{"$f":"IF('Technische SDG'!D43=\"\",\"\",IF($D44=\"\",\"please complete\",IF($D44>'Technische SDG'!D43-1,\":-)\",CONCATENATE(\"increase until \",'Technische SDG'!D43))))","v":""},{"$f":"IF('Technische SDG'!E43=\"\",\"\",IF($D44=\"\",\"please complete\",IF($D44>'Technische SDG'!E43-1,\":-)\",CONCATENATE(\"increase until \",'Technische SDG'!E43))))","v":""},{"$f":"IF('Technische SDG'!F43=\"\",\"\",IF($D44=\"\",\"please complete\",IF($D44>'Technische SDG'!F43-1,\":-)\",CONCATENATE(\"increase until \",'Technische SDG'!F43))))","v":""},{"$f":"IF('Technische SDG'!G43=\"\",\"\",IF($D44=\"\",\"please complete\",IF($D44>'Technische SDG'!G43-1,\":-)\",CONCATENATE(\"increase until \",'Technische SDG'!G43))))","v":""},{"$f":"IF('Technische SDG'!H43=\"\",\"\",IF($D44=\"\",\"please complete\",IF($D44>'Technische SDG'!H43-1,\":-)\",CONCATENATE(\"increase until \",'Technische SDG'!H43))))","v":""},{"$f":"IF('Technische SDG'!I43=\"\",\"\",IF($D44=\"\",\"please complete\",IF($D44>'Technische SDG'!I43-1,\":-)\",CONCATENATE(\"increase until \",'Technische SDG'!I43))))","v":""},{"$f":"IF('Technische SDG'!J43=\"\",\"\",IF($D44=\"\",\"please complete\",IF($D44>'Technische SDG'!J43-1,\":-)\",CONCATENATE(\"increase until \",'Technische SDG'!J43))))","v":""},{"$f":"IF('Technische SDG'!K43=\"\",\"\",IF($D44=\"\",\"please complete\",IF($D44>'Technische SDG'!K43-1,\":-)\",CONCATENATE(\"increase until \",'Technische SDG'!K43))))","v":""},{"$f":"IF('Technische SDG'!L43=\"\",\"\",IF($D44=\"\",\"please complete\",IF($D44>'Technische SDG'!L43-1,\":-)\",CONCATENATE(\"increase until \",'Technische SDG'!L43))))","v":""},{"$f":"IF('Technische SDG'!M43=\"\",\"\",IF($D44=\"\",\"please complete\",IF($D44>'Technische SDG'!M43-1,\":-)\",CONCATENATE(\"increase until \",'Technische SDG'!M43))))","v":""},{"$f":"IF('Technische SDG'!N43=\"\",\"\",IF($D44=\"\",\"please complete\",IF($D44>'Technische SDG'!N43-1,\":-)\",CONCATENATE(\"increase until \",'Technische SDG'!N43))))","v":""},{"$f":"IF('Technische SDG'!O43=\"\",\"\",IF($D44=\"\",\"please complete\",IF($D44>'Technische SDG'!O43-1,\":-)\",CONCATENATE(\"increase until \",'Technische SDG'!O43))))","v":""},{"$f":"IF('Technische SDG'!P43=\"\",\"\",IF($D44=\"\",\"please complete\",IF($D44>'Technische SDG'!P43-1,\":-)\",CONCATENATE(\"increase until \",'Technische SDG'!P43))))","v":""},{"$f":"IF('Technische SDG'!Q43=\"\",\"\",IF($D44=\"\",\"please complete\",IF($D44>'Technische SDG'!Q43-1,\":-)\",CONCATENATE(\"increase until \",'Technische SDG'!Q43))))","v":""},{"$f":"IF('Technische SDG'!R43=\"\",\"\",IF($D44=\"\",\"please complete\",IF($D44>'Technische SDG'!R43-1,\":-)\",CONCATENATE(\"increase until \",'Technische SDG'!R43))))","v":""},{"$f":"IF('Technische SDG'!S43=\"\",\"\",IF($D44=\"\",\"please complete\",IF($D44>'Technische SDG'!S43-1,\":-)\",CONCATENATE(\"increase until \",'Technische SDG'!S43))))","v":""},{"$f":"IF('Technische SDG'!T43=\"\",\"\",IF($D44=\"\",\"please complete\",IF($D44>'Technische SDG'!T43-1,\":-)\",CONCATENATE(\"increase until \",'Technische SDG'!T43))))","v":""}]
[null,{"$f":"'Technische SDG'!B44","v":"F2.25"},{"$f":"VLOOKUP(B45,'Kapitel 2'!$C$6:$D$278,2,0)","v":"In welcher Weise bewertet die Organisation ihre Logistikpartner mit Hinblick auf Gesundheit, Sicherheit, Umwelt & Nachhaltigkeit, Energieeffizienz und Treibhausgas(THG)-Emissionen?"},{"$f":"'Technische SDG'!C44","v":2},17,{"$f":"IF('Technische SDG'!D44=\"\",\"\",IF($D45=\"\",\"please complete\",IF($D45>'Technische SDG'!D44-1,\":-)\",CONCATENATE(\"increase until \",'Technische SDG'!D44))))","v":""},{"$f":"IF('Technische SDG'!E44=\"\",\"\",IF($D45=\"\",\"please complete\",IF($D45>'Technische SDG'!E44-1,\":-)\",CONCATENATE(\"increase until \",'Technische SDG'!E44))))","v":""},{"$f":"IF('Technische SDG'!F44=\"\",\"\",IF($D45=\"\",\"please complete\",IF($D45>'Technische SDG'!F44-1,\":-)\",CONCATENATE(\"increase until \",'Technische SDG'!F44))))","v":""},{"$f":"IF('Technische SDG'!G44=\"\",\"\",IF($D45=\"\",\"please complete\",IF($D45>'Technische SDG'!G44-1,\":-)\",CONCATENATE(\"increase until \",'Technische SDG'!G44))))","v":""},{"$f":"IF('Technische SDG'!H44=\"\",\"\",IF($D45=\"\",\"please complete\",IF($D45>'Technische SDG'!H44-1,\":-)\",CONCATENATE(\"increase until \",'Technische SDG'!H44))))","v":""},{"$f":"IF('Technische SDG'!I44=\"\",\"\",IF($D45=\"\",\"please complete\",IF($D45>'Technische SDG'!I44-1,\":-)\",CONCATENATE(\"increase until \",'Technische SDG'!I44))))","v":""},{"$f":"IF('Technische SDG'!J44=\"\",\"\",IF($D45=\"\",\"please complete\",IF($D45>'Technische SDG'!J44-1,\":-)\",CONCATENATE(\"increase until \",'Technische SDG'!J44))))","v":""},{"$f":"IF('Technische SDG'!K44=\"\",\"\",IF($D45=\"\",\"please complete\",IF($D45>'Technische SDG'!K44-1,\":-)\",CONCATENATE(\"increase until \",'Technische SDG'!K44))))","v":""},{"$f":"IF('Technische SDG'!L44=\"\",\"\",IF($D45=\"\",\"please complete\",IF($D45>'Technische SDG'!L44-1,\":-)\",CONCATENATE(\"increase until \",'Technische SDG'!L44))))","v":""},{"$f":"IF('Technische SDG'!M44=\"\",\"\",IF($D45=\"\",\"please complete\",IF($D45>'Technische SDG'!M44-1,\":-)\",CONCATENATE(\"increase until \",'Technische SDG'!M44))))","v":""},{"$f":"IF('Technische SDG'!N44=\"\",\"\",IF($D45=\"\",\"please complete\",IF($D45>'Technische SDG'!N44-1,\":-)\",CONCATENATE(\"increase until \",'Technische SDG'!N44))))","v":""},{"$f":"IF('Technische SDG'!O44=\"\",\"\",IF($D45=\"\",\"please complete\",IF($D45>'Technische SDG'!O44-1,\":-)\",CONCATENATE(\"increase until \",'Technische SDG'!O44))))","v":""},{"$f":"IF('Technische SDG'!P44=\"\",\"\",IF($D45=\"\",\"please complete\",IF($D45>'Technische SDG'!P44-1,\":-)\",CONCATENATE(\"increase until \",'Technische SDG'!P44))))","v":""},{"$f":"IF('Technische SDG'!Q44=\"\",\"\",IF($D45=\"\",\"please complete\",IF($D45>'Technische SDG'!Q44-1,\":-)\",CONCATENATE(\"increase until \",'Technische SDG'!Q44))))","v":""},{"$f":"IF('Technische SDG'!R44=\"\",\"\",IF($D45=\"\",\"please complete\",IF($D45>'Technische SDG'!R44-1,\":-)\",CONCATENATE(\"increase until \",'Technische SDG'!R44))))","v":""},{"$f":"IF('Technische SDG'!S44=\"\",\"\",IF($D45=\"\",\"please complete\",IF($D45>'Technische SDG'!S44-1,\":-)\",CONCATENATE(\"increase until \",'Technische SDG'!S44))))","v":""},{"$f":"IF('Technische SDG'!T44=\"\",\"\",IF($D45=\"\",\"please complete\",IF($D45>'Technische SDG'!T44-1,\":-)\",CONCATENATE(\"increase until \",'Technische SDG'!T44))))","v":""}]
[null,{"$f":"'Technische SDG'!B45","v":"F2.26"},{"$f":"VLOOKUP(B46,'Kapitel 2'!$C$6:$D$278,2,0)","v":"Welche Maßnahmen zur Vermeidung von Transportunfällen bzw. Notfallmaßnahmen im Falle von Transportunfällen ergreift die Organisation?"},{"$f":"'Technische SDG'!C45","v":1},17,{"$f":"IF('Technische SDG'!D45=\"\",\"\",IF($D46=\"\",\"please complete\",IF($D46>'Technische SDG'!D45-1,\":-)\",CONCATENATE(\"increase until \",'Technische SDG'!D45))))","v":""},{"$f":"IF('Technische SDG'!E45=\"\",\"\",IF($D46=\"\",\"please complete\",IF($D46>'Technische SDG'!E45-1,\":-)\",CONCATENATE(\"increase until \",'Technische SDG'!E45))))","v":""},{"$f":"IF('Technische SDG'!F45=\"\",\"\",IF($D46=\"\",\"please complete\",IF($D46>'Technische SDG'!F45-1,\":-)\",CONCATENATE(\"increase until \",'Technische SDG'!F45))))","v":""},{"$f":"IF('Technische SDG'!G45=\"\",\"\",IF($D46=\"\",\"please complete\",IF($D46>'Technische SDG'!G45-1,\":-)\",CONCATENATE(\"increase until \",'Technische SDG'!G45))))","v":""},{"$f":"IF('Technische SDG'!H45=\"\",\"\",IF($D46=\"\",\"please complete\",IF($D46>'Technische SDG'!H45-1,\":-)\",CONCATENATE(\"increase until \",'Technische SDG'!H45))))","v":""},{"$f":"IF('Technische SDG'!I45=\"\",\"\",IF($D46=\"\",\"please complete\",IF($D46>'Technische SDG'!I45-1,\":-)\",CONCATENATE(\"increase until \",'Technische SDG'!I45))))","v":""},{"$f":"IF('Technische SDG'!J45=\"\",\"\",IF($D46=\"\",\"please complete\",IF($D46>'Technische SDG'!J45-1,\":-)\",CONCATENATE(\"increase until \",'Technische SDG'!J45))))","v":""},{"$f":"IF('Technische SDG'!K45=\"\",\"\",IF($D46=\"\",\"please complete\",IF($D46>'Technische SDG'!K45-1,\":-)\",CONCATENATE(\"increase until \",'Technische SDG'!K45))))","v":""},{"$f":"IF('Technische SDG'!L45=\"\",\"\",IF($D46=\"\",\"please complete\",IF($D46>'Technische SDG'!L45-1,\":-)\",CONCATENATE(\"increase until \",'Technische SDG'!L45))))","v":""},{"$f":"IF('Technische SDG'!M45=\"\",\"\",IF($D46=\"\",\"please complete\",IF($D46>'Technische SDG'!M45-1,\":-)\",CONCATENATE(\"increase until \",'Technische SDG'!M45))))","v":""},{"$f":"IF('Technische SDG'!N45=\"\",\"\",IF($D46=\"\",\"please complete\",IF($D46>'Technische SDG'!N45-1,\":-)\",CONCATENATE(\"increase until \",'Technische SDG'!N45))))","v":""},{"$f":"IF('Technische SDG'!O45=\"\",\"\",IF($D46=\"\",\"please complete\",IF($D46>'Technische SDG'!O45-1,\":-)\",CONCATENATE(\"increase until \",'Technische SDG'!O45))))","v":""},{"$f":"IF('Technische SDG'!P45=\"\",\"\",IF($D46=\"\",\"please complete\",IF($D46>'Technische SDG'!P45-1,\":-)\",CONCATENATE(\"increase until \",'Technische SDG'!P45))))","v":""},{"$f":"IF('Technische SDG'!Q45=\"\",\"\",IF($D46=\"\",\"please complete\",IF($D46>'Technische SDG'!Q45-1,\":-)\",CONCATENATE(\"increase until \",'Technische SDG'!Q45))))","v":""},{"$f":"IF('Technische SDG'!R45=\"\",\"\",IF($D46=\"\",\"please complete\",IF($D46>'Technische SDG'!R45-1,\":-)\",CONCATENATE(\"increase until \",'Technische SDG'!R45))))","v":""},{"$f":"IF('Technische SDG'!S45=\"\",\"\",IF($D46=\"\",\"please complete\",IF($D46>'Technische SDG'!S45-1,\":-)\",CONCATENATE(\"increase until \",'Technische SDG'!S45))))","v":""},{"$f":"IF('Technische SDG'!T45=\"\",\"\",IF($D46=\"\",\"please complete\",IF($D46>'Technische SDG'!T45-1,\":-)\",CONCATENATE(\"increase until \",'Technische SDG'!T45))))","v":""}]
[null,{"$f":"'Technische SDG'!B46","v":"F2.27"},{"$f":"VLOOKUP(B47,'Kapitel 2'!$C$6:$D$278,2,0)","v":"In welcher Weise identifiziert die Organisation Sicherheitsprobleme?"},{"$f":"'Technische SDG'!C46","v":1},17,{"$f":"IF('Technische SDG'!D46=\"\",\"\",IF($D47=\"\",\"please complete\",IF($D47>'Technische SDG'!D46-1,\":-)\",CONCATENATE(\"increase until \",'Technische SDG'!D46))))","v":""},{"$f":"IF('Technische SDG'!E46=\"\",\"\",IF($D47=\"\",\"please complete\",IF($D47>'Technische SDG'!E46-1,\":-)\",CONCATENATE(\"increase until \",'Technische SDG'!E46))))","v":""},{"$f":"IF('Technische SDG'!F46=\"\",\"\",IF($D47=\"\",\"please complete\",IF($D47>'Technische SDG'!F46-1,\":-)\",CONCATENATE(\"increase until \",'Technische SDG'!F46))))","v":""},{"$f":"IF('Technische SDG'!G46=\"\",\"\",IF($D47=\"\",\"please complete\",IF($D47>'Technische SDG'!G46-1,\":-)\",CONCATENATE(\"increase until \",'Technische SDG'!G46))))","v":""},{"$f":"IF('Technische SDG'!H46=\"\",\"\",IF($D47=\"\",\"please complete\",IF($D47>'Technische SDG'!H46-1,\":-)\",CONCATENATE(\"increase until \",'Technische SDG'!H46))))","v":""},{"$f":"IF('Technische SDG'!I46=\"\",\"\",IF($D47=\"\",\"please complete\",IF($D47>'Technische SDG'!I46-1,\":-)\",CONCATENATE(\"increase until \",'Technische SDG'!I46))))","v":""},{"$f":"IF('Technische SDG'!J46=\"\",\"\",IF($D47=\"\",\"please complete\",IF($D47>'Technische SDG'!J46-1,\":-)\",CONCATENATE(\"increase until \",'Technische SDG'!J46))))","v":""},{"$f":"IF('Technische SDG'!K46=\"\",\"\",IF($D47=\"\",\"please complete\",IF($D47>'Technische SDG'!K46-1,\":-)\",CONCATENATE(\"increase until \",'Technische SDG'!K46))))","v":""},{"$f":"IF('Technische SDG'!L46=\"\",\"\",IF($D47=\"\",\"please complete\",IF($D47>'Technische SDG'!L46-1,\":-)\",CONCATENATE(\"increase until \",'Technische SDG'!L46))))","v":""},{"$f":"IF('Technische SDG'!M46=\"\",\"\",IF($D47=\"\",\"please complete\",IF($D47>'Technische SDG'!M46-1,\":-)\",CONCATENATE(\"increase until \",'Technische SDG'!M46))))","v":""},{"$f":"IF('Technische SDG'!N46=\"\",\"\",IF($D47=\"\",\"please complete\",IF($D47>'Technische SDG'!N46-1,\":-)\",CONCATENATE(\"increase until \",'Technische SDG'!N46))))","v":""},{"$f":"IF('Technische SDG'!O46=\"\",\"\",IF($D47=\"\",\"please complete\",IF($D47>'Technische SDG'!O46-1,\":-)\",CONCATENATE(\"increase until \",'Technische SDG'!O46))))","v":""},{"$f":"IF('Technische SDG'!P46=\"\",\"\",IF($D47=\"\",\"please complete\",IF($D47>'Technische SDG'!P46-1,\":-)\",CONCATENATE(\"increase until \",'Technische SDG'!P46))))","v":""},{"$f":"IF('Technische SDG'!Q46=\"\",\"\",IF($D47=\"\",\"please complete\",IF($D47>'Technische SDG'!Q46-1,\":-)\",CONCATENATE(\"increase until \",'Technische SDG'!Q46))))","v":""},{"$f":"IF('Technische SDG'!R46=\"\",\"\",IF($D47=\"\",\"please complete\",IF($D47>'Technische SDG'!R46-1,\":-)\",CONCATENATE(\"increase until \",'Technische SDG'!R46))))","v":""},{"$f":"IF('Technische SDG'!S46=\"\",\"\",IF($D47=\"\",\"please complete\",IF($D47>'Technische SDG'!S46-1,\":-)\",CONCATENATE(\"increase until \",'Technische SDG'!S46))))","v":""},{"$f":"IF('Technische SDG'!T46=\"\",\"\",IF($D47=\"\",\"please complete\",IF($D47>'Technische SDG'!T46-1,\":-)\",CONCATENATE(\"increase until \",'Technische SDG'!T46))))","v":""}]
[null,{"$f":"'Technische SDG'!B47","v":"F2.28"},{"$f":"VLOOKUP(B48,'Kapitel 2'!$C$6:$D$278,2,0)","v":"In welcher Weise werden das Betreten/Verlassen des Arbeitsortes und eingeschränkt zugänglicher Bereiche durch Mitarbeiter bzw. der dortige Ein- und Ausgang von Materialien kontrolliert?"},{"$f":"'Technische SDG'!C47","v":2},17,{"$f":"IF('Technische SDG'!D47=\"\",\"\",IF($D48=\"\",\"please complete\",IF($D48>'Technische SDG'!D47-1,\":-)\",CONCATENATE(\"increase until \",'Technische SDG'!D47))))","v":""},{"$f":"IF('Technische SDG'!E47=\"\",\"\",IF($D48=\"\",\"please complete\",IF($D48>'Technische SDG'!E47-1,\":-)\",CONCATENATE(\"increase until \",'Technische SDG'!E47))))","v":""},{"$f":"IF('Technische SDG'!F47=\"\",\"\",IF($D48=\"\",\"please complete\",IF($D48>'Technische SDG'!F47-1,\":-)\",CONCATENATE(\"increase until \",'Technische SDG'!F47))))","v":""},{"$f":"IF('Technische SDG'!G47=\"\",\"\",IF($D48=\"\",\"please complete\",IF($D48>'Technische SDG'!G47-1,\":-)\",CONCATENATE(\"increase until \",'Technische SDG'!G47))))","v":""},{"$f":"IF('Technische SDG'!H47=\"\",\"\",IF($D48=\"\",\"please complete\",IF($D48>'Technische SDG'!H47-1,\":-)\",CONCATENATE(\"increase until \",'Technische SDG'!H47))))","v":""},{"$f":"IF('Technische SDG'!I47=\"\",\"\",IF($D48=\"\",\"please complete\",IF($D48>'Technische SDG'!I47-1,\":-)\",CONCATENATE(\"increase until \",'Technische SDG'!I47))))","v":""},{"$f":"IF('Technische SDG'!J47=\"\",\"\",IF($D48=\"\",\"please complete\",IF($D48>'Technische SDG'!J47-1,\":-)\",CONCATENATE(\"increase until \",'Technische SDG'!J47))))","v":""},{"$f":"IF('Technische SDG'!K47=\"\",\"\",IF($D48=\"\",\"please complete\",IF($D48>'Technische SDG'!K47-1,\":-)\",CONCATENATE(\"increase until \",'Technische SDG'!K47))))","v":""},{"$f":"IF('Technische SDG'!L47=\"\",\"\",IF($D48=\"\",\"please complete\",IF($D48>'Technische SDG'!L47-1,\":-)\",CONCATENATE(\"increase until \",'Technische SDG'!L47))))","v":""},{"$f":"IF('Technische SDG'!M47=\"\",\"\",IF($D48=\"\",\"please complete\",IF($D48>'Technische SDG'!M47-1,\":-)\",CONCATENATE(\"increase until \",'Technische SDG'!M47))))","v":""},{"$f":"IF('Technische SDG'!N47=\"\",\"\",IF($D48=\"\",\"please complete\",IF($D48>'Technische SDG'!N47-1,\":-)\",CONCATENATE(\"increase until \",'Technische SDG'!N47))))","v":""},{"$f":"IF('Technische SDG'!O47=\"\",\"\",IF($D48=\"\",\"please complete\",IF($D48>'Technische SDG'!O47-1,\":-)\",CONCATENATE(\"increase until \",'Technische SDG'!O47))))","v":""},{"$f":"IF('Technische SDG'!P47=\"\",\"\",IF($D48=\"\",\"please complete\",IF($D48>'Technische SDG'!P47-1,\":-)\",CONCATENATE(\"increase until \",'Technische SDG'!P47))))","v":""},{"$f":"IF('Technische SDG'!Q47=\"\",\"\",IF($D48=\"\",\"please complete\",IF($D48>'Technische SDG'!Q47-1,\":-)\",CONCATENATE(\"increase until \",'Technische SDG'!Q47))))","v":""},{"$f":"IF('Technische SDG'!R47=\"\",\"\",IF($D48=\"\",\"please complete\",IF($D48>'Technische SDG'!R47-1,\":-)\",CONCATENATE(\"increase until \",'Technische SDG'!R47))))","v":""},{"$f":"IF('Technische SDG'!S47=\"\",\"\",IF($D48=\"\",\"please complete\",IF($D48>'Technische SDG'!S47-1,\":-)\",CONCATENATE(\"increase until \",'Technische SDG'!S47))))","v":""},{"$f":"IF('Technische SDG'!T47=\"\",\"\",IF($D48=\"\",\"please complete\",IF($D48>'Technische SDG'!T47-1,\":-)\",CONCATENATE(\"increase until \",'Technische SDG'!T47))))","v":""}]
[null,{"$f":"'Technische SDG'!B48","v":"F2.29"},{"$f":"VLOOKUP(B49,'Kapitel 2'!$C$6:$D$278,2,0)","v":"Wie wird Cybersecurity überwacht?"},{"$f":"'Technische SDG'!C48","v":1},17,{"$f":"IF('Technische SDG'!D48=\"\",\"\",IF($D49=\"\",\"please complete\",IF($D49>'Technische SDG'!D48-1,\":-)\",CONCATENATE(\"increase until \",'Technische SDG'!D48))))","v":""},{"$f":"IF('Technische SDG'!E48=\"\",\"\",IF($D49=\"\",\"please complete\",IF($D49>'Technische SDG'!E48-1,\":-)\",CONCATENATE(\"increase until \",'Technische SDG'!E48))))","v":""},{"$f":"IF('Technische SDG'!F48=\"\",\"\",IF($D49=\"\",\"please complete\",IF($D49>'Technische SDG'!F48-1,\":-)\",CONCATENATE(\"increase until \",'Technische SDG'!F48))))","v":""},{"$f":"IF('Technische SDG'!G48=\"\",\"\",IF($D49=\"\",\"please complete\",IF($D49>'Technische SDG'!G48-1,\":-)\",CONCATENATE(\"increase until \",'Technische SDG'!G48))))","v":""},{"$f":"IF('Technische SDG'!H48=\"\",\"\",IF($D49=\"\",\"please complete\",IF($D49>'Technische SDG'!H48-1,\":-)\",CONCATENATE(\"increase until \",'Technische SDG'!H48))))","v":""},{"$f":"IF('Technische SDG'!I48=\"\",\"\",IF($D49=\"\",\"please complete\",IF($D49>'Technische SDG'!I48-1,\":-)\",CONCATENATE(\"increase until \",'Technische SDG'!I48))))","v":""},{"$f":"IF('Technische SDG'!J48=\"\",\"\",IF($D49=\"\",\"please complete\",IF($D49>'Technische SDG'!J48-1,\":-)\",CONCATENATE(\"increase until \",'Technische SDG'!J48))))","v":""},{"$f":"IF('Technische SDG'!K48=\"\",\"\",IF($D49=\"\",\"please complete\",IF($D49>'Technische SDG'!K48-1,\":-)\",CONCATENATE(\"increase until \",'Technische SDG'!K48))))","v":""},{"$f":"IF('Technische SDG'!L48=\"\",\"\",IF($D49=\"\",\"please complete\",IF($D49>'Technische SDG'!L48-1,\":-)\",CONCATENATE(\"increase until \",'Technische SDG'!L48))))","v":""},{"$f":"IF('Technische SDG'!M48=\"\",\"\",IF($D49=\"\",\"please complete\",IF($D49>'Technische SDG'!M48-1,\":-)\",CONCATENATE(\"increase until \",'Technische SDG'!M48))))","v":""},{"$f":"IF('Technische SDG'!N48=\"\",\"\",IF($D49=\"\",\"please complete\",IF($D49>'Technische SDG'!N48-1,\":-)\",CONCATENATE(\"increase until \",'Technische SDG'!N48))))","v":""},{"$f":"IF('Technische SDG'!O48=\"\",\"\",IF($D49=\"\",\"please complete\",IF($D49>'Technische SDG'!O48-1,\":-)\",CONCATENATE(\"increase until \",'Technische SDG'!O48))))","v":""},{"$f":"IF('Technische SDG'!P48=\"\",\"\",IF($D49=\"\",\"please complete\",IF($D49>'Technische SDG'!P48-1,\":-)\",CONCATENATE(\"increase until \",'Technische SDG'!P48))))","v":""},{"$f":"IF('Technische SDG'!Q48=\"\",\"\",IF($D49=\"\",\"please complete\",IF($D49>'Technische SDG'!Q48-1,\":-)\",CONCATENATE(\"increase until \",'Technische SDG'!Q48))))","v":""},{"$f":"IF('Technische SDG'!R48=\"\",\"\",IF($D49=\"\",\"please complete\",IF($D49>'Technische SDG'!R48-1,\":-)\",CONCATENATE(\"increase until \",'Technische SDG'!R48))))","v":""},{"$f":"IF('Technische SDG'!S48=\"\",\"\",IF($D49=\"\",\"please complete\",IF($D49>'Technische SDG'!S48-1,\":-)\",CONCATENATE(\"increase until \",'Technische SDG'!S48))))","v":""},{"$f":"IF('Technische SDG'!T48=\"\",\"\",IF($D49=\"\",\"please complete\",IF($D49>'Technische SDG'!T48-1,\":-)\",CONCATENATE(\"increase until \",'Technische SDG'!T48))))","v":""}]
[null,{"$f":"'Technische SDG'!B49","v":"F2.30"},{"$f":"VLOOKUP(B50,'Kapitel 2'!$C$6:$D$278,2,0)","v":"Wie sind Kommunikation und Informationsaustausch im Falle einer Sicherheitskrise organisiert?"},{"$f":"'Technische SDG'!C49","v":1},17,{"$f":"IF('Technische SDG'!D49=\"\",\"\",IF($D50=\"\",\"please complete\",IF($D50>'Technische SDG'!D49-1,\":-)\",CONCATENATE(\"increase until \",'Technische SDG'!D49))))","v":""},{"$f":"IF('Technische SDG'!E49=\"\",\"\",IF($D50=\"\",\"please complete\",IF($D50>'Technische SDG'!E49-1,\":-)\",CONCATENATE(\"increase until \",'Technische SDG'!E49))))","v":""},{"$f":"IF('Technische SDG'!F49=\"\",\"\",IF($D50=\"\",\"please complete\",IF($D50>'Technische SDG'!F49-1,\":-)\",CONCATENATE(\"increase until \",'Technische SDG'!F49))))","v":""},{"$f":"IF('Technische SDG'!G49=\"\",\"\",IF($D50=\"\",\"please complete\",IF($D50>'Technische SDG'!G49-1,\":-)\",CONCATENATE(\"increase until \",'Technische SDG'!G49))))","v":""},{"$f":"IF('Technische SDG'!H49=\"\",\"\",IF($D50=\"\",\"please complete\",IF($D50>'Technische SDG'!H49-1,\":-)\",CONCATENATE(\"increase until \",'Technische SDG'!H49))))","v":""},{"$f":"IF('Technische SDG'!I49=\"\",\"\",IF($D50=\"\",\"please complete\",IF($D50>'Technische SDG'!I49-1,\":-)\",CONCATENATE(\"increase until \",'Technische SDG'!I49))))","v":""},{"$f":"IF('Technische SDG'!J49=\"\",\"\",IF($D50=\"\",\"please complete\",IF($D50>'Technische SDG'!J49-1,\":-)\",CONCATENATE(\"increase until \",'Technische SDG'!J49))))","v":""},{"$f":"IF('Technische SDG'!K49=\"\",\"\",IF($D50=\"\",\"please complete\",IF($D50>'Technische SDG'!K49-1,\":-)\",CONCATENATE(\"increase until \",'Technische SDG'!K49))))","v":""},{"$f":"IF('Technische SDG'!L49=\"\",\"\",IF($D50=\"\",\"please complete\",IF($D50>'Technische SDG'!L49-1,\":-)\",CONCATENATE(\"increase until \",'Technische SDG'!L49))))","v":""},{"$f":"IF('Technische SDG'!M49=\"\",\"\",IF($D50=\"\",\"please complete\",IF($D50>'Technische SDG'!M49-1,\":-)\",CONCATENATE(\"increase until \",'Technische SDG'!M49))))","v":""},{"$f":"IF('Technische SDG'!N49=\"\",\"\",IF($D50=\"\",\"please complete\",IF($D50>'Technische SDG'!N49-1,\":-)\",CONCATENATE(\"increase until \",'Technische SDG'!N49))))","v":""},{"$f":"IF('Technische SDG'!O49=\"\",\"\",IF($D50=\"\",\"please complete\",IF($D50>'Technische SDG'!O49-1,\":-)\",CONCATENATE(\"increase until \",'Technische SDG'!O49))))","v":""},{"$f":"IF('Technische SDG'!P49=\"\",\"\",IF($D50=\"\",\"please complete\",IF($D50>'Technische SDG'!P49-1,\":-)\",CONCATENATE(\"increase until \",'Technische SDG'!P49))))","v":""},{"$f":"IF('Technische SDG'!Q49=\"\",\"\",IF($D50=\"\",\"please complete\",IF($D50>'Technische SDG'!Q49-1,\":-)\",CONCATENATE(\"increase until \",'Technische SDG'!Q49))))","v":""},{"$f":"IF('Technische SDG'!R49=\"\",\"\",IF($D50=\"\",\"please complete\",IF($D50>'Technische SDG'!R49-1,\":-)\",CONCATENATE(\"increase until \",'Technische SDG'!R49))))","v":""},{"$f":"IF('Technische SDG'!S49=\"\",\"\",IF($D50=\"\",\"please complete\",IF($D50>'Technische SDG'!S49-1,\":-)\",CONCATENATE(\"increase until \",'Technische SDG'!S49))))","v":""},{"$f":"IF('Technische SDG'!T49=\"\",\"\",IF($D50=\"\",\"please complete\",IF($D50>'Technische SDG'!T49-1,\":-)\",CONCATENATE(\"increase until \",'Technische SDG'!T49))))","v":""}]
[null,{"$f":"'Technische SDG'!B50","v":"F2.31"},{"$f":"VLOOKUP(B51,'Kapitel 2'!$C$6:$D$278,2,0)","v":"Wie geht die Organisation mit abnormalem Verhalten (einschließlich Risiken der Radikalisierung) um?"},{"$f":"'Technische SDG'!C50","v":3},17,{"$f":"IF('Technische SDG'!D50=\"\",\"\",IF($D51=\"\",\"please complete\",IF($D51>'Technische SDG'!D50-1,\":-)\",CONCATENATE(\"increase until \",'Technische SDG'!D50))))","v":""},{"$f":"IF('Technische SDG'!E50=\"\",\"\",IF($D51=\"\",\"please complete\",IF($D51>'Technische SDG'!E50-1,\":-)\",CONCATENATE(\"increase until \",'Technische SDG'!E50))))","v":""},{"$f":"IF('Technische SDG'!F50=\"\",\"\",IF($D51=\"\",\"please complete\",IF($D51>'Technische SDG'!F50-1,\":-)\",CONCATENATE(\"increase until \",'Technische SDG'!F50))))","v":""},{"$f":"IF('Technische SDG'!G50=\"\",\"\",IF($D51=\"\",\"please complete\",IF($D51>'Technische SDG'!G50-1,\":-)\",CONCATENATE(\"increase until \",'Technische SDG'!G50))))","v":""},{"$f":"IF('Technische SDG'!H50=\"\",\"\",IF($D51=\"\",\"please complete\",IF($D51>'Technische SDG'!H50-1,\":-)\",CONCATENATE(\"increase until \",'Technische SDG'!H50))))","v":""},{"$f":"IF('Technische SDG'!I50=\"\",\"\",IF($D51=\"\",\"please complete\",IF($D51>'Technische SDG'!I50-1,\":-)\",CONCATENATE(\"increase until \",'Technische SDG'!I50))))","v":""},{"$f":"IF('Technische SDG'!J50=\"\",\"\",IF($D51=\"\",\"please complete\",IF($D51>'Technische SDG'!J50-1,\":-)\",CONCATENATE(\"increase until \",'Technische SDG'!J50))))","v":""},{"$f":"IF('Technische SDG'!K50=\"\",\"\",IF($D51=\"\",\"please complete\",IF($D51>'Technische SDG'!K50-1,\":-)\",CONCATENATE(\"increase until \",'Technische SDG'!K50))))","v":""},{"$f":"IF('Technische SDG'!L50=\"\",\"\",IF($D51=\"\",\"please complete\",IF($D51>'Technische SDG'!L50-1,\":-)\",CONCATENATE(\"increase until \",'Technische SDG'!L50))))","v":""},{"$f":"IF('Technische SDG'!M50=\"\",\"\",IF($D51=\"\",\"please complete\",IF($D51>'Technische SDG'!M50-1,\":-)\",CONCATENATE(\"increase until \",'Technische SDG'!M50))))","v":""},{"$f":"IF('Technische SDG'!N50=\"\",\"\",IF($D51=\"\",\"please complete\",IF($D51>'Technische SDG'!N50-1,\":-)\",CONCATENATE(\"increase until \",'Technische SDG'!N50))))","v":""},{"$f":"IF('Technische SDG'!O50=\"\",\"\",IF($D51=\"\",\"please complete\",IF($D51>'Technische SDG'!O50-1,\":-)\",CONCATENATE(\"increase until \",'Technische SDG'!O50))))","v":""},{"$f":"IF('Technische SDG'!P50=\"\",\"\",IF($D51=\"\",\"please complete\",IF($D51>'Technische SDG'!P50-1,\":-)\",CONCATENATE(\"increase until \",'Technische SDG'!P50))))","v":""},{"$f":"IF('Technische SDG'!Q50=\"\",\"\",IF($D51=\"\",\"please complete\",IF($D51>'Technische SDG'!Q50-1,\":-)\",CONCATENATE(\"increase until \",'Technische SDG'!Q50))))","v":""},{"$f":"IF('Technische SDG'!R50=\"\",\"\",IF($D51=\"\",\"please complete\",IF($D51>'Technische SDG'!R50-1,\":-)\",CONCATENATE(\"increase until \",'Technische SDG'!R50))))","v":""},{"$f":"IF('Technische SDG'!S50=\"\",\"\",IF($D51=\"\",\"please complete\",IF($D51>'Technische SDG'!S50-1,\":-)\",CONCATENATE(\"increase until \",'Technische SDG'!S50))))","v":""},{"$f":"IF('Technische SDG'!T50=\"\",\"\",IF($D51=\"\",\"please complete\",IF($D51>'Technische SDG'!T50-1,\":-)\",CONCATENATE(\"increase until \",'Technische SDG'!T50))))","v":""}]
[null,{"$f":"'Technische SDG'!B51","v":"F2.32"},{"$f":"VLOOKUP(B52,'Kapitel 2'!$C$6:$D$278,2,0)","v":"In welcher Weise weist die Organisation die Mitarbeiter an, in Sicherheitsfragen wachsam zu sein?"},{"$f":"'Technische SDG'!C51","v":1},17,{"$f":"IF('Technische SDG'!D51=\"\",\"\",IF($D52=\"\",\"please complete\",IF($D52>'Technische SDG'!D51-1,\":-)\",CONCATENATE(\"increase until \",'Technische SDG'!D51))))","v":""},{"$f":"IF('Technische SDG'!E51=\"\",\"\",IF($D52=\"\",\"please complete\",IF($D52>'Technische SDG'!E51-1,\":-)\",CONCATENATE(\"increase until \",'Technische SDG'!E51))))","v":""},{"$f":"IF('Technische SDG'!F51=\"\",\"\",IF($D52=\"\",\"please complete\",IF($D52>'Technische SDG'!F51-1,\":-)\",CONCATENATE(\"increase until \",'Technische SDG'!F51))))","v":""},{"$f":"IF('Technische SDG'!G51=\"\",\"\",IF($D52=\"\",\"please complete\",IF($D52>'Technische SDG'!G51-1,\":-)\",CONCATENATE(\"increase until \",'Technische SDG'!G51))))","v":""},{"$f":"IF('Technische SDG'!H51=\"\",\"\",IF($D52=\"\",\"please complete\",IF($D52>'Technische SDG'!H51-1,\":-)\",CONCATENATE(\"increase until \",'Technische SDG'!H51))))","v":""},{"$f":"IF('Technische SDG'!I51=\"\",\"\",IF($D52=\"\",\"please complete\",IF($D52>'Technische SDG'!I51-1,\":-)\",CONCATENATE(\"increase until \",'Technische SDG'!I51))))","v":""},{"$f":"IF('Technische SDG'!J51=\"\",\"\",IF($D52=\"\",\"please complete\",IF($D52>'Technische SDG'!J51-1,\":-)\",CONCATENATE(\"increase until \",'Technische SDG'!J51))))","v":""},{"$f":"IF('Technische SDG'!K51=\"\",\"\",IF($D52=\"\",\"please complete\",IF($D52>'Technische SDG'!K51-1,\":-)\",CONCATENATE(\"increase until \",'Technische SDG'!K51))))","v":""},{"$f":"IF('Technische SDG'!L51=\"\",\"\",IF($D52=\"\",\"please complete\",IF($D52>'Technische SDG'!L51-1,\":-)\",CONCATENATE(\"increase until \",'Technische SDG'!L51))))","v":""},{"$f":"IF('Technische SDG'!M51=\"\",\"\",IF($D52=\"\",\"please complete\",IF($D52>'Technische SDG'!M51-1,\":-)\",CONCATENATE(\"increase until \",'Technische SDG'!M51))))","v":""},{"$f":"IF('Technische SDG'!N51=\"\",\"\",IF($D52=\"\",\"please complete\",IF($D52>'Technische SDG'!N51-1,\":-)\",CONCATENATE(\"increase until \",'Technische SDG'!N51))))","v":""},{"$f":"IF('Technische SDG'!O51=\"\",\"\",IF($D52=\"\",\"please complete\",IF($D52>'Technische SDG'!O51-1,\":-)\",CONCATENATE(\"increase until \",'Technische SDG'!O51))))","v":""},{"$f":"IF('Technische SDG'!P51=\"\",\"\",IF($D52=\"\",\"please complete\",IF($D52>'Technische SDG'!P51-1,\":-)\",CONCATENATE(\"increase until \",'Technische SDG'!P51))))","v":""},{"$f":"IF('Technische SDG'!Q51=\"\",\"\",IF($D52=\"\",\"please complete\",IF($D52>'Technische SDG'!Q51-1,\":-)\",CONCATENATE(\"increase until \",'Technische SDG'!Q51))))","v":""},{"$f":"IF('Technische SDG'!R51=\"\",\"\",IF($D52=\"\",\"please complete\",IF($D52>'Technische SDG'!R51-1,\":-)\",CONCATENATE(\"increase until \",'Technische SDG'!R51))))","v":""},{"$f":"IF('Technische SDG'!S51=\"\",\"\",IF($D52=\"\",\"please complete\",IF($D52>'Technische SDG'!S51-1,\":-)\",CONCATENATE(\"increase until \",'Technische SDG'!S51))))","v":""},{"$f":"IF('Technische SDG'!T51=\"\",\"\",IF($D52=\"\",\"please complete\",IF($D52>'Technische SDG'!T51-1,\":-)\",CONCATENATE(\"increase until \",'Technische SDG'!T51))))","v":""}]
[null,{"$f":"'Technische SDG'!B52","v":"F2.33"},{"$f":"VLOOKUP(B53,'Kapitel 2'!$C$6:$D$278,2,0)","v":"In welcher Weise werden die möglichen Umweltauswirkungen der Aktivitäten der Organisation bewertet?"},{"$f":"'Technische SDG'!C52","v":2},15,{"$f":"IF('Technische SDG'!D52=\"\",\"\",IF($D53=\"\",\"bitte ausfüllen \",IF($D53>'Technische SDG'!D52-1,\":-)\",CONCATENATE(\"Verbessern bis   \",'Technische SDG'!D52))))","v":""},{"$f":"IF('Technische SDG'!E52=\"\",\"\",IF($D53=\"\",\"bitte ausfüllen \",IF($D53>'Technische SDG'!E52-1,\":-)\",CONCATENATE(\"Verbessern bis   \",'Technische SDG'!E52))))","v":""},{"$f":"IF('Technische SDG'!F52=\"\",\"\",IF($D53=\"\",\"bitte ausfüllen \",IF($D53>'Technische SDG'!F52-1,\":-)\",CONCATENATE(\"Verbessern bis   \",'Technische SDG'!F52))))","v":""},{"$f":"IF('Technische SDG'!G52=\"\",\"\",IF($D53=\"\",\"bitte ausfüllen \",IF($D53>'Technische SDG'!G52-1,\":-)\",CONCATENATE(\"Verbessern bis   \",'Technische SDG'!G52))))","v":""},{"$f":"IF('Technische SDG'!H52=\"\",\"\",IF($D53=\"\",\"bitte ausfüllen \",IF($D53>'Technische SDG'!H52-1,\":-)\",CONCATENATE(\"Verbessern bis   \",'Technische SDG'!H52))))","v":""},{"$f":"IF('Technische SDG'!I52=\"\",\"\",IF($D53=\"\",\"bitte ausfüllen \",IF($D53>'Technische SDG'!I52-1,\":-)\",CONCATENATE(\"Verbessern bis   \",'Technische SDG'!I52))))","v":""},{"$f":"IF('Technische SDG'!J52=\"\",\"\",IF($D53=\"\",\"bitte ausfüllen \",IF($D53>'Technische SDG'!J52-1,\":-)\",CONCATENATE(\"Verbessern bis   \",'Technische SDG'!J52))))","v":""},{"$f":"IF('Technische SDG'!K52=\"\",\"\",IF($D53=\"\",\"bitte ausfüllen \",IF($D53>'Technische SDG'!K52-1,\":-)\",CONCATENATE(\"Verbessern bis   \",'Technische SDG'!K52))))","v":""},{"$f":"IF('Technische SDG'!L52=\"\",\"\",IF($D53=\"\",\"bitte ausfüllen \",IF($D53>'Technische SDG'!L52-1,\":-)\",CONCATENATE(\"Verbessern bis   \",'Technische SDG'!L52))))","v":"Verbessern bis   3"},{"$f":"IF('Technische SDG'!M52=\"\",\"\",IF($D53=\"\",\"bitte ausfüllen \",IF($D53>'Technische SDG'!M52-1,\":-)\",CONCATENATE(\"Verbessern bis   \",'Technische SDG'!M52))))","v":""},{"$f":"IF('Technische SDG'!N52=\"\",\"\",IF($D53=\"\",\"bitte ausfüllen \",IF($D53>'Technische SDG'!N52-1,\":-)\",CONCATENATE(\"Verbessern bis   \",'Technische SDG'!N52))))","v":""},{"$f":"IF('Technische SDG'!O52=\"\",\"\",IF($D53=\"\",\"bitte ausfüllen \",IF($D53>'Technische SDG'!O52-1,\":-)\",CONCATENATE(\"Verbessern bis   \",'Technische SDG'!O52))))","v":"Verbessern bis   3"},{"$f":"IF('Technische SDG'!P52=\"\",\"\",IF($D53=\"\",\"bitte ausfüllen \",IF($D53>'Technische SDG'!P52-1,\":-)\",CONCATENATE(\"Verbessern bis   \",'Technische SDG'!P52))))","v":""},{"$f":"IF('Technische SDG'!Q52=\"\",\"\",IF($D53=\"\",\"bitte ausfüllen \",IF($D53>'Technische SDG'!Q52-1,\":-)\",CONCATENATE(\"Verbessern bis   \",'Technische SDG'!Q52))))","v":""},{"$f":"IF('Technische SDG'!R52=\"\",\"\",IF($D53=\"\",\"bitte ausfüllen \",IF($D53>'Technische SDG'!R52-1,\":-)\",CONCATENATE(\"Verbessern bis   \",'Technische SDG'!R52))))","v":""},{"$f":"IF('Technische SDG'!S52=\"\",\"\",IF($D53=\"\",\"bitte ausfüllen \",IF($D53>'Technische SDG'!S52-1,\":-)\",CONCATENATE(\"Verbessern bis   \",'Technische SDG'!S52))))","v":""},{"$f":"IF('Technische SDG'!T52=\"\",\"\",IF($D53=\"\",\"bitte ausfüllen \",IF($D53>'Technische SDG'!T52-1,\":-)\",CONCATENATE(\"Verbessern bis   \",'Technische SDG'!T52))))","v":""}]
[null,{"$f":"'Technische SDG'!B53","v":"F2.34"},{"$f":"VLOOKUP(B54,'Kapitel 2'!$C$6:$D$278,2,0)","v":"In welcher Weise steuert die Organisation ihre Umweltleistung?"},{"$f":"'Technische SDG'!C53","v":1},15,{"$f":"IF('Technische SDG'!D53=\"\",\"\",IF($D54=\"\",\"bitte ausfüllen \",IF($D54>'Technische SDG'!D53-1,\":-)\",CONCATENATE(\"Verbessern bis   \",'Technische SDG'!D53))))","v":""},{"$f":"IF('Technische SDG'!E53=\"\",\"\",IF($D54=\"\",\"bitte ausfüllen \",IF($D54>'Technische SDG'!E53-1,\":-)\",CONCATENATE(\"Verbessern bis   \",'Technische SDG'!E53))))","v":""},{"$f":"IF('Technische SDG'!F53=\"\",\"\",IF($D54=\"\",\"bitte ausfüllen \",IF($D54>'Technische SDG'!F53-1,\":-)\",CONCATENATE(\"Verbessern bis   \",'Technische SDG'!F53))))","v":""},{"$f":"IF('Technische SDG'!G53=\"\",\"\",IF($D54=\"\",\"bitte ausfüllen \",IF($D54>'Technische SDG'!G53-1,\":-)\",CONCATENATE(\"Verbessern bis   \",'Technische SDG'!G53))))","v":""},{"$f":"IF('Technische SDG'!H53=\"\",\"\",IF($D54=\"\",\"bitte ausfüllen \",IF($D54>'Technische SDG'!H53-1,\":-)\",CONCATENATE(\"Verbessern bis   \",'Technische SDG'!H53))))","v":""},{"$f":"IF('Technische SDG'!I53=\"\",\"\",IF($D54=\"\",\"bitte ausfüllen \",IF($D54>'Technische SDG'!I53-1,\":-)\",CONCATENATE(\"Verbessern bis   \",'Technische SDG'!I53))))","v":""},{"$f":"IF('Technische SDG'!J53=\"\",\"\",IF($D54=\"\",\"bitte ausfüllen \",IF($D54>'Technische SDG'!J53-1,\":-)\",CONCATENATE(\"Verbessern bis   \",'Technische SDG'!J53))))","v":""},{"$f":"IF('Technische SDG'!K53=\"\",\"\",IF($D54=\"\",\"bitte ausfüllen \",IF($D54>'Technische SDG'!K53-1,\":-)\",CONCATENATE(\"Verbessern bis   \",'Technische SDG'!K53))))","v":""},{"$f":"IF('Technische SDG'!L53=\"\",\"\",IF($D54=\"\",\"bitte ausfüllen \",IF($D54>'Technische SDG'!L53-1,\":-)\",CONCATENATE(\"Verbessern bis   \",'Technische SDG'!L53))))","v":"Verbessern bis   3"},{"$f":"IF('Technische SDG'!M53=\"\",\"\",IF($D54=\"\",\"bitte ausfüllen \",IF($D54>'Technische SDG'!M53-1,\":-)\",CONCATENATE(\"Verbessern bis   \",'Technische SDG'!M53))))","v":""},{"$f":"IF('Technische SDG'!N53=\"\",\"\",IF($D54=\"\",\"bitte ausfüllen \",IF($D54>'Technische SDG'!N53-1,\":-)\",CONCATENATE(\"Verbessern bis   \",'Technische SDG'!N53))))","v":""},{"$f":"IF('Technische SDG'!O53=\"\",\"\",IF($D54=\"\",\"bitte ausfüllen \",IF($D54>'Technische SDG'!O53-1,\":-)\",CONCATENATE(\"Verbessern bis   \",'Technische SDG'!O53))))","v":"Verbessern bis   3"},{"$f":"IF('Technische SDG'!P53=\"\",\"\",IF($D54=\"\",\"bitte ausfüllen \",IF($D54>'Technische SDG'!P53-1,\":-)\",CONCATENATE(\"Verbessern bis   \",'Technische SDG'!P53))))","v":""},{"$f":"IF('Technische SDG'!Q53=\"\",\"\",IF($D54=\"\",\"bitte ausfüllen \",IF($D54>'Technische SDG'!Q53-1,\":-)\",CONCATENATE(\"Verbessern bis   \",'Technische SDG'!Q53))))","v":""},{"$f":"IF('Technische SDG'!R53=\"\",\"\",IF($D54=\"\",\"bitte ausfüllen \",IF($D54>'Technische SDG'!R53-1,\":-)\",CONCATENATE(\"Verbessern bis   \",'Technische SDG'!R53))))","v":""},{"$f":"IF('Technische SDG'!S53=\"\",\"\",IF($D54=\"\",\"bitte ausfüllen \",IF($D54>'Technische SDG'!S53-1,\":-)\",CONCATENATE(\"Verbessern bis   \",'Technische SDG'!S53))))","v":""},{"$f":"IF('Technische SDG'!T53=\"\",\"\",IF($D54=\"\",\"bitte ausfüllen \",IF($D54>'Technische SDG'!T53-1,\":-)\",CONCATENATE(\"Verbessern bis   \",'Technische SDG'!T53))))","v":""}]
[null,{"$f":"'Technische SDG'!B54","v":"F2.35"},{"$f":"VLOOKUP(B55,'Kapitel 2'!$C$6:$D$278,2,0)","v":"Wie geht die Organisation mit Abfall um?"},{"$f":"'Technische SDG'!C54","v":2},15,{"$f":"IF('Technische SDG'!D54=\"\",\"\",IF($D55=\"\",\"bitte ausfüllen \",IF($D55>'Technische SDG'!D54-1,\":-)\",CONCATENATE(\"Verbessern bis   \",'Technische SDG'!D54))))","v":""},{"$f":"IF('Technische SDG'!E54=\"\",\"\",IF($D55=\"\",\"bitte ausfüllen \",IF($D55>'Technische SDG'!E54-1,\":-)\",CONCATENATE(\"Verbessern bis   \",'Technische SDG'!E54))))","v":""},{"$f":"IF('Technische SDG'!F54=\"\",\"\",IF($D55=\"\",\"bitte ausfüllen \",IF($D55>'Technische SDG'!F54-1,\":-)\",CONCATENATE(\"Verbessern bis   \",'Technische SDG'!F54))))","v":""},{"$f":"IF('Technische SDG'!G54=\"\",\"\",IF($D55=\"\",\"bitte ausfüllen \",IF($D55>'Technische SDG'!G54-1,\":-)\",CONCATENATE(\"Verbessern bis   \",'Technische SDG'!G54))))","v":""},{"$f":"IF('Technische SDG'!H54=\"\",\"\",IF($D55=\"\",\"bitte ausfüllen \",IF($D55>'Technische SDG'!H54-1,\":-)\",CONCATENATE(\"Verbessern bis   \",'Technische SDG'!H54))))","v":""},{"$f":"IF('Technische SDG'!I54=\"\",\"\",IF($D55=\"\",\"bitte ausfüllen \",IF($D55>'Technische SDG'!I54-1,\":-)\",CONCATENATE(\"Verbessern bis   \",'Technische SDG'!I54))))","v":""},{"$f":"IF('Technische SDG'!J54=\"\",\"\",IF($D55=\"\",\"bitte ausfüllen \",IF($D55>'Technische SDG'!J54-1,\":-)\",CONCATENATE(\"Verbessern bis   \",'Technische SDG'!J54))))","v":""},{"$f":"IF('Technische SDG'!K54=\"\",\"\",IF($D55=\"\",\"bitte ausfüllen \",IF($D55>'Technische SDG'!K54-1,\":-)\",CONCATENATE(\"Verbessern bis   \",'Technische SDG'!K54))))","v":""},{"$f":"IF('Technische SDG'!L54=\"\",\"\",IF($D55=\"\",\"bitte ausfüllen \",IF($D55>'Technische SDG'!L54-1,\":-)\",CONCATENATE(\"Verbessern bis   \",'Technische SDG'!L54))))","v":"Verbessern bis   3"},{"$f":"IF('Technische SDG'!M54=\"\",\"\",IF($D55=\"\",\"bitte ausfüllen \",IF($D55>'Technische SDG'!M54-1,\":-)\",CONCATENATE(\"Verbessern bis   \",'Technische SDG'!M54))))","v":""},{"$f":"IF('Technische SDG'!N54=\"\",\"\",IF($D55=\"\",\"bitte ausfüllen \",IF($D55>'Technische SDG'!N54-1,\":-)\",CONCATENATE(\"Verbessern bis   \",'Technische SDG'!N54))))","v":""},{"$f":"IF('Technische SDG'!O54=\"\",\"\",IF($D55=\"\",\"bitte ausfüllen \",IF($D55>'Technische SDG'!O54-1,\":-)\",CONCATENATE(\"Verbessern bis   \",'Technische SDG'!O54))))","v":"Verbessern bis   3"},{"$f":"IF('Technische SDG'!P54=\"\",\"\",IF($D55=\"\",\"bitte ausfüllen \",IF($D55>'Technische SDG'!P54-1,\":-)\",CONCATENATE(\"Verbessern bis   \",'Technische SDG'!P54))))","v":""},{"$f":"IF('Technische SDG'!Q54=\"\",\"\",IF($D55=\"\",\"bitte ausfüllen \",IF($D55>'Technische SDG'!Q54-1,\":-)\",CONCATENATE(\"Verbessern bis   \",'Technische SDG'!Q54))))","v":""},{"$f":"IF('Technische SDG'!R54=\"\",\"\",IF($D55=\"\",\"bitte ausfüllen \",IF($D55>'Technische SDG'!R54-1,\":-)\",CONCATENATE(\"Verbessern bis   \",'Technische SDG'!R54))))","v":""},{"$f":"IF('Technische SDG'!S54=\"\",\"\",IF($D55=\"\",\"bitte ausfüllen \",IF($D55>'Technische SDG'!S54-1,\":-)\",CONCATENATE(\"Verbessern bis   \",'Technische SDG'!S54))))","v":""},{"$f":"IF('Technische SDG'!T54=\"\",\"\",IF($D55=\"\",\"bitte ausfüllen \",IF($D55>'Technische SDG'!T54-1,\":-)\",CONCATENATE(\"Verbessern bis   \",'Technische SDG'!T54))))","v":""}]
[null,{"$f":"'Technische SDG'!B55","v":"F2.36"},{"$f":"VLOOKUP(B56,'Kapitel 2'!$C$6:$D$278,2,0)","v":"Wie geht die Organisation mit Risiken für das Grundwasser um?"},{"$f":"'Technische SDG'!C55","v":1},15,{"$f":"IF('Technische SDG'!D55=\"\",\"\",IF($D56=\"\",\"bitte ausfüllen \",IF($D56>'Technische SDG'!D55-1,\":-)\",CONCATENATE(\"Verbessern bis   \",'Technische SDG'!D55))))","v":""},{"$f":"IF('Technische SDG'!E55=\"\",\"\",IF($D56=\"\",\"bitte ausfüllen \",IF($D56>'Technische SDG'!E55-1,\":-)\",CONCATENATE(\"Verbessern bis   \",'Technische SDG'!E55))))","v":""},{"$f":"IF('Technische SDG'!F55=\"\",\"\",IF($D56=\"\",\"bitte ausfüllen \",IF($D56>'Technische SDG'!F55-1,\":-)\",CONCATENATE(\"Verbessern bis   \",'Technische SDG'!F55))))","v":""},{"$f":"IF('Technische SDG'!G55=\"\",\"\",IF($D56=\"\",\"bitte ausfüllen \",IF($D56>'Technische SDG'!G55-1,\":-)\",CONCATENATE(\"Verbessern bis   \",'Technische SDG'!G55))))","v":""},{"$f":"IF('Technische SDG'!H55=\"\",\"\",IF($D56=\"\",\"bitte ausfüllen \",IF($D56>'Technische SDG'!H55-1,\":-)\",CONCATENATE(\"Verbessern bis   \",'Technische SDG'!H55))))","v":""},{"$f":"IF('Technische SDG'!I55=\"\",\"\",IF($D56=\"\",\"bitte ausfüllen \",IF($D56>'Technische SDG'!I55-1,\":-)\",CONCATENATE(\"Verbessern bis   \",'Technische SDG'!I55))))","v":""},{"$f":"IF('Technische SDG'!J55=\"\",\"\",IF($D56=\"\",\"bitte ausfüllen \",IF($D56>'Technische SDG'!J55-1,\":-)\",CONCATENATE(\"Verbessern bis   \",'Technische SDG'!J55))))","v":""},{"$f":"IF('Technische SDG'!K55=\"\",\"\",IF($D56=\"\",\"bitte ausfüllen \",IF($D56>'Technische SDG'!K55-1,\":-)\",CONCATENATE(\"Verbessern bis   \",'Technische SDG'!K55))))","v":""},{"$f":"IF('Technische SDG'!L55=\"\",\"\",IF($D56=\"\",\"bitte ausfüllen \",IF($D56>'Technische SDG'!L55-1,\":-)\",CONCATENATE(\"Verbessern bis   \",'Technische SDG'!L55))))","v":"Verbessern bis   3"},{"$f":"IF('Technische SDG'!M55=\"\",\"\",IF($D56=\"\",\"bitte ausfüllen \",IF($D56>'Technische SDG'!M55-1,\":-)\",CONCATENATE(\"Verbessern bis   \",'Technische SDG'!M55))))","v":""},{"$f":"IF('Technische SDG'!N55=\"\",\"\",IF($D56=\"\",\"bitte ausfüllen \",IF($D56>'Technische SDG'!N55-1,\":-)\",CONCATENATE(\"Verbessern bis   \",'Technische SDG'!N55))))","v":""},{"$f":"IF('Technische SDG'!O55=\"\",\"\",IF($D56=\"\",\"bitte ausfüllen \",IF($D56>'Technische SDG'!O55-1,\":-)\",CONCATENATE(\"Verbessern bis   \",'Technische SDG'!O55))))","v":"Verbessern bis   3"},{"$f":"IF('Technische SDG'!P55=\"\",\"\",IF($D56=\"\",\"bitte ausfüllen \",IF($D56>'Technische SDG'!P55-1,\":-)\",CONCATENATE(\"Verbessern bis   \",'Technische SDG'!P55))))","v":""},{"$f":"IF('Technische SDG'!Q55=\"\",\"\",IF($D56=\"\",\"bitte ausfüllen \",IF($D56>'Technische SDG'!Q55-1,\":-)\",CONCATENATE(\"Verbessern bis   \",'Technische SDG'!Q55))))","v":""},{"$f":"IF('Technische SDG'!R55=\"\",\"\",IF($D56=\"\",\"bitte ausfüllen \",IF($D56>'Technische SDG'!R55-1,\":-)\",CONCATENATE(\"Verbessern bis   \",'Technische SDG'!R55))))","v":""},{"$f":"IF('Technische SDG'!S55=\"\",\"\",IF($D56=\"\",\"bitte ausfüllen \",IF($D56>'Technische SDG'!S55-1,\":-)\",CONCATENATE(\"Verbessern bis   \",'Technische SDG'!S55))))","v":""},{"$f":"IF('Technische SDG'!T55=\"\",\"\",IF($D56=\"\",\"bitte ausfüllen \",IF($D56>'Technische SDG'!T55-1,\":-)\",CONCATENATE(\"Verbessern bis   \",'Technische SDG'!T55))))","v":""}]
[null,{"$f":"'Technische SDG'!B56","v":"F2.37"},{"$f":"VLOOKUP(B57,'Kapitel 2'!$C$6:$D$278,2,0)","v":"Wie geht die Organisation mit den Risiken einer Bodenverschmutzung um?"},{"$f":"'Technische SDG'!C56","v":3},15,{"$f":"IF('Technische SDG'!D56=\"\",\"\",IF($D57=\"\",\"bitte ausfüllen \",IF($D57>'Technische SDG'!D56-1,\":-)\",CONCATENATE(\"Verbessern bis   \",'Technische SDG'!D56))))","v":""},{"$f":"IF('Technische SDG'!E56=\"\",\"\",IF($D57=\"\",\"bitte ausfüllen \",IF($D57>'Technische SDG'!E56-1,\":-)\",CONCATENATE(\"Verbessern bis   \",'Technische SDG'!E56))))","v":""},{"$f":"IF('Technische SDG'!F56=\"\",\"\",IF($D57=\"\",\"bitte ausfüllen \",IF($D57>'Technische SDG'!F56-1,\":-)\",CONCATENATE(\"Verbessern bis   \",'Technische SDG'!F56))))","v":""},{"$f":"IF('Technische SDG'!G56=\"\",\"\",IF($D57=\"\",\"bitte ausfüllen \",IF($D57>'Technische SDG'!G56-1,\":-)\",CONCATENATE(\"Verbessern bis   \",'Technische SDG'!G56))))","v":""},{"$f":"IF('Technische SDG'!H56=\"\",\"\",IF($D57=\"\",\"bitte ausfüllen \",IF($D57>'Technische SDG'!H56-1,\":-)\",CONCATENATE(\"Verbessern bis   \",'Technische SDG'!H56))))","v":""},{"$f":"IF('Technische SDG'!I56=\"\",\"\",IF($D57=\"\",\"bitte ausfüllen \",IF($D57>'Technische SDG'!I56-1,\":-)\",CONCATENATE(\"Verbessern bis   \",'Technische SDG'!I56))))","v":""},{"$f":"IF('Technische SDG'!J56=\"\",\"\",IF($D57=\"\",\"bitte ausfüllen \",IF($D57>'Technische SDG'!J56-1,\":-)\",CONCATENATE(\"Verbessern bis   \",'Technische SDG'!J56))))","v":""},{"$f":"IF('Technische SDG'!K56=\"\",\"\",IF($D57=\"\",\"bitte ausfüllen \",IF($D57>'Technische SDG'!K56-1,\":-)\",CONCATENATE(\"Verbessern bis   \",'Technische SDG'!K56))))","v":""},{"$f":"IF('Technische SDG'!L56=\"\",\"\",IF($D57=\"\",\"bitte ausfüllen \",IF($D57>'Technische SDG'!L56-1,\":-)\",CONCATENATE(\"Verbessern bis   \",'Technische SDG'!L56))))","v":":-)"},{"$f":"IF('Technische SDG'!M56=\"\",\"\",IF($D57=\"\",\"bitte ausfüllen \",IF($D57>'Technische SDG'!M56-1,\":-)\",CONCATENATE(\"Verbessern bis   \",'Technische SDG'!M56))))","v":""},{"$f":"IF('Technische SDG'!N56=\"\",\"\",IF($D57=\"\",\"bitte ausfüllen \",IF($D57>'Technische SDG'!N56-1,\":-)\",CONCATENATE(\"Verbessern bis   \",'Technische SDG'!N56))))","v":""},{"$f":"IF('Technische SDG'!O56=\"\",\"\",IF($D57=\"\",\"bitte ausfüllen \",IF($D57>'Technische SDG'!O56-1,\":-)\",CONCATENATE(\"Verbessern bis   \",'Technische SDG'!O56))))","v":":-)"},{"$f":"IF('Technische SDG'!P56=\"\",\"\",IF($D57=\"\",\"bitte ausfüllen \",IF($D57>'Technische SDG'!P56-1,\":-)\",CONCATENATE(\"Verbessern bis   \",'Technische SDG'!P56))))","v":""},{"$f":"IF('Technische SDG'!Q56=\"\",\"\",IF($D57=\"\",\"bitte ausfüllen \",IF($D57>'Technische SDG'!Q56-1,\":-)\",CONCATENATE(\"Verbessern bis   \",'Technische SDG'!Q56))))","v":""},{"$f":"IF('Technische SDG'!R56=\"\",\"\",IF($D57=\"\",\"bitte ausfüllen \",IF($D57>'Technische SDG'!R56-1,\":-)\",CONCATENATE(\"Verbessern bis   \",'Technische SDG'!R56))))","v":""},{"$f":"IF('Technische SDG'!S56=\"\",\"\",IF($D57=\"\",\"bitte ausfüllen \",IF($D57>'Technische SDG'!S56-1,\":-)\",CONCATENATE(\"Verbessern bis   \",'Technische SDG'!S56))))","v":""},{"$f":"IF('Technische SDG'!T56=\"\",\"\",IF($D57=\"\",\"bitte ausfüllen \",IF($D57>'Technische SDG'!T56-1,\":-)\",CONCATENATE(\"Verbessern bis   \",'Technische SDG'!T56))))","v":""}]
[null,{"$f":"'Technische SDG'!B57","v":"F2.38"},{"$f":"VLOOKUP(B58,'Kapitel 2'!$C$6:$D$278,2,0)","v":"Wie geht die Organisation mit vorhandenen Bodenverschmutzungen um?"},{"$f":"'Technische SDG'!C57","v":1},15,{"$f":"IF('Technische SDG'!D57=\"\",\"\",IF($D58=\"\",\"bitte ausfüllen \",IF($D58>'Technische SDG'!D57-1,\":-)\",CONCATENATE(\"Verbessern bis   \",'Technische SDG'!D57))))","v":""},{"$f":"IF('Technische SDG'!E57=\"\",\"\",IF($D58=\"\",\"bitte ausfüllen \",IF($D58>'Technische SDG'!E57-1,\":-)\",CONCATENATE(\"Verbessern bis   \",'Technische SDG'!E57))))","v":""},{"$f":"IF('Technische SDG'!F57=\"\",\"\",IF($D58=\"\",\"bitte ausfüllen \",IF($D58>'Technische SDG'!F57-1,\":-)\",CONCATENATE(\"Verbessern bis   \",'Technische SDG'!F57))))","v":""},{"$f":"IF('Technische SDG'!G57=\"\",\"\",IF($D58=\"\",\"bitte ausfüllen \",IF($D58>'Technische SDG'!G57-1,\":-)\",CONCATENATE(\"Verbessern bis   \",'Technische SDG'!G57))))","v":""},{"$f":"IF('Technische SDG'!H57=\"\",\"\",IF($D58=\"\",\"bitte ausfüllen \",IF($D58>'Technische SDG'!H57-1,\":-)\",CONCATENATE(\"Verbessern bis   \",'Technische SDG'!H57))))","v":""},{"$f":"IF('Technische SDG'!I57=\"\",\"\",IF($D58=\"\",\"bitte ausfüllen \",IF($D58>'Technische SDG'!I57-1,\":-)\",CONCATENATE(\"Verbessern bis   \",'Technische SDG'!I57))))","v":""},{"$f":"IF('Technische SDG'!J57=\"\",\"\",IF($D58=\"\",\"bitte ausfüllen \",IF($D58>'Technische SDG'!J57-1,\":-)\",CONCATENATE(\"Verbessern bis   \",'Technische SDG'!J57))))","v":""},{"$f":"IF('Technische SDG'!K57=\"\",\"\",IF($D58=\"\",\"bitte ausfüllen \",IF($D58>'Technische SDG'!K57-1,\":-)\",CONCATENATE(\"Verbessern bis   \",'Technische SDG'!K57))))","v":""},{"$f":"IF('Technische SDG'!L57=\"\",\"\",IF($D58=\"\",\"bitte ausfüllen \",IF($D58>'Technische SDG'!L57-1,\":-)\",CONCATENATE(\"Verbessern bis   \",'Technische SDG'!L57))))","v":"Verbessern bis   3"},{"$f":"IF('Technische SDG'!M57=\"\",\"\",IF($D58=\"\",\"bitte ausfüllen \",IF($D58>'Technische SDG'!M57-1,\":-)\",CONCATENATE(\"Verbessern bis   \",'Technische SDG'!M57))))","v":""},{"$f":"IF('Technische SDG'!N57=\"\",\"\",IF($D58=\"\",\"bitte ausfüllen \",IF($D58>'Technische SDG'!N57-1,\":-)\",CONCATENATE(\"Verbessern bis   \",'Technische SDG'!N57))))","v":""},{"$f":"IF('Technische SDG'!O57=\"\",\"\",IF($D58=\"\",\"bitte ausfüllen \",IF($D58>'Technische SDG'!O57-1,\":-)\",CONCATENATE(\"Verbessern bis   \",'Technische SDG'!O57))))","v":"Verbessern bis   3"},{"$f":"IF('Technische SDG'!P57=\"\",\"\",IF($D58=\"\",\"bitte ausfüllen \",IF($D58>'Technische SDG'!P57-1,\":-)\",CONCATENATE(\"Verbessern bis   \",'Technische SDG'!P57))))","v":""},{"$f":"IF('Technische SDG'!Q57=\"\",\"\",IF($D58=\"\",\"bitte ausfüllen \",IF($D58>'Technische SDG'!Q57-1,\":-)\",CONCATENATE(\"Verbessern bis   \",'Technische SDG'!Q57))))","v":""},{"$f":"IF('Technische SDG'!R57=\"\",\"\",IF($D58=\"\",\"bitte ausfüllen \",IF($D58>'Technische SDG'!R57-1,\":-)\",CONCATENATE(\"Verbessern bis   \",'Technische SDG'!R57))))","v":""},{"$f":"IF('Technische SDG'!S57=\"\",\"\",IF($D58=\"\",\"bitte ausfüllen \",IF($D58>'Technische SDG'!S57-1,\":-)\",CONCATENATE(\"Verbessern bis   \",'Technische SDG'!S57))))","v":""},{"$f":"IF('Technische SDG'!T57=\"\",\"\",IF($D58=\"\",\"bitte ausfüllen \",IF($D58>'Technische SDG'!T57-1,\":-)\",CONCATENATE(\"Verbessern bis   \",'Technische SDG'!T57))))","v":""}]
[null,{"$f":"'Technische SDG'!B58","v":"F2.39"},{"$f":"VLOOKUP(B59,'Kapitel 2'!$C$6:$D$278,2,0)","v":"Wie geht die Organisation mit ihren Emissionen in die Luft um?"},{"$f":"'Technische SDG'!C58","v":3},15,{"$f":"IF('Technische SDG'!D58=\"\",\"\",IF($D59=\"\",\"bitte ausfüllen \",IF($D59>'Technische SDG'!D58-1,\":-)\",CONCATENATE(\"Verbessern bis   \",'Technische SDG'!D58))))","v":""},{"$f":"IF('Technische SDG'!E58=\"\",\"\",IF($D59=\"\",\"bitte ausfüllen \",IF($D59>'Technische SDG'!E58-1,\":-)\",CONCATENATE(\"Verbessern bis   \",'Technische SDG'!E58))))","v":""},{"$f":"IF('Technische SDG'!F58=\"\",\"\",IF($D59=\"\",\"bitte ausfüllen \",IF($D59>'Technische SDG'!F58-1,\":-)\",CONCATENATE(\"Verbessern bis   \",'Technische SDG'!F58))))","v":""},{"$f":"IF('Technische SDG'!G58=\"\",\"\",IF($D59=\"\",\"bitte ausfüllen \",IF($D59>'Technische SDG'!G58-1,\":-)\",CONCATENATE(\"Verbessern bis   \",'Technische SDG'!G58))))","v":""},{"$f":"IF('Technische SDG'!H58=\"\",\"\",IF($D59=\"\",\"bitte ausfüllen \",IF($D59>'Technische SDG'!H58-1,\":-)\",CONCATENATE(\"Verbessern bis   \",'Technische SDG'!H58))))","v":""},{"$f":"IF('Technische SDG'!I58=\"\",\"\",IF($D59=\"\",\"bitte ausfüllen \",IF($D59>'Technische SDG'!I58-1,\":-)\",CONCATENATE(\"Verbessern bis   \",'Technische SDG'!I58))))","v":""},{"$f":"IF('Technische SDG'!J58=\"\",\"\",IF($D59=\"\",\"bitte ausfüllen \",IF($D59>'Technische SDG'!J58-1,\":-)\",CONCATENATE(\"Verbessern bis   \",'Technische SDG'!J58))))","v":""},{"$f":"IF('Technische SDG'!K58=\"\",\"\",IF($D59=\"\",\"bitte ausfüllen \",IF($D59>'Technische SDG'!K58-1,\":-)\",CONCATENATE(\"Verbessern bis   \",'Technische SDG'!K58))))","v":""},{"$f":"IF('Technische SDG'!L58=\"\",\"\",IF($D59=\"\",\"bitte ausfüllen \",IF($D59>'Technische SDG'!L58-1,\":-)\",CONCATENATE(\"Verbessern bis   \",'Technische SDG'!L58))))","v":":-)"},{"$f":"IF('Technische SDG'!M58=\"\",\"\",IF($D59=\"\",\"bitte ausfüllen \",IF($D59>'Technische SDG'!M58-1,\":-)\",CONCATENATE(\"Verbessern bis   \",'Technische SDG'!M58))))","v":""},{"$f":"IF('Technische SDG'!N58=\"\",\"\",IF($D59=\"\",\"bitte ausfüllen \",IF($D59>'Technische SDG'!N58-1,\":-)\",CONCATENATE(\"Verbessern bis   \",'Technische SDG'!N58))))","v":""},{"$f":"IF('Technische SDG'!O58=\"\",\"\",IF($D59=\"\",\"bitte ausfüllen \",IF($D59>'Technische SDG'!O58-1,\":-)\",CONCATENATE(\"Verbessern bis   \",'Technische SDG'!O58))))","v":":-)"},{"$f":"IF('Technische SDG'!P58=\"\",\"\",IF($D59=\"\",\"bitte ausfüllen \",IF($D59>'Technische SDG'!P58-1,\":-)\",CONCATENATE(\"Verbessern bis   \",'Technische SDG'!P58))))","v":""},{"$f":"IF('Technische SDG'!Q58=\"\",\"\",IF($D59=\"\",\"bitte ausfüllen \",IF($D59>'Technische SDG'!Q58-1,\":-)\",CONCATENATE(\"Verbessern bis   \",'Technische SDG'!Q58))))","v":""},{"$f":"IF('Technische SDG'!R58=\"\",\"\",IF($D59=\"\",\"bitte ausfüllen \",IF($D59>'Technische SDG'!R58-1,\":-)\",CONCATENATE(\"Verbessern bis   \",'Technische SDG'!R58))))","v":""},{"$f":"IF('Technische SDG'!S58=\"\",\"\",IF($D59=\"\",\"bitte ausfüllen \",IF($D59>'Technische SDG'!S58-1,\":-)\",CONCATENATE(\"Verbessern bis   \",'Technische SDG'!S58))))","v":""},{"$f":"IF('Technische SDG'!T58=\"\",\"\",IF($D59=\"\",\"bitte ausfüllen \",IF($D59>'Technische SDG'!T58-1,\":-)\",CONCATENATE(\"Verbessern bis   \",'Technische SDG'!T58))))","v":""}]
[null,{"$f":"'Technische SDG'!B59","v":"F2.40"},{"$f":"VLOOKUP(B60,'Kapitel 2'!$C$6:$D$278,2,0)","v":"Wie geht die Organisation mit ihren Emissionen in Wasser um?"},{"$f":"'Technische SDG'!C59","v":1},15,{"$f":"IF('Technische SDG'!D59=\"\",\"\",IF($D60=\"\",\"bitte ausfüllen \",IF($D60>'Technische SDG'!D59-1,\":-)\",CONCATENATE(\"Verbessern bis   \",'Technische SDG'!D59))))","v":""},{"$f":"IF('Technische SDG'!E59=\"\",\"\",IF($D60=\"\",\"bitte ausfüllen \",IF($D60>'Technische SDG'!E59-1,\":-)\",CONCATENATE(\"Verbessern bis   \",'Technische SDG'!E59))))","v":""},{"$f":"IF('Technische SDG'!F59=\"\",\"\",IF($D60=\"\",\"bitte ausfüllen \",IF($D60>'Technische SDG'!F59-1,\":-)\",CONCATENATE(\"Verbessern bis   \",'Technische SDG'!F59))))","v":""},{"$f":"IF('Technische SDG'!G59=\"\",\"\",IF($D60=\"\",\"bitte ausfüllen \",IF($D60>'Technische SDG'!G59-1,\":-)\",CONCATENATE(\"Verbessern bis   \",'Technische SDG'!G59))))","v":""},{"$f":"IF('Technische SDG'!H59=\"\",\"\",IF($D60=\"\",\"bitte ausfüllen \",IF($D60>'Technische SDG'!H59-1,\":-)\",CONCATENATE(\"Verbessern bis   \",'Technische SDG'!H59))))","v":""},{"$f":"IF('Technische SDG'!I59=\"\",\"\",IF($D60=\"\",\"bitte ausfüllen \",IF($D60>'Technische SDG'!I59-1,\":-)\",CONCATENATE(\"Verbessern bis   \",'Technische SDG'!I59))))","v":""},{"$f":"IF('Technische SDG'!J59=\"\",\"\",IF($D60=\"\",\"bitte ausfüllen \",IF($D60>'Technische SDG'!J59-1,\":-)\",CONCATENATE(\"Verbessern bis   \",'Technische SDG'!J59))))","v":""},{"$f":"IF('Technische SDG'!K59=\"\",\"\",IF($D60=\"\",\"bitte ausfüllen \",IF($D60>'Technische SDG'!K59-1,\":-)\",CONCATENATE(\"Verbessern bis   \",'Technische SDG'!K59))))","v":""},{"$f":"IF('Technische SDG'!L59=\"\",\"\",IF($D60=\"\",\"bitte ausfüllen \",IF($D60>'Technische SDG'!L59-1,\":-)\",CONCATENATE(\"Verbessern bis   \",'Technische SDG'!L59))))","v":"Verbessern bis   3"},{"$f":"IF('Technische SDG'!M59=\"\",\"\",IF($D60=\"\",\"bitte ausfüllen \",IF($D60>'Technische SDG'!M59-1,\":-)\",CONCATENATE(\"Verbessern bis   \",'Technische SDG'!M59))))","v":""},{"$f":"IF('Technische SDG'!N59=\"\",\"\",IF($D60=\"\",\"bitte ausfüllen \",IF($D60>'Technische SDG'!N59-1,\":-)\",CONCATENATE(\"Verbessern bis   \",'Technische SDG'!N59))))","v":""},{"$f":"IF('Technische SDG'!O59=\"\",\"\",IF($D60=\"\",\"bitte ausfüllen \",IF($D60>'Technische SDG'!O59-1,\":-)\",CONCATENATE(\"Verbessern bis   \",'Technische SDG'!O59))))","v":"Verbessern bis   3"},{"$f":"IF('Technische SDG'!P59=\"\",\"\",IF($D60=\"\",\"bitte ausfüllen \",IF($D60>'Technische SDG'!P59-1,\":-)\",CONCATENATE(\"Verbessern bis   \",'Technische SDG'!P59))))","v":""},{"$f":"IF('Technische SDG'!Q59=\"\",\"\",IF($D60=\"\",\"bitte ausfüllen \",IF($D60>'Technische SDG'!Q59-1,\":-)\",CONCATENATE(\"Verbessern bis   \",'Technische SDG'!Q59))))","v":""},{"$f":"IF('Technische SDG'!R59=\"\",\"\",IF($D60=\"\",\"bitte ausfüllen \",IF($D60>'Technische SDG'!R59-1,\":-)\",CONCATENATE(\"Verbessern bis   \",'Technische SDG'!R59))))","v":""},{"$f":"IF('Technische SDG'!S59=\"\",\"\",IF($D60=\"\",\"bitte ausfüllen \",IF($D60>'Technische SDG'!S59-1,\":-)\",CONCATENATE(\"Verbessern bis   \",'Technische SDG'!S59))))","v":""},{"$f":"IF('Technische SDG'!T59=\"\",\"\",IF($D60=\"\",\"bitte ausfüllen \",IF($D60>'Technische SDG'!T59-1,\":-)\",CONCATENATE(\"Verbessern bis   \",'Technische SDG'!T59))))","v":""}]
[null,{"$f":"'Technische SDG'!B60","v":"F2.41"},{"$f":"VLOOKUP(B61,'Kapitel 2'!$C$6:$D$278,2,0)","v":"Wie geht die Organisation mit Lärmemissionen um?"},{"$f":"'Technische SDG'!C60","v":3},17,{"$f":"IF('Technische SDG'!D60=\"\",\"\",IF($D61=\"\",\"please complete\",IF($D61>'Technische SDG'!D60-1,\":-)\",CONCATENATE(\"increase until \",'Technische SDG'!D60))))","v":""},{"$f":"IF('Technische SDG'!E60=\"\",\"\",IF($D61=\"\",\"please complete\",IF($D61>'Technische SDG'!E60-1,\":-)\",CONCATENATE(\"increase until \",'Technische SDG'!E60))))","v":""},{"$f":"IF('Technische SDG'!F60=\"\",\"\",IF($D61=\"\",\"please complete\",IF($D61>'Technische SDG'!F60-1,\":-)\",CONCATENATE(\"increase until \",'Technische SDG'!F60))))","v":""},{"$f":"IF('Technische SDG'!G60=\"\",\"\",IF($D61=\"\",\"please complete\",IF($D61>'Technische SDG'!G60-1,\":-)\",CONCATENATE(\"increase until \",'Technische SDG'!G60))))","v":""},{"$f":"IF('Technische SDG'!H60=\"\",\"\",IF($D61=\"\",\"please complete\",IF($D61>'Technische SDG'!H60-1,\":-)\",CONCATENATE(\"increase until \",'Technische SDG'!H60))))","v":""},{"$f":"IF('Technische SDG'!I60=\"\",\"\",IF($D61=\"\",\"please complete\",IF($D61>'Technische SDG'!I60-1,\":-)\",CONCATENATE(\"increase until \",'Technische SDG'!I60))))","v":""},{"$f":"IF('Technische SDG'!J60=\"\",\"\",IF($D61=\"\",\"please complete\",IF($D61>'Technische SDG'!J60-1,\":-)\",CONCATENATE(\"increase until \",'Technische SDG'!J60))))","v":""},{"$f":"IF('Technische SDG'!K60=\"\",\"\",IF($D61=\"\",\"please complete\",IF($D61>'Technische SDG'!K60-1,\":-)\",CONCATENATE(\"increase until \",'Technische SDG'!K60))))","v":""},{"$f":"IF('Technische SDG'!L60=\"\",\"\",IF($D61=\"\",\"please complete\",IF($D61>'Technische SDG'!L60-1,\":-)\",CONCATENATE(\"increase until \",'Technische SDG'!L60))))","v":""},{"$f":"IF('Technische SDG'!M60=\"\",\"\",IF($D61=\"\",\"please complete\",IF($D61>'Technische SDG'!M60-1,\":-)\",CONCATENATE(\"increase until \",'Technische SDG'!M60))))","v":""},{"$f":"IF('Technische SDG'!N60=\"\",\"\",IF($D61=\"\",\"please complete\",IF($D61>'Technische SDG'!N60-1,\":-)\",CONCATENATE(\"increase until \",'Technische SDG'!N60))))","v":""},{"$f":"IF('Technische SDG'!O60=\"\",\"\",IF($D61=\"\",\"please complete\",IF($D61>'Technische SDG'!O60-1,\":-)\",CONCATENATE(\"increase until \",'Technische SDG'!O60))))","v":""},{"$f":"IF('Technische SDG'!P60=\"\",\"\",IF($D61=\"\",\"please complete\",IF($D61>'Technische SDG'!P60-1,\":-)\",CONCATENATE(\"increase until \",'Technische SDG'!P60))))","v":""},{"$f":"IF('Technische SDG'!Q60=\"\",\"\",IF($D61=\"\",\"please complete\",IF($D61>'Technische SDG'!Q60-1,\":-)\",CONCATENATE(\"increase until \",'Technische SDG'!Q60))))","v":""},{"$f":"IF('Technische SDG'!R60=\"\",\"\",IF($D61=\"\",\"please complete\",IF($D61>'Technische SDG'!R60-1,\":-)\",CONCATENATE(\"increase until \",'Technische SDG'!R60))))","v":""},{"$f":"IF('Technische SDG'!S60=\"\",\"\",IF($D61=\"\",\"please complete\",IF($D61>'Technische SDG'!S60-1,\":-)\",CONCATENATE(\"increase until \",'Technische SDG'!S60))))","v":""},{"$f":"IF('Technische SDG'!T60=\"\",\"\",IF($D61=\"\",\"please complete\",IF($D61>'Technische SDG'!T60-1,\":-)\",CONCATENATE(\"increase until \",'Technische SDG'!T60))))","v":""}]
[null,{"$f":"'Technische SDG'!B61","v":"F2.42"},{"$f":"VLOOKUP(B62,'Kapitel 2'!$C$6:$D$278,2,0)","v":"Wie geht die Organisation mit Geruchsemissionen um?"},{"$f":"'Technische SDG'!C61","v":3},17,{"$f":"IF('Technische SDG'!D61=\"\",\"\",IF($D62=\"\",\"please complete\",IF($D62>'Technische SDG'!D61-1,\":-)\",CONCATENATE(\"increase until \",'Technische SDG'!D61))))","v":""},{"$f":"IF('Technische SDG'!E61=\"\",\"\",IF($D62=\"\",\"please complete\",IF($D62>'Technische SDG'!E61-1,\":-)\",CONCATENATE(\"increase until \",'Technische SDG'!E61))))","v":""},{"$f":"IF('Technische SDG'!F61=\"\",\"\",IF($D62=\"\",\"please complete\",IF($D62>'Technische SDG'!F61-1,\":-)\",CONCATENATE(\"increase until \",'Technische SDG'!F61))))","v":""},{"$f":"IF('Technische SDG'!G61=\"\",\"\",IF($D62=\"\",\"please complete\",IF($D62>'Technische SDG'!G61-1,\":-)\",CONCATENATE(\"increase until \",'Technische SDG'!G61))))","v":""},{"$f":"IF('Technische SDG'!H61=\"\",\"\",IF($D62=\"\",\"please complete\",IF($D62>'Technische SDG'!H61-1,\":-)\",CONCATENATE(\"increase until \",'Technische SDG'!H61))))","v":""},{"$f":"IF('Technische SDG'!I61=\"\",\"\",IF($D62=\"\",\"please complete\",IF($D62>'Technische SDG'!I61-1,\":-)\",CONCATENATE(\"increase until \",'Technische SDG'!I61))))","v":""},{"$f":"IF('Technische SDG'!J61=\"\",\"\",IF($D62=\"\",\"please complete\",IF($D62>'Technische SDG'!J61-1,\":-)\",CONCATENATE(\"increase until \",'Technische SDG'!J61))))","v":""},{"$f":"IF('Technische SDG'!K61=\"\",\"\",IF($D62=\"\",\"please complete\",IF($D62>'Technische SDG'!K61-1,\":-)\",CONCATENATE(\"increase until \",'Technische SDG'!K61))))","v":""},{"$f":"IF('Technische SDG'!L61=\"\",\"\",IF($D62=\"\",\"please complete\",IF($D62>'Technische SDG'!L61-1,\":-)\",CONCATENATE(\"increase until \",'Technische SDG'!L61))))","v":""},{"$f":"IF('Technische SDG'!M61=\"\",\"\",IF($D62=\"\",\"please complete\",IF($D62>'Technische SDG'!M61-1,\":-)\",CONCATENATE(\"increase until \",'Technische SDG'!M61))))","v":""},{"$f":"IF('Technische SDG'!N61=\"\",\"\",IF($D62=\"\",\"please complete\",IF($D62>'Technische SDG'!N61-1,\":-)\",CONCATENATE(\"increase until \",'Technische SDG'!N61))))","v":""},{"$f":"IF('Technische SDG'!O61=\"\",\"\",IF($D62=\"\",\"please complete\",IF($D62>'Technische SDG'!O61-1,\":-)\",CONCATENATE(\"increase until \",'Technische SDG'!O61))))","v":""},{"$f":"IF('Technische SDG'!P61=\"\",\"\",IF($D62=\"\",\"please complete\",IF($D62>'Technische SDG'!P61-1,\":-)\",CONCATENATE(\"increase until \",'Technische SDG'!P61))))","v":""},{"$f":"IF('Technische SDG'!Q61=\"\",\"\",IF($D62=\"\",\"please complete\",IF($D62>'Technische SDG'!Q61-1,\":-)\",CONCATENATE(\"increase until \",'Technische SDG'!Q61))))","v":""},{"$f":"IF('Technische SDG'!R61=\"\",\"\",IF($D62=\"\",\"please complete\",IF($D62>'Technische SDG'!R61-1,\":-)\",CONCATENATE(\"increase until \",'Technische SDG'!R61))))","v":""},{"$f":"IF('Technische SDG'!S61=\"\",\"\",IF($D62=\"\",\"please complete\",IF($D62>'Technische SDG'!S61-1,\":-)\",CONCATENATE(\"increase until \",'Technische SDG'!S61))))","v":""},{"$f":"IF('Technische SDG'!T61=\"\",\"\",IF($D62=\"\",\"please complete\",IF($D62>'Technische SDG'!T61-1,\":-)\",CONCATENATE(\"increase until \",'Technische SDG'!T61))))","v":""}]
[null,{"$f":"'Technische SDG'!B62","v":"F2.43"},{"$f":"VLOOKUP(B63,'Kapitel 2'!$C$6:$D$278,2,0)","v":"Wie verhindert die Organisation unfallbedingte Emissionen in die Umwelt und wie geht sie ggf. damit um?"},{"$f":"'Technische SDG'!C62","v":2},17,{"$f":"IF('Technische SDG'!D62=\"\",\"\",IF($D63=\"\",\"please complete\",IF($D63>'Technische SDG'!D62-1,\":-)\",CONCATENATE(\"increase until \",'Technische SDG'!D62))))","v":""},{"$f":"IF('Technische SDG'!E62=\"\",\"\",IF($D63=\"\",\"please complete\",IF($D63>'Technische SDG'!E62-1,\":-)\",CONCATENATE(\"increase until \",'Technische SDG'!E62))))","v":""},{"$f":"IF('Technische SDG'!F62=\"\",\"\",IF($D63=\"\",\"please complete\",IF($D63>'Technische SDG'!F62-1,\":-)\",CONCATENATE(\"increase until \",'Technische SDG'!F62))))","v":""},{"$f":"IF('Technische SDG'!G62=\"\",\"\",IF($D63=\"\",\"please complete\",IF($D63>'Technische SDG'!G62-1,\":-)\",CONCATENATE(\"increase until \",'Technische SDG'!G62))))","v":""},{"$f":"IF('Technische SDG'!H62=\"\",\"\",IF($D63=\"\",\"please complete\",IF($D63>'Technische SDG'!H62-1,\":-)\",CONCATENATE(\"increase until \",'Technische SDG'!H62))))","v":""},{"$f":"IF('Technische SDG'!I62=\"\",\"\",IF($D63=\"\",\"please complete\",IF($D63>'Technische SDG'!I62-1,\":-)\",CONCATENATE(\"increase until \",'Technische SDG'!I62))))","v":""},{"$f":"IF('Technische SDG'!J62=\"\",\"\",IF($D63=\"\",\"please complete\",IF($D63>'Technische SDG'!J62-1,\":-)\",CONCATENATE(\"increase until \",'Technische SDG'!J62))))","v":""},{"$f":"IF('Technische SDG'!K62=\"\",\"\",IF($D63=\"\",\"please complete\",IF($D63>'Technische SDG'!K62-1,\":-)\",CONCATENATE(\"increase until \",'Technische SDG'!K62))))","v":""},{"$f":"IF('Technische SDG'!L62=\"\",\"\",IF($D63=\"\",\"please complete\",IF($D63>'Technische SDG'!L62-1,\":-)\",CONCATENATE(\"increase until \",'Technische SDG'!L62))))","v":""},{"$f":"IF('Technische SDG'!M62=\"\",\"\",IF($D63=\"\",\"please complete\",IF($D63>'Technische SDG'!M62-1,\":-)\",CONCATENATE(\"increase until \",'Technische SDG'!M62))))","v":""},{"$f":"IF('Technische SDG'!N62=\"\",\"\",IF($D63=\"\",\"please complete\",IF($D63>'Technische SDG'!N62-1,\":-)\",CONCATENATE(\"increase until \",'Technische SDG'!N62))))","v":""},{"$f":"IF('Technische SDG'!O62=\"\",\"\",IF($D63=\"\",\"please complete\",IF($D63>'Technische SDG'!O62-1,\":-)\",CONCATENATE(\"increase until \",'Technische SDG'!O62))))","v":""},{"$f":"IF('Technische SDG'!P62=\"\",\"\",IF($D63=\"\",\"please complete\",IF($D63>'Technische SDG'!P62-1,\":-)\",CONCATENATE(\"increase until \",'Technische SDG'!P62))))","v":""},{"$f":"IF('Technische SDG'!Q62=\"\",\"\",IF($D63=\"\",\"please complete\",IF($D63>'Technische SDG'!Q62-1,\":-)\",CONCATENATE(\"increase until \",'Technische SDG'!Q62))))","v":""},{"$f":"IF('Technische SDG'!R62=\"\",\"\",IF($D63=\"\",\"please complete\",IF($D63>'Technische SDG'!R62-1,\":-)\",CONCATENATE(\"increase until \",'Technische SDG'!R62))))","v":""},{"$f":"IF('Technische SDG'!S62=\"\",\"\",IF($D63=\"\",\"please complete\",IF($D63>'Technische SDG'!S62-1,\":-)\",CONCATENATE(\"increase until \",'Technische SDG'!S62))))","v":""},{"$f":"IF('Technische SDG'!T62=\"\",\"\",IF($D63=\"\",\"please complete\",IF($D63>'Technische SDG'!T62-1,\":-)\",CONCATENATE(\"increase until \",'Technische SDG'!T62))))","v":""}]
[null,{"$f":"'Technische SDG'!B63","v":"F2.44"},{"$f":"VLOOKUP(B64,'Kapitel 2'!$C$6:$D$278,2,0)","v":"In welcher Weise stellt die Organisation sicher, dass alle Mitarbeiter hinsichtlich der Umweltanforderungen, die mit ihrer Tätigkeit in Zusammenhang stehen, über die geeigneten Kompetenzen verfügen?"},{"$f":"'Technische SDG'!C63","v":3},17,{"$f":"IF('Technische SDG'!D63=\"\",\"\",IF($D64=\"\",\"please complete\",IF($D64>'Technische SDG'!D63-1,\":-)\",CONCATENATE(\"increase until \",'Technische SDG'!D63))))","v":""},{"$f":"IF('Technische SDG'!E63=\"\",\"\",IF($D64=\"\",\"please complete\",IF($D64>'Technische SDG'!E63-1,\":-)\",CONCATENATE(\"increase until \",'Technische SDG'!E63))))","v":""},{"$f":"IF('Technische SDG'!F63=\"\",\"\",IF($D64=\"\",\"please complete\",IF($D64>'Technische SDG'!F63-1,\":-)\",CONCATENATE(\"increase until \",'Technische SDG'!F63))))","v":""},{"$f":"IF('Technische SDG'!G63=\"\",\"\",IF($D64=\"\",\"please complete\",IF($D64>'Technische SDG'!G63-1,\":-)\",CONCATENATE(\"increase until \",'Technische SDG'!G63))))","v":""},{"$f":"IF('Technische SDG'!H63=\"\",\"\",IF($D64=\"\",\"please complete\",IF($D64>'Technische SDG'!H63-1,\":-)\",CONCATENATE(\"increase until \",'Technische SDG'!H63))))","v":""},{"$f":"IF('Technische SDG'!I63=\"\",\"\",IF($D64=\"\",\"please complete\",IF($D64>'Technische SDG'!I63-1,\":-)\",CONCATENATE(\"increase until \",'Technische SDG'!I63))))","v":""},{"$f":"IF('Technische SDG'!J63=\"\",\"\",IF($D64=\"\",\"please complete\",IF($D64>'Technische SDG'!J63-1,\":-)\",CONCATENATE(\"increase until \",'Technische SDG'!J63))))","v":""},{"$f":"IF('Technische SDG'!K63=\"\",\"\",IF($D64=\"\",\"please complete\",IF($D64>'Technische SDG'!K63-1,\":-)\",CONCATENATE(\"increase until \",'Technische SDG'!K63))))","v":""},{"$f":"IF('Technische SDG'!L63=\"\",\"\",IF($D64=\"\",\"please complete\",IF($D64>'Technische SDG'!L63-1,\":-)\",CONCATENATE(\"increase until \",'Technische SDG'!L63))))","v":""},{"$f":"IF('Technische SDG'!M63=\"\",\"\",IF($D64=\"\",\"please complete\",IF($D64>'Technische SDG'!M63-1,\":-)\",CONCATENATE(\"increase until \",'Technische SDG'!M63))))","v":""},{"$f":"IF('Technische SDG'!N63=\"\",\"\",IF($D64=\"\",\"please complete\",IF($D64>'Technische SDG'!N63-1,\":-)\",CONCATENATE(\"increase until \",'Technische SDG'!N63))))","v":""},{"$f":"IF('Technische SDG'!O63=\"\",\"\",IF($D64=\"\",\"please complete\",IF($D64>'Technische SDG'!O63-1,\":-)\",CONCATENATE(\"increase until \",'Technische SDG'!O63))))","v":""},{"$f":"IF('Technische SDG'!P63=\"\",\"\",IF($D64=\"\",\"please complete\",IF($D64>'Technische SDG'!P63-1,\":-)\",CONCATENATE(\"increase until \",'Technische SDG'!P63))))","v":""},{"$f":"IF('Technische SDG'!Q63=\"\",\"\",IF($D64=\"\",\"please complete\",IF($D64>'Technische SDG'!Q63-1,\":-)\",CONCATENATE(\"increase until \",'Technische SDG'!Q63))))","v":""},{"$f":"IF('Technische SDG'!R63=\"\",\"\",IF($D64=\"\",\"please complete\",IF($D64>'Technische SDG'!R63-1,\":-)\",CONCATENATE(\"increase until \",'Technische SDG'!R63))))","v":""},{"$f":"IF('Technische SDG'!S63=\"\",\"\",IF($D64=\"\",\"please complete\",IF($D64>'Technische SDG'!S63-1,\":-)\",CONCATENATE(\"increase until \",'Technische SDG'!S63))))","v":""},{"$f":"IF('Technische SDG'!T63=\"\",\"\",IF($D64=\"\",\"please complete\",IF($D64>'Technische SDG'!T63-1,\":-)\",CONCATENATE(\"increase until \",'Technische SDG'!T63))))","v":""}]
[null,{"$f":"'Technische SDG'!B64","v":"F2.45"},{"$f":"VLOOKUP(B65,'Kapitel 2'!$C$6:$D$278,2,0)","v":"Wie werden den Interessensgruppen („stakeholder“) der Organisation die Umweltaspekte und deren mögliche Auswirkungen bewusst gemacht?"},{"$f":"'Technische SDG'!C64","v":3},17,{"$f":"IF('Technische SDG'!D64=\"\",\"\",IF($D65=\"\",\"please complete\",IF($D65>'Technische SDG'!D64-1,\":-)\",CONCATENATE(\"increase until \",'Technische SDG'!D64))))","v":""},{"$f":"IF('Technische SDG'!E64=\"\",\"\",IF($D65=\"\",\"please complete\",IF($D65>'Technische SDG'!E64-1,\":-)\",CONCATENATE(\"increase until \",'Technische SDG'!E64))))","v":""},{"$f":"IF('Technische SDG'!F64=\"\",\"\",IF($D65=\"\",\"please complete\",IF($D65>'Technische SDG'!F64-1,\":-)\",CONCATENATE(\"increase until \",'Technische SDG'!F64))))","v":""},{"$f":"IF('Technische SDG'!G64=\"\",\"\",IF($D65=\"\",\"please complete\",IF($D65>'Technische SDG'!G64-1,\":-)\",CONCATENATE(\"increase until \",'Technische SDG'!G64))))","v":""},{"$f":"IF('Technische SDG'!H64=\"\",\"\",IF($D65=\"\",\"please complete\",IF($D65>'Technische SDG'!H64-1,\":-)\",CONCATENATE(\"increase until \",'Technische SDG'!H64))))","v":""},{"$f":"IF('Technische SDG'!I64=\"\",\"\",IF($D65=\"\",\"please complete\",IF($D65>'Technische SDG'!I64-1,\":-)\",CONCATENATE(\"increase until \",'Technische SDG'!I64))))","v":""},{"$f":"IF('Technische SDG'!J64=\"\",\"\",IF($D65=\"\",\"please complete\",IF($D65>'Technische SDG'!J64-1,\":-)\",CONCATENATE(\"increase until \",'Technische SDG'!J64))))","v":""},{"$f":"IF('Technische SDG'!K64=\"\",\"\",IF($D65=\"\",\"please complete\",IF($D65>'Technische SDG'!K64-1,\":-)\",CONCATENATE(\"increase until \",'Technische SDG'!K64))))","v":""},{"$f":"IF('Technische SDG'!L64=\"\",\"\",IF($D65=\"\",\"please complete\",IF($D65>'Technische SDG'!L64-1,\":-)\",CONCATENATE(\"increase until \",'Technische SDG'!L64))))","v":""},{"$f":"IF('Technische SDG'!M64=\"\",\"\",IF($D65=\"\",\"please complete\",IF($D65>'Technische SDG'!M64-1,\":-)\",CONCATENATE(\"increase until \",'Technische SDG'!M64))))","v":""},{"$f":"IF('Technische SDG'!N64=\"\",\"\",IF($D65=\"\",\"please complete\",IF($D65>'Technische SDG'!N64-1,\":-)\",CONCATENATE(\"increase until \",'Technische SDG'!N64))))","v":""},{"$f":"IF('Technische SDG'!O64=\"\",\"\",IF($D65=\"\",\"please complete\",IF($D65>'Technische SDG'!O64-1,\":-)\",CONCATENATE(\"increase until \",'Technische SDG'!O64))))","v":""},{"$f":"IF('Technische SDG'!P64=\"\",\"\",IF($D65=\"\",\"please complete\",IF($D65>'Technische SDG'!P64-1,\":-)\",CONCATENATE(\"increase until \",'Technische SDG'!P64))))","v":""},{"$f":"IF('Technische SDG'!Q64=\"\",\"\",IF($D65=\"\",\"please complete\",IF($D65>'Technische SDG'!Q64-1,\":-)\",CONCATENATE(\"increase until \",'Technische SDG'!Q64))))","v":""},{"$f":"IF('Technische SDG'!R64=\"\",\"\",IF($D65=\"\",\"please complete\",IF($D65>'Technische SDG'!R64-1,\":-)\",CONCATENATE(\"increase until \",'Technische SDG'!R64))))","v":""},{"$f":"IF('Technische SDG'!S64=\"\",\"\",IF($D65=\"\",\"please complete\",IF($D65>'Technische SDG'!S64-1,\":-)\",CONCATENATE(\"increase until \",'Technische SDG'!S64))))","v":""},{"$f":"IF('Technische SDG'!T64=\"\",\"\",IF($D65=\"\",\"please complete\",IF($D65>'Technische SDG'!T64-1,\":-)\",CONCATENATE(\"increase until \",'Technische SDG'!T64))))","v":""}]
[]
[null,{"$f":"'Technische SDG'!B66","v":"F3.1"},{"$f":"VLOOKUP(B67,'Kapitel 3'!$C$6:$D$70,2,0)","v":"Verfügt die Organisation über ein Verfahren für das Design\n und die Entwicklung neuer Produkte und Dienstleistungen?"},{"$f":"'Technische SDG'!C66","v":1},15,{"$f":"IF('Technische SDG'!D66=\"\",\"\",IF($D67=\"\",\"bitte ausfüllen \",IF($D67>'Technische SDG'!D66-1,\":-)\",CONCATENATE(\"Verbessern bis   \",'Technische SDG'!D66))))","v":""},{"$f":"IF('Technische SDG'!E66=\"\",\"\",IF($D67=\"\",\"bitte ausfüllen \",IF($D67>'Technische SDG'!E66-1,\":-)\",CONCATENATE(\"Verbessern bis   \",'Technische SDG'!E66))))","v":""},{"$f":"IF('Technische SDG'!F66=\"\",\"\",IF($D67=\"\",\"bitte ausfüllen \",IF($D67>'Technische SDG'!F66-1,\":-)\",CONCATENATE(\"Verbessern bis   \",'Technische SDG'!F66))))","v":""},{"$f":"IF('Technische SDG'!G66=\"\",\"\",IF($D67=\"\",\"bitte ausfüllen \",IF($D67>'Technische SDG'!G66-1,\":-)\",CONCATENATE(\"Verbessern bis   \",'Technische SDG'!G66))))","v":""},{"$f":"IF('Technische SDG'!H66=\"\",\"\",IF($D67=\"\",\"bitte ausfüllen \",IF($D67>'Technische SDG'!H66-1,\":-)\",CONCATENATE(\"Verbessern bis   \",'Technische SDG'!H66))))","v":""},{"$f":"IF('Technische SDG'!I66=\"\",\"\",IF($D67=\"\",\"bitte ausfüllen \",IF($D67>'Technische SDG'!I66-1,\":-)\",CONCATENATE(\"Verbessern bis   \",'Technische SDG'!I66))))","v":""},{"$f":"IF('Technische SDG'!J66=\"\",\"\",IF($D67=\"\",\"bitte ausfüllen \",IF($D67>'Technische SDG'!J66-1,\":-)\",CONCATENATE(\"Verbessern bis   \",'Technische SDG'!J66))))","v":""},{"$f":"IF('Technische SDG'!K66=\"\",\"\",IF($D67=\"\",\"bitte ausfüllen \",IF($D67>'Technische SDG'!K66-1,\":-)\",CONCATENATE(\"Verbessern bis   \",'Technische SDG'!K66))))","v":""},{"$f":"IF('Technische SDG'!L66=\"\",\"\",IF($D67=\"\",\"bitte ausfüllen \",IF($D67>'Technische SDG'!L66-1,\":-)\",CONCATENATE(\"Verbessern bis   \",'Technische SDG'!L66))))","v":"Verbessern bis   3"},{"$f":"IF('Technische SDG'!M66=\"\",\"\",IF($D67=\"\",\"bitte ausfüllen \",IF($D67>'Technische SDG'!M66-1,\":-)\",CONCATENATE(\"Verbessern bis   \",'Technische SDG'!M66))))","v":""},{"$f":"IF('Technische SDG'!N66=\"\",\"\",IF($D67=\"\",\"bitte ausfüllen \",IF($D67>'Technische SDG'!N66-1,\":-)\",CONCATENATE(\"Verbessern bis   \",'Technische SDG'!N66))))","v":""},{"$f":"IF('Technische SDG'!O66=\"\",\"\",IF($D67=\"\",\"bitte ausfüllen \",IF($D67>'Technische SDG'!O66-1,\":-)\",CONCATENATE(\"Verbessern bis   \",'Technische SDG'!O66))))","v":"Verbessern bis   3"},{"$f":"IF('Technische SDG'!P66=\"\",\"\",IF($D67=\"\",\"bitte ausfüllen \",IF($D67>'Technische SDG'!P66-1,\":-)\",CONCATENATE(\"Verbessern bis   \",'Technische SDG'!P66))))","v":""},{"$f":"IF('Technische SDG'!Q66=\"\",\"\",IF($D67=\"\",\"bitte ausfüllen \",IF($D67>'Technische SDG'!Q66-1,\":-)\",CONCATENATE(\"Verbessern bis   \",'Technische SDG'!Q66))))","v":""},{"$f":"IF('Technische SDG'!R66=\"\",\"\",IF($D67=\"\",\"bitte ausfüllen \",IF($D67>'Technische SDG'!R66-1,\":-)\",CONCATENATE(\"Verbessern bis   \",'Technische SDG'!R66))))","v":""},{"$f":"IF('Technische SDG'!S66=\"\",\"\",IF($D67=\"\",\"bitte ausfüllen \",IF($D67>'Technische SDG'!S66-1,\":-)\",CONCATENATE(\"Verbessern bis   \",'Technische SDG'!S66))))","v":""},{"$f":"IF('Technische SDG'!T66=\"\",\"\",IF($D67=\"\",\"bitte ausfüllen \",IF($D67>'Technische SDG'!T66-1,\":-)\",CONCATENATE(\"Verbessern bis   \",'Technische SDG'!T66))))","v":""}]
[null,{"$f":"'Technische SDG'!B67","v":"F3.2"},{"$f":"VLOOKUP(B68,'Kapitel 3'!$C$6:$D$70,2,0)","v":"Verfügt die Organisation über ein Verfahren, um ihre Produkte mit Hinblick auf Risikocharakterisierung und Risikomanagement zu bewerten und zu priorisieren?"},{"$f":"'Technische SDG'!C67","v":2},15,{"$f":"IF('Technische SDG'!D67=\"\",\"\",IF($D68=\"\",\"bitte ausfüllen \",IF($D68>'Technische SDG'!D67-1,\":-)\",CONCATENATE(\"Verbessern bis   \",'Technische SDG'!D67))))","v":""},{"$f":"IF('Technische SDG'!E67=\"\",\"\",IF($D68=\"\",\"bitte ausfüllen \",IF($D68>'Technische SDG'!E67-1,\":-)\",CONCATENATE(\"Verbessern bis   \",'Technische SDG'!E67))))","v":""},{"$f":"IF('Technische SDG'!F67=\"\",\"\",IF($D68=\"\",\"bitte ausfüllen \",IF($D68>'Technische SDG'!F67-1,\":-)\",CONCATENATE(\"Verbessern bis   \",'Technische SDG'!F67))))","v":""},{"$f":"IF('Technische SDG'!G67=\"\",\"\",IF($D68=\"\",\"bitte ausfüllen \",IF($D68>'Technische SDG'!G67-1,\":-)\",CONCATENATE(\"Verbessern bis   \",'Technische SDG'!G67))))","v":""},{"$f":"IF('Technische SDG'!H67=\"\",\"\",IF($D68=\"\",\"bitte ausfüllen \",IF($D68>'Technische SDG'!H67-1,\":-)\",CONCATENATE(\"Verbessern bis   \",'Technische SDG'!H67))))","v":""},{"$f":"IF('Technische SDG'!I67=\"\",\"\",IF($D68=\"\",\"bitte ausfüllen \",IF($D68>'Technische SDG'!I67-1,\":-)\",CONCATENATE(\"Verbessern bis   \",'Technische SDG'!I67))))","v":""},{"$f":"IF('Technische SDG'!J67=\"\",\"\",IF($D68=\"\",\"bitte ausfüllen \",IF($D68>'Technische SDG'!J67-1,\":-)\",CONCATENATE(\"Verbessern bis   \",'Technische SDG'!J67))))","v":""},{"$f":"IF('Technische SDG'!K67=\"\",\"\",IF($D68=\"\",\"bitte ausfüllen \",IF($D68>'Technische SDG'!K67-1,\":-)\",CONCATENATE(\"Verbessern bis   \",'Technische SDG'!K67))))","v":""},{"$f":"IF('Technische SDG'!L67=\"\",\"\",IF($D68=\"\",\"bitte ausfüllen \",IF($D68>'Technische SDG'!L67-1,\":-)\",CONCATENATE(\"Verbessern bis   \",'Technische SDG'!L67))))","v":"Verbessern bis   3"},{"$f":"IF('Technische SDG'!M67=\"\",\"\",IF($D68=\"\",\"bitte ausfüllen \",IF($D68>'Technische SDG'!M67-1,\":-)\",CONCATENATE(\"Verbessern bis   \",'Technische SDG'!M67))))","v":""},{"$f":"IF('Technische SDG'!N67=\"\",\"\",IF($D68=\"\",\"bitte ausfüllen \",IF($D68>'Technische SDG'!N67-1,\":-)\",CONCATENATE(\"Verbessern bis   \",'Technische SDG'!N67))))","v":""},{"$f":"IF('Technische SDG'!O67=\"\",\"\",IF($D68=\"\",\"bitte ausfüllen \",IF($D68>'Technische SDG'!O67-1,\":-)\",CONCATENATE(\"Verbessern bis   \",'Technische SDG'!O67))))","v":"Verbessern bis   3"},{"$f":"IF('Technische SDG'!P67=\"\",\"\",IF($D68=\"\",\"bitte ausfüllen \",IF($D68>'Technische SDG'!P67-1,\":-)\",CONCATENATE(\"Verbessern bis   \",'Technische SDG'!P67))))","v":""},{"$f":"IF('Technische SDG'!Q67=\"\",\"\",IF($D68=\"\",\"bitte ausfüllen \",IF($D68>'Technische SDG'!Q67-1,\":-)\",CONCATENATE(\"Verbessern bis   \",'Technische SDG'!Q67))))","v":""},{"$f":"IF('Technische SDG'!R67=\"\",\"\",IF($D68=\"\",\"bitte ausfüllen \",IF($D68>'Technische SDG'!R67-1,\":-)\",CONCATENATE(\"Verbessern bis   \",'Technische SDG'!R67))))","v":""},{"$f":"IF('Technische SDG'!S67=\"\",\"\",IF($D68=\"\",\"bitte ausfüllen \",IF($D68>'Technische SDG'!S67-1,\":-)\",CONCATENATE(\"Verbessern bis   \",'Technische SDG'!S67))))","v":""},{"$f":"IF('Technische SDG'!T67=\"\",\"\",IF($D68=\"\",\"bitte ausfüllen \",IF($D68>'Technische SDG'!T67-1,\":-)\",CONCATENATE(\"Verbessern bis   \",'Technische SDG'!T67))))","v":""}]
[null,{"$f":"'Technische SDG'!B68","v":"F3.3"},{"$f":"VLOOKUP(B69,'Kapitel 3'!$C$6:$D$70,2,0)","v":"Verfügt die Organisation über ein System, um die Anwendbarkeit sowie Änderungen und Einhaltung von internen und externen Anforderungen in Zusammenhang mit dem Sicherheitsmanagement von Chemikalien zu verfolgen/nachzuverfolgen?"},{"$f":"'Technische SDG'!C68","v":1},{"$f":"COUNTIF(F69:V69,\"\")","v":17},{"$f":"IF('Technische SDG'!D68=\"\",\"\",IF($D69=\"\",\"please complete\",IF($D69>'Technische SDG'!D68-1,\":-)\",CONCATENATE(\"increase until \",'Technische SDG'!D68))))","v":""},{"$f":"IF('Technische SDG'!E68=\"\",\"\",IF($D69=\"\",\"please complete\",IF($D69>'Technische SDG'!E68-1,\":-)\",CONCATENATE(\"increase until \",'Technische SDG'!E68))))","v":""},{"$f":"IF('Technische SDG'!F68=\"\",\"\",IF($D69=\"\",\"please complete\",IF($D69>'Technische SDG'!F68-1,\":-)\",CONCATENATE(\"increase until \",'Technische SDG'!F68))))","v":""},{"$f":"IF('Technische SDG'!G68=\"\",\"\",IF($D69=\"\",\"please complete\",IF($D69>'Technische SDG'!G68-1,\":-)\",CONCATENATE(\"increase until \",'Technische SDG'!G68))))","v":""},{"$f":"IF('Technische SDG'!H68=\"\",\"\",IF($D69=\"\",\"please complete\",IF($D69>'Technische SDG'!H68-1,\":-)\",CONCATENATE(\"increase until \",'Technische SDG'!H68))))","v":""},{"$f":"IF('Technische SDG'!I68=\"\",\"\",IF($D69=\"\",\"please complete\",IF($D69>'Technische SDG'!I68-1,\":-)\",CONCATENATE(\"increase until \",'Technische SDG'!I68))))","v":""},{"$f":"IF('Technische SDG'!J68=\"\",\"\",IF($D69=\"\",\"please complete\",IF($D69>'Technische SDG'!J68-1,\":-)\",CONCATENATE(\"increase until \",'Technische SDG'!J68))))","v":""},{"$f":"IF('Technische SDG'!K68=\"\",\"\",IF($D69=\"\",\"please complete\",IF($D69>'Technische SDG'!K68-1,\":-)\",CONCATENATE(\"increase until \",'Technische SDG'!K68))))","v":""},{"$f":"IF('Technische SDG'!L68=\"\",\"\",IF($D69=\"\",\"please complete\",IF($D69>'Technische SDG'!L68-1,\":-)\",CONCATENATE(\"increase until \",'Technische SDG'!L68))))","v":""},{"$f":"IF('Technische SDG'!M68=\"\",\"\",IF($D69=\"\",\"please complete\",IF($D69>'Technische SDG'!M68-1,\":-)\",CONCATENATE(\"increase until \",'Technische SDG'!M68))))","v":""},{"$f":"IF('Technische SDG'!N68=\"\",\"\",IF($D69=\"\",\"please complete\",IF($D69>'Technische SDG'!N68-1,\":-)\",CONCATENATE(\"increase until \",'Technische SDG'!N68))))","v":""},{"$f":"IF('Technische SDG'!O68=\"\",\"\",IF($D69=\"\",\"please complete\",IF($D69>'Technische SDG'!O68-1,\":-)\",CONCATENATE(\"increase until \",'Technische SDG'!O68))))","v":""},{"$f":"IF('Technische SDG'!P68=\"\",\"\",IF($D69=\"\",\"please complete\",IF($D69>'Technische SDG'!P68-1,\":-)\",CONCATENATE(\"increase until \",'Technische SDG'!P68))))","v":""},{"$f":"IF('Technische SDG'!Q68=\"\",\"\",IF($D69=\"\",\"please complete\",IF($D69>'Technische SDG'!Q68-1,\":-)\",CONCATENATE(\"increase until \",'Technische SDG'!Q68))))","v":""},{"$f":"IF('Technische SDG'!R68=\"\",\"\",IF($D69=\"\",\"please complete\",IF($D69>'Technische SDG'!R68-1,\":-)\",CONCATENATE(\"increase until \",'Technische SDG'!R68))))","v":""},{"$f":"IF('Technische SDG'!S68=\"\",\"\",IF($D69=\"\",\"please complete\",IF($D69>'Technische SDG'!S68-1,\":-)\",CONCATENATE(\"increase until \",'Technische SDG'!S68))))","v":""},{"$f":"IF('Technische SDG'!T68=\"\",\"\",IF($D69=\"\",\"please complete\",IF($D69>'Technische SDG'!T68-1,\":-)\",CONCATENATE(\"increase until \",'Technische SDG'!T68))))","v":""}]
[null,{"$f":"'Technische SDG'!B69","v":"F3.4"},{"$f":"VLOOKUP(B70,'Kapitel 3'!$C$6:$D$70,2,0)","v":"Verfügt die Organisation über ein Verfahren zum Umgang mit vorhandenen Gefahreninformationen in Zusammenhang mit ihren Produkten?"},{"$f":"'Technische SDG'!C69","v":1},14,{"$f":"IF('Technische SDG'!D69=\"\",\"\",IF($D70=\"\",\"bitte ausfüllen \",IF($D70>'Technische SDG'!D69-1,\":-)\",CONCATENATE(\"Verbessern bis   \",'Technische SDG'!D69))))","v":""},{"$f":"IF('Technische SDG'!E69=\"\",\"\",IF($D70=\"\",\"bitte ausfüllen \",IF($D70>'Technische SDG'!E69-1,\":-)\",CONCATENATE(\"Verbessern bis   \",'Technische SDG'!E69))))","v":""},{"$f":"IF('Technische SDG'!F69=\"\",\"\",IF($D70=\"\",\"bitte ausfüllen \",IF($D70>'Technische SDG'!F69-1,\":-)\",CONCATENATE(\"Verbessern bis   \",'Technische SDG'!F69))))","v":"Verbessern bis   3"},{"$f":"IF('Technische SDG'!G69=\"\",\"\",IF($D70=\"\",\"bitte ausfüllen \",IF($D70>'Technische SDG'!G69-1,\":-)\",CONCATENATE(\"Verbessern bis   \",'Technische SDG'!G69))))","v":""},{"$f":"IF('Technische SDG'!H69=\"\",\"\",IF($D70=\"\",\"bitte ausfüllen \",IF($D70>'Technische SDG'!H69-1,\":-)\",CONCATENATE(\"Verbessern bis   \",'Technische SDG'!H69))))","v":""},{"$f":"IF('Technische SDG'!I69=\"\",\"\",IF($D70=\"\",\"bitte ausfüllen \",IF($D70>'Technische SDG'!I69-1,\":-)\",CONCATENATE(\"Verbessern bis   \",'Technische SDG'!I69))))","v":""},{"$f":"IF('Technische SDG'!J69=\"\",\"\",IF($D70=\"\",\"bitte ausfüllen \",IF($D70>'Technische SDG'!J69-1,\":-)\",CONCATENATE(\"Verbessern bis   \",'Technische SDG'!J69))))","v":""},{"$f":"IF('Technische SDG'!K69=\"\",\"\",IF($D70=\"\",\"bitte ausfüllen \",IF($D70>'Technische SDG'!K69-1,\":-)\",CONCATENATE(\"Verbessern bis   \",'Technische SDG'!K69))))","v":""},{"$f":"IF('Technische SDG'!L69=\"\",\"\",IF($D70=\"\",\"bitte ausfüllen \",IF($D70>'Technische SDG'!L69-1,\":-)\",CONCATENATE(\"Verbessern bis   \",'Technische SDG'!L69))))","v":""},{"$f":"IF('Technische SDG'!M69=\"\",\"\",IF($D70=\"\",\"bitte ausfüllen \",IF($D70>'Technische SDG'!M69-1,\":-)\",CONCATENATE(\"Verbessern bis   \",'Technische SDG'!M69))))","v":""},{"$f":"IF('Technische SDG'!N69=\"\",\"\",IF($D70=\"\",\"bitte ausfüllen \",IF($D70>'Technische SDG'!N69-1,\":-)\",CONCATENATE(\"Verbessern bis   \",'Technische SDG'!N69))))","v":""},{"$f":"IF('Technische SDG'!O69=\"\",\"\",IF($D70=\"\",\"bitte ausfüllen \",IF($D70>'Technische SDG'!O69-1,\":-)\",CONCATENATE(\"Verbessern bis   \",'Technische SDG'!O69))))","v":"Verbessern bis   3"},{"$f":"IF('Technische SDG'!P69=\"\",\"\",IF($D70=\"\",\"bitte ausfüllen \",IF($D70>'Technische SDG'!P69-1,\":-)\",CONCATENATE(\"Verbessern bis   \",'Technische SDG'!P69))))","v":""},{"$f":"IF('Technische SDG'!Q69=\"\",\"\",IF($D70=\"\",\"bitte ausfüllen \",IF($D70>'Technische SDG'!Q69-1,\":-)\",CONCATENATE(\"Verbessern bis   \",'Technische SDG'!Q69))))","v":""},{"$f":"IF('Technische SDG'!R69=\"\",\"\",IF($D70=\"\",\"bitte ausfüllen \",IF($D70>'Technische SDG'!R69-1,\":-)\",CONCATENATE(\"Verbessern bis   \",'Technische SDG'!R69))))","v":""},{"$f":"IF('Technische SDG'!S69=\"\",\"\",IF($D70=\"\",\"bitte ausfüllen \",IF($D70>'Technische SDG'!S69-1,\":-)\",CONCATENATE(\"Verbessern bis   \",'Technische SDG'!S69))))","v":""},{"$f":"IF('Technische SDG'!T69=\"\",\"\",IF($D70=\"\",\"bitte ausfüllen \",IF($D70>'Technische SDG'!T69-1,\":-)\",CONCATENATE(\"Verbessern bis   \",'Technische SDG'!T69))))","v":"Verbessern bis   3"}]
[null,{"$f":"'Technische SDG'!B70","v":"F3.5"},{"$f":"VLOOKUP(B71,'Kapitel 3'!$C$6:$D$70,2,0)","v":"Verfügt die Organisation über ein Verfahren für den Umgang mit Informationen über die Verwendung von und die Exposition durch ihre Produkte?"},{"$f":"'Technische SDG'!C70","v":1},16,{"$f":"IF('Technische SDG'!D70=\"\",\"\",IF($D71=\"\",\"bitte ausfüllen \",IF($D71>'Technische SDG'!D70-1,\":-)\",CONCATENATE(\"Verbessern bis   \",'Technische SDG'!D70))))","v":""},{"$f":"IF('Technische SDG'!E70=\"\",\"\",IF($D71=\"\",\"bitte ausfüllen \",IF($D71>'Technische SDG'!E70-1,\":-)\",CONCATENATE(\"Verbessern bis   \",'Technische SDG'!E70))))","v":""},{"$f":"IF('Technische SDG'!F70=\"\",\"\",IF($D71=\"\",\"bitte ausfüllen \",IF($D71>'Technische SDG'!F70-1,\":-)\",CONCATENATE(\"Verbessern bis   \",'Technische SDG'!F70))))","v":"Verbessern bis   3"},{"$f":"IF('Technische SDG'!G70=\"\",\"\",IF($D71=\"\",\"bitte ausfüllen \",IF($D71>'Technische SDG'!G70-1,\":-)\",CONCATENATE(\"Verbessern bis   \",'Technische SDG'!G70))))","v":""},{"$f":"IF('Technische SDG'!H70=\"\",\"\",IF($D71=\"\",\"bitte ausfüllen \",IF($D71>'Technische SDG'!H70-1,\":-)\",CONCATENATE(\"Verbessern bis   \",'Technische SDG'!H70))))","v":""},{"$f":"IF('Technische SDG'!I70=\"\",\"\",IF($D71=\"\",\"bitte ausfüllen \",IF($D71>'Technische SDG'!I70-1,\":-)\",CONCATENATE(\"Verbessern bis   \",'Technische SDG'!I70))))","v":""},{"$f":"IF('Technische SDG'!J70=\"\",\"\",IF($D71=\"\",\"bitte ausfüllen \",IF($D71>'Technische SDG'!J70-1,\":-)\",CONCATENATE(\"Verbessern bis   \",'Technische SDG'!J70))))","v":""},{"$f":"IF('Technische SDG'!K70=\"\",\"\",IF($D71=\"\",\"bitte ausfüllen \",IF($D71>'Technische SDG'!K70-1,\":-)\",CONCATENATE(\"Verbessern bis   \",'Technische SDG'!K70))))","v":""},{"$f":"IF('Technische SDG'!L70=\"\",\"\",IF($D71=\"\",\"bitte ausfüllen \",IF($D71>'Technische SDG'!L70-1,\":-)\",CONCATENATE(\"Verbessern bis   \",'Technische SDG'!L70))))","v":""},{"$f":"IF('Technische SDG'!M70=\"\",\"\",IF($D71=\"\",\"bitte ausfüllen \",IF($D71>'Technische SDG'!M70-1,\":-)\",CONCATENATE(\"Verbessern bis   \",'Technische SDG'!M70))))","v":""},{"$f":"IF('Technische SDG'!N70=\"\",\"\",IF($D71=\"\",\"bitte ausfüllen \",IF($D71>'Technische SDG'!N70-1,\":-)\",CONCATENATE(\"Verbessern bis   \",'Technische SDG'!N70))))","v":""},{"$f":"IF('Technische SDG'!O70=\"\",\"\",IF($D71=\"\",\"bitte ausfüllen \",IF($D71>'Technische SDG'!O70-1,\":-)\",CONCATENATE(\"Verbessern bis   \",'Technische SDG'!O70))))","v":""},{"$f":"IF('Technische SDG'!P70=\"\",\"\",IF($D71=\"\",\"bitte ausfüllen \",IF($D71>'Technische SDG'!P70-1,\":-)\",CONCATENATE(\"Verbessern bis   \",'Technische SDG'!P70))))","v":""},{"$f":"IF('Technische SDG'!Q70=\"\",\"\",IF($D71=\"\",\"bitte ausfüllen \",IF($D71>'Technische SDG'!Q70-1,\":-)\",CONCATENATE(\"Verbessern bis   \",'Technische SDG'!Q70))))","v":""},{"$f":"IF('Technische SDG'!R70=\"\",\"\",IF($D71=\"\",\"bitte ausfüllen \",IF($D71>'Technische SDG'!R70-1,\":-)\",CONCATENATE(\"Verbessern bis   \",'Technische SDG'!R70))))","v":""},{"$f":"IF('Technische SDG'!S70=\"\",\"\",IF($D71=\"\",\"bitte ausfüllen \",IF($D71>'Technische SDG'!S70-1,\":-)\",CONCATENATE(\"Verbessern bis   \",'Technische SDG'!S70))))","v":""},{"$f":"IF('Technische SDG'!T70=\"\",\"\",IF($D71=\"\",\"bitte ausfüllen \",IF($D71>'Technische SDG'!T70-1,\":-)\",CONCATENATE(\"Verbessern bis   \",'Technische SDG'!T70))))","v":""}]
[null,{"$f":"'Technische SDG'!B71","v":"F3.6"},{"$f":"VLOOKUP(B72,'Kapitel 3'!$C$6:$D$70,2,0)","v":"Verfügt die Organisation über ein Verfahren für den Umgang mit neuen Informationen?"},{"$f":"'Technische SDG'!C71","v":1},16,{"$f":"IF('Technische SDG'!D71=\"\",\"\",IF($D72=\"\",\"bitte ausfüllen \",IF($D72>'Technische SDG'!D71-1,\":-)\",CONCATENATE(\"Verbessern bis   \",'Technische SDG'!D71))))","v":""},{"$f":"IF('Technische SDG'!E71=\"\",\"\",IF($D72=\"\",\"bitte ausfüllen \",IF($D72>'Technische SDG'!E71-1,\":-)\",CONCATENATE(\"Verbessern bis   \",'Technische SDG'!E71))))","v":""},{"$f":"IF('Technische SDG'!F71=\"\",\"\",IF($D72=\"\",\"bitte ausfüllen \",IF($D72>'Technische SDG'!F71-1,\":-)\",CONCATENATE(\"Verbessern bis   \",'Technische SDG'!F71))))","v":"Verbessern bis   3"},{"$f":"IF('Technische SDG'!G71=\"\",\"\",IF($D72=\"\",\"bitte ausfüllen \",IF($D72>'Technische SDG'!G71-1,\":-)\",CONCATENATE(\"Verbessern bis   \",'Technische SDG'!G71))))","v":""},{"$f":"IF('Technische SDG'!H71=\"\",\"\",IF($D72=\"\",\"bitte ausfüllen \",IF($D72>'Technische SDG'!H71-1,\":-)\",CONCATENATE(\"Verbessern bis   \",'Technische SDG'!H71))))","v":""},{"$f":"IF('Technische SDG'!I71=\"\",\"\",IF($D72=\"\",\"bitte ausfüllen \",IF($D72>'Technische SDG'!I71-1,\":-)\",CONCATENATE(\"Verbessern bis   \",'Technische SDG'!I71))))","v":""},{"$f":"IF('Technische SDG'!J71=\"\",\"\",IF($D72=\"\",\"bitte ausfüllen \",IF($D72>'Technische SDG'!J71-1,\":-)\",CONCATENATE(\"Verbessern bis   \",'Technische SDG'!J71))))","v":""},{"$f":"IF('Technische SDG'!K71=\"\",\"\",IF($D72=\"\",\"bitte ausfüllen \",IF($D72>'Technische SDG'!K71-1,\":-)\",CONCATENATE(\"Verbessern bis   \",'Technische SDG'!K71))))","v":""},{"$f":"IF('Technische SDG'!L71=\"\",\"\",IF($D72=\"\",\"bitte ausfüllen \",IF($D72>'Technische SDG'!L71-1,\":-)\",CONCATENATE(\"Verbessern bis   \",'Technische SDG'!L71))))","v":""},{"$f":"IF('Technische SDG'!M71=\"\",\"\",IF($D72=\"\",\"bitte ausfüllen \",IF($D72>'Technische SDG'!M71-1,\":-)\",CONCATENATE(\"Verbessern bis   \",'Technische SDG'!M71))))","v":""},{"$f":"IF('Technische SDG'!N71=\"\",\"\",IF($D72=\"\",\"bitte ausfüllen \",IF($D72>'Technische SDG'!N71-1,\":-)\",CONCATENATE(\"Verbessern bis   \",'Technische SDG'!N71))))","v":""},{"$f":"IF('Technische SDG'!O71=\"\",\"\",IF($D72=\"\",\"bitte ausfüllen \",IF($D72>'Technische SDG'!O71-1,\":-)\",CONCATENATE(\"Verbessern bis   \",'Technische SDG'!O71))))","v":""},{"$f":"IF('Technische SDG'!P71=\"\",\"\",IF($D72=\"\",\"bitte ausfüllen \",IF($D72>'Technische SDG'!P71-1,\":-)\",CONCATENATE(\"Verbessern bis   \",'Technische SDG'!P71))))","v":""},{"$f":"IF('Technische SDG'!Q71=\"\",\"\",IF($D72=\"\",\"bitte ausfüllen \",IF($D72>'Technische SDG'!Q71-1,\":-)\",CONCATENATE(\"Verbessern bis   \",'Technische SDG'!Q71))))","v":""},{"$f":"IF('Technische SDG'!R71=\"\",\"\",IF($D72=\"\",\"bitte ausfüllen \",IF($D72>'Technische SDG'!R71-1,\":-)\",CONCATENATE(\"Verbessern bis   \",'Technische SDG'!R71))))","v":""},{"$f":"IF('Technische SDG'!S71=\"\",\"\",IF($D72=\"\",\"bitte ausfüllen \",IF($D72>'Technische SDG'!S71-1,\":-)\",CONCATENATE(\"Verbessern bis   \",'Technische SDG'!S71))))","v":""},{"$f":"IF('Technische SDG'!T71=\"\",\"\",IF($D72=\"\",\"bitte ausfüllen \",IF($D72>'Technische SDG'!T71-1,\":-)\",CONCATENATE(\"Verbessern bis   \",'Technische SDG'!T71))))","v":""}]
[null,{"$f":"'Technische SDG'!B72","v":"Q3.7"},{"$f":"VLOOKUP(B73,'Kapitel 3'!$C$6:$D$70,2,0)","v":"Verfügt die Organisation über ein Verfahren zur Risikocharakterisierung auf der Grundlage der gesammelten Informationen?"},{"$f":"'Technische SDG'!C72","v":1},15,{"$f":"IF('Technische SDG'!D72=\"\",\"\",IF($D73=\"\",\"bitte ausfüllen \",IF($D73>'Technische SDG'!D72-1,\":-)\",CONCATENATE(\"Verbessern bis   \",'Technische SDG'!D72))))","v":""},{"$f":"IF('Technische SDG'!E72=\"\",\"\",IF($D73=\"\",\"bitte ausfüllen \",IF($D73>'Technische SDG'!E72-1,\":-)\",CONCATENATE(\"Verbessern bis   \",'Technische SDG'!E72))))","v":""},{"$f":"IF('Technische SDG'!F72=\"\",\"\",IF($D73=\"\",\"bitte ausfüllen \",IF($D73>'Technische SDG'!F72-1,\":-)\",CONCATENATE(\"Verbessern bis   \",'Technische SDG'!F72))))","v":"Verbessern bis   3"},{"$f":"IF('Technische SDG'!G72=\"\",\"\",IF($D73=\"\",\"bitte ausfüllen \",IF($D73>'Technische SDG'!G72-1,\":-)\",CONCATENATE(\"Verbessern bis   \",'Technische SDG'!G72))))","v":""},{"$f":"IF('Technische SDG'!H72=\"\",\"\",IF($D73=\"\",\"bitte ausfüllen \",IF($D73>'Technische SDG'!H72-1,\":-)\",CONCATENATE(\"Verbessern bis   \",'Technische SDG'!H72))))","v":""},{"$f":"IF('Technische SDG'!I72=\"\",\"\",IF($D73=\"\",\"bitte ausfüllen \",IF($D73>'Technische SDG'!I72-1,\":-)\",CONCATENATE(\"Verbessern bis   \",'Technische SDG'!I72))))","v":""},{"$f":"IF('Technische SDG'!J72=\"\",\"\",IF($D73=\"\",\"bitte ausfüllen \",IF($D73>'Technische SDG'!J72-1,\":-)\",CONCATENATE(\"Verbessern bis   \",'Technische SDG'!J72))))","v":""},{"$f":"IF('Technische SDG'!K72=\"\",\"\",IF($D73=\"\",\"bitte ausfüllen \",IF($D73>'Technische SDG'!K72-1,\":-)\",CONCATENATE(\"Verbessern bis   \",'Technische SDG'!K72))))","v":""},{"$f":"IF('Technische SDG'!L72=\"\",\"\",IF($D73=\"\",\"bitte ausfüllen \",IF($D73>'Technische SDG'!L72-1,\":-)\",CONCATENATE(\"Verbessern bis   \",'Technische SDG'!L72))))","v":""},{"$f":"IF('Technische SDG'!M72=\"\",\"\",IF($D73=\"\",\"bitte ausfüllen \",IF($D73>'Technische SDG'!M72-1,\":-)\",CONCATENATE(\"Verbessern bis   \",'Technische SDG'!M72))))","v":""},{"$f":"IF('Technische SDG'!N72=\"\",\"\",IF($D73=\"\",\"bitte ausfüllen \",IF($D73>'Technische SDG'!N72-1,\":-)\",CONCATENATE(\"Verbessern bis   \",'Technische SDG'!N72))))","v":""},{"$f":"IF('Technische SDG'!O72=\"\",\"\",IF($D73=\"\",\"bitte ausfüllen \",IF($D73>'Technische SDG'!O72-1,\":-)\",CONCATENATE(\"Verbessern bis   \",'Technische SDG'!O72))))","v":""},{"$f":"IF('Technische SDG'!P72=\"\",\"\",IF($D73=\"\",\"bitte ausfüllen \",IF($D73>'Technische SDG'!P72-1,\":-)\",CONCATENATE(\"Verbessern bis   \",'Technische SDG'!P72))))","v":""},{"$f":"IF('Technische SDG'!Q72=\"\",\"\",IF($D73=\"\",\"bitte ausfüllen \",IF($D73>'Technische SDG'!Q72-1,\":-)\",CONCATENATE(\"Verbessern bis   \",'Technische SDG'!Q72))))","v":""},{"$f":"IF('Technische SDG'!R72=\"\",\"\",IF($D73=\"\",\"bitte ausfüllen \",IF($D73>'Technische SDG'!R72-1,\":-)\",CONCATENATE(\"Verbessern bis   \",'Technische SDG'!R72))))","v":""},{"$f":"IF('Technische SDG'!S72=\"\",\"\",IF($D73=\"\",\"bitte ausfüllen \",IF($D73>'Technische SDG'!S72-1,\":-)\",CONCATENATE(\"Verbessern bis   \",'Technische SDG'!S72))))","v":""},{"$f":"IF('Technische SDG'!T72=\"\",\"\",IF($D73=\"\",\"bitte ausfüllen \",IF($D73>'Technische SDG'!T72-1,\":-)\",CONCATENATE(\"Verbessern bis   \",'Technische SDG'!T72))))","v":"Verbessern bis   3"}]
[null,{"$f":"'Technische SDG'!B73","v":"F3.8"},{"$f":"VLOOKUP(B74,'Kapitel 3'!$C$6:$D$70,2,0)","v":"Verfügt die Organisation über ein Verfahren zum Risikomanagement auf der Grundlage der gesammelten Informationen?"},{"$f":"'Technische SDG'!C73","v":1},16,{"$f":"IF('Technische SDG'!D73=\"\",\"\",IF($D74=\"\",\"bitte ausfüllen \",IF($D74>'Technische SDG'!D73-1,\":-)\",CONCATENATE(\"Verbessern bis   \",'Technische SDG'!D73))))","v":""},{"$f":"IF('Technische SDG'!E73=\"\",\"\",IF($D74=\"\",\"bitte ausfüllen \",IF($D74>'Technische SDG'!E73-1,\":-)\",CONCATENATE(\"Verbessern bis   \",'Technische SDG'!E73))))","v":""},{"$f":"IF('Technische SDG'!F73=\"\",\"\",IF($D74=\"\",\"bitte ausfüllen \",IF($D74>'Technische SDG'!F73-1,\":-)\",CONCATENATE(\"Verbessern bis   \",'Technische SDG'!F73))))","v":""},{"$f":"IF('Technische SDG'!G73=\"\",\"\",IF($D74=\"\",\"bitte ausfüllen \",IF($D74>'Technische SDG'!G73-1,\":-)\",CONCATENATE(\"Verbessern bis   \",'Technische SDG'!G73))))","v":""},{"$f":"IF('Technische SDG'!H73=\"\",\"\",IF($D74=\"\",\"bitte ausfüllen \",IF($D74>'Technische SDG'!H73-1,\":-)\",CONCATENATE(\"Verbessern bis   \",'Technische SDG'!H73))))","v":""},{"$f":"IF('Technische SDG'!I73=\"\",\"\",IF($D74=\"\",\"bitte ausfüllen \",IF($D74>'Technische SDG'!I73-1,\":-)\",CONCATENATE(\"Verbessern bis   \",'Technische SDG'!I73))))","v":""},{"$f":"IF('Technische SDG'!J73=\"\",\"\",IF($D74=\"\",\"bitte ausfüllen \",IF($D74>'Technische SDG'!J73-1,\":-)\",CONCATENATE(\"Verbessern bis   \",'Technische SDG'!J73))))","v":""},{"$f":"IF('Technische SDG'!K73=\"\",\"\",IF($D74=\"\",\"bitte ausfüllen \",IF($D74>'Technische SDG'!K73-1,\":-)\",CONCATENATE(\"Verbessern bis   \",'Technische SDG'!K73))))","v":""},{"$f":"IF('Technische SDG'!L73=\"\",\"\",IF($D74=\"\",\"bitte ausfüllen \",IF($D74>'Technische SDG'!L73-1,\":-)\",CONCATENATE(\"Verbessern bis   \",'Technische SDG'!L73))))","v":""},{"$f":"IF('Technische SDG'!M73=\"\",\"\",IF($D74=\"\",\"bitte ausfüllen \",IF($D74>'Technische SDG'!M73-1,\":-)\",CONCATENATE(\"Verbessern bis   \",'Technische SDG'!M73))))","v":""},{"$f":"IF('Technische SDG'!N73=\"\",\"\",IF($D74=\"\",\"bitte ausfüllen \",IF($D74>'Technische SDG'!N73-1,\":-)\",CONCATENATE(\"Verbessern bis   \",'Technische SDG'!N73))))","v":""},{"$f":"IF('Technische SDG'!O73=\"\",\"\",IF($D74=\"\",\"bitte ausfüllen \",IF($D74>'Technische SDG'!O73-1,\":-)\",CONCATENATE(\"Verbessern bis   \",'Technische SDG'!O73))))","v":""},{"$f":"IF('Technische SDG'!P73=\"\",\"\",IF($D74=\"\",\"bitte ausfüllen \",IF($D74>'Technische SDG'!P73-1,\":-)\",CONCATENATE(\"Verbessern bis   \",'Technische SDG'!P73))))","v":""},{"$f":"IF('Technische SDG'!Q73=\"\",\"\",IF($D74=\"\",\"bitte ausfüllen \",IF($D74>'Technische SDG'!Q73-1,\":-)\",CONCATENATE(\"Verbessern bis   \",'Technische SDG'!Q73))))","v":""},{"$f":"IF('Technische SDG'!R73=\"\",\"\",IF($D74=\"\",\"bitte ausfüllen \",IF($D74>'Technische SDG'!R73-1,\":-)\",CONCATENATE(\"Verbessern bis   \",'Technische SDG'!R73))))","v":""},{"$f":"IF('Technische SDG'!S73=\"\",\"\",IF($D74=\"\",\"bitte ausfüllen \",IF($D74>'Technische SDG'!S73-1,\":-)\",CONCATENATE(\"Verbessern bis   \",'Technische SDG'!S73))))","v":""},{"$f":"IF('Technische SDG'!T73=\"\",\"\",IF($D74=\"\",\"bitte ausfüllen \",IF($D74>'Technische SDG'!T73-1,\":-)\",CONCATENATE(\"Verbessern bis   \",'Technische SDG'!T73))))","v":"Verbessern bis   3"}]
[null,{"$f":"'Technische SDG'!B74","v":"F3.9"},{"$f":"VLOOKUP(B75,'Kapitel 3'!$C$6:$D$70,2,0)","v":"Verfügt die Organisation über ein effizientes Verfahren, um ihre Produkte nach deren Lieferung nachzuverfolgen und Korrekturmaßnahmen durchzuführen?"},{"$f":"'Technische SDG'!C74","v":2},16,{"$f":"IF('Technische SDG'!D74=\"\",\"\",IF($D75=\"\",\"bitte ausfüllen \",IF($D75>'Technische SDG'!D74-1,\":-)\",CONCATENATE(\"Verbessern bis   \",'Technische SDG'!D74))))","v":""},{"$f":"IF('Technische SDG'!E74=\"\",\"\",IF($D75=\"\",\"bitte ausfüllen \",IF($D75>'Technische SDG'!E74-1,\":-)\",CONCATENATE(\"Verbessern bis   \",'Technische SDG'!E74))))","v":""},{"$f":"IF('Technische SDG'!F74=\"\",\"\",IF($D75=\"\",\"bitte ausfüllen \",IF($D75>'Technische SDG'!F74-1,\":-)\",CONCATENATE(\"Verbessern bis   \",'Technische SDG'!F74))))","v":"Verbessern bis   3"},{"$f":"IF('Technische SDG'!G74=\"\",\"\",IF($D75=\"\",\"bitte ausfüllen \",IF($D75>'Technische SDG'!G74-1,\":-)\",CONCATENATE(\"Verbessern bis   \",'Technische SDG'!G74))))","v":""},{"$f":"IF('Technische SDG'!H74=\"\",\"\",IF($D75=\"\",\"bitte ausfüllen \",IF($D75>'Technische SDG'!H74-1,\":-)\",CONCATENATE(\"Verbessern bis   \",'Technische SDG'!H74))))","v":""},{"$f":"IF('Technische SDG'!I74=\"\",\"\",IF($D75=\"\",\"bitte ausfüllen \",IF($D75>'Technische SDG'!I74-1,\":-)\",CONCATENATE(\"Verbessern bis   \",'Technische SDG'!I74))))","v":""},{"$f":"IF('Technische SDG'!J74=\"\",\"\",IF($D75=\"\",\"bitte ausfüllen \",IF($D75>'Technische SDG'!J74-1,\":-)\",CONCATENATE(\"Verbessern bis   \",'Technische SDG'!J74))))","v":""},{"$f":"IF('Technische SDG'!K74=\"\",\"\",IF($D75=\"\",\"bitte ausfüllen \",IF($D75>'Technische SDG'!K74-1,\":-)\",CONCATENATE(\"Verbessern bis   \",'Technische SDG'!K74))))","v":""},{"$f":"IF('Technische SDG'!L74=\"\",\"\",IF($D75=\"\",\"bitte ausfüllen \",IF($D75>'Technische SDG'!L74-1,\":-)\",CONCATENATE(\"Verbessern bis   \",'Technische SDG'!L74))))","v":""},{"$f":"IF('Technische SDG'!M74=\"\",\"\",IF($D75=\"\",\"bitte ausfüllen \",IF($D75>'Technische SDG'!M74-1,\":-)\",CONCATENATE(\"Verbessern bis   \",'Technische SDG'!M74))))","v":""},{"$f":"IF('Technische SDG'!N74=\"\",\"\",IF($D75=\"\",\"bitte ausfüllen \",IF($D75>'Technische SDG'!N74-1,\":-)\",CONCATENATE(\"Verbessern bis   \",'Technische SDG'!N74))))","v":""},{"$f":"IF('Technische SDG'!O74=\"\",\"\",IF($D75=\"\",\"bitte ausfüllen \",IF($D75>'Technische SDG'!O74-1,\":-)\",CONCATENATE(\"Verbessern bis   \",'Technische SDG'!O74))))","v":""},{"$f":"IF('Technische SDG'!P74=\"\",\"\",IF($D75=\"\",\"bitte ausfüllen \",IF($D75>'Technische SDG'!P74-1,\":-)\",CONCATENATE(\"Verbessern bis   \",'Technische SDG'!P74))))","v":""},{"$f":"IF('Technische SDG'!Q74=\"\",\"\",IF($D75=\"\",\"bitte ausfüllen \",IF($D75>'Technische SDG'!Q74-1,\":-)\",CONCATENATE(\"Verbessern bis   \",'Technische SDG'!Q74))))","v":""},{"$f":"IF('Technische SDG'!R74=\"\",\"\",IF($D75=\"\",\"bitte ausfüllen \",IF($D75>'Technische SDG'!R74-1,\":-)\",CONCATENATE(\"Verbessern bis   \",'Technische SDG'!R74))))","v":""},{"$f":"IF('Technische SDG'!S74=\"\",\"\",IF($D75=\"\",\"bitte ausfüllen \",IF($D75>'Technische SDG'!S74-1,\":-)\",CONCATENATE(\"Verbessern bis   \",'Technische SDG'!S74))))","v":""},{"$f":"IF('Technische SDG'!T74=\"\",\"\",IF($D75=\"\",\"bitte ausfüllen \",IF($D75>'Technische SDG'!T74-1,\":-)\",CONCATENATE(\"Verbessern bis   \",'Technische SDG'!T74))))","v":""}]
[null,{"$f":"'Technische SDG'!B75","v":"F3.10"},{"$f":"VLOOKUP(B76,'Kapitel 3'!$C$6:$D$70,2,0)","v":"Kommuniziert die Organisation effizient in der Lieferkette hinsichtlich der für ihre Produkte notwendigen Maßnahmen des Risikomanagements?\n"},{"$f":"'Technische SDG'!C75","v":2},15,{"$f":"IF('Technische SDG'!D75=\"\",\"\",IF($D76=\"\",\"bitte ausfüllen \",IF($D76>'Technische SDG'!D75-1,\":-)\",CONCATENATE(\"Verbessern bis   \",'Technische SDG'!D75))))","v":""},{"$f":"IF('Technische SDG'!E75=\"\",\"\",IF($D76=\"\",\"bitte ausfüllen \",IF($D76>'Technische SDG'!E75-1,\":-)\",CONCATENATE(\"Verbessern bis   \",'Technische SDG'!E75))))","v":""},{"$f":"IF('Technische SDG'!F75=\"\",\"\",IF($D76=\"\",\"bitte ausfüllen \",IF($D76>'Technische SDG'!F75-1,\":-)\",CONCATENATE(\"Verbessern bis   \",'Technische SDG'!F75))))","v":"Verbessern bis   3"},{"$f":"IF('Technische SDG'!G75=\"\",\"\",IF($D76=\"\",\"bitte ausfüllen \",IF($D76>'Technische SDG'!G75-1,\":-)\",CONCATENATE(\"Verbessern bis   \",'Technische SDG'!G75))))","v":""},{"$f":"IF('Technische SDG'!H75=\"\",\"\",IF($D76=\"\",\"bitte ausfüllen \",IF($D76>'Technische SDG'!H75-1,\":-)\",CONCATENATE(\"Verbessern bis   \",'Technische SDG'!H75))))","v":""},{"$f":"IF('Technische SDG'!I75=\"\",\"\",IF($D76=\"\",\"bitte ausfüllen \",IF($D76>'Technische SDG'!I75-1,\":-)\",CONCATENATE(\"Verbessern bis   \",'Technische SDG'!I75))))","v":""},{"$f":"IF('Technische SDG'!J75=\"\",\"\",IF($D76=\"\",\"bitte ausfüllen \",IF($D76>'Technische SDG'!J75-1,\":-)\",CONCATENATE(\"Verbessern bis   \",'Technische SDG'!J75))))","v":""},{"$f":"IF('Technische SDG'!K75=\"\",\"\",IF($D76=\"\",\"bitte ausfüllen \",IF($D76>'Technische SDG'!K75-1,\":-)\",CONCATENATE(\"Verbessern bis   \",'Technische SDG'!K75))))","v":""},{"$f":"IF('Technische SDG'!L75=\"\",\"\",IF($D76=\"\",\"bitte ausfüllen \",IF($D76>'Technische SDG'!L75-1,\":-)\",CONCATENATE(\"Verbessern bis   \",'Technische SDG'!L75))))","v":""},{"$f":"IF('Technische SDG'!M75=\"\",\"\",IF($D76=\"\",\"bitte ausfüllen \",IF($D76>'Technische SDG'!M75-1,\":-)\",CONCATENATE(\"Verbessern bis   \",'Technische SDG'!M75))))","v":""},{"$f":"IF('Technische SDG'!N75=\"\",\"\",IF($D76=\"\",\"bitte ausfüllen \",IF($D76>'Technische SDG'!N75-1,\":-)\",CONCATENATE(\"Verbessern bis   \",'Technische SDG'!N75))))","v":""},{"$f":"IF('Technische SDG'!O75=\"\",\"\",IF($D76=\"\",\"bitte ausfüllen \",IF($D76>'Technische SDG'!O75-1,\":-)\",CONCATENATE(\"Verbessern bis   \",'Technische SDG'!O75))))","v":""},{"$f":"IF('Technische SDG'!P75=\"\",\"\",IF($D76=\"\",\"bitte ausfüllen \",IF($D76>'Technische SDG'!P75-1,\":-)\",CONCATENATE(\"Verbessern bis   \",'Technische SDG'!P75))))","v":""},{"$f":"IF('Technische SDG'!Q75=\"\",\"\",IF($D76=\"\",\"bitte ausfüllen \",IF($D76>'Technische SDG'!Q75-1,\":-)\",CONCATENATE(\"Verbessern bis   \",'Technische SDG'!Q75))))","v":""},{"$f":"IF('Technische SDG'!R75=\"\",\"\",IF($D76=\"\",\"bitte ausfüllen \",IF($D76>'Technische SDG'!R75-1,\":-)\",CONCATENATE(\"Verbessern bis   \",'Technische SDG'!R75))))","v":""},{"$f":"IF('Technische SDG'!S75=\"\",\"\",IF($D76=\"\",\"bitte ausfüllen \",IF($D76>'Technische SDG'!S75-1,\":-)\",CONCATENATE(\"Verbessern bis   \",'Technische SDG'!S75))))","v":""},{"$f":"IF('Technische SDG'!T75=\"\",\"\",IF($D76=\"\",\"bitte ausfüllen \",IF($D76>'Technische SDG'!T75-1,\":-)\",CONCATENATE(\"Verbessern bis   \",'Technische SDG'!T75))))","v":"Verbessern bis   3"}]
[]
[null,{"$f":"'Technische SDG'!B77","v":"F4.1"},{"$f":"VLOOKUP(B78,'Kapitel 4'!$C$6:$D$58,2,0)","v":"In welcher Form hat sich die Organisation einer verantwortungsvollen Beschaffung verpflichtet?"},{"$f":"'Technische SDG'!C77","v":1},16,{"$f":"IF('Technische SDG'!D77=\"\",\"\",IF($D78=\"\",\"bitte ausfüllen \",IF($D78>'Technische SDG'!D77-1,\":-)\",CONCATENATE(\"Verbessern bis   \",'Technische SDG'!D77))))","v":""},{"$f":"IF('Technische SDG'!E77=\"\",\"\",IF($D78=\"\",\"bitte ausfüllen \",IF($D78>'Technische SDG'!E77-1,\":-)\",CONCATENATE(\"Verbessern bis   \",'Technische SDG'!E77))))","v":""},{"$f":"IF('Technische SDG'!F77=\"\",\"\",IF($D78=\"\",\"bitte ausfüllen \",IF($D78>'Technische SDG'!F77-1,\":-)\",CONCATENATE(\"Verbessern bis   \",'Technische SDG'!F77))))","v":""},{"$f":"IF('Technische SDG'!G77=\"\",\"\",IF($D78=\"\",\"bitte ausfüllen \",IF($D78>'Technische SDG'!G77-1,\":-)\",CONCATENATE(\"Verbessern bis   \",'Technische SDG'!G77))))","v":""},{"$f":"IF('Technische SDG'!H77=\"\",\"\",IF($D78=\"\",\"bitte ausfüllen \",IF($D78>'Technische SDG'!H77-1,\":-)\",CONCATENATE(\"Verbessern bis   \",'Technische SDG'!H77))))","v":""},{"$f":"IF('Technische SDG'!I77=\"\",\"\",IF($D78=\"\",\"bitte ausfüllen \",IF($D78>'Technische SDG'!I77-1,\":-)\",CONCATENATE(\"Verbessern bis   \",'Technische SDG'!I77))))","v":""},{"$f":"IF('Technische SDG'!J77=\"\",\"\",IF($D78=\"\",\"bitte ausfüllen \",IF($D78>'Technische SDG'!J77-1,\":-)\",CONCATENATE(\"Verbessern bis   \",'Technische SDG'!J77))))","v":""},{"$f":"IF('Technische SDG'!K77=\"\",\"\",IF($D78=\"\",\"bitte ausfüllen \",IF($D78>'Technische SDG'!K77-1,\":-)\",CONCATENATE(\"Verbessern bis   \",'Technische SDG'!K77))))","v":"Verbessern bis   3"},{"$f":"IF('Technische SDG'!L77=\"\",\"\",IF($D78=\"\",\"bitte ausfüllen \",IF($D78>'Technische SDG'!L77-1,\":-)\",CONCATENATE(\"Verbessern bis   \",'Technische SDG'!L77))))","v":""},{"$f":"IF('Technische SDG'!M77=\"\",\"\",IF($D78=\"\",\"bitte ausfüllen \",IF($D78>'Technische SDG'!M77-1,\":-)\",CONCATENATE(\"Verbessern bis   \",'Technische SDG'!M77))))","v":""},{"$f":"IF('Technische SDG'!N77=\"\",\"\",IF($D78=\"\",\"bitte ausfüllen \",IF($D78>'Technische SDG'!N77-1,\":-)\",CONCATENATE(\"Verbessern bis   \",'Technische SDG'!N77))))","v":""},{"$f":"IF('Technische SDG'!O77=\"\",\"\",IF($D78=\"\",\"bitte ausfüllen \",IF($D78>'Technische SDG'!O77-1,\":-)\",CONCATENATE(\"Verbessern bis   \",'Technische SDG'!O77))))","v":""},{"$f":"IF('Technische SDG'!P77=\"\",\"\",IF($D78=\"\",\"bitte ausfüllen \",IF($D78>'Technische SDG'!P77-1,\":-)\",CONCATENATE(\"Verbessern bis   \",'Technische SDG'!P77))))","v":""},{"$f":"IF('Technische SDG'!Q77=\"\",\"\",IF($D78=\"\",\"bitte ausfüllen \",IF($D78>'Technische SDG'!Q77-1,\":-)\",CONCATENATE(\"Verbessern bis   \",'Technische SDG'!Q77))))","v":""},{"$f":"IF('Technische SDG'!R77=\"\",\"\",IF($D78=\"\",\"bitte ausfüllen \",IF($D78>'Technische SDG'!R77-1,\":-)\",CONCATENATE(\"Verbessern bis   \",'Technische SDG'!R77))))","v":""},{"$f":"IF('Technische SDG'!S77=\"\",\"\",IF($D78=\"\",\"bitte ausfüllen \",IF($D78>'Technische SDG'!S77-1,\":-)\",CONCATENATE(\"Verbessern bis   \",'Technische SDG'!S77))))","v":""},{"$f":"IF('Technische SDG'!T77=\"\",\"\",IF($D78=\"\",\"bitte ausfüllen \",IF($D78>'Technische SDG'!T77-1,\":-)\",CONCATENATE(\"Verbessern bis   \",'Technische SDG'!T77))))","v":""}]
[null,{"$f":"'Technische SDG'!B78","v":"F4.2"},{"$f":"VLOOKUP(B79,'Kapitel 4'!$C$6:$D$58,2,0)","v":"In welcher Weise steigert die Organisation die Zusammenarbeit mit der Wertschöpfungskette?"},{"$f":"'Technische SDG'!C78","v":2},17,{"$f":"IF('Technische SDG'!D78=\"\",\"\",IF($D79=\"\",\"please complete\",IF($D79>'Technische SDG'!D78-1,\":-)\",CONCATENATE(\"increase until \",'Technische SDG'!D78))))","v":""},{"$f":"IF('Technische SDG'!E78=\"\",\"\",IF($D79=\"\",\"please complete\",IF($D79>'Technische SDG'!E78-1,\":-)\",CONCATENATE(\"increase until \",'Technische SDG'!E78))))","v":""},{"$f":"IF('Technische SDG'!F78=\"\",\"\",IF($D79=\"\",\"please complete\",IF($D79>'Technische SDG'!F78-1,\":-)\",CONCATENATE(\"increase until \",'Technische SDG'!F78))))","v":""},{"$f":"IF('Technische SDG'!G78=\"\",\"\",IF($D79=\"\",\"please complete\",IF($D79>'Technische SDG'!G78-1,\":-)\",CONCATENATE(\"increase until \",'Technische SDG'!G78))))","v":""},{"$f":"IF('Technische SDG'!H78=\"\",\"\",IF($D79=\"\",\"please complete\",IF($D79>'Technische SDG'!H78-1,\":-)\",CONCATENATE(\"increase until \",'Technische SDG'!H78))))","v":""},{"$f":"IF('Technische SDG'!I78=\"\",\"\",IF($D79=\"\",\"please complete\",IF($D79>'Technische SDG'!I78-1,\":-)\",CONCATENATE(\"increase until \",'Technische SDG'!I78))))","v":""},{"$f":"IF('Technische SDG'!J78=\"\",\"\",IF($D79=\"\",\"please complete\",IF($D79>'Technische SDG'!J78-1,\":-)\",CONCATENATE(\"increase until \",'Technische SDG'!J78))))","v":""},{"$f":"IF('Technische SDG'!K78=\"\",\"\",IF($D79=\"\",\"please complete\",IF($D79>'Technische SDG'!K78-1,\":-)\",CONCATENATE(\"increase until \",'Technische SDG'!K78))))","v":""},{"$f":"IF('Technische SDG'!L78=\"\",\"\",IF($D79=\"\",\"please complete\",IF($D79>'Technische SDG'!L78-1,\":-)\",CONCATENATE(\"increase until \",'Technische SDG'!L78))))","v":""},{"$f":"IF('Technische SDG'!M78=\"\",\"\",IF($D79=\"\",\"please complete\",IF($D79>'Technische SDG'!M78-1,\":-)\",CONCATENATE(\"increase until \",'Technische SDG'!M78))))","v":""},{"$f":"IF('Technische SDG'!N78=\"\",\"\",IF($D79=\"\",\"please complete\",IF($D79>'Technische SDG'!N78-1,\":-)\",CONCATENATE(\"increase until \",'Technische SDG'!N78))))","v":""},{"$f":"IF('Technische SDG'!O78=\"\",\"\",IF($D79=\"\",\"please complete\",IF($D79>'Technische SDG'!O78-1,\":-)\",CONCATENATE(\"increase until \",'Technische SDG'!O78))))","v":""},{"$f":"IF('Technische SDG'!P78=\"\",\"\",IF($D79=\"\",\"please complete\",IF($D79>'Technische SDG'!P78-1,\":-)\",CONCATENATE(\"increase until \",'Technische SDG'!P78))))","v":""},{"$f":"IF('Technische SDG'!Q78=\"\",\"\",IF($D79=\"\",\"please complete\",IF($D79>'Technische SDG'!Q78-1,\":-)\",CONCATENATE(\"increase until \",'Technische SDG'!Q78))))","v":""},{"$f":"IF('Technische SDG'!R78=\"\",\"\",IF($D79=\"\",\"please complete\",IF($D79>'Technische SDG'!R78-1,\":-)\",CONCATENATE(\"increase until \",'Technische SDG'!R78))))","v":""},{"$f":"IF('Technische SDG'!S78=\"\",\"\",IF($D79=\"\",\"please complete\",IF($D79>'Technische SDG'!S78-1,\":-)\",CONCATENATE(\"increase until \",'Technische SDG'!S78))))","v":""},{"$f":"IF('Technische SDG'!T78=\"\",\"\",IF($D79=\"\",\"please complete\",IF($D79>'Technische SDG'!T78-1,\":-)\",CONCATENATE(\"increase until \",'Technische SDG'!T78))))","v":""}]
[null,{"$f":"'Technische SDG'!B79","v":"F4.3"},{"$f":"VLOOKUP(B80,'Kapitel 4'!$C$6:$D$58,2,0)","v":"In welcher Weise bringt die Organisation ihre Verpflichtung mit Hinblick auf Geschäftsethik zum Ausdruck?"},{"$f":"'Technische SDG'!C79","v":2},17,{"$f":"IF('Technische SDG'!D79=\"\",\"\",IF($D80=\"\",\"please complete\",IF($D80>'Technische SDG'!D79-1,\":-)\",CONCATENATE(\"increase until \",'Technische SDG'!D79))))","v":""},{"$f":"IF('Technische SDG'!E79=\"\",\"\",IF($D80=\"\",\"please complete\",IF($D80>'Technische SDG'!E79-1,\":-)\",CONCATENATE(\"increase until \",'Technische SDG'!E79))))","v":""},{"$f":"IF('Technische SDG'!F79=\"\",\"\",IF($D80=\"\",\"please complete\",IF($D80>'Technische SDG'!F79-1,\":-)\",CONCATENATE(\"increase until \",'Technische SDG'!F79))))","v":""},{"$f":"IF('Technische SDG'!G79=\"\",\"\",IF($D80=\"\",\"please complete\",IF($D80>'Technische SDG'!G79-1,\":-)\",CONCATENATE(\"increase until \",'Technische SDG'!G79))))","v":""},{"$f":"IF('Technische SDG'!H79=\"\",\"\",IF($D80=\"\",\"please complete\",IF($D80>'Technische SDG'!H79-1,\":-)\",CONCATENATE(\"increase until \",'Technische SDG'!H79))))","v":""},{"$f":"IF('Technische SDG'!I79=\"\",\"\",IF($D80=\"\",\"please complete\",IF($D80>'Technische SDG'!I79-1,\":-)\",CONCATENATE(\"increase until \",'Technische SDG'!I79))))","v":""},{"$f":"IF('Technische SDG'!J79=\"\",\"\",IF($D80=\"\",\"please complete\",IF($D80>'Technische SDG'!J79-1,\":-)\",CONCATENATE(\"increase until \",'Technische SDG'!J79))))","v":""},{"$f":"IF('Technische SDG'!K79=\"\",\"\",IF($D80=\"\",\"please complete\",IF($D80>'Technische SDG'!K79-1,\":-)\",CONCATENATE(\"increase until \",'Technische SDG'!K79))))","v":""},{"$f":"IF('Technische SDG'!L79=\"\",\"\",IF($D80=\"\",\"please complete\",IF($D80>'Technische SDG'!L79-1,\":-)\",CONCATENATE(\"increase until \",'Technische SDG'!L79))))","v":""},{"$f":"IF('Technische SDG'!M79=\"\",\"\",IF($D80=\"\",\"please complete\",IF($D80>'Technische SDG'!M79-1,\":-)\",CONCATENATE(\"increase until \",'Technische SDG'!M79))))","v":""},{"$f":"IF('Technische SDG'!N79=\"\",\"\",IF($D80=\"\",\"please complete\",IF($D80>'Technische SDG'!N79-1,\":-)\",CONCATENATE(\"increase until \",'Technische SDG'!N79))))","v":""},{"$f":"IF('Technische SDG'!O79=\"\",\"\",IF($D80=\"\",\"please complete\",IF($D80>'Technische SDG'!O79-1,\":-)\",CONCATENATE(\"increase until \",'Technische SDG'!O79))))","v":""},{"$f":"IF('Technische SDG'!P79=\"\",\"\",IF($D80=\"\",\"please complete\",IF($D80>'Technische SDG'!P79-1,\":-)\",CONCATENATE(\"increase until \",'Technische SDG'!P79))))","v":""},{"$f":"IF('Technische SDG'!Q79=\"\",\"\",IF($D80=\"\",\"please complete\",IF($D80>'Technische SDG'!Q79-1,\":-)\",CONCATENATE(\"increase until \",'Technische SDG'!Q79))))","v":""},{"$f":"IF('Technische SDG'!R79=\"\",\"\",IF($D80=\"\",\"please complete\",IF($D80>'Technische SDG'!R79-1,\":-)\",CONCATENATE(\"increase until \",'Technische SDG'!R79))))","v":""},{"$f":"IF('Technische SDG'!S79=\"\",\"\",IF($D80=\"\",\"please complete\",IF($D80>'Technische SDG'!S79-1,\":-)\",CONCATENATE(\"increase until \",'Technische SDG'!S79))))","v":""},{"$f":"IF('Technische SDG'!T79=\"\",\"\",IF($D80=\"\",\"please complete\",IF($D80>'Technische SDG'!T79-1,\":-)\",CONCATENATE(\"increase until \",'Technische SDG'!T79))))","v":""}]
[null,{"$f":"'Technische SDG'!B80","v":"F4.4"},{"$f":"VLOOKUP(B81,'Kapitel 4'!$C$6:$D$58,2,0)","v":"Wie berücksichtigt die Organisation soziale Fragen und Menschenrechte in ihrer Zusammenarbeit mit Geschäftspartnern?"},{"$f":"'Technische SDG'!C80","v":2},16,{"$f":"IF('Technische SDG'!D80=\"\",\"\",IF($D81=\"\",\"bitte ausfüllen \",IF($D81>'Technische SDG'!D80-1,\":-)\",CONCATENATE(\"Verbessern bis   \",'Technische SDG'!D80))))","v":""},{"$f":"IF('Technische SDG'!E80=\"\",\"\",IF($D81=\"\",\"bitte ausfüllen \",IF($D81>'Technische SDG'!E80-1,\":-)\",CONCATENATE(\"Verbessern bis   \",'Technische SDG'!E80))))","v":""},{"$f":"IF('Technische SDG'!F80=\"\",\"\",IF($D81=\"\",\"bitte ausfüllen \",IF($D81>'Technische SDG'!F80-1,\":-)\",CONCATENATE(\"Verbessern bis   \",'Technische SDG'!F80))))","v":""},{"$f":"IF('Technische SDG'!G80=\"\",\"\",IF($D81=\"\",\"bitte ausfüllen \",IF($D81>'Technische SDG'!G80-1,\":-)\",CONCATENATE(\"Verbessern bis   \",'Technische SDG'!G80))))","v":""},{"$f":"IF('Technische SDG'!H80=\"\",\"\",IF($D81=\"\",\"bitte ausfüllen \",IF($D81>'Technische SDG'!H80-1,\":-)\",CONCATENATE(\"Verbessern bis   \",'Technische SDG'!H80))))","v":""},{"$f":"IF('Technische SDG'!I80=\"\",\"\",IF($D81=\"\",\"bitte ausfüllen \",IF($D81>'Technische SDG'!I80-1,\":-)\",CONCATENATE(\"Verbessern bis   \",'Technische SDG'!I80))))","v":""},{"$f":"IF('Technische SDG'!J80=\"\",\"\",IF($D81=\"\",\"bitte ausfüllen \",IF($D81>'Technische SDG'!J80-1,\":-)\",CONCATENATE(\"Verbessern bis   \",'Technische SDG'!J80))))","v":""},{"$f":"IF('Technische SDG'!K80=\"\",\"\",IF($D81=\"\",\"bitte ausfüllen \",IF($D81>'Technische SDG'!K80-1,\":-)\",CONCATENATE(\"Verbessern bis   \",'Technische SDG'!K80))))","v":"Verbessern bis   3"},{"$f":"IF('Technische SDG'!L80=\"\",\"\",IF($D81=\"\",\"bitte ausfüllen \",IF($D81>'Technische SDG'!L80-1,\":-)\",CONCATENATE(\"Verbessern bis   \",'Technische SDG'!L80))))","v":""},{"$f":"IF('Technische SDG'!M80=\"\",\"\",IF($D81=\"\",\"bitte ausfüllen \",IF($D81>'Technische SDG'!M80-1,\":-)\",CONCATENATE(\"Verbessern bis   \",'Technische SDG'!M80))))","v":""},{"$f":"IF('Technische SDG'!N80=\"\",\"\",IF($D81=\"\",\"bitte ausfüllen \",IF($D81>'Technische SDG'!N80-1,\":-)\",CONCATENATE(\"Verbessern bis   \",'Technische SDG'!N80))))","v":""},{"$f":"IF('Technische SDG'!O80=\"\",\"\",IF($D81=\"\",\"bitte ausfüllen \",IF($D81>'Technische SDG'!O80-1,\":-)\",CONCATENATE(\"Verbessern bis   \",'Technische SDG'!O80))))","v":""},{"$f":"IF('Technische SDG'!P80=\"\",\"\",IF($D81=\"\",\"bitte ausfüllen \",IF($D81>'Technische SDG'!P80-1,\":-)\",CONCATENATE(\"Verbessern bis   \",'Technische SDG'!P80))))","v":""},{"$f":"IF('Technische SDG'!Q80=\"\",\"\",IF($D81=\"\",\"bitte ausfüllen \",IF($D81>'Technische SDG'!Q80-1,\":-)\",CONCATENATE(\"Verbessern bis   \",'Technische SDG'!Q80))))","v":""},{"$f":"IF('Technische SDG'!R80=\"\",\"\",IF($D81=\"\",\"bitte ausfüllen \",IF($D81>'Technische SDG'!R80-1,\":-)\",CONCATENATE(\"Verbessern bis   \",'Technische SDG'!R80))))","v":""},{"$f":"IF('Technische SDG'!S80=\"\",\"\",IF($D81=\"\",\"bitte ausfüllen \",IF($D81>'Technische SDG'!S80-1,\":-)\",CONCATENATE(\"Verbessern bis   \",'Technische SDG'!S80))))","v":""},{"$f":"IF('Technische SDG'!T80=\"\",\"\",IF($D81=\"\",\"bitte ausfüllen \",IF($D81>'Technische SDG'!T80-1,\":-)\",CONCATENATE(\"Verbessern bis   \",'Technische SDG'!T80))))","v":""}]
[null,{"$f":"'Technische SDG'!B81","v":"F4.5"},{"$f":"VLOOKUP(B82,'Kapitel 4'!$C$6:$D$58,2,0)","v":"In welcher Weise verhindert die Organisation Kinderarbeit?\n\nDie Organisation\n1.\tverfügt über ein System zur Altersprüfung;\n2.\tbeschäftigt keine Kinder unter 15 Jahren (oder älter; die jeweiligen örtlichen Gesetze sind zu beachten). Berufsausbildungen oder Praktika im Rahmen der Schulbildung bzw. bildungsbezogene Praktika sind die einzigen Ausnahmen;\n3.\tstellt sicher, dass die Beschäftigung von Personen unter 18 Jahren nicht deren Schulbesuch beeinträchtigt (die Gesamtzahl der Stunden für den Weg zur Arbeit und Schule und zurück, Schulbesuch und Arbeitstätigkeit beträgt weniger als 10 Stunden täglich);\n4.\tstellt sicher, dass die Tätigkeit junger Arbeitnehmer nicht geistig, körperlich, sozial oder moralisch gefährlich und schädlich ist."},{"$f":"'Technische SDG'!C81","v":2},16,{"$f":"IF('Technische SDG'!D81=\"\",\"\",IF($D82=\"\",\"bitte ausfüllen \",IF($D82>'Technische SDG'!D81-1,\":-)\",CONCATENATE(\"Verbessern bis   \",'Technische SDG'!D81))))","v":""},{"$f":"IF('Technische SDG'!E81=\"\",\"\",IF($D82=\"\",\"bitte ausfüllen \",IF($D82>'Technische SDG'!E81-1,\":-)\",CONCATENATE(\"Verbessern bis   \",'Technische SDG'!E81))))","v":""},{"$f":"IF('Technische SDG'!F81=\"\",\"\",IF($D82=\"\",\"bitte ausfüllen \",IF($D82>'Technische SDG'!F81-1,\":-)\",CONCATENATE(\"Verbessern bis   \",'Technische SDG'!F81))))","v":""},{"$f":"IF('Technische SDG'!G81=\"\",\"\",IF($D82=\"\",\"bitte ausfüllen \",IF($D82>'Technische SDG'!G81-1,\":-)\",CONCATENATE(\"Verbessern bis   \",'Technische SDG'!G81))))","v":""},{"$f":"IF('Technische SDG'!H81=\"\",\"\",IF($D82=\"\",\"bitte ausfüllen \",IF($D82>'Technische SDG'!H81-1,\":-)\",CONCATENATE(\"Verbessern bis   \",'Technische SDG'!H81))))","v":""},{"$f":"IF('Technische SDG'!I81=\"\",\"\",IF($D82=\"\",\"bitte ausfüllen \",IF($D82>'Technische SDG'!I81-1,\":-)\",CONCATENATE(\"Verbessern bis   \",'Technische SDG'!I81))))","v":""},{"$f":"IF('Technische SDG'!J81=\"\",\"\",IF($D82=\"\",\"bitte ausfüllen \",IF($D82>'Technische SDG'!J81-1,\":-)\",CONCATENATE(\"Verbessern bis   \",'Technische SDG'!J81))))","v":""},{"$f":"IF('Technische SDG'!K81=\"\",\"\",IF($D82=\"\",\"bitte ausfüllen \",IF($D82>'Technische SDG'!K81-1,\":-)\",CONCATENATE(\"Verbessern bis   \",'Technische SDG'!K81))))","v":"Verbessern bis   3"},{"$f":"IF('Technische SDG'!L81=\"\",\"\",IF($D82=\"\",\"bitte ausfüllen \",IF($D82>'Technische SDG'!L81-1,\":-)\",CONCATENATE(\"Verbessern bis   \",'Technische SDG'!L81))))","v":""},{"$f":"IF('Technische SDG'!M81=\"\",\"\",IF($D82=\"\",\"bitte ausfüllen \",IF($D82>'Technische SDG'!M81-1,\":-)\",CONCATENATE(\"Verbessern bis   \",'Technische SDG'!M81))))","v":""},{"$f":"IF('Technische SDG'!N81=\"\",\"\",IF($D82=\"\",\"bitte ausfüllen \",IF($D82>'Technische SDG'!N81-1,\":-)\",CONCATENATE(\"Verbessern bis   \",'Technische SDG'!N81))))","v":""},{"$f":"IF('Technische SDG'!O81=\"\",\"\",IF($D82=\"\",\"bitte ausfüllen \",IF($D82>'Technische SDG'!O81-1,\":-)\",CONCATENATE(\"Verbessern bis   \",'Technische SDG'!O81))))","v":""},{"$f":"IF('Technische SDG'!P81=\"\",\"\",IF($D82=\"\",\"bitte ausfüllen \",IF($D82>'Technische SDG'!P81-1,\":-)\",CONCATENATE(\"Verbessern bis   \",'Technische SDG'!P81))))","v":""},{"$f":"IF('Technische SDG'!Q81=\"\",\"\",IF($D82=\"\",\"bitte ausfüllen \",IF($D82>'Technische SDG'!Q81-1,\":-)\",CONCATENATE(\"Verbessern bis   \",'Technische SDG'!Q81))))","v":""},{"$f":"IF('Technische SDG'!R81=\"\",\"\",IF($D82=\"\",\"bitte ausfüllen \",IF($D82>'Technische SDG'!R81-1,\":-)\",CONCATENATE(\"Verbessern bis   \",'Technische SDG'!R81))))","v":""},{"$f":"IF('Technische SDG'!S81=\"\",\"\",IF($D82=\"\",\"bitte ausfüllen \",IF($D82>'Technische SDG'!S81-1,\":-)\",CONCATENATE(\"Verbessern bis   \",'Technische SDG'!S81))))","v":""},{"$f":"IF('Technische SDG'!T81=\"\",\"\",IF($D82=\"\",\"bitte ausfüllen \",IF($D82>'Technische SDG'!T81-1,\":-)\",CONCATENATE(\"Verbessern bis   \",'Technische SDG'!T81))))","v":""}]
[null,{"$f":"'Technische SDG'!B82","v":"F4.6"},{"$f":"VLOOKUP(B83,'Kapitel 4'!$C$6:$D$58,2,0)","v":"Wie stellt die Organisation sicher, dass ihre Logistikpartner die Anforderungen der Organisation erfüllen?"},{"$f":"'Technische SDG'!C82","v":2},17,{"$f":"IF('Technische SDG'!D82=\"\",\"\",IF($D83=\"\",\"please complete\",IF($D83>'Technische SDG'!D82-1,\":-)\",CONCATENATE(\"increase until \",'Technische SDG'!D82))))","v":""},{"$f":"IF('Technische SDG'!E82=\"\",\"\",IF($D83=\"\",\"please complete\",IF($D83>'Technische SDG'!E82-1,\":-)\",CONCATENATE(\"increase until \",'Technische SDG'!E82))))","v":""},{"$f":"IF('Technische SDG'!F82=\"\",\"\",IF($D83=\"\",\"please complete\",IF($D83>'Technische SDG'!F82-1,\":-)\",CONCATENATE(\"increase until \",'Technische SDG'!F82))))","v":""},{"$f":"IF('Technische SDG'!G82=\"\",\"\",IF($D83=\"\",\"please complete\",IF($D83>'Technische SDG'!G82-1,\":-)\",CONCATENATE(\"increase until \",'Technische SDG'!G82))))","v":""},{"$f":"IF('Technische SDG'!H82=\"\",\"\",IF($D83=\"\",\"please complete\",IF($D83>'Technische SDG'!H82-1,\":-)\",CONCATENATE(\"increase until \",'Technische SDG'!H82))))","v":""},{"$f":"IF('Technische SDG'!I82=\"\",\"\",IF($D83=\"\",\"please complete\",IF($D83>'Technische SDG'!I82-1,\":-)\",CONCATENATE(\"increase until \",'Technische SDG'!I82))))","v":""},{"$f":"IF('Technische SDG'!J82=\"\",\"\",IF($D83=\"\",\"please complete\",IF($D83>'Technische SDG'!J82-1,\":-)\",CONCATENATE(\"increase until \",'Technische SDG'!J82))))","v":""},{"$f":"IF('Technische SDG'!K82=\"\",\"\",IF($D83=\"\",\"please complete\",IF($D83>'Technische SDG'!K82-1,\":-)\",CONCATENATE(\"increase until \",'Technische SDG'!K82))))","v":""},{"$f":"IF('Technische SDG'!L82=\"\",\"\",IF($D83=\"\",\"please complete\",IF($D83>'Technische SDG'!L82-1,\":-)\",CONCATENATE(\"increase until \",'Technische SDG'!L82))))","v":""},{"$f":"IF('Technische SDG'!M82=\"\",\"\",IF($D83=\"\",\"please complete\",IF($D83>'Technische SDG'!M82-1,\":-)\",CONCATENATE(\"increase until \",'Technische SDG'!M82))))","v":""},{"$f":"IF('Technische SDG'!N82=\"\",\"\",IF($D83=\"\",\"please complete\",IF($D83>'Technische SDG'!N82-1,\":-)\",CONCATENATE(\"increase until \",'Technische SDG'!N82))))","v":""},{"$f":"IF('Technische SDG'!O82=\"\",\"\",IF($D83=\"\",\"please complete\",IF($D83>'Technische SDG'!O82-1,\":-)\",CONCATENATE(\"increase until \",'Technische SDG'!O82))))","v":""},{"$f":"IF('Technische SDG'!P82=\"\",\"\",IF($D83=\"\",\"please complete\",IF($D83>'Technische SDG'!P82-1,\":-)\",CONCATENATE(\"increase until \",'Technische SDG'!P82))))","v":""},{"$f":"IF('Technische SDG'!Q82=\"\",\"\",IF($D83=\"\",\"please complete\",IF($D83>'Technische SDG'!Q82-1,\":-)\",CONCATENATE(\"increase until \",'Technische SDG'!Q82))))","v":""},{"$f":"IF('Technische SDG'!R82=\"\",\"\",IF($D83=\"\",\"please complete\",IF($D83>'Technische SDG'!R82-1,\":-)\",CONCATENATE(\"increase until \",'Technische SDG'!R82))))","v":""},{"$f":"IF('Technische SDG'!S82=\"\",\"\",IF($D83=\"\",\"please complete\",IF($D83>'Technische SDG'!S82-1,\":-)\",CONCATENATE(\"increase until \",'Technische SDG'!S82))))","v":""},{"$f":"IF('Technische SDG'!T82=\"\",\"\",IF($D83=\"\",\"please complete\",IF($D83>'Technische SDG'!T82-1,\":-)\",CONCATENATE(\"increase until \",'Technische SDG'!T82))))","v":""}]
[null,{"$f":"'Technische SDG'!B83","v":"F4.7"},{"$f":"VLOOKUP(B84,'Kapitel 4'!$C$6:$D$58,2,0)","v":"In welcher Weise schützt und sichert die Organisation das Eigentum und die Daten nachgeschalteter Anwender oder externer Anbieter, die zur Nutzung oder Einbeziehung/Einarbeitung in Produkte und Dienstleistungen bereitgestellt werden?"},{"$f":"'Technische SDG'!C83","v":1},17,{"$f":"IF('Technische SDG'!D83=\"\",\"\",IF($D84=\"\",\"please complete\",IF($D84>'Technische SDG'!D83-1,\":-)\",CONCATENATE(\"increase until \",'Technische SDG'!D83))))","v":""},{"$f":"IF('Technische SDG'!E83=\"\",\"\",IF($D84=\"\",\"please complete\",IF($D84>'Technische SDG'!E83-1,\":-)\",CONCATENATE(\"increase until \",'Technische SDG'!E83))))","v":""},{"$f":"IF('Technische SDG'!F83=\"\",\"\",IF($D84=\"\",\"please complete\",IF($D84>'Technische SDG'!F83-1,\":-)\",CONCATENATE(\"increase until \",'Technische SDG'!F83))))","v":""},{"$f":"IF('Technische SDG'!G83=\"\",\"\",IF($D84=\"\",\"please complete\",IF($D84>'Technische SDG'!G83-1,\":-)\",CONCATENATE(\"increase until \",'Technische SDG'!G83))))","v":""},{"$f":"IF('Technische SDG'!H83=\"\",\"\",IF($D84=\"\",\"please complete\",IF($D84>'Technische SDG'!H83-1,\":-)\",CONCATENATE(\"increase until \",'Technische SDG'!H83))))","v":""},{"$f":"IF('Technische SDG'!I83=\"\",\"\",IF($D84=\"\",\"please complete\",IF($D84>'Technische SDG'!I83-1,\":-)\",CONCATENATE(\"increase until \",'Technische SDG'!I83))))","v":""},{"$f":"IF('Technische SDG'!J83=\"\",\"\",IF($D84=\"\",\"please complete\",IF($D84>'Technische SDG'!J83-1,\":-)\",CONCATENATE(\"increase until \",'Technische SDG'!J83))))","v":""},{"$f":"IF('Technische SDG'!K83=\"\",\"\",IF($D84=\"\",\"please complete\",IF($D84>'Technische SDG'!K83-1,\":-)\",CONCATENATE(\"increase until \",'Technische SDG'!K83))))","v":""},{"$f":"IF('Technische SDG'!L83=\"\",\"\",IF($D84=\"\",\"please complete\",IF($D84>'Technische SDG'!L83-1,\":-)\",CONCATENATE(\"increase until \",'Technische SDG'!L83))))","v":""},{"$f":"IF('Technische SDG'!M83=\"\",\"\",IF($D84=\"\",\"please complete\",IF($D84>'Technische SDG'!M83-1,\":-)\",CONCATENATE(\"increase until \",'Technische SDG'!M83))))","v":""},{"$f":"IF('Technische SDG'!N83=\"\",\"\",IF($D84=\"\",\"please complete\",IF($D84>'Technische SDG'!N83-1,\":-)\",CONCATENATE(\"increase until \",'Technische SDG'!N83))))","v":""},{"$f":"IF('Technische SDG'!O83=\"\",\"\",IF($D84=\"\",\"please complete\",IF($D84>'Technische SDG'!O83-1,\":-)\",CONCATENATE(\"increase until \",'Technische SDG'!O83))))","v":""},{"$f":"IF('Technische SDG'!P83=\"\",\"\",IF($D84=\"\",\"please complete\",IF($D84>'Technische SDG'!P83-1,\":-)\",CONCATENATE(\"increase until \",'Technische SDG'!P83))))","v":""},{"$f":"IF('Technische SDG'!Q83=\"\",\"\",IF($D84=\"\",\"please complete\",IF($D84>'Technische SDG'!Q83-1,\":-)\",CONCATENATE(\"increase until \",'Technische SDG'!Q83))))","v":""},{"$f":"IF('Technische SDG'!R83=\"\",\"\",IF($D84=\"\",\"please complete\",IF($D84>'Technische SDG'!R83-1,\":-)\",CONCATENATE(\"increase until \",'Technische SDG'!R83))))","v":""},{"$f":"IF('Technische SDG'!S83=\"\",\"\",IF($D84=\"\",\"please complete\",IF($D84>'Technische SDG'!S83-1,\":-)\",CONCATENATE(\"increase until \",'Technische SDG'!S83))))","v":""},{"$f":"IF('Technische SDG'!T83=\"\",\"\",IF($D84=\"\",\"please complete\",IF($D84>'Technische SDG'!T83-1,\":-)\",CONCATENATE(\"increase until \",'Technische SDG'!T83))))","v":""}]
[null,{"$f":"'Technische SDG'!B84","v":"F4.8"},{"$f":"VLOOKUP(B85,'Kapitel 4'!$C$6:$D$58,2,0)","v":"Was beinhaltet der Dialog mit nachgeschalteten Anwendern?"},{"$f":"'Technische SDG'!C84","v":2},17,{"$f":"IF('Technische SDG'!D84=\"\",\"\",IF($D85=\"\",\"please complete\",IF($D85>'Technische SDG'!D84-1,\":-)\",CONCATENATE(\"increase until \",'Technische SDG'!D84))))","v":""},{"$f":"IF('Technische SDG'!E84=\"\",\"\",IF($D85=\"\",\"please complete\",IF($D85>'Technische SDG'!E84-1,\":-)\",CONCATENATE(\"increase until \",'Technische SDG'!E84))))","v":""},{"$f":"IF('Technische SDG'!F84=\"\",\"\",IF($D85=\"\",\"please complete\",IF($D85>'Technische SDG'!F84-1,\":-)\",CONCATENATE(\"increase until \",'Technische SDG'!F84))))","v":""},{"$f":"IF('Technische SDG'!G84=\"\",\"\",IF($D85=\"\",\"please complete\",IF($D85>'Technische SDG'!G84-1,\":-)\",CONCATENATE(\"increase until \",'Technische SDG'!G84))))","v":""},{"$f":"IF('Technische SDG'!H84=\"\",\"\",IF($D85=\"\",\"please complete\",IF($D85>'Technische SDG'!H84-1,\":-)\",CONCATENATE(\"increase until \",'Technische SDG'!H84))))","v":""},{"$f":"IF('Technische SDG'!I84=\"\",\"\",IF($D85=\"\",\"please complete\",IF($D85>'Technische SDG'!I84-1,\":-)\",CONCATENATE(\"increase until \",'Technische SDG'!I84))))","v":""},{"$f":"IF('Technische SDG'!J84=\"\",\"\",IF($D85=\"\",\"please complete\",IF($D85>'Technische SDG'!J84-1,\":-)\",CONCATENATE(\"increase until \",'Technische SDG'!J84))))","v":""},{"$f":"IF('Technische SDG'!K84=\"\",\"\",IF($D85=\"\",\"please complete\",IF($D85>'Technische SDG'!K84-1,\":-)\",CONCATENATE(\"increase until \",'Technische SDG'!K84))))","v":""},{"$f":"IF('Technische SDG'!L84=\"\",\"\",IF($D85=\"\",\"please complete\",IF($D85>'Technische SDG'!L84-1,\":-)\",CONCATENATE(\"increase until \",'Technische SDG'!L84))))","v":""},{"$f":"IF('Technische SDG'!M84=\"\",\"\",IF($D85=\"\",\"please complete\",IF($D85>'Technische SDG'!M84-1,\":-)\",CONCATENATE(\"increase until \",'Technische SDG'!M84))))","v":""},{"$f":"IF('Technische SDG'!N84=\"\",\"\",IF($D85=\"\",\"please complete\",IF($D85>'Technische SDG'!N84-1,\":-)\",CONCATENATE(\"increase until \",'Technische SDG'!N84))))","v":""},{"$f":"IF('Technische SDG'!O84=\"\",\"\",IF($D85=\"\",\"please complete\",IF($D85>'Technische SDG'!O84-1,\":-)\",CONCATENATE(\"increase until \",'Technische SDG'!O84))))","v":""},{"$f":"IF('Technische SDG'!P84=\"\",\"\",IF($D85=\"\",\"please complete\",IF($D85>'Technische SDG'!P84-1,\":-)\",CONCATENATE(\"increase until \",'Technische SDG'!P84))))","v":""},{"$f":"IF('Technische SDG'!Q84=\"\",\"\",IF($D85=\"\",\"please complete\",IF($D85>'Technische SDG'!Q84-1,\":-)\",CONCATENATE(\"increase until \",'Technische SDG'!Q84))))","v":""},{"$f":"IF('Technische SDG'!R84=\"\",\"\",IF($D85=\"\",\"please complete\",IF($D85>'Technische SDG'!R84-1,\":-)\",CONCATENATE(\"increase until \",'Technische SDG'!R84))))","v":""},{"$f":"IF('Technische SDG'!S84=\"\",\"\",IF($D85=\"\",\"please complete\",IF($D85>'Technische SDG'!S84-1,\":-)\",CONCATENATE(\"increase until \",'Technische SDG'!S84))))","v":""},{"$f":"IF('Technische SDG'!T84=\"\",\"\",IF($D85=\"\",\"please complete\",IF($D85>'Technische SDG'!T84-1,\":-)\",CONCATENATE(\"increase until \",'Technische SDG'!T84))))","v":""}]
[]
[null,{"$f":"'Technische SDG'!B86","v":"F5.1"},{"$f":"VLOOKUP(B87,'Kapitel 5'!$C$6:$D$34,2,0)","v":"In welcher Weise bezieht die Organisation die für sie relevanten externen Anspruchsgruppen („stakeholder“) ein und wird deren Erwartungen gerecht?"},{"$f":"'Technische SDG'!C86","v":2},17,{"$f":"IF('Technische SDG'!D86=\"\",\"\",IF($D87=\"\",\"please complete\",IF($D87>'Technische SDG'!D86-1,\":-)\",CONCATENATE(\"increase until \",'Technische SDG'!D86))))","v":""},{"$f":"IF('Technische SDG'!E86=\"\",\"\",IF($D87=\"\",\"please complete\",IF($D87>'Technische SDG'!E86-1,\":-)\",CONCATENATE(\"increase until \",'Technische SDG'!E86))))","v":""},{"$f":"IF('Technische SDG'!F86=\"\",\"\",IF($D87=\"\",\"please complete\",IF($D87>'Technische SDG'!F86-1,\":-)\",CONCATENATE(\"increase until \",'Technische SDG'!F86))))","v":""},{"$f":"IF('Technische SDG'!G86=\"\",\"\",IF($D87=\"\",\"please complete\",IF($D87>'Technische SDG'!G86-1,\":-)\",CONCATENATE(\"increase until \",'Technische SDG'!G86))))","v":""},{"$f":"IF('Technische SDG'!H86=\"\",\"\",IF($D87=\"\",\"please complete\",IF($D87>'Technische SDG'!H86-1,\":-)\",CONCATENATE(\"increase until \",'Technische SDG'!H86))))","v":""},{"$f":"IF('Technische SDG'!I86=\"\",\"\",IF($D87=\"\",\"please complete\",IF($D87>'Technische SDG'!I86-1,\":-)\",CONCATENATE(\"increase until \",'Technische SDG'!I86))))","v":""},{"$f":"IF('Technische SDG'!J86=\"\",\"\",IF($D87=\"\",\"please complete\",IF($D87>'Technische SDG'!J86-1,\":-)\",CONCATENATE(\"increase until \",'Technische SDG'!J86))))","v":""},{"$f":"IF('Technische SDG'!K86=\"\",\"\",IF($D87=\"\",\"please complete\",IF($D87>'Technische SDG'!K86-1,\":-)\",CONCATENATE(\"increase until \",'Technische SDG'!K86))))","v":""},{"$f":"IF('Technische SDG'!L86=\"\",\"\",IF($D87=\"\",\"please complete\",IF($D87>'Technische SDG'!L86-1,\":-)\",CONCATENATE(\"increase until \",'Technische SDG'!L86))))","v":""},{"$f":"IF('Technische SDG'!M86=\"\",\"\",IF($D87=\"\",\"please complete\",IF($D87>'Technische SDG'!M86-1,\":-)\",CONCATENATE(\"increase until \",'Technische SDG'!M86))))","v":""},{"$f":"IF('Technische SDG'!N86=\"\",\"\",IF($D87=\"\",\"please complete\",IF($D87>'Technische SDG'!N86-1,\":-)\",CONCATENATE(\"increase until \",'Technische SDG'!N86))))","v":""},{"$f":"IF('Technische SDG'!O86=\"\",\"\",IF($D87=\"\",\"please complete\",IF($D87>'Technische SDG'!O86-1,\":-)\",CONCATENATE(\"increase until \",'Technische SDG'!O86))))","v":""},{"$f":"IF('Technische SDG'!P86=\"\",\"\",IF($D87=\"\",\"please complete\",IF($D87>'Technische SDG'!P86-1,\":-)\",CONCATENATE(\"increase until \",'Technische SDG'!P86))))","v":""},{"$f":"IF('Technische SDG'!Q86=\"\",\"\",IF($D87=\"\",\"please complete\",IF($D87>'Technische SDG'!Q86-1,\":-)\",CONCATENATE(\"increase until \",'Technische SDG'!Q86))))","v":""},{"$f":"IF('Technische SDG'!R86=\"\",\"\",IF($D87=\"\",\"please complete\",IF($D87>'Technische SDG'!R86-1,\":-)\",CONCATENATE(\"increase until \",'Technische SDG'!R86))))","v":""},{"$f":"IF('Technische SDG'!S86=\"\",\"\",IF($D87=\"\",\"please complete\",IF($D87>'Technische SDG'!S86-1,\":-)\",CONCATENATE(\"increase until \",'Technische SDG'!S86))))","v":""},{"$f":"IF('Technische SDG'!T86=\"\",\"\",IF($D87=\"\",\"please complete\",IF($D87>'Technische SDG'!T86-1,\":-)\",CONCATENATE(\"increase until \",'Technische SDG'!T86))))","v":""}]
[null,{"$f":"'Technische SDG'!B87","v":"F5.2"},{"$f":"VLOOKUP(B88,'Kapitel 5'!$C$6:$D$34,2,0)","v":"In welcher Weise führt die Organisation einen Dialog mit der Öffentlichkeit, Behörden und anderen interessierten Kreisen (einschließlich örtlichen Gemeinden/Anwohnern und Kunden) über die Leistung ihrer Aktivitäten, Produkte und Dienstleistungen in den Bereichen Gesundheit, Sicherheit, Umwelt, Energie & Nachhaltigkeit?\n"},{"$f":"'Technische SDG'!C87","v":1},17,{"$f":"IF('Technische SDG'!D87=\"\",\"\",IF($D88=\"\",\"please complete\",IF($D88>'Technische SDG'!D87-1,\":-)\",CONCATENATE(\"increase until \",'Technische SDG'!D87))))","v":""},{"$f":"IF('Technische SDG'!E87=\"\",\"\",IF($D88=\"\",\"please complete\",IF($D88>'Technische SDG'!E87-1,\":-)\",CONCATENATE(\"increase until \",'Technische SDG'!E87))))","v":""},{"$f":"IF('Technische SDG'!F87=\"\",\"\",IF($D88=\"\",\"please complete\",IF($D88>'Technische SDG'!F87-1,\":-)\",CONCATENATE(\"increase until \",'Technische SDG'!F87))))","v":""},{"$f":"IF('Technische SDG'!G87=\"\",\"\",IF($D88=\"\",\"please complete\",IF($D88>'Technische SDG'!G87-1,\":-)\",CONCATENATE(\"increase until \",'Technische SDG'!G87))))","v":""},{"$f":"IF('Technische SDG'!H87=\"\",\"\",IF($D88=\"\",\"please complete\",IF($D88>'Technische SDG'!H87-1,\":-)\",CONCATENATE(\"increase until \",'Technische SDG'!H87))))","v":""},{"$f":"IF('Technische SDG'!I87=\"\",\"\",IF($D88=\"\",\"please complete\",IF($D88>'Technische SDG'!I87-1,\":-)\",CONCATENATE(\"increase until \",'Technische SDG'!I87))))","v":""},{"$f":"IF('Technische SDG'!J87=\"\",\"\",IF($D88=\"\",\"please complete\",IF($D88>'Technische SDG'!J87-1,\":-)\",CONCATENATE(\"increase until \",'Technische SDG'!J87))))","v":""},{"$f":"IF('Technische SDG'!K87=\"\",\"\",IF($D88=\"\",\"please complete\",IF($D88>'Technische SDG'!K87-1,\":-)\",CONCATENATE(\"increase until \",'Technische SDG'!K87))))","v":""},{"$f":"IF('Technische SDG'!L87=\"\",\"\",IF($D88=\"\",\"please complete\",IF($D88>'Technische SDG'!L87-1,\":-)\",CONCATENATE(\"increase until \",'Technische SDG'!L87))))","v":""},{"$f":"IF('Technische SDG'!M87=\"\",\"\",IF($D88=\"\",\"please complete\",IF($D88>'Technische SDG'!M87-1,\":-)\",CONCATENATE(\"increase until \",'Technische SDG'!M87))))","v":""},{"$f":"IF('Technische SDG'!N87=\"\",\"\",IF($D88=\"\",\"please complete\",IF($D88>'Technische SDG'!N87-1,\":-)\",CONCATENATE(\"increase until \",'Technische SDG'!N87))))","v":""},{"$f":"IF('Technische SDG'!O87=\"\",\"\",IF($D88=\"\",\"please complete\",IF($D88>'Technische SDG'!O87-1,\":-)\",CONCATENATE(\"increase until \",'Technische SDG'!O87))))","v":""},{"$f":"IF('Technische SDG'!P87=\"\",\"\",IF($D88=\"\",\"please complete\",IF($D88>'Technische SDG'!P87-1,\":-)\",CONCATENATE(\"increase until \",'Technische SDG'!P87))))","v":""},{"$f":"IF('Technische SDG'!Q87=\"\",\"\",IF($D88=\"\",\"please complete\",IF($D88>'Technische SDG'!Q87-1,\":-)\",CONCATENATE(\"increase until \",'Technische SDG'!Q87))))","v":""},{"$f":"IF('Technische SDG'!R87=\"\",\"\",IF($D88=\"\",\"please complete\",IF($D88>'Technische SDG'!R87-1,\":-)\",CONCATENATE(\"increase until \",'Technische SDG'!R87))))","v":""},{"$f":"IF('Technische SDG'!S87=\"\",\"\",IF($D88=\"\",\"please complete\",IF($D88>'Technische SDG'!S87-1,\":-)\",CONCATENATE(\"increase until \",'Technische SDG'!S87))))","v":""},{"$f":"IF('Technische SDG'!T87=\"\",\"\",IF($D88=\"\",\"please complete\",IF($D88>'Technische SDG'!T87-1,\":-)\",CONCATENATE(\"increase until \",'Technische SDG'!T87))))","v":""}]
[null,{"$f":"'Technische SDG'!B88","v":"F5.3"},{"$f":"VLOOKUP(B89,'Kapitel 5'!$C$6:$D$34,2,0)","v":"In welcher Weise vermittelt die Organisation Informationen aus den Bereichen Gesundheit, Sicherheit, Umwelt, Energie & Nachhaltigkeit?"},{"$f":"'Technische SDG'!C88","v":2},16,{"$f":"IF('Technische SDG'!D88=\"\",\"\",IF($D89=\"\",\"bitte ausfüllen \",IF($D89>'Technische SDG'!D88-1,\":-)\",CONCATENATE(\"Verbessern bis   \",'Technische SDG'!D88))))","v":""},{"$f":"IF('Technische SDG'!E88=\"\",\"\",IF($D89=\"\",\"bitte ausfüllen \",IF($D89>'Technische SDG'!E88-1,\":-)\",CONCATENATE(\"Verbessern bis   \",'Technische SDG'!E88))))","v":""},{"$f":"IF('Technische SDG'!F88=\"\",\"\",IF($D89=\"\",\"bitte ausfüllen \",IF($D89>'Technische SDG'!F88-1,\":-)\",CONCATENATE(\"Verbessern bis   \",'Technische SDG'!F88))))","v":""},{"$f":"IF('Technische SDG'!G88=\"\",\"\",IF($D89=\"\",\"bitte ausfüllen \",IF($D89>'Technische SDG'!G88-1,\":-)\",CONCATENATE(\"Verbessern bis   \",'Technische SDG'!G88))))","v":""},{"$f":"IF('Technische SDG'!H88=\"\",\"\",IF($D89=\"\",\"bitte ausfüllen \",IF($D89>'Technische SDG'!H88-1,\":-)\",CONCATENATE(\"Verbessern bis   \",'Technische SDG'!H88))))","v":""},{"$f":"IF('Technische SDG'!I88=\"\",\"\",IF($D89=\"\",\"bitte ausfüllen \",IF($D89>'Technische SDG'!I88-1,\":-)\",CONCATENATE(\"Verbessern bis   \",'Technische SDG'!I88))))","v":""},{"$f":"IF('Technische SDG'!J88=\"\",\"\",IF($D89=\"\",\"bitte ausfüllen \",IF($D89>'Technische SDG'!J88-1,\":-)\",CONCATENATE(\"Verbessern bis   \",'Technische SDG'!J88))))","v":""},{"$f":"IF('Technische SDG'!K88=\"\",\"\",IF($D89=\"\",\"bitte ausfüllen \",IF($D89>'Technische SDG'!K88-1,\":-)\",CONCATENATE(\"Verbessern bis   \",'Technische SDG'!K88))))","v":""},{"$f":"IF('Technische SDG'!L88=\"\",\"\",IF($D89=\"\",\"bitte ausfüllen \",IF($D89>'Technische SDG'!L88-1,\":-)\",CONCATENATE(\"Verbessern bis   \",'Technische SDG'!L88))))","v":""},{"$f":"IF('Technische SDG'!M88=\"\",\"\",IF($D89=\"\",\"bitte ausfüllen \",IF($D89>'Technische SDG'!M88-1,\":-)\",CONCATENATE(\"Verbessern bis   \",'Technische SDG'!M88))))","v":""},{"$f":"IF('Technische SDG'!N88=\"\",\"\",IF($D89=\"\",\"bitte ausfüllen \",IF($D89>'Technische SDG'!N88-1,\":-)\",CONCATENATE(\"Verbessern bis   \",'Technische SDG'!N88))))","v":""},{"$f":"IF('Technische SDG'!O88=\"\",\"\",IF($D89=\"\",\"bitte ausfüllen \",IF($D89>'Technische SDG'!O88-1,\":-)\",CONCATENATE(\"Verbessern bis   \",'Technische SDG'!O88))))","v":"Verbessern bis   3"},{"$f":"IF('Technische SDG'!P88=\"\",\"\",IF($D89=\"\",\"bitte ausfüllen \",IF($D89>'Technische SDG'!P88-1,\":-)\",CONCATENATE(\"Verbessern bis   \",'Technische SDG'!P88))))","v":""},{"$f":"IF('Technische SDG'!Q88=\"\",\"\",IF($D89=\"\",\"bitte ausfüllen \",IF($D89>'Technische SDG'!Q88-1,\":-)\",CONCATENATE(\"Verbessern bis   \",'Technische SDG'!Q88))))","v":""},{"$f":"IF('Technische SDG'!R88=\"\",\"\",IF($D89=\"\",\"bitte ausfüllen \",IF($D89>'Technische SDG'!R88-1,\":-)\",CONCATENATE(\"Verbessern bis   \",'Technische SDG'!R88))))","v":""},{"$f":"IF('Technische SDG'!S88=\"\",\"\",IF($D89=\"\",\"bitte ausfüllen \",IF($D89>'Technische SDG'!S88-1,\":-)\",CONCATENATE(\"Verbessern bis   \",'Technische SDG'!S88))))","v":""},{"$f":"IF('Technische SDG'!T88=\"\",\"\",IF($D89=\"\",\"bitte ausfüllen \",IF($D89>'Technische SDG'!T88-1,\":-)\",CONCATENATE(\"Verbessern bis   \",'Technische SDG'!T88))))","v":""}]
[null,{"$f":"'Technische SDG'!B89","v":"F5.4"},{"$f":"VLOOKUP(B90,'Kapitel 5'!$C$6:$D$34,2,0)","v":"In welcher Weise unterstützt die Organisation örtliche Gemeinden/Anwohner („local communities“)?"},{"$f":"'Technische SDG'!C89","v":1},16,{"$f":"IF('Technische SDG'!D89=\"\",\"\",IF($D90=\"\",\"bitte ausfüllen \",IF($D90>'Technische SDG'!D89-1,\":-)\",CONCATENATE(\"Verbessern bis   \",'Technische SDG'!D89))))","v":""},{"$f":"IF('Technische SDG'!E89=\"\",\"\",IF($D90=\"\",\"bitte ausfüllen \",IF($D90>'Technische SDG'!E89-1,\":-)\",CONCATENATE(\"Verbessern bis   \",'Technische SDG'!E89))))","v":""},{"$f":"IF('Technische SDG'!F89=\"\",\"\",IF($D90=\"\",\"bitte ausfüllen \",IF($D90>'Technische SDG'!F89-1,\":-)\",CONCATENATE(\"Verbessern bis   \",'Technische SDG'!F89))))","v":""},{"$f":"IF('Technische SDG'!G89=\"\",\"\",IF($D90=\"\",\"bitte ausfüllen \",IF($D90>'Technische SDG'!G89-1,\":-)\",CONCATENATE(\"Verbessern bis   \",'Technische SDG'!G89))))","v":""},{"$f":"IF('Technische SDG'!H89=\"\",\"\",IF($D90=\"\",\"bitte ausfüllen \",IF($D90>'Technische SDG'!H89-1,\":-)\",CONCATENATE(\"Verbessern bis   \",'Technische SDG'!H89))))","v":""},{"$f":"IF('Technische SDG'!I89=\"\",\"\",IF($D90=\"\",\"bitte ausfüllen \",IF($D90>'Technische SDG'!I89-1,\":-)\",CONCATENATE(\"Verbessern bis   \",'Technische SDG'!I89))))","v":""},{"$f":"IF('Technische SDG'!J89=\"\",\"\",IF($D90=\"\",\"bitte ausfüllen \",IF($D90>'Technische SDG'!J89-1,\":-)\",CONCATENATE(\"Verbessern bis   \",'Technische SDG'!J89))))","v":""},{"$f":"IF('Technische SDG'!K89=\"\",\"\",IF($D90=\"\",\"bitte ausfüllen \",IF($D90>'Technische SDG'!K89-1,\":-)\",CONCATENATE(\"Verbessern bis   \",'Technische SDG'!K89))))","v":""},{"$f":"IF('Technische SDG'!L89=\"\",\"\",IF($D90=\"\",\"bitte ausfüllen \",IF($D90>'Technische SDG'!L89-1,\":-)\",CONCATENATE(\"Verbessern bis   \",'Technische SDG'!L89))))","v":""},{"$f":"IF('Technische SDG'!M89=\"\",\"\",IF($D90=\"\",\"bitte ausfüllen \",IF($D90>'Technische SDG'!M89-1,\":-)\",CONCATENATE(\"Verbessern bis   \",'Technische SDG'!M89))))","v":""},{"$f":"IF('Technische SDG'!N89=\"\",\"\",IF($D90=\"\",\"bitte ausfüllen \",IF($D90>'Technische SDG'!N89-1,\":-)\",CONCATENATE(\"Verbessern bis   \",'Technische SDG'!N89))))","v":"Verbessern bis   3"},{"$f":"IF('Technische SDG'!O89=\"\",\"\",IF($D90=\"\",\"bitte ausfüllen \",IF($D90>'Technische SDG'!O89-1,\":-)\",CONCATENATE(\"Verbessern bis   \",'Technische SDG'!O89))))","v":""},{"$f":"IF('Technische SDG'!P89=\"\",\"\",IF($D90=\"\",\"bitte ausfüllen \",IF($D90>'Technische SDG'!P89-1,\":-)\",CONCATENATE(\"Verbessern bis   \",'Technische SDG'!P89))))","v":""},{"$f":"IF('Technische SDG'!Q89=\"\",\"\",IF($D90=\"\",\"bitte ausfüllen \",IF($D90>'Technische SDG'!Q89-1,\":-)\",CONCATENATE(\"Verbessern bis   \",'Technische SDG'!Q89))))","v":""},{"$f":"IF('Technische SDG'!R89=\"\",\"\",IF($D90=\"\",\"bitte ausfüllen \",IF($D90>'Technische SDG'!R89-1,\":-)\",CONCATENATE(\"Verbessern bis   \",'Technische SDG'!R89))))","v":""},{"$f":"IF('Technische SDG'!S89=\"\",\"\",IF($D90=\"\",\"bitte ausfüllen \",IF($D90>'Technische SDG'!S89-1,\":-)\",CONCATENATE(\"Verbessern bis   \",'Technische SDG'!S89))))","v":""},{"$f":"IF('Technische SDG'!T89=\"\",\"\",IF($D90=\"\",\"bitte ausfüllen \",IF($D90>'Technische SDG'!T89-1,\":-)\",CONCATENATE(\"Verbessern bis   \",'Technische SDG'!T89))))","v":""}]
[null,{"$f":"'Technische SDG'!B90","v":"F5.5"},{"$f":"VLOOKUP(B91,'Kapitel 5'!$C$6:$D$34,2,0)","v":"In welcher Weise fördert die Organisation Beschäftigung und Bildung vor Ort?"},{"$f":"'Technische SDG'!C90","v":2},15,{"$f":"IF('Technische SDG'!D90=\"\",\"\",IF($D91=\"\",\"bitte ausfüllen \",IF($D91>'Technische SDG'!D90-1,\":-)\",CONCATENATE(\"Verbessern bis   \",'Technische SDG'!D90))))","v":""},{"$f":"IF('Technische SDG'!E90=\"\",\"\",IF($D91=\"\",\"bitte ausfüllen \",IF($D91>'Technische SDG'!E90-1,\":-)\",CONCATENATE(\"Verbessern bis   \",'Technische SDG'!E90))))","v":""},{"$f":"IF('Technische SDG'!F90=\"\",\"\",IF($D91=\"\",\"bitte ausfüllen \",IF($D91>'Technische SDG'!F90-1,\":-)\",CONCATENATE(\"Verbessern bis   \",'Technische SDG'!F90))))","v":""},{"$f":"IF('Technische SDG'!G90=\"\",\"\",IF($D91=\"\",\"bitte ausfüllen \",IF($D91>'Technische SDG'!G90-1,\":-)\",CONCATENATE(\"Verbessern bis   \",'Technische SDG'!G90))))","v":"Verbessern bis   3"},{"$f":"IF('Technische SDG'!H90=\"\",\"\",IF($D91=\"\",\"bitte ausfüllen \",IF($D91>'Technische SDG'!H90-1,\":-)\",CONCATENATE(\"Verbessern bis   \",'Technische SDG'!H90))))","v":""},{"$f":"IF('Technische SDG'!I90=\"\",\"\",IF($D91=\"\",\"bitte ausfüllen \",IF($D91>'Technische SDG'!I90-1,\":-)\",CONCATENATE(\"Verbessern bis   \",'Technische SDG'!I90))))","v":""},{"$f":"IF('Technische SDG'!J90=\"\",\"\",IF($D91=\"\",\"bitte ausfüllen \",IF($D91>'Technische SDG'!J90-1,\":-)\",CONCATENATE(\"Verbessern bis   \",'Technische SDG'!J90))))","v":""},{"$f":"IF('Technische SDG'!K90=\"\",\"\",IF($D91=\"\",\"bitte ausfüllen \",IF($D91>'Technische SDG'!K90-1,\":-)\",CONCATENATE(\"Verbessern bis   \",'Technische SDG'!K90))))","v":"Verbessern bis   3"},{"$f":"IF('Technische SDG'!L90=\"\",\"\",IF($D91=\"\",\"bitte ausfüllen \",IF($D91>'Technische SDG'!L90-1,\":-)\",CONCATENATE(\"Verbessern bis   \",'Technische SDG'!L90))))","v":""},{"$f":"IF('Technische SDG'!M90=\"\",\"\",IF($D91=\"\",\"bitte ausfüllen \",IF($D91>'Technische SDG'!M90-1,\":-)\",CONCATENATE(\"Verbessern bis   \",'Technische SDG'!M90))))","v":""},{"$f":"IF('Technische SDG'!N90=\"\",\"\",IF($D91=\"\",\"bitte ausfüllen \",IF($D91>'Technische SDG'!N90-1,\":-)\",CONCATENATE(\"Verbessern bis   \",'Technische SDG'!N90))))","v":""},{"$f":"IF('Technische SDG'!O90=\"\",\"\",IF($D91=\"\",\"bitte ausfüllen \",IF($D91>'Technische SDG'!O90-1,\":-)\",CONCATENATE(\"Verbessern bis   \",'Technische SDG'!O90))))","v":""},{"$f":"IF('Technische SDG'!P90=\"\",\"\",IF($D91=\"\",\"bitte ausfüllen \",IF($D91>'Technische SDG'!P90-1,\":-)\",CONCATENATE(\"Verbessern bis   \",'Technische SDG'!P90))))","v":""},{"$f":"IF('Technische SDG'!Q90=\"\",\"\",IF($D91=\"\",\"bitte ausfüllen \",IF($D91>'Technische SDG'!Q90-1,\":-)\",CONCATENATE(\"Verbessern bis   \",'Technische SDG'!Q90))))","v":""},{"$f":"IF('Technische SDG'!R90=\"\",\"\",IF($D91=\"\",\"bitte ausfüllen \",IF($D91>'Technische SDG'!R90-1,\":-)\",CONCATENATE(\"Verbessern bis   \",'Technische SDG'!R90))))","v":""},{"$f":"IF('Technische SDG'!S90=\"\",\"\",IF($D91=\"\",\"bitte ausfüllen \",IF($D91>'Technische SDG'!S90-1,\":-)\",CONCATENATE(\"Verbessern bis   \",'Technische SDG'!S90))))","v":""},{"$f":"IF('Technische SDG'!T90=\"\",\"\",IF($D91=\"\",\"bitte ausfüllen \",IF($D91>'Technische SDG'!T90-1,\":-)\",CONCATENATE(\"Verbessern bis   \",'Technische SDG'!T90))))","v":""}]
[]
[null,{"$f":"'Technische SDG'!B92","v":"F6.1"},{"$f":"VLOOKUP(B93,'Kapitel 6'!$C$6:$D$120,2,0)","v":"Wie definiert das Unternehmen relevante Themen und Wesentlichkeiten?"},{"$f":"'Technische SDG'!C92","v":2},17,{"$f":"IF('Technische SDG'!D92=\"\",\"\",IF($D93=\"\",\"please complete\",IF($D93>'Technische SDG'!D92-1,\":-)\",CONCATENATE(\"increase until \",'Technische SDG'!D92))))","v":""},{"$f":"IF('Technische SDG'!E92=\"\",\"\",IF($D93=\"\",\"please complete\",IF($D93>'Technische SDG'!E92-1,\":-)\",CONCATENATE(\"increase until \",'Technische SDG'!E92))))","v":""},{"$f":"IF('Technische SDG'!F92=\"\",\"\",IF($D93=\"\",\"please complete\",IF($D93>'Technische SDG'!F92-1,\":-)\",CONCATENATE(\"increase until \",'Technische SDG'!F92))))","v":""},{"$f":"IF('Technische SDG'!G92=\"\",\"\",IF($D93=\"\",\"please complete\",IF($D93>'Technische SDG'!G92-1,\":-)\",CONCATENATE(\"increase until \",'Technische SDG'!G92))))","v":""},{"$f":"IF('Technische SDG'!H92=\"\",\"\",IF($D93=\"\",\"please complete\",IF($D93>'Technische SDG'!H92-1,\":-)\",CONCATENATE(\"increase until \",'Technische SDG'!H92))))","v":""},{"$f":"IF('Technische SDG'!I92=\"\",\"\",IF($D93=\"\",\"please complete\",IF($D93>'Technische SDG'!I92-1,\":-)\",CONCATENATE(\"increase until \",'Technische SDG'!I92))))","v":""},{"$f":"IF('Technische SDG'!J92=\"\",\"\",IF($D93=\"\",\"please complete\",IF($D93>'Technische SDG'!J92-1,\":-)\",CONCATENATE(\"increase until \",'Technische SDG'!J92))))","v":""},{"$f":"IF('Technische SDG'!K92=\"\",\"\",IF($D93=\"\",\"please complete\",IF($D93>'Technische SDG'!K92-1,\":-)\",CONCATENATE(\"increase until \",'Technische SDG'!K92))))","v":""},{"$f":"IF('Technische SDG'!L92=\"\",\"\",IF($D93=\"\",\"please complete\",IF($D93>'Technische SDG'!L92-1,\":-)\",CONCATENATE(\"increase until \",'Technische SDG'!L92))))","v":""},{"$f":"IF('Technische SDG'!M92=\"\",\"\",IF($D93=\"\",\"please complete\",IF($D93>'Technische SDG'!M92-1,\":-)\",CONCATENATE(\"increase until \",'Technische SDG'!M92))))","v":""},{"$f":"IF('Technische SDG'!N92=\"\",\"\",IF($D93=\"\",\"please complete\",IF($D93>'Technische SDG'!N92-1,\":-)\",CONCATENATE(\"increase until \",'Technische SDG'!N92))))","v":""},{"$f":"IF('Technische SDG'!O92=\"\",\"\",IF($D93=\"\",\"please complete\",IF($D93>'Technische SDG'!O92-1,\":-)\",CONCATENATE(\"increase until \",'Technische SDG'!O92))))","v":""},{"$f":"IF('Technische SDG'!P92=\"\",\"\",IF($D93=\"\",\"please complete\",IF($D93>'Technische SDG'!P92-1,\":-)\",CONCATENATE(\"increase until \",'Technische SDG'!P92))))","v":""},{"$f":"IF('Technische SDG'!Q92=\"\",\"\",IF($D93=\"\",\"please complete\",IF($D93>'Technische SDG'!Q92-1,\":-)\",CONCATENATE(\"increase until \",'Technische SDG'!Q92))))","v":""},{"$f":"IF('Technische SDG'!R92=\"\",\"\",IF($D93=\"\",\"please complete\",IF($D93>'Technische SDG'!R92-1,\":-)\",CONCATENATE(\"increase until \",'Technische SDG'!R92))))","v":""},{"$f":"IF('Technische SDG'!S92=\"\",\"\",IF($D93=\"\",\"please complete\",IF($D93>'Technische SDG'!S92-1,\":-)\",CONCATENATE(\"increase until \",'Technische SDG'!S92))))","v":""},{"$f":"IF('Technische SDG'!T92=\"\",\"\",IF($D93=\"\",\"please complete\",IF($D93>'Technische SDG'!T92-1,\":-)\",CONCATENATE(\"increase until \",'Technische SDG'!T92))))","v":""}]
[null,{"$f":"'Technische SDG'!B93","v":"F6.2"},{"$f":"VLOOKUP(B94,'Kapitel 6'!$C$6:$D$120,2,0)","v":"Welche Pläne hat die Organisation zum Beitrag für eine nachhaltige Entwicklung? "},{"$f":"'Technische SDG'!C93","v":1},17,{"$f":"IF('Technische SDG'!D93=\"\",\"\",IF($D94=\"\",\"please complete\",IF($D94>'Technische SDG'!D93-1,\":-)\",CONCATENATE(\"increase until \",'Technische SDG'!D93))))","v":""},{"$f":"IF('Technische SDG'!E93=\"\",\"\",IF($D94=\"\",\"please complete\",IF($D94>'Technische SDG'!E93-1,\":-)\",CONCATENATE(\"increase until \",'Technische SDG'!E93))))","v":""},{"$f":"IF('Technische SDG'!F93=\"\",\"\",IF($D94=\"\",\"please complete\",IF($D94>'Technische SDG'!F93-1,\":-)\",CONCATENATE(\"increase until \",'Technische SDG'!F93))))","v":""},{"$f":"IF('Technische SDG'!G93=\"\",\"\",IF($D94=\"\",\"please complete\",IF($D94>'Technische SDG'!G93-1,\":-)\",CONCATENATE(\"increase until \",'Technische SDG'!G93))))","v":""},{"$f":"IF('Technische SDG'!H93=\"\",\"\",IF($D94=\"\",\"please complete\",IF($D94>'Technische SDG'!H93-1,\":-)\",CONCATENATE(\"increase until \",'Technische SDG'!H93))))","v":""},{"$f":"IF('Technische SDG'!I93=\"\",\"\",IF($D94=\"\",\"please complete\",IF($D94>'Technische SDG'!I93-1,\":-)\",CONCATENATE(\"increase until \",'Technische SDG'!I93))))","v":""},{"$f":"IF('Technische SDG'!J93=\"\",\"\",IF($D94=\"\",\"please complete\",IF($D94>'Technische SDG'!J93-1,\":-)\",CONCATENATE(\"increase until \",'Technische SDG'!J93))))","v":""},{"$f":"IF('Technische SDG'!K93=\"\",\"\",IF($D94=\"\",\"please complete\",IF($D94>'Technische SDG'!K93-1,\":-)\",CONCATENATE(\"increase until \",'Technische SDG'!K93))))","v":""},{"$f":"IF('Technische SDG'!L93=\"\",\"\",IF($D94=\"\",\"please complete\",IF($D94>'Technische SDG'!L93-1,\":-)\",CONCATENATE(\"increase until \",'Technische SDG'!L93))))","v":""},{"$f":"IF('Technische SDG'!M93=\"\",\"\",IF($D94=\"\",\"please complete\",IF($D94>'Technische SDG'!M93-1,\":-)\",CONCATENATE(\"increase until \",'Technische SDG'!M93))))","v":""},{"$f":"IF('Technische SDG'!N93=\"\",\"\",IF($D94=\"\",\"please complete\",IF($D94>'Technische SDG'!N93-1,\":-)\",CONCATENATE(\"increase until \",'Technische SDG'!N93))))","v":""},{"$f":"IF('Technische SDG'!O93=\"\",\"\",IF($D94=\"\",\"please complete\",IF($D94>'Technische SDG'!O93-1,\":-)\",CONCATENATE(\"increase until \",'Technische SDG'!O93))))","v":""},{"$f":"IF('Technische SDG'!P93=\"\",\"\",IF($D94=\"\",\"please complete\",IF($D94>'Technische SDG'!P93-1,\":-)\",CONCATENATE(\"increase until \",'Technische SDG'!P93))))","v":""},{"$f":"IF('Technische SDG'!Q93=\"\",\"\",IF($D94=\"\",\"please complete\",IF($D94>'Technische SDG'!Q93-1,\":-)\",CONCATENATE(\"increase until \",'Technische SDG'!Q93))))","v":""},{"$f":"IF('Technische SDG'!R93=\"\",\"\",IF($D94=\"\",\"please complete\",IF($D94>'Technische SDG'!R93-1,\":-)\",CONCATENATE(\"increase until \",'Technische SDG'!R93))))","v":""},{"$f":"IF('Technische SDG'!S93=\"\",\"\",IF($D94=\"\",\"please complete\",IF($D94>'Technische SDG'!S93-1,\":-)\",CONCATENATE(\"increase until \",'Technische SDG'!S93))))","v":""},{"$f":"IF('Technische SDG'!T93=\"\",\"\",IF($D94=\"\",\"please complete\",IF($D94>'Technische SDG'!T93-1,\":-)\",CONCATENATE(\"increase until \",'Technische SDG'!T93))))","v":""}]
[null,{"$f":"'Technische SDG'!B94","v":"F6.3"},{"$f":"VLOOKUP(B95,'Kapitel 6'!$C$6:$D$120,2,0)","v":"Wie steht es bei der Organisation mit der Einbeziehung von Stakeholdern bei Nachhaltigkeit?"},{"$f":"'Technische SDG'!C94","v":1},16,{"$f":"IF('Technische SDG'!D94=\"\",\"\",IF($D95=\"\",\"bitte ausfüllen \",IF($D95>'Technische SDG'!D94-1,\":-)\",CONCATENATE(\"Verbessern bis   \",'Technische SDG'!D94))))","v":""},{"$f":"IF('Technische SDG'!E94=\"\",\"\",IF($D95=\"\",\"bitte ausfüllen \",IF($D95>'Technische SDG'!E94-1,\":-)\",CONCATENATE(\"Verbessern bis   \",'Technische SDG'!E94))))","v":""},{"$f":"IF('Technische SDG'!F94=\"\",\"\",IF($D95=\"\",\"bitte ausfüllen \",IF($D95>'Technische SDG'!F94-1,\":-)\",CONCATENATE(\"Verbessern bis   \",'Technische SDG'!F94))))","v":""},{"$f":"IF('Technische SDG'!G94=\"\",\"\",IF($D95=\"\",\"bitte ausfüllen \",IF($D95>'Technische SDG'!G94-1,\":-)\",CONCATENATE(\"Verbessern bis   \",'Technische SDG'!G94))))","v":""},{"$f":"IF('Technische SDG'!H94=\"\",\"\",IF($D95=\"\",\"bitte ausfüllen \",IF($D95>'Technische SDG'!H94-1,\":-)\",CONCATENATE(\"Verbessern bis   \",'Technische SDG'!H94))))","v":""},{"$f":"IF('Technische SDG'!I94=\"\",\"\",IF($D95=\"\",\"bitte ausfüllen \",IF($D95>'Technische SDG'!I94-1,\":-)\",CONCATENATE(\"Verbessern bis   \",'Technische SDG'!I94))))","v":""},{"$f":"IF('Technische SDG'!J94=\"\",\"\",IF($D95=\"\",\"bitte ausfüllen \",IF($D95>'Technische SDG'!J94-1,\":-)\",CONCATENATE(\"Verbessern bis   \",'Technische SDG'!J94))))","v":""},{"$f":"IF('Technische SDG'!K94=\"\",\"\",IF($D95=\"\",\"bitte ausfüllen \",IF($D95>'Technische SDG'!K94-1,\":-)\",CONCATENATE(\"Verbessern bis   \",'Technische SDG'!K94))))","v":""},{"$f":"IF('Technische SDG'!L94=\"\",\"\",IF($D95=\"\",\"bitte ausfüllen \",IF($D95>'Technische SDG'!L94-1,\":-)\",CONCATENATE(\"Verbessern bis   \",'Technische SDG'!L94))))","v":""},{"$f":"IF('Technische SDG'!M94=\"\",\"\",IF($D95=\"\",\"bitte ausfüllen \",IF($D95>'Technische SDG'!M94-1,\":-)\",CONCATENATE(\"Verbessern bis   \",'Technische SDG'!M94))))","v":""},{"$f":"IF('Technische SDG'!N94=\"\",\"\",IF($D95=\"\",\"bitte ausfüllen \",IF($D95>'Technische SDG'!N94-1,\":-)\",CONCATENATE(\"Verbessern bis   \",'Technische SDG'!N94))))","v":""},{"$f":"IF('Technische SDG'!O94=\"\",\"\",IF($D95=\"\",\"bitte ausfüllen \",IF($D95>'Technische SDG'!O94-1,\":-)\",CONCATENATE(\"Verbessern bis   \",'Technische SDG'!O94))))","v":"Verbessern bis   3"},{"$f":"IF('Technische SDG'!P94=\"\",\"\",IF($D95=\"\",\"bitte ausfüllen \",IF($D95>'Technische SDG'!P94-1,\":-)\",CONCATENATE(\"Verbessern bis   \",'Technische SDG'!P94))))","v":""},{"$f":"IF('Technische SDG'!Q94=\"\",\"\",IF($D95=\"\",\"bitte ausfüllen \",IF($D95>'Technische SDG'!Q94-1,\":-)\",CONCATENATE(\"Verbessern bis   \",'Technische SDG'!Q94))))","v":""},{"$f":"IF('Technische SDG'!R94=\"\",\"\",IF($D95=\"\",\"bitte ausfüllen \",IF($D95>'Technische SDG'!R94-1,\":-)\",CONCATENATE(\"Verbessern bis   \",'Technische SDG'!R94))))","v":""},{"$f":"IF('Technische SDG'!S94=\"\",\"\",IF($D95=\"\",\"bitte ausfüllen \",IF($D95>'Technische SDG'!S94-1,\":-)\",CONCATENATE(\"Verbessern bis   \",'Technische SDG'!S94))))","v":""},{"$f":"IF('Technische SDG'!T94=\"\",\"\",IF($D95=\"\",\"bitte ausfüllen \",IF($D95>'Technische SDG'!T94-1,\":-)\",CONCATENATE(\"Verbessern bis   \",'Technische SDG'!T94))))","v":""}]
[null,{"$f":"'Technische SDG'!B95","v":"F6.4"},{"$f":"VLOOKUP(B96,'Kapitel 6'!$C$6:$D$120,2,0)","v":"Verfügt die Organisation über einen Prozess für die Entwicklung von Produkten mit besseren Nachhaltigkeitsergebnissen?"},{"$f":"'Technische SDG'!C95","v":1},16,{"$f":"IF('Technische SDG'!D95=\"\",\"\",IF($D96=\"\",\"bitte ausfüllen \",IF($D96>'Technische SDG'!D95-1,\":-)\",CONCATENATE(\"Verbessern bis   \",'Technische SDG'!D95))))","v":""},{"$f":"IF('Technische SDG'!E95=\"\",\"\",IF($D96=\"\",\"bitte ausfüllen \",IF($D96>'Technische SDG'!E95-1,\":-)\",CONCATENATE(\"Verbessern bis   \",'Technische SDG'!E95))))","v":""},{"$f":"IF('Technische SDG'!F95=\"\",\"\",IF($D96=\"\",\"bitte ausfüllen \",IF($D96>'Technische SDG'!F95-1,\":-)\",CONCATENATE(\"Verbessern bis   \",'Technische SDG'!F95))))","v":""},{"$f":"IF('Technische SDG'!G95=\"\",\"\",IF($D96=\"\",\"bitte ausfüllen \",IF($D96>'Technische SDG'!G95-1,\":-)\",CONCATENATE(\"Verbessern bis   \",'Technische SDG'!G95))))","v":""},{"$f":"IF('Technische SDG'!H95=\"\",\"\",IF($D96=\"\",\"bitte ausfüllen \",IF($D96>'Technische SDG'!H95-1,\":-)\",CONCATENATE(\"Verbessern bis   \",'Technische SDG'!H95))))","v":""},{"$f":"IF('Technische SDG'!I95=\"\",\"\",IF($D96=\"\",\"bitte ausfüllen \",IF($D96>'Technische SDG'!I95-1,\":-)\",CONCATENATE(\"Verbessern bis   \",'Technische SDG'!I95))))","v":""},{"$f":"IF('Technische SDG'!J95=\"\",\"\",IF($D96=\"\",\"bitte ausfüllen \",IF($D96>'Technische SDG'!J95-1,\":-)\",CONCATENATE(\"Verbessern bis   \",'Technische SDG'!J95))))","v":""},{"$f":"IF('Technische SDG'!K95=\"\",\"\",IF($D96=\"\",\"bitte ausfüllen \",IF($D96>'Technische SDG'!K95-1,\":-)\",CONCATENATE(\"Verbessern bis   \",'Technische SDG'!K95))))","v":""},{"$f":"IF('Technische SDG'!L95=\"\",\"\",IF($D96=\"\",\"bitte ausfüllen \",IF($D96>'Technische SDG'!L95-1,\":-)\",CONCATENATE(\"Verbessern bis   \",'Technische SDG'!L95))))","v":""},{"$f":"IF('Technische SDG'!M95=\"\",\"\",IF($D96=\"\",\"bitte ausfüllen \",IF($D96>'Technische SDG'!M95-1,\":-)\",CONCATENATE(\"Verbessern bis   \",'Technische SDG'!M95))))","v":""},{"$f":"IF('Technische SDG'!N95=\"\",\"\",IF($D96=\"\",\"bitte ausfüllen \",IF($D96>'Technische SDG'!N95-1,\":-)\",CONCATENATE(\"Verbessern bis   \",'Technische SDG'!N95))))","v":""},{"$f":"IF('Technische SDG'!O95=\"\",\"\",IF($D96=\"\",\"bitte ausfüllen \",IF($D96>'Technische SDG'!O95-1,\":-)\",CONCATENATE(\"Verbessern bis   \",'Technische SDG'!O95))))","v":"Verbessern bis   3"},{"$f":"IF('Technische SDG'!P95=\"\",\"\",IF($D96=\"\",\"bitte ausfüllen \",IF($D96>'Technische SDG'!P95-1,\":-)\",CONCATENATE(\"Verbessern bis   \",'Technische SDG'!P95))))","v":""},{"$f":"IF('Technische SDG'!Q95=\"\",\"\",IF($D96=\"\",\"bitte ausfüllen \",IF($D96>'Technische SDG'!Q95-1,\":-)\",CONCATENATE(\"Verbessern bis   \",'Technische SDG'!Q95))))","v":""},{"$f":"IF('Technische SDG'!R95=\"\",\"\",IF($D96=\"\",\"bitte ausfüllen \",IF($D96>'Technische SDG'!R95-1,\":-)\",CONCATENATE(\"Verbessern bis   \",'Technische SDG'!R95))))","v":""},{"$f":"IF('Technische SDG'!S95=\"\",\"\",IF($D96=\"\",\"bitte ausfüllen \",IF($D96>'Technische SDG'!S95-1,\":-)\",CONCATENATE(\"Verbessern bis   \",'Technische SDG'!S95))))","v":""},{"$f":"IF('Technische SDG'!T95=\"\",\"\",IF($D96=\"\",\"bitte ausfüllen \",IF($D96>'Technische SDG'!T95-1,\":-)\",CONCATENATE(\"Verbessern bis   \",'Technische SDG'!T95))))","v":""}]
[null,{"$f":"'Technische SDG'!B96","v":"F6.5"},{"$f":"VLOOKUP(B97,'Kapitel 6'!$C$6:$D$120,2,0)","v":"Wie verbessert die Organisation die Ressourceneffizienz in ihren Produktionsprozessen? "},{"$f":"'Technische SDG'!C96","v":1},15,{"$f":"IF('Technische SDG'!D96=\"\",\"\",IF($D97=\"\",\"bitte ausfüllen \",IF($D97>'Technische SDG'!D96-1,\":-)\",CONCATENATE(\"Verbessern bis   \",'Technische SDG'!D96))))","v":""},{"$f":"IF('Technische SDG'!E96=\"\",\"\",IF($D97=\"\",\"bitte ausfüllen \",IF($D97>'Technische SDG'!E96-1,\":-)\",CONCATENATE(\"Verbessern bis   \",'Technische SDG'!E96))))","v":""},{"$f":"IF('Technische SDG'!F96=\"\",\"\",IF($D97=\"\",\"bitte ausfüllen \",IF($D97>'Technische SDG'!F96-1,\":-)\",CONCATENATE(\"Verbessern bis   \",'Technische SDG'!F96))))","v":""},{"$f":"IF('Technische SDG'!G96=\"\",\"\",IF($D97=\"\",\"bitte ausfüllen \",IF($D97>'Technische SDG'!G96-1,\":-)\",CONCATENATE(\"Verbessern bis   \",'Technische SDG'!G96))))","v":""},{"$f":"IF('Technische SDG'!H96=\"\",\"\",IF($D97=\"\",\"bitte ausfüllen \",IF($D97>'Technische SDG'!H96-1,\":-)\",CONCATENATE(\"Verbessern bis   \",'Technische SDG'!H96))))","v":""},{"$f":"IF('Technische SDG'!I96=\"\",\"\",IF($D97=\"\",\"bitte ausfüllen \",IF($D97>'Technische SDG'!I96-1,\":-)\",CONCATENATE(\"Verbessern bis   \",'Technische SDG'!I96))))","v":""},{"$f":"IF('Technische SDG'!J96=\"\",\"\",IF($D97=\"\",\"bitte ausfüllen \",IF($D97>'Technische SDG'!J96-1,\":-)\",CONCATENATE(\"Verbessern bis   \",'Technische SDG'!J96))))","v":""},{"$f":"IF('Technische SDG'!K96=\"\",\"\",IF($D97=\"\",\"bitte ausfüllen \",IF($D97>'Technische SDG'!K96-1,\":-)\",CONCATENATE(\"Verbessern bis   \",'Technische SDG'!K96))))","v":"Verbessern bis   3"},{"$f":"IF('Technische SDG'!L96=\"\",\"\",IF($D97=\"\",\"bitte ausfüllen \",IF($D97>'Technische SDG'!L96-1,\":-)\",CONCATENATE(\"Verbessern bis   \",'Technische SDG'!L96))))","v":""},{"$f":"IF('Technische SDG'!M96=\"\",\"\",IF($D97=\"\",\"bitte ausfüllen \",IF($D97>'Technische SDG'!M96-1,\":-)\",CONCATENATE(\"Verbessern bis   \",'Technische SDG'!M96))))","v":""},{"$f":"IF('Technische SDG'!N96=\"\",\"\",IF($D97=\"\",\"bitte ausfüllen \",IF($D97>'Technische SDG'!N96-1,\":-)\",CONCATENATE(\"Verbessern bis   \",'Technische SDG'!N96))))","v":""},{"$f":"IF('Technische SDG'!O96=\"\",\"\",IF($D97=\"\",\"bitte ausfüllen \",IF($D97>'Technische SDG'!O96-1,\":-)\",CONCATENATE(\"Verbessern bis   \",'Technische SDG'!O96))))","v":"Verbessern bis   3"},{"$f":"IF('Technische SDG'!P96=\"\",\"\",IF($D97=\"\",\"bitte ausfüllen \",IF($D97>'Technische SDG'!P96-1,\":-)\",CONCATENATE(\"Verbessern bis   \",'Technische SDG'!P96))))","v":""},{"$f":"IF('Technische SDG'!Q96=\"\",\"\",IF($D97=\"\",\"bitte ausfüllen \",IF($D97>'Technische SDG'!Q96-1,\":-)\",CONCATENATE(\"Verbessern bis   \",'Technische SDG'!Q96))))","v":""},{"$f":"IF('Technische SDG'!R96=\"\",\"\",IF($D97=\"\",\"bitte ausfüllen \",IF($D97>'Technische SDG'!R96-1,\":-)\",CONCATENATE(\"Verbessern bis   \",'Technische SDG'!R96))))","v":""},{"$f":"IF('Technische SDG'!S96=\"\",\"\",IF($D97=\"\",\"bitte ausfüllen \",IF($D97>'Technische SDG'!S96-1,\":-)\",CONCATENATE(\"Verbessern bis   \",'Technische SDG'!S96))))","v":""},{"$f":"IF('Technische SDG'!T96=\"\",\"\",IF($D97=\"\",\"bitte ausfüllen \",IF($D97>'Technische SDG'!T96-1,\":-)\",CONCATENATE(\"Verbessern bis   \",'Technische SDG'!T96))))","v":""}]
[null,{"$f":"'Technische SDG'!B97","v":"F6.6"},{"$f":"VLOOKUP(B98,'Kapitel 6'!$C$6:$D$120,2,0)","v":"Wie fördert die Organisation die Kreislaufwirtschaft durch ihre Produkte?"},{"$f":"'Technische SDG'!C97","v":1},15,{"$f":"IF('Technische SDG'!D97=\"\",\"\",IF($D98=\"\",\"bitte ausfüllen \",IF($D98>'Technische SDG'!D97-1,\":-)\",CONCATENATE(\"Verbessern bis   \",'Technische SDG'!D97))))","v":""},{"$f":"IF('Technische SDG'!E97=\"\",\"\",IF($D98=\"\",\"bitte ausfüllen \",IF($D98>'Technische SDG'!E97-1,\":-)\",CONCATENATE(\"Verbessern bis   \",'Technische SDG'!E97))))","v":""},{"$f":"IF('Technische SDG'!F97=\"\",\"\",IF($D98=\"\",\"bitte ausfüllen \",IF($D98>'Technische SDG'!F97-1,\":-)\",CONCATENATE(\"Verbessern bis   \",'Technische SDG'!F97))))","v":""},{"$f":"IF('Technische SDG'!G97=\"\",\"\",IF($D98=\"\",\"bitte ausfüllen \",IF($D98>'Technische SDG'!G97-1,\":-)\",CONCATENATE(\"Verbessern bis   \",'Technische SDG'!G97))))","v":""},{"$f":"IF('Technische SDG'!H97=\"\",\"\",IF($D98=\"\",\"bitte ausfüllen \",IF($D98>'Technische SDG'!H97-1,\":-)\",CONCATENATE(\"Verbessern bis   \",'Technische SDG'!H97))))","v":""},{"$f":"IF('Technische SDG'!I97=\"\",\"\",IF($D98=\"\",\"bitte ausfüllen \",IF($D98>'Technische SDG'!I97-1,\":-)\",CONCATENATE(\"Verbessern bis   \",'Technische SDG'!I97))))","v":""},{"$f":"IF('Technische SDG'!J97=\"\",\"\",IF($D98=\"\",\"bitte ausfüllen \",IF($D98>'Technische SDG'!J97-1,\":-)\",CONCATENATE(\"Verbessern bis   \",'Technische SDG'!J97))))","v":""},{"$f":"IF('Technische SDG'!K97=\"\",\"\",IF($D98=\"\",\"bitte ausfüllen \",IF($D98>'Technische SDG'!K97-1,\":-)\",CONCATENATE(\"Verbessern bis   \",'Technische SDG'!K97))))","v":"Verbessern bis   3"},{"$f":"IF('Technische SDG'!L97=\"\",\"\",IF($D98=\"\",\"bitte ausfüllen \",IF($D98>'Technische SDG'!L97-1,\":-)\",CONCATENATE(\"Verbessern bis   \",'Technische SDG'!L97))))","v":""},{"$f":"IF('Technische SDG'!M97=\"\",\"\",IF($D98=\"\",\"bitte ausfüllen \",IF($D98>'Technische SDG'!M97-1,\":-)\",CONCATENATE(\"Verbessern bis   \",'Technische SDG'!M97))))","v":""},{"$f":"IF('Technische SDG'!N97=\"\",\"\",IF($D98=\"\",\"bitte ausfüllen \",IF($D98>'Technische SDG'!N97-1,\":-)\",CONCATENATE(\"Verbessern bis   \",'Technische SDG'!N97))))","v":""},{"$f":"IF('Technische SDG'!O97=\"\",\"\",IF($D98=\"\",\"bitte ausfüllen \",IF($D98>'Technische SDG'!O97-1,\":-)\",CONCATENATE(\"Verbessern bis   \",'Technische SDG'!O97))))","v":"Verbessern bis   3"},{"$f":"IF('Technische SDG'!P97=\"\",\"\",IF($D98=\"\",\"bitte ausfüllen \",IF($D98>'Technische SDG'!P97-1,\":-)\",CONCATENATE(\"Verbessern bis   \",'Technische SDG'!P97))))","v":""},{"$f":"IF('Technische SDG'!Q97=\"\",\"\",IF($D98=\"\",\"bitte ausfüllen \",IF($D98>'Technische SDG'!Q97-1,\":-)\",CONCATENATE(\"Verbessern bis   \",'Technische SDG'!Q97))))","v":""},{"$f":"IF('Technische SDG'!R97=\"\",\"\",IF($D98=\"\",\"bitte ausfüllen \",IF($D98>'Technische SDG'!R97-1,\":-)\",CONCATENATE(\"Verbessern bis   \",'Technische SDG'!R97))))","v":""},{"$f":"IF('Technische SDG'!S97=\"\",\"\",IF($D98=\"\",\"bitte ausfüllen \",IF($D98>'Technische SDG'!S97-1,\":-)\",CONCATENATE(\"Verbessern bis   \",'Technische SDG'!S97))))","v":""},{"$f":"IF('Technische SDG'!T97=\"\",\"\",IF($D98=\"\",\"bitte ausfüllen \",IF($D98>'Technische SDG'!T97-1,\":-)\",CONCATENATE(\"Verbessern bis   \",'Technische SDG'!T97))))","v":""}]
[null,{"$f":"'Technische SDG'!B98","v":"F6.7"},{"$f":"VLOOKUP(B99,'Kapitel 6'!$C$6:$D$120,2,0)","v":"Wie fördert die Organisation Innovation für die Entwicklung von Produkten und Lösungen, die mit den Herausforderungen der Nachhaltigkeit in Einklang stehen?"},{"$f":"'Technische SDG'!C98","v":1},15,{"$f":"IF('Technische SDG'!D98=\"\",\"\",IF($D99=\"\",\"bitte ausfüllen \",IF($D99>'Technische SDG'!D98-1,\":-)\",CONCATENATE(\"Verbessern bis   \",'Technische SDG'!D98))))","v":""},{"$f":"IF('Technische SDG'!E98=\"\",\"\",IF($D99=\"\",\"bitte ausfüllen \",IF($D99>'Technische SDG'!E98-1,\":-)\",CONCATENATE(\"Verbessern bis   \",'Technische SDG'!E98))))","v":""},{"$f":"IF('Technische SDG'!F98=\"\",\"\",IF($D99=\"\",\"bitte ausfüllen \",IF($D99>'Technische SDG'!F98-1,\":-)\",CONCATENATE(\"Verbessern bis   \",'Technische SDG'!F98))))","v":""},{"$f":"IF('Technische SDG'!G98=\"\",\"\",IF($D99=\"\",\"bitte ausfüllen \",IF($D99>'Technische SDG'!G98-1,\":-)\",CONCATENATE(\"Verbessern bis   \",'Technische SDG'!G98))))","v":""},{"$f":"IF('Technische SDG'!H98=\"\",\"\",IF($D99=\"\",\"bitte ausfüllen \",IF($D99>'Technische SDG'!H98-1,\":-)\",CONCATENATE(\"Verbessern bis   \",'Technische SDG'!H98))))","v":""},{"$f":"IF('Technische SDG'!I98=\"\",\"\",IF($D99=\"\",\"bitte ausfüllen \",IF($D99>'Technische SDG'!I98-1,\":-)\",CONCATENATE(\"Verbessern bis   \",'Technische SDG'!I98))))","v":""},{"$f":"IF('Technische SDG'!J98=\"\",\"\",IF($D99=\"\",\"bitte ausfüllen \",IF($D99>'Technische SDG'!J98-1,\":-)\",CONCATENATE(\"Verbessern bis   \",'Technische SDG'!J98))))","v":""},{"$f":"IF('Technische SDG'!K98=\"\",\"\",IF($D99=\"\",\"bitte ausfüllen \",IF($D99>'Technische SDG'!K98-1,\":-)\",CONCATENATE(\"Verbessern bis   \",'Technische SDG'!K98))))","v":"Verbessern bis   3"},{"$f":"IF('Technische SDG'!L98=\"\",\"\",IF($D99=\"\",\"bitte ausfüllen \",IF($D99>'Technische SDG'!L98-1,\":-)\",CONCATENATE(\"Verbessern bis   \",'Technische SDG'!L98))))","v":""},{"$f":"IF('Technische SDG'!M98=\"\",\"\",IF($D99=\"\",\"bitte ausfüllen \",IF($D99>'Technische SDG'!M98-1,\":-)\",CONCATENATE(\"Verbessern bis   \",'Technische SDG'!M98))))","v":""},{"$f":"IF('Technische SDG'!N98=\"\",\"\",IF($D99=\"\",\"bitte ausfüllen \",IF($D99>'Technische SDG'!N98-1,\":-)\",CONCATENATE(\"Verbessern bis   \",'Technische SDG'!N98))))","v":""},{"$f":"IF('Technische SDG'!O98=\"\",\"\",IF($D99=\"\",\"bitte ausfüllen \",IF($D99>'Technische SDG'!O98-1,\":-)\",CONCATENATE(\"Verbessern bis   \",'Technische SDG'!O98))))","v":"Verbessern bis   3"},{"$f":"IF('Technische SDG'!P98=\"\",\"\",IF($D99=\"\",\"bitte ausfüllen \",IF($D99>'Technische SDG'!P98-1,\":-)\",CONCATENATE(\"Verbessern bis   \",'Technische SDG'!P98))))","v":""},{"$f":"IF('Technische SDG'!Q98=\"\",\"\",IF($D99=\"\",\"bitte ausfüllen \",IF($D99>'Technische SDG'!Q98-1,\":-)\",CONCATENATE(\"Verbessern bis   \",'Technische SDG'!Q98))))","v":""},{"$f":"IF('Technische SDG'!R98=\"\",\"\",IF($D99=\"\",\"bitte ausfüllen \",IF($D99>'Technische SDG'!R98-1,\":-)\",CONCATENATE(\"Verbessern bis   \",'Technische SDG'!R98))))","v":""},{"$f":"IF('Technische SDG'!S98=\"\",\"\",IF($D99=\"\",\"bitte ausfüllen \",IF($D99>'Technische SDG'!S98-1,\":-)\",CONCATENATE(\"Verbessern bis   \",'Technische SDG'!S98))))","v":""},{"$f":"IF('Technische SDG'!T98=\"\",\"\",IF($D99=\"\",\"bitte ausfüllen \",IF($D99>'Technische SDG'!T98-1,\":-)\",CONCATENATE(\"Verbessern bis   \",'Technische SDG'!T98))))","v":""}]
[null,{"$f":"'Technische SDG'!B99","v":"F6.8"},{"$f":"VLOOKUP(B100,'Kapitel 6'!$C$6:$D$120,2,0)","v":"Wie fördert die Organisation Innovationspanels und Kooperationen?"},{"$f":"'Technische SDG'!C99","v":1},17,{"$f":"IF('Technische SDG'!D99=\"\",\"\",IF($D100=\"\",\"please complete\",IF($D100>'Technische SDG'!D99-1,\":-)\",CONCATENATE(\"increase until \",'Technische SDG'!D99))))","v":""},{"$f":"IF('Technische SDG'!E99=\"\",\"\",IF($D100=\"\",\"please complete\",IF($D100>'Technische SDG'!E99-1,\":-)\",CONCATENATE(\"increase until \",'Technische SDG'!E99))))","v":""},{"$f":"IF('Technische SDG'!F99=\"\",\"\",IF($D100=\"\",\"please complete\",IF($D100>'Technische SDG'!F99-1,\":-)\",CONCATENATE(\"increase until \",'Technische SDG'!F99))))","v":""},{"$f":"IF('Technische SDG'!G99=\"\",\"\",IF($D100=\"\",\"please complete\",IF($D100>'Technische SDG'!G99-1,\":-)\",CONCATENATE(\"increase until \",'Technische SDG'!G99))))","v":""},{"$f":"IF('Technische SDG'!H99=\"\",\"\",IF($D100=\"\",\"please complete\",IF($D100>'Technische SDG'!H99-1,\":-)\",CONCATENATE(\"increase until \",'Technische SDG'!H99))))","v":""},{"$f":"IF('Technische SDG'!I99=\"\",\"\",IF($D100=\"\",\"please complete\",IF($D100>'Technische SDG'!I99-1,\":-)\",CONCATENATE(\"increase until \",'Technische SDG'!I99))))","v":""},{"$f":"IF('Technische SDG'!J99=\"\",\"\",IF($D100=\"\",\"please complete\",IF($D100>'Technische SDG'!J99-1,\":-)\",CONCATENATE(\"increase until \",'Technische SDG'!J99))))","v":""},{"$f":"IF('Technische SDG'!K99=\"\",\"\",IF($D100=\"\",\"please complete\",IF($D100>'Technische SDG'!K99-1,\":-)\",CONCATENATE(\"increase until \",'Technische SDG'!K99))))","v":""},{"$f":"IF('Technische SDG'!L99=\"\",\"\",IF($D100=\"\",\"please complete\",IF($D100>'Technische SDG'!L99-1,\":-)\",CONCATENATE(\"increase until \",'Technische SDG'!L99))))","v":""},{"$f":"IF('Technische SDG'!M99=\"\",\"\",IF($D100=\"\",\"please complete\",IF($D100>'Technische SDG'!M99-1,\":-)\",CONCATENATE(\"increase until \",'Technische SDG'!M99))))","v":""},{"$f":"IF('Technische SDG'!N99=\"\",\"\",IF($D100=\"\",\"please complete\",IF($D100>'Technische SDG'!N99-1,\":-)\",CONCATENATE(\"increase until \",'Technische SDG'!N99))))","v":""},{"$f":"IF('Technische SDG'!O99=\"\",\"\",IF($D100=\"\",\"please complete\",IF($D100>'Technische SDG'!O99-1,\":-)\",CONCATENATE(\"increase until \",'Technische SDG'!O99))))","v":""},{"$f":"IF('Technische SDG'!P99=\"\",\"\",IF($D100=\"\",\"please complete\",IF($D100>'Technische SDG'!P99-1,\":-)\",CONCATENATE(\"increase until \",'Technische SDG'!P99))))","v":""},{"$f":"IF('Technische SDG'!Q99=\"\",\"\",IF($D100=\"\",\"please complete\",IF($D100>'Technische SDG'!Q99-1,\":-)\",CONCATENATE(\"increase until \",'Technische SDG'!Q99))))","v":""},{"$f":"IF('Technische SDG'!R99=\"\",\"\",IF($D100=\"\",\"please complete\",IF($D100>'Technische SDG'!R99-1,\":-)\",CONCATENATE(\"increase until \",'Technische SDG'!R99))))","v":""},{"$f":"IF('Technische SDG'!S99=\"\",\"\",IF($D100=\"\",\"please complete\",IF($D100>'Technische SDG'!S99-1,\":-)\",CONCATENATE(\"increase until \",'Technische SDG'!S99))))","v":""},{"$f":"IF('Technische SDG'!T99=\"\",\"\",IF($D100=\"\",\"please complete\",IF($D100>'Technische SDG'!T99-1,\":-)\",CONCATENATE(\"increase until \",'Technische SDG'!T99))))","v":""}]
[null,{"$f":"'Technische SDG'!B100","v":"F6.9"},{"$f":"VLOOKUP(B101,'Kapitel 6'!$C$6:$D$120,2,0)","v":"Wie fördert die Organisation nachhaltiges Verbrauchsverhalten?"},{"$f":"'Technische SDG'!C100","v":2},16,{"$f":"IF('Technische SDG'!D100=\"\",\"\",IF($D101=\"\",\"bitte ausfüllen \",IF($D101>'Technische SDG'!D100-1,\":-)\",CONCATENATE(\"Verbessern bis   \",'Technische SDG'!D100))))","v":""},{"$f":"IF('Technische SDG'!E100=\"\",\"\",IF($D101=\"\",\"bitte ausfüllen \",IF($D101>'Technische SDG'!E100-1,\":-)\",CONCATENATE(\"Verbessern bis   \",'Technische SDG'!E100))))","v":""},{"$f":"IF('Technische SDG'!F100=\"\",\"\",IF($D101=\"\",\"bitte ausfüllen \",IF($D101>'Technische SDG'!F100-1,\":-)\",CONCATENATE(\"Verbessern bis   \",'Technische SDG'!F100))))","v":""},{"$f":"IF('Technische SDG'!G100=\"\",\"\",IF($D101=\"\",\"bitte ausfüllen \",IF($D101>'Technische SDG'!G100-1,\":-)\",CONCATENATE(\"Verbessern bis   \",'Technische SDG'!G100))))","v":""},{"$f":"IF('Technische SDG'!H100=\"\",\"\",IF($D101=\"\",\"bitte ausfüllen \",IF($D101>'Technische SDG'!H100-1,\":-)\",CONCATENATE(\"Verbessern bis   \",'Technische SDG'!H100))))","v":""},{"$f":"IF('Technische SDG'!I100=\"\",\"\",IF($D101=\"\",\"bitte ausfüllen \",IF($D101>'Technische SDG'!I100-1,\":-)\",CONCATENATE(\"Verbessern bis   \",'Technische SDG'!I100))))","v":""},{"$f":"IF('Technische SDG'!J100=\"\",\"\",IF($D101=\"\",\"bitte ausfüllen \",IF($D101>'Technische SDG'!J100-1,\":-)\",CONCATENATE(\"Verbessern bis   \",'Technische SDG'!J100))))","v":""},{"$f":"IF('Technische SDG'!K100=\"\",\"\",IF($D101=\"\",\"bitte ausfüllen \",IF($D101>'Technische SDG'!K100-1,\":-)\",CONCATENATE(\"Verbessern bis   \",'Technische SDG'!K100))))","v":"Verbessern bis   3"},{"$f":"IF('Technische SDG'!L100=\"\",\"\",IF($D101=\"\",\"bitte ausfüllen \",IF($D101>'Technische SDG'!L100-1,\":-)\",CONCATENATE(\"Verbessern bis   \",'Technische SDG'!L100))))","v":""},{"$f":"IF('Technische SDG'!M100=\"\",\"\",IF($D101=\"\",\"bitte ausfüllen \",IF($D101>'Technische SDG'!M100-1,\":-)\",CONCATENATE(\"Verbessern bis   \",'Technische SDG'!M100))))","v":""},{"$f":"IF('Technische SDG'!N100=\"\",\"\",IF($D101=\"\",\"bitte ausfüllen \",IF($D101>'Technische SDG'!N100-1,\":-)\",CONCATENATE(\"Verbessern bis   \",'Technische SDG'!N100))))","v":""},{"$f":"IF('Technische SDG'!O100=\"\",\"\",IF($D101=\"\",\"bitte ausfüllen \",IF($D101>'Technische SDG'!O100-1,\":-)\",CONCATENATE(\"Verbessern bis   \",'Technische SDG'!O100))))","v":""},{"$f":"IF('Technische SDG'!P100=\"\",\"\",IF($D101=\"\",\"bitte ausfüllen \",IF($D101>'Technische SDG'!P100-1,\":-)\",CONCATENATE(\"Verbessern bis   \",'Technische SDG'!P100))))","v":""},{"$f":"IF('Technische SDG'!Q100=\"\",\"\",IF($D101=\"\",\"bitte ausfüllen \",IF($D101>'Technische SDG'!Q100-1,\":-)\",CONCATENATE(\"Verbessern bis   \",'Technische SDG'!Q100))))","v":""},{"$f":"IF('Technische SDG'!R100=\"\",\"\",IF($D101=\"\",\"bitte ausfüllen \",IF($D101>'Technische SDG'!R100-1,\":-)\",CONCATENATE(\"Verbessern bis   \",'Technische SDG'!R100))))","v":""},{"$f":"IF('Technische SDG'!S100=\"\",\"\",IF($D101=\"\",\"bitte ausfüllen \",IF($D101>'Technische SDG'!S100-1,\":-)\",CONCATENATE(\"Verbessern bis   \",'Technische SDG'!S100))))","v":""},{"$f":"IF('Technische SDG'!T100=\"\",\"\",IF($D101=\"\",\"bitte ausfüllen \",IF($D101>'Technische SDG'!T100-1,\":-)\",CONCATENATE(\"Verbessern bis   \",'Technische SDG'!T100))))","v":""}]
[null,{"$f":"'Technische SDG'!B101","v":"F6.10"},{"$f":"VLOOKUP(B102,'Kapitel 6'!$C$6:$D$120,2,0)","v":"Wie kontrolliert und optimiert die Organisation den Wasserverbrauch?"},{"$f":"'Technische SDG'!C101","v":1},13,{"$f":"IF('Technische SDG'!D101=\"\",\"\",IF($D102=\"\",\"bitte ausfüllen \",IF($D102>'Technische SDG'!D101-1,\":-)\",CONCATENATE(\"Verbessern bis   \",'Technische SDG'!D101))))","v":""},{"$f":"IF('Technische SDG'!E101=\"\",\"\",IF($D102=\"\",\"bitte ausfüllen \",IF($D102>'Technische SDG'!E101-1,\":-)\",CONCATENATE(\"Verbessern bis   \",'Technische SDG'!E101))))","v":""},{"$f":"IF('Technische SDG'!F101=\"\",\"\",IF($D102=\"\",\"bitte ausfüllen \",IF($D102>'Technische SDG'!F101-1,\":-)\",CONCATENATE(\"Verbessern bis   \",'Technische SDG'!F101))))","v":""},{"$f":"IF('Technische SDG'!G101=\"\",\"\",IF($D102=\"\",\"bitte ausfüllen \",IF($D102>'Technische SDG'!G101-1,\":-)\",CONCATENATE(\"Verbessern bis   \",'Technische SDG'!G101))))","v":""},{"$f":"IF('Technische SDG'!H101=\"\",\"\",IF($D102=\"\",\"bitte ausfüllen \",IF($D102>'Technische SDG'!H101-1,\":-)\",CONCATENATE(\"Verbessern bis   \",'Technische SDG'!H101))))","v":""},{"$f":"IF('Technische SDG'!I101=\"\",\"\",IF($D102=\"\",\"bitte ausfüllen \",IF($D102>'Technische SDG'!I101-1,\":-)\",CONCATENATE(\"Verbessern bis   \",'Technische SDG'!I101))))","v":"Verbessern bis   3"},{"$f":"IF('Technische SDG'!J101=\"\",\"\",IF($D102=\"\",\"bitte ausfüllen \",IF($D102>'Technische SDG'!J101-1,\":-)\",CONCATENATE(\"Verbessern bis   \",'Technische SDG'!J101))))","v":""},{"$f":"IF('Technische SDG'!K101=\"\",\"\",IF($D102=\"\",\"bitte ausfüllen \",IF($D102>'Technische SDG'!K101-1,\":-)\",CONCATENATE(\"Verbessern bis   \",'Technische SDG'!K101))))","v":"Verbessern bis   3"},{"$f":"IF('Technische SDG'!L101=\"\",\"\",IF($D102=\"\",\"bitte ausfüllen \",IF($D102>'Technische SDG'!L101-1,\":-)\",CONCATENATE(\"Verbessern bis   \",'Technische SDG'!L101))))","v":"Verbessern bis   3"},{"$f":"IF('Technische SDG'!M101=\"\",\"\",IF($D102=\"\",\"bitte ausfüllen \",IF($D102>'Technische SDG'!M101-1,\":-)\",CONCATENATE(\"Verbessern bis   \",'Technische SDG'!M101))))","v":""},{"$f":"IF('Technische SDG'!N101=\"\",\"\",IF($D102=\"\",\"bitte ausfüllen \",IF($D102>'Technische SDG'!N101-1,\":-)\",CONCATENATE(\"Verbessern bis   \",'Technische SDG'!N101))))","v":""},{"$f":"IF('Technische SDG'!O101=\"\",\"\",IF($D102=\"\",\"bitte ausfüllen \",IF($D102>'Technische SDG'!O101-1,\":-)\",CONCATENATE(\"Verbessern bis   \",'Technische SDG'!O101))))","v":"Verbessern bis   3"},{"$f":"IF('Technische SDG'!P101=\"\",\"\",IF($D102=\"\",\"bitte ausfüllen \",IF($D102>'Technische SDG'!P101-1,\":-)\",CONCATENATE(\"Verbessern bis   \",'Technische SDG'!P101))))","v":""},{"$f":"IF('Technische SDG'!Q101=\"\",\"\",IF($D102=\"\",\"bitte ausfüllen \",IF($D102>'Technische SDG'!Q101-1,\":-)\",CONCATENATE(\"Verbessern bis   \",'Technische SDG'!Q101))))","v":""},{"$f":"IF('Technische SDG'!R101=\"\",\"\",IF($D102=\"\",\"bitte ausfüllen \",IF($D102>'Technische SDG'!R101-1,\":-)\",CONCATENATE(\"Verbessern bis   \",'Technische SDG'!R101))))","v":""},{"$f":"IF('Technische SDG'!S101=\"\",\"\",IF($D102=\"\",\"bitte ausfüllen \",IF($D102>'Technische SDG'!S101-1,\":-)\",CONCATENATE(\"Verbessern bis   \",'Technische SDG'!S101))))","v":""},{"$f":"IF('Technische SDG'!T101=\"\",\"\",IF($D102=\"\",\"bitte ausfüllen \",IF($D102>'Technische SDG'!T101-1,\":-)\",CONCATENATE(\"Verbessern bis   \",'Technische SDG'!T101))))","v":""}]
[null,{"$f":"'Technische SDG'!B102","v":"F6.11"},{"$f":"VLOOKUP(B103,'Kapitel 6'!$C$6:$D$120,2,0)","v":"Wie werden die Auswirkungen der Organisation auf die Biodiversität und die Ökosystemleistungen gehandhabt?"},{"$f":"'Technische SDG'!C102","v":1},12,{"$f":"IF('Technische SDG'!D102=\"\",\"\",IF($D103=\"\",\"bitte ausfüllen \",IF($D103>'Technische SDG'!D102-1,\":-)\",CONCATENATE(\"Verbessern bis   \",'Technische SDG'!D102))))","v":""},{"$f":"IF('Technische SDG'!E102=\"\",\"\",IF($D103=\"\",\"bitte ausfüllen \",IF($D103>'Technische SDG'!E102-1,\":-)\",CONCATENATE(\"Verbessern bis   \",'Technische SDG'!E102))))","v":""},{"$f":"IF('Technische SDG'!F102=\"\",\"\",IF($D103=\"\",\"bitte ausfüllen \",IF($D103>'Technische SDG'!F102-1,\":-)\",CONCATENATE(\"Verbessern bis   \",'Technische SDG'!F102))))","v":""},{"$f":"IF('Technische SDG'!G102=\"\",\"\",IF($D103=\"\",\"bitte ausfüllen \",IF($D103>'Technische SDG'!G102-1,\":-)\",CONCATENATE(\"Verbessern bis   \",'Technische SDG'!G102))))","v":""},{"$f":"IF('Technische SDG'!H102=\"\",\"\",IF($D103=\"\",\"bitte ausfüllen \",IF($D103>'Technische SDG'!H102-1,\":-)\",CONCATENATE(\"Verbessern bis   \",'Technische SDG'!H102))))","v":""},{"$f":"IF('Technische SDG'!I102=\"\",\"\",IF($D103=\"\",\"bitte ausfüllen \",IF($D103>'Technische SDG'!I102-1,\":-)\",CONCATENATE(\"Verbessern bis   \",'Technische SDG'!I102))))","v":"Verbessern bis   3"},{"$f":"IF('Technische SDG'!J102=\"\",\"\",IF($D103=\"\",\"bitte ausfüllen \",IF($D103>'Technische SDG'!J102-1,\":-)\",CONCATENATE(\"Verbessern bis   \",'Technische SDG'!J102))))","v":""},{"$f":"IF('Technische SDG'!K102=\"\",\"\",IF($D103=\"\",\"bitte ausfüllen \",IF($D103>'Technische SDG'!K102-1,\":-)\",CONCATENATE(\"Verbessern bis   \",'Technische SDG'!K102))))","v":"Verbessern bis   3"},{"$f":"IF('Technische SDG'!L102=\"\",\"\",IF($D103=\"\",\"bitte ausfüllen \",IF($D103>'Technische SDG'!L102-1,\":-)\",CONCATENATE(\"Verbessern bis   \",'Technische SDG'!L102))))","v":"Verbessern bis   3"},{"$f":"IF('Technische SDG'!M102=\"\",\"\",IF($D103=\"\",\"bitte ausfüllen \",IF($D103>'Technische SDG'!M102-1,\":-)\",CONCATENATE(\"Verbessern bis   \",'Technische SDG'!M102))))","v":""},{"$f":"IF('Technische SDG'!N102=\"\",\"\",IF($D103=\"\",\"bitte ausfüllen \",IF($D103>'Technische SDG'!N102-1,\":-)\",CONCATENATE(\"Verbessern bis   \",'Technische SDG'!N102))))","v":""},{"$f":"IF('Technische SDG'!O102=\"\",\"\",IF($D103=\"\",\"bitte ausfüllen \",IF($D103>'Technische SDG'!O102-1,\":-)\",CONCATENATE(\"Verbessern bis   \",'Technische SDG'!O102))))","v":"Verbessern bis   3"},{"$f":"IF('Technische SDG'!P102=\"\",\"\",IF($D103=\"\",\"bitte ausfüllen \",IF($D103>'Technische SDG'!P102-1,\":-)\",CONCATENATE(\"Verbessern bis   \",'Technische SDG'!P102))))","v":""},{"$f":"IF('Technische SDG'!Q102=\"\",\"\",IF($D103=\"\",\"bitte ausfüllen \",IF($D103>'Technische SDG'!Q102-1,\":-)\",CONCATENATE(\"Verbessern bis   \",'Technische SDG'!Q102))))","v":""},{"$f":"IF('Technische SDG'!R102=\"\",\"\",IF($D103=\"\",\"bitte ausfüllen \",IF($D103>'Technische SDG'!R102-1,\":-)\",CONCATENATE(\"Verbessern bis   \",'Technische SDG'!R102))))","v":"Verbessern bis   3"},{"$f":"IF('Technische SDG'!S102=\"\",\"\",IF($D103=\"\",\"bitte ausfüllen \",IF($D103>'Technische SDG'!S102-1,\":-)\",CONCATENATE(\"Verbessern bis   \",'Technische SDG'!S102))))","v":""},{"$f":"IF('Technische SDG'!T102=\"\",\"\",IF($D103=\"\",\"bitte ausfüllen \",IF($D103>'Technische SDG'!T102-1,\":-)\",CONCATENATE(\"Verbessern bis   \",'Technische SDG'!T102))))","v":""}]
[null,{"$f":"'Technische SDG'!B103","v":"F6.12"},{"$f":"VLOOKUP(B104,'Kapitel 6'!$C$6:$D$120,2,0)","v":"Wie berücksichtigt die Organisation ihre Abhängigkeit von Ökosystemleistungen?"},{"$f":"'Technische SDG'!C103","v":2},12,{"$f":"IF('Technische SDG'!D103=\"\",\"\",IF($D104=\"\",\"bitte ausfüllen \",IF($D104>'Technische SDG'!D103-1,\":-)\",CONCATENATE(\"Verbessern bis   \",'Technische SDG'!D103))))","v":""},{"$f":"IF('Technische SDG'!E103=\"\",\"\",IF($D104=\"\",\"bitte ausfüllen \",IF($D104>'Technische SDG'!E103-1,\":-)\",CONCATENATE(\"Verbessern bis   \",'Technische SDG'!E103))))","v":""},{"$f":"IF('Technische SDG'!F103=\"\",\"\",IF($D104=\"\",\"bitte ausfüllen \",IF($D104>'Technische SDG'!F103-1,\":-)\",CONCATENATE(\"Verbessern bis   \",'Technische SDG'!F103))))","v":""},{"$f":"IF('Technische SDG'!G103=\"\",\"\",IF($D104=\"\",\"bitte ausfüllen \",IF($D104>'Technische SDG'!G103-1,\":-)\",CONCATENATE(\"Verbessern bis   \",'Technische SDG'!G103))))","v":""},{"$f":"IF('Technische SDG'!H103=\"\",\"\",IF($D104=\"\",\"bitte ausfüllen \",IF($D104>'Technische SDG'!H103-1,\":-)\",CONCATENATE(\"Verbessern bis   \",'Technische SDG'!H103))))","v":""},{"$f":"IF('Technische SDG'!I103=\"\",\"\",IF($D104=\"\",\"bitte ausfüllen \",IF($D104>'Technische SDG'!I103-1,\":-)\",CONCATENATE(\"Verbessern bis   \",'Technische SDG'!I103))))","v":"Verbessern bis   3"},{"$f":"IF('Technische SDG'!J103=\"\",\"\",IF($D104=\"\",\"bitte ausfüllen \",IF($D104>'Technische SDG'!J103-1,\":-)\",CONCATENATE(\"Verbessern bis   \",'Technische SDG'!J103))))","v":""},{"$f":"IF('Technische SDG'!K103=\"\",\"\",IF($D104=\"\",\"bitte ausfüllen \",IF($D104>'Technische SDG'!K103-1,\":-)\",CONCATENATE(\"Verbessern bis   \",'Technische SDG'!K103))))","v":"Verbessern bis   3"},{"$f":"IF('Technische SDG'!L103=\"\",\"\",IF($D104=\"\",\"bitte ausfüllen \",IF($D104>'Technische SDG'!L103-1,\":-)\",CONCATENATE(\"Verbessern bis   \",'Technische SDG'!L103))))","v":"Verbessern bis   3"},{"$f":"IF('Technische SDG'!M103=\"\",\"\",IF($D104=\"\",\"bitte ausfüllen \",IF($D104>'Technische SDG'!M103-1,\":-)\",CONCATENATE(\"Verbessern bis   \",'Technische SDG'!M103))))","v":""},{"$f":"IF('Technische SDG'!N103=\"\",\"\",IF($D104=\"\",\"bitte ausfüllen \",IF($D104>'Technische SDG'!N103-1,\":-)\",CONCATENATE(\"Verbessern bis   \",'Technische SDG'!N103))))","v":""},{"$f":"IF('Technische SDG'!O103=\"\",\"\",IF($D104=\"\",\"bitte ausfüllen \",IF($D104>'Technische SDG'!O103-1,\":-)\",CONCATENATE(\"Verbessern bis   \",'Technische SDG'!O103))))","v":"Verbessern bis   3"},{"$f":"IF('Technische SDG'!P103=\"\",\"\",IF($D104=\"\",\"bitte ausfüllen \",IF($D104>'Technische SDG'!P103-1,\":-)\",CONCATENATE(\"Verbessern bis   \",'Technische SDG'!P103))))","v":""},{"$f":"IF('Technische SDG'!Q103=\"\",\"\",IF($D104=\"\",\"bitte ausfüllen \",IF($D104>'Technische SDG'!Q103-1,\":-)\",CONCATENATE(\"Verbessern bis   \",'Technische SDG'!Q103))))","v":""},{"$f":"IF('Technische SDG'!R103=\"\",\"\",IF($D104=\"\",\"bitte ausfüllen \",IF($D104>'Technische SDG'!R103-1,\":-)\",CONCATENATE(\"Verbessern bis   \",'Technische SDG'!R103))))","v":"Verbessern bis   3"},{"$f":"IF('Technische SDG'!S103=\"\",\"\",IF($D104=\"\",\"bitte ausfüllen \",IF($D104>'Technische SDG'!S103-1,\":-)\",CONCATENATE(\"Verbessern bis   \",'Technische SDG'!S103))))","v":""},{"$f":"IF('Technische SDG'!T103=\"\",\"\",IF($D104=\"\",\"bitte ausfüllen \",IF($D104>'Technische SDG'!T103-1,\":-)\",CONCATENATE(\"Verbessern bis   \",'Technische SDG'!T103))))","v":""}]
[null,{"$f":"'Technische SDG'!B104","v":"F6.13"},{"$f":"VLOOKUP(B105,'Kapitel 6'!$C$6:$D$120,2,0)","v":"Wie handhabt die Organisation ihre Energieeffizienz?"},{"$f":"'Technische SDG'!C104","v":1},13,{"$f":"IF('Technische SDG'!D104=\"\",\"\",IF($D105=\"\",\"bitte ausfüllen \",IF($D105>'Technische SDG'!D104-1,\":-)\",CONCATENATE(\"Verbessern bis   \",'Technische SDG'!D104))))","v":""},{"$f":"IF('Technische SDG'!E104=\"\",\"\",IF($D105=\"\",\"bitte ausfüllen \",IF($D105>'Technische SDG'!E104-1,\":-)\",CONCATENATE(\"Verbessern bis   \",'Technische SDG'!E104))))","v":""},{"$f":"IF('Technische SDG'!F104=\"\",\"\",IF($D105=\"\",\"bitte ausfüllen \",IF($D105>'Technische SDG'!F104-1,\":-)\",CONCATENATE(\"Verbessern bis   \",'Technische SDG'!F104))))","v":""},{"$f":"IF('Technische SDG'!G104=\"\",\"\",IF($D105=\"\",\"bitte ausfüllen \",IF($D105>'Technische SDG'!G104-1,\":-)\",CONCATENATE(\"Verbessern bis   \",'Technische SDG'!G104))))","v":""},{"$f":"IF('Technische SDG'!H104=\"\",\"\",IF($D105=\"\",\"bitte ausfüllen \",IF($D105>'Technische SDG'!H104-1,\":-)\",CONCATENATE(\"Verbessern bis   \",'Technische SDG'!H104))))","v":""},{"$f":"IF('Technische SDG'!I104=\"\",\"\",IF($D105=\"\",\"bitte ausfüllen \",IF($D105>'Technische SDG'!I104-1,\":-)\",CONCATENATE(\"Verbessern bis   \",'Technische SDG'!I104))))","v":""},{"$f":"IF('Technische SDG'!J104=\"\",\"\",IF($D105=\"\",\"bitte ausfüllen \",IF($D105>'Technische SDG'!J104-1,\":-)\",CONCATENATE(\"Verbessern bis   \",'Technische SDG'!J104))))","v":"Verbessern bis   3"},{"$f":"IF('Technische SDG'!K104=\"\",\"\",IF($D105=\"\",\"bitte ausfüllen \",IF($D105>'Technische SDG'!K104-1,\":-)\",CONCATENATE(\"Verbessern bis   \",'Technische SDG'!K104))))","v":""},{"$f":"IF('Technische SDG'!L104=\"\",\"\",IF($D105=\"\",\"bitte ausfüllen \",IF($D105>'Technische SDG'!L104-1,\":-)\",CONCATENATE(\"Verbessern bis   \",'Technische SDG'!L104))))","v":"Verbessern bis   3"},{"$f":"IF('Technische SDG'!M104=\"\",\"\",IF($D105=\"\",\"bitte ausfüllen \",IF($D105>'Technische SDG'!M104-1,\":-)\",CONCATENATE(\"Verbessern bis   \",'Technische SDG'!M104))))","v":""},{"$f":"IF('Technische SDG'!N104=\"\",\"\",IF($D105=\"\",\"bitte ausfüllen \",IF($D105>'Technische SDG'!N104-1,\":-)\",CONCATENATE(\"Verbessern bis   \",'Technische SDG'!N104))))","v":""},{"$f":"IF('Technische SDG'!O104=\"\",\"\",IF($D105=\"\",\"bitte ausfüllen \",IF($D105>'Technische SDG'!O104-1,\":-)\",CONCATENATE(\"Verbessern bis   \",'Technische SDG'!O104))))","v":"Verbessern bis   3"},{"$f":"IF('Technische SDG'!P104=\"\",\"\",IF($D105=\"\",\"bitte ausfüllen \",IF($D105>'Technische SDG'!P104-1,\":-)\",CONCATENATE(\"Verbessern bis   \",'Technische SDG'!P104))))","v":"Verbessern bis   3"},{"$f":"IF('Technische SDG'!Q104=\"\",\"\",IF($D105=\"\",\"bitte ausfüllen \",IF($D105>'Technische SDG'!Q104-1,\":-)\",CONCATENATE(\"Verbessern bis   \",'Technische SDG'!Q104))))","v":""},{"$f":"IF('Technische SDG'!R104=\"\",\"\",IF($D105=\"\",\"bitte ausfüllen \",IF($D105>'Technische SDG'!R104-1,\":-)\",CONCATENATE(\"Verbessern bis   \",'Technische SDG'!R104))))","v":""},{"$f":"IF('Technische SDG'!S104=\"\",\"\",IF($D105=\"\",\"bitte ausfüllen \",IF($D105>'Technische SDG'!S104-1,\":-)\",CONCATENATE(\"Verbessern bis   \",'Technische SDG'!S104))))","v":""},{"$f":"IF('Technische SDG'!T104=\"\",\"\",IF($D105=\"\",\"bitte ausfüllen \",IF($D105>'Technische SDG'!T104-1,\":-)\",CONCATENATE(\"Verbessern bis   \",'Technische SDG'!T104))))","v":""}]
[null,{"$f":"'Technische SDG'!B105","v":"F6.14"},{"$f":"VLOOKUP(B106,'Kapitel 6'!$C$6:$D$120,2,0)","v":"Wie handhabt die Organisation ihre Emissionen von Treibhausgasen (THG) (anders als durch Energieeinsparung)?"},{"$f":"'Technische SDG'!C105","v":2},13,{"$f":"IF('Technische SDG'!D105=\"\",\"\",IF($D106=\"\",\"bitte ausfüllen \",IF($D106>'Technische SDG'!D105-1,\":-)\",CONCATENATE(\"Verbessern bis   \",'Technische SDG'!D105))))","v":""},{"$f":"IF('Technische SDG'!E105=\"\",\"\",IF($D106=\"\",\"bitte ausfüllen \",IF($D106>'Technische SDG'!E105-1,\":-)\",CONCATENATE(\"Verbessern bis   \",'Technische SDG'!E105))))","v":""},{"$f":"IF('Technische SDG'!F105=\"\",\"\",IF($D106=\"\",\"bitte ausfüllen \",IF($D106>'Technische SDG'!F105-1,\":-)\",CONCATENATE(\"Verbessern bis   \",'Technische SDG'!F105))))","v":""},{"$f":"IF('Technische SDG'!G105=\"\",\"\",IF($D106=\"\",\"bitte ausfüllen \",IF($D106>'Technische SDG'!G105-1,\":-)\",CONCATENATE(\"Verbessern bis   \",'Technische SDG'!G105))))","v":""},{"$f":"IF('Technische SDG'!H105=\"\",\"\",IF($D106=\"\",\"bitte ausfüllen \",IF($D106>'Technische SDG'!H105-1,\":-)\",CONCATENATE(\"Verbessern bis   \",'Technische SDG'!H105))))","v":""},{"$f":"IF('Technische SDG'!I105=\"\",\"\",IF($D106=\"\",\"bitte ausfüllen \",IF($D106>'Technische SDG'!I105-1,\":-)\",CONCATENATE(\"Verbessern bis   \",'Technische SDG'!I105))))","v":""},{"$f":"IF('Technische SDG'!J105=\"\",\"\",IF($D106=\"\",\"bitte ausfüllen \",IF($D106>'Technische SDG'!J105-1,\":-)\",CONCATENATE(\"Verbessern bis   \",'Technische SDG'!J105))))","v":"Verbessern bis   3"},{"$f":"IF('Technische SDG'!K105=\"\",\"\",IF($D106=\"\",\"bitte ausfüllen \",IF($D106>'Technische SDG'!K105-1,\":-)\",CONCATENATE(\"Verbessern bis   \",'Technische SDG'!K105))))","v":""},{"$f":"IF('Technische SDG'!L105=\"\",\"\",IF($D106=\"\",\"bitte ausfüllen \",IF($D106>'Technische SDG'!L105-1,\":-)\",CONCATENATE(\"Verbessern bis   \",'Technische SDG'!L105))))","v":"Verbessern bis   3"},{"$f":"IF('Technische SDG'!M105=\"\",\"\",IF($D106=\"\",\"bitte ausfüllen \",IF($D106>'Technische SDG'!M105-1,\":-)\",CONCATENATE(\"Verbessern bis   \",'Technische SDG'!M105))))","v":""},{"$f":"IF('Technische SDG'!N105=\"\",\"\",IF($D106=\"\",\"bitte ausfüllen \",IF($D106>'Technische SDG'!N105-1,\":-)\",CONCATENATE(\"Verbessern bis   \",'Technische SDG'!N105))))","v":""},{"$f":"IF('Technische SDG'!O105=\"\",\"\",IF($D106=\"\",\"bitte ausfüllen \",IF($D106>'Technische SDG'!O105-1,\":-)\",CONCATENATE(\"Verbessern bis   \",'Technische SDG'!O105))))","v":"Verbessern bis   3"},{"$f":"IF('Technische SDG'!P105=\"\",\"\",IF($D106=\"\",\"bitte ausfüllen \",IF($D106>'Technische SDG'!P105-1,\":-)\",CONCATENATE(\"Verbessern bis   \",'Technische SDG'!P105))))","v":"Verbessern bis   3"},{"$f":"IF('Technische SDG'!Q105=\"\",\"\",IF($D106=\"\",\"bitte ausfüllen \",IF($D106>'Technische SDG'!Q105-1,\":-)\",CONCATENATE(\"Verbessern bis   \",'Technische SDG'!Q105))))","v":""},{"$f":"IF('Technische SDG'!R105=\"\",\"\",IF($D106=\"\",\"bitte ausfüllen \",IF($D106>'Technische SDG'!R105-1,\":-)\",CONCATENATE(\"Verbessern bis   \",'Technische SDG'!R105))))","v":""},{"$f":"IF('Technische SDG'!S105=\"\",\"\",IF($D106=\"\",\"bitte ausfüllen \",IF($D106>'Technische SDG'!S105-1,\":-)\",CONCATENATE(\"Verbessern bis   \",'Technische SDG'!S105))))","v":""},{"$f":"IF('Technische SDG'!T105=\"\",\"\",IF($D106=\"\",\"bitte ausfüllen \",IF($D106>'Technische SDG'!T105-1,\":-)\",CONCATENATE(\"Verbessern bis   \",'Technische SDG'!T105))))","v":""}]
[null,{"$f":"'Technische SDG'!B106","v":"F6.15"},{"$f":"VLOOKUP(B107,'Kapitel 6'!$C$6:$D$120,2,0)","v":"Welche Strategie hat die Organisation zur Reduzierung von THG-Emissionen?"},{"$f":"'Technische SDG'!C106","v":1},13,{"$f":"IF('Technische SDG'!D106=\"\",\"\",IF($D107=\"\",\"bitte ausfüllen \",IF($D107>'Technische SDG'!D106-1,\":-)\",CONCATENATE(\"Verbessern bis   \",'Technische SDG'!D106))))","v":""},{"$f":"IF('Technische SDG'!E106=\"\",\"\",IF($D107=\"\",\"bitte ausfüllen \",IF($D107>'Technische SDG'!E106-1,\":-)\",CONCATENATE(\"Verbessern bis   \",'Technische SDG'!E106))))","v":""},{"$f":"IF('Technische SDG'!F106=\"\",\"\",IF($D107=\"\",\"bitte ausfüllen \",IF($D107>'Technische SDG'!F106-1,\":-)\",CONCATENATE(\"Verbessern bis   \",'Technische SDG'!F106))))","v":""},{"$f":"IF('Technische SDG'!G106=\"\",\"\",IF($D107=\"\",\"bitte ausfüllen \",IF($D107>'Technische SDG'!G106-1,\":-)\",CONCATENATE(\"Verbessern bis   \",'Technische SDG'!G106))))","v":""},{"$f":"IF('Technische SDG'!H106=\"\",\"\",IF($D107=\"\",\"bitte ausfüllen \",IF($D107>'Technische SDG'!H106-1,\":-)\",CONCATENATE(\"Verbessern bis   \",'Technische SDG'!H106))))","v":""},{"$f":"IF('Technische SDG'!I106=\"\",\"\",IF($D107=\"\",\"bitte ausfüllen \",IF($D107>'Technische SDG'!I106-1,\":-)\",CONCATENATE(\"Verbessern bis   \",'Technische SDG'!I106))))","v":""},{"$f":"IF('Technische SDG'!J106=\"\",\"\",IF($D107=\"\",\"bitte ausfüllen \",IF($D107>'Technische SDG'!J106-1,\":-)\",CONCATENATE(\"Verbessern bis   \",'Technische SDG'!J106))))","v":"Verbessern bis   3"},{"$f":"IF('Technische SDG'!K106=\"\",\"\",IF($D107=\"\",\"bitte ausfüllen \",IF($D107>'Technische SDG'!K106-1,\":-)\",CONCATENATE(\"Verbessern bis   \",'Technische SDG'!K106))))","v":""},{"$f":"IF('Technische SDG'!L106=\"\",\"\",IF($D107=\"\",\"bitte ausfüllen \",IF($D107>'Technische SDG'!L106-1,\":-)\",CONCATENATE(\"Verbessern bis   \",'Technische SDG'!L106))))","v":"Verbessern bis   3"},{"$f":"IF('Technische SDG'!M106=\"\",\"\",IF($D107=\"\",\"bitte ausfüllen \",IF($D107>'Technische SDG'!M106-1,\":-)\",CONCATENATE(\"Verbessern bis   \",'Technische SDG'!M106))))","v":""},{"$f":"IF('Technische SDG'!N106=\"\",\"\",IF($D107=\"\",\"bitte ausfüllen \",IF($D107>'Technische SDG'!N106-1,\":-)\",CONCATENATE(\"Verbessern bis   \",'Technische SDG'!N106))))","v":""},{"$f":"IF('Technische SDG'!O106=\"\",\"\",IF($D107=\"\",\"bitte ausfüllen \",IF($D107>'Technische SDG'!O106-1,\":-)\",CONCATENATE(\"Verbessern bis   \",'Technische SDG'!O106))))","v":"Verbessern bis   3"},{"$f":"IF('Technische SDG'!P106=\"\",\"\",IF($D107=\"\",\"bitte ausfüllen \",IF($D107>'Technische SDG'!P106-1,\":-)\",CONCATENATE(\"Verbessern bis   \",'Technische SDG'!P106))))","v":"Verbessern bis   3"},{"$f":"IF('Technische SDG'!Q106=\"\",\"\",IF($D107=\"\",\"bitte ausfüllen \",IF($D107>'Technische SDG'!Q106-1,\":-)\",CONCATENATE(\"Verbessern bis   \",'Technische SDG'!Q106))))","v":""},{"$f":"IF('Technische SDG'!R106=\"\",\"\",IF($D107=\"\",\"bitte ausfüllen \",IF($D107>'Technische SDG'!R106-1,\":-)\",CONCATENATE(\"Verbessern bis   \",'Technische SDG'!R106))))","v":""},{"$f":"IF('Technische SDG'!S106=\"\",\"\",IF($D107=\"\",\"bitte ausfüllen \",IF($D107>'Technische SDG'!S106-1,\":-)\",CONCATENATE(\"Verbessern bis   \",'Technische SDG'!S106))))","v":""},{"$f":"IF('Technische SDG'!T106=\"\",\"\",IF($D107=\"\",\"bitte ausfüllen \",IF($D107>'Technische SDG'!T106-1,\":-)\",CONCATENATE(\"Verbessern bis   \",'Technische SDG'!T106))))","v":""}]
[null,{"$f":"'Technische SDG'!B107","v":"F6.16"},{"$f":"VLOOKUP(B108,'Kapitel 6'!$C$6:$D$120,2,0)","v":"Wie bereitet sich die Organisation auf den Klimawandel vor? "},{"$f":"'Technische SDG'!C107","v":2},13,{"$f":"IF('Technische SDG'!D107=\"\",\"\",IF($D108=\"\",\"bitte ausfüllen \",IF($D108>'Technische SDG'!D107-1,\":-)\",CONCATENATE(\"Verbessern bis   \",'Technische SDG'!D107))))","v":""},{"$f":"IF('Technische SDG'!E107=\"\",\"\",IF($D108=\"\",\"bitte ausfüllen \",IF($D108>'Technische SDG'!E107-1,\":-)\",CONCATENATE(\"Verbessern bis   \",'Technische SDG'!E107))))","v":""},{"$f":"IF('Technische SDG'!F107=\"\",\"\",IF($D108=\"\",\"bitte ausfüllen \",IF($D108>'Technische SDG'!F107-1,\":-)\",CONCATENATE(\"Verbessern bis   \",'Technische SDG'!F107))))","v":""},{"$f":"IF('Technische SDG'!G107=\"\",\"\",IF($D108=\"\",\"bitte ausfüllen \",IF($D108>'Technische SDG'!G107-1,\":-)\",CONCATENATE(\"Verbessern bis   \",'Technische SDG'!G107))))","v":""},{"$f":"IF('Technische SDG'!H107=\"\",\"\",IF($D108=\"\",\"bitte ausfüllen \",IF($D108>'Technische SDG'!H107-1,\":-)\",CONCATENATE(\"Verbessern bis   \",'Technische SDG'!H107))))","v":""},{"$f":"IF('Technische SDG'!I107=\"\",\"\",IF($D108=\"\",\"bitte ausfüllen \",IF($D108>'Technische SDG'!I107-1,\":-)\",CONCATENATE(\"Verbessern bis   \",'Technische SDG'!I107))))","v":""},{"$f":"IF('Technische SDG'!J107=\"\",\"\",IF($D108=\"\",\"bitte ausfüllen \",IF($D108>'Technische SDG'!J107-1,\":-)\",CONCATENATE(\"Verbessern bis   \",'Technische SDG'!J107))))","v":"Verbessern bis   3"},{"$f":"IF('Technische SDG'!K107=\"\",\"\",IF($D108=\"\",\"bitte ausfüllen \",IF($D108>'Technische SDG'!K107-1,\":-)\",CONCATENATE(\"Verbessern bis   \",'Technische SDG'!K107))))","v":""},{"$f":"IF('Technische SDG'!L107=\"\",\"\",IF($D108=\"\",\"bitte ausfüllen \",IF($D108>'Technische SDG'!L107-1,\":-)\",CONCATENATE(\"Verbessern bis   \",'Technische SDG'!L107))))","v":"Verbessern bis   3"},{"$f":"IF('Technische SDG'!M107=\"\",\"\",IF($D108=\"\",\"bitte ausfüllen \",IF($D108>'Technische SDG'!M107-1,\":-)\",CONCATENATE(\"Verbessern bis   \",'Technische SDG'!M107))))","v":""},{"$f":"IF('Technische SDG'!N107=\"\",\"\",IF($D108=\"\",\"bitte ausfüllen \",IF($D108>'Technische SDG'!N107-1,\":-)\",CONCATENATE(\"Verbessern bis   \",'Technische SDG'!N107))))","v":""},{"$f":"IF('Technische SDG'!O107=\"\",\"\",IF($D108=\"\",\"bitte ausfüllen \",IF($D108>'Technische SDG'!O107-1,\":-)\",CONCATENATE(\"Verbessern bis   \",'Technische SDG'!O107))))","v":"Verbessern bis   3"},{"$f":"IF('Technische SDG'!P107=\"\",\"\",IF($D108=\"\",\"bitte ausfüllen \",IF($D108>'Technische SDG'!P107-1,\":-)\",CONCATENATE(\"Verbessern bis   \",'Technische SDG'!P107))))","v":"Verbessern bis   3"},{"$f":"IF('Technische SDG'!Q107=\"\",\"\",IF($D108=\"\",\"bitte ausfüllen \",IF($D108>'Technische SDG'!Q107-1,\":-)\",CONCATENATE(\"Verbessern bis   \",'Technische SDG'!Q107))))","v":""},{"$f":"IF('Technische SDG'!R107=\"\",\"\",IF($D108=\"\",\"bitte ausfüllen \",IF($D108>'Technische SDG'!R107-1,\":-)\",CONCATENATE(\"Verbessern bis   \",'Technische SDG'!R107))))","v":""},{"$f":"IF('Technische SDG'!S107=\"\",\"\",IF($D108=\"\",\"bitte ausfüllen \",IF($D108>'Technische SDG'!S107-1,\":-)\",CONCATENATE(\"Verbessern bis   \",'Technische SDG'!S107))))","v":""},{"$f":"IF('Technische SDG'!T107=\"\",\"\",IF($D108=\"\",\"bitte ausfüllen \",IF($D108>'Technische SDG'!T107-1,\":-)\",CONCATENATE(\"Verbessern bis   \",'Technische SDG'!T107))))","v":""}]
[null,{"$f":"'Technische SDG'!B108","v":"F6.17"},{"$f":"VLOOKUP(B109,'Kapitel 6'!$C$6:$D$120,2,0)","v":"In welcher Weise gewährleistet die Organisation Chancengleichheit bei der Einstellung und während der gesamten beruflichen Laufbahn aller?"},{"$f":"'Technische SDG'!C108","v":1},15,{"$f":"IF('Technische SDG'!D108=\"\",\"\",IF($D109=\"\",\"bitte ausfüllen \",IF($D109>'Technische SDG'!D108-1,\":-)\",CONCATENATE(\"Verbessern bis   \",'Technische SDG'!D108))))","v":""},{"$f":"IF('Technische SDG'!E108=\"\",\"\",IF($D109=\"\",\"bitte ausfüllen \",IF($D109>'Technische SDG'!E108-1,\":-)\",CONCATENATE(\"Verbessern bis   \",'Technische SDG'!E108))))","v":""},{"$f":"IF('Technische SDG'!F108=\"\",\"\",IF($D109=\"\",\"bitte ausfüllen \",IF($D109>'Technische SDG'!F108-1,\":-)\",CONCATENATE(\"Verbessern bis   \",'Technische SDG'!F108))))","v":""},{"$f":"IF('Technische SDG'!G108=\"\",\"\",IF($D109=\"\",\"bitte ausfüllen \",IF($D109>'Technische SDG'!G108-1,\":-)\",CONCATENATE(\"Verbessern bis   \",'Technische SDG'!G108))))","v":""},{"$f":"IF('Technische SDG'!H108=\"\",\"\",IF($D109=\"\",\"bitte ausfüllen \",IF($D109>'Technische SDG'!H108-1,\":-)\",CONCATENATE(\"Verbessern bis   \",'Technische SDG'!H108))))","v":"Verbessern bis   3"},{"$f":"IF('Technische SDG'!I108=\"\",\"\",IF($D109=\"\",\"bitte ausfüllen \",IF($D109>'Technische SDG'!I108-1,\":-)\",CONCATENATE(\"Verbessern bis   \",'Technische SDG'!I108))))","v":""},{"$f":"IF('Technische SDG'!J108=\"\",\"\",IF($D109=\"\",\"bitte ausfüllen \",IF($D109>'Technische SDG'!J108-1,\":-)\",CONCATENATE(\"Verbessern bis   \",'Technische SDG'!J108))))","v":""},{"$f":"IF('Technische SDG'!K108=\"\",\"\",IF($D109=\"\",\"bitte ausfüllen \",IF($D109>'Technische SDG'!K108-1,\":-)\",CONCATENATE(\"Verbessern bis   \",'Technische SDG'!K108))))","v":"Verbessern bis   3"},{"$f":"IF('Technische SDG'!L108=\"\",\"\",IF($D109=\"\",\"bitte ausfüllen \",IF($D109>'Technische SDG'!L108-1,\":-)\",CONCATENATE(\"Verbessern bis   \",'Technische SDG'!L108))))","v":""},{"$f":"IF('Technische SDG'!M108=\"\",\"\",IF($D109=\"\",\"bitte ausfüllen \",IF($D109>'Technische SDG'!M108-1,\":-)\",CONCATENATE(\"Verbessern bis   \",'Technische SDG'!M108))))","v":""},{"$f":"IF('Technische SDG'!N108=\"\",\"\",IF($D109=\"\",\"bitte ausfüllen \",IF($D109>'Technische SDG'!N108-1,\":-)\",CONCATENATE(\"Verbessern bis   \",'Technische SDG'!N108))))","v":""},{"$f":"IF('Technische SDG'!O108=\"\",\"\",IF($D109=\"\",\"bitte ausfüllen \",IF($D109>'Technische SDG'!O108-1,\":-)\",CONCATENATE(\"Verbessern bis   \",'Technische SDG'!O108))))","v":""},{"$f":"IF('Technische SDG'!P108=\"\",\"\",IF($D109=\"\",\"bitte ausfüllen \",IF($D109>'Technische SDG'!P108-1,\":-)\",CONCATENATE(\"Verbessern bis   \",'Technische SDG'!P108))))","v":""},{"$f":"IF('Technische SDG'!Q108=\"\",\"\",IF($D109=\"\",\"bitte ausfüllen \",IF($D109>'Technische SDG'!Q108-1,\":-)\",CONCATENATE(\"Verbessern bis   \",'Technische SDG'!Q108))))","v":""},{"$f":"IF('Technische SDG'!R108=\"\",\"\",IF($D109=\"\",\"bitte ausfüllen \",IF($D109>'Technische SDG'!R108-1,\":-)\",CONCATENATE(\"Verbessern bis   \",'Technische SDG'!R108))))","v":""},{"$f":"IF('Technische SDG'!S108=\"\",\"\",IF($D109=\"\",\"bitte ausfüllen \",IF($D109>'Technische SDG'!S108-1,\":-)\",CONCATENATE(\"Verbessern bis   \",'Technische SDG'!S108))))","v":""},{"$f":"IF('Technische SDG'!T108=\"\",\"\",IF($D109=\"\",\"bitte ausfüllen \",IF($D109>'Technische SDG'!T108-1,\":-)\",CONCATENATE(\"Verbessern bis   \",'Technische SDG'!T108))))","v":""}]

{"sheet":"Aktionsplan","index":14,"n_rows":104,"n_cols":12,"rows_kept":104,"cut":false,"hidden":false,"merged":[]}
[null,"Aktionsplan",null,null,null,"Wann (Datum)","Von wem?","Erledigt (Datum)"]
[]
[]
[null,{"$f":"IF(C4,Tipps!D5,\"\")","v":"F1.1"},{"$f":"Tipps!M5","v":true},{"$f":"IF(C4,\"waar\",\"onwaar\")","v":"waar"},{"$f":"IF(C4,Tipps!G7,\"\")","v":"Die Entwicklung und Umsetzung einer Richtlinie ist ein guter Weg, um die Mitarbeiter zu informieren, was im Bereich HSEE&S (Gesundheit, Sicherheit, Umwelt, Energie) von ihnen erwartet wird.\nDie Richtlinie kann ein eigenständiges Dokument oder Teil der Qualitäts- oder anderer Organisationsrichtlinien sein. Die Geschäftsleitung hat eine Schlüsselrolle bei der Formulierung, Umsetzung und Kommunikation der Richtlinie.\nDie Richtlinie berücksichtigt Folgendes:\n- Mission, Werte und Überzeugungen der Organisation;\n- kontinuierliche Verbesserung;\n- Einhaltung von HSEE&S-Gesetzen und -Vorschriften;\n- Einhaltung anderer HSEE&S-Kriterien, zu denen sich die Organisation verpflichtet;\n- Kommunikation mit Stakeholdern;\n- Koordination mit anderen Organisationsrichtlinien.\nDie Richtlinie soll einfach und verständlich sein. Fragen Sie sich, was Sie erreichen möchten, und wie Sie das in der Organisation am besten kommunizieren können. Testen Sie die Einfachheit und Prägnanz anhand der Frage: „Können unsere Mitarbeiter die Absichten unserer Richtlinie mit höchstens 20 Wörtern beschreiben?“. Passen Sie den Inhalt Ihrer Richtlinie an die Vorgaben und Ziele Ihrer Organisation an, damit die Richtlinie Kohärenz mit diesen Vorgaben und Zielen aufweist.\nDie Verpflichtung zur Einhaltung von Gesetzten und Vorschriften ist eine Selbstverständlichkeit.\nVor der Verpflichtung zur Erfüllung anderer HSEE&S-bezogener Anforderungen, kann die Organisation gegebenenfalls eine Bestandsaufnahme durchführen, um das Ausmaß der Verpflichtung zu verstehen. "}]
[null,{"$f":"IF(C5,Tipps!D9,\"\")","v":""},{"$f":"Tipps!M9","v":0},{"$f":"IF(C5,\"waar\",\"onwaar\")","v":"onwaar"},{"$f":"IF(Tipps!M9,Tipps!G11,\"\")","v":""}]
[null,{"$f":"IF(C6,Tipps!D13,\"\")","v":"F1.3"},{"$f":"Tipps!M13","v":true},"waar",{"$f":"IF(Tipps!M13,Tipps!G15,\"\")","v":"Bringen Sie sich aktiv in die Vorbereitung neuer Rechtsvorschriften auf Bundes- bzw. Länderebene ein."}]
[null,{"$f":"IF(C7,Tipps!D17,\"\")","v":"F1.4"},{"$f":"Tipps!M17","v":true},"waar",{"$f":"IF(Tipps!M17,Tipps!G19,\"\")","v":"Beauftragen Sie eine Gruppe von Personen mit der Umsetzung eines HSEE&S-Managementsystems und verlangen Sie von ihr einen Bericht an die oberste Geschäftsleitung.\nBedienen Sie sich einer eindeutigen, präzisen und deutlichen Sprache, um allen klar zu machen, was von ihnen erwartet wird.\n- Definition von Zuständigkeiten auf allen Ebenen der Organisation.\n- Übertragung von Zuständigkeiten nur an diejenigen, die innerhalb ihres Zuständigkeitsbereichs mit der Umsetzung, Leitung und Steuerung der Maßnahmen beauftragt sind.\n- Messen Sie die Leistung der Mitarbeiter bei den zugewiesenen Aufgaben.\nSeien Sie sich bewusst, dass die effektivsten Programme zur Einbeziehung der Mitarbeiter damit beginnen, die Mitarbeiter in der Umsetzungsphase des Managementsystems (HSEE&S) einzubeziehen."}]
[null,{"$f":"IF(C8,Tipps!D21,\"\")","v":"F1.5"},{"$f":"Tipps!M21","v":true},"waar",{"$f":"IF(Tipps!M21,Tipps!G23,\"\")","v":"Der Vorstand wird zum Botschafter für das Managementsystem (HSEE&S) und geht mit gutem Beispiel voran:\nBinden Sie den Vorstand ein:\n- Beziehen Sie HSEE&S in Neujahrsansprachen, Mitarbeiterfeste, interne Wettbewerbe usw. ein.\n- Gewährleisten Sie die Sichtbarkeit von Umweltschutzrichtlinien, Maßnahmen und Ergebnissen;\n- Vermitteln Sie Kunden die Botschaft;\n- Halten Sie die Kommunikation aufrecht."}]
[null,{"$f":"IF(C9,Tipps!D25,\"\")","v":"F1.6"},{"$f":"Tipps!M25","v":true},"waar",{"$f":"IF(Tipps!M25,Tipps!G27,\"\")","v":"Es wird empfohlen, das System jährlich zu überprüfen und zu entscheiden, was noch benötigt wird, was weggelassen werden kann, welche neuen Probleme entstehen…"}]
[null,{"$f":"IF(C10,Tipps!D29,\"\")","v":""},{"$f":"Tipps!M29","v":0},"onwaar",{"$f":"IF(Tipps!M29,Tipps!G31,\"\")","v":""}]
[null,{"$f":"IF(C11,Tipps!D33,\"\")","v":"F1.8"},{"$f":"Tipps!M33","v":true},"waar",{"$f":"IF(Tipps!M33,Tipps!G35,\"\")","v":"Stellen Sie sicher, dass die relevanten Leistungsindikatoren vorhanden sind und die Aktionspläne im Einklang mit den wesentlichen Risiken und Chancen für die Organisation sowie im Einklang mit der Strategie zur Förderung der kontinuierlichen Verbesserung überprüft werden. Definieren Sie die erforderlichen Ressourcen, um die Umsetzung des Aktionsplans zu ermöglichen."}]
[null,{"$f":"IF(C12,Tipps!D37,\"\")","v":"F1.9"},{"$f":"Tipps!M37","v":true},"waar",{"$f":"IF(Tipps!M37,Tipps!G39,\"\")","v":"Überlegen Sie als ersten Schritt den Einsatz von „Gastauditoren“ von anderen Werken oder Funktionsbereichen."}]
[null,{"$f":"IF(C13,Tipps!D41,\"\")","v":"F1.10"},{"$f":"Tipps!M41","v":true},"waar",{"$f":"IF(Tipps!M41,Tipps!G43,\"\")","v":"Sorgen Sie für den Austausch der aus den Untersuchungen gewonnenen Erkenntnisse außerhalb der Organisation nach Bedarf mit Partnerorganisationen oder  Peers."}]
[null,{"$f":"IF(C14,Tipps!D45,\"\")","v":"F1.11"},{"$f":"Tipps!M45","v":true},"waar",{"$f":"IF(Tipps!M45,Tipps!G47,\"\")","v":"Ressourcen zur Beurteilung der Verbesserungen sind ebenfalls zu planen, zusätzlich zu denjenigen für die Umsetzung von Maßnahmen"}]
[null,{"$f":"IF(C15,Tipps!D49,\"\")","v":"F1.12"},{"$f":"Tipps!M49","v":true},"waar",{"$f":"IF(Tipps!M49,Tipps!G51,\"\")","v":"Entwerfen und entwickeln Sie HSEE&S-Schulungsmaterialien und -methoden für alle Ebenen der Organisation. Dazu können u. a. Managementbriefings, laufende begleitende Schulungsprogramme, Informationen zu Richtlinien, Verfahren und Programmen in regelmäßig angesetzten Sicherheitsbesprechungen zählen."}]
[null,{"$f":"IF(C16,Tipps!D53,\"\")","v":"F1.13"},{"$f":"Tipps!M53","v":true},"waar",{"$f":"IF(Tipps!M53,Tipps!G55,\"\")","v":"Schulung ist ein Instrument, um Mitarbeitern und Geschäftspartnern entsprechende Kenntnisse und Informationen zu vermitteln.\n\nSchulung muss für jeden Aufgabenbereich in der gesamten Organisation dokumentiert werden. In der Regel wird eine Schulungsmatrix oder -datenbank verwendet, um den Schulungsbedarf für jeden Mitarbeiter auf Basis der Tätigkeitskategorie und des Aufgabenbereichs zu ermitteln.\nDie Schulungsanforderungen können von den gesamten Prozessen für Korrektur- und Vorbeugemaßnahmen des Managementsystems beeinflusst werden. Erkenntnisse aus einem Vorfall oder einer Nichtkonformität im System können zu Änderungen bei bestimmten Schulungsanforderungen führen."}]
[null,{"$f":"IF(C17,Tipps!D57,\"\")","v":"F1.14"},{"$f":"Tipps!M57","v":true},"waar",{"$f":"IF(Tipps!M57,Tipps!G59,\"\")","v":"Es wird empfohlen, das System jährlich zu überprüfen und zu entscheiden, was noch benötigt wird, was weggelassen werden kann, welche neuen Probleme entstehen…"}]
[null,{"$f":"IF(C18,Tipps!D61,\"\")","v":"F1.15"},{"$f":"Tipps!M61","v":true},"waar",{"$f":"IF(Tipps!M61,Tipps!G63,\"\")","v":"Es wird empfohlen, die Dokumente systematisch zu verwalten, sie aktuell zu halten und ungültige Dokumentation zu beseitigen.\nEs ist wichtig, dass Mitarbeiter je nach ihrer Position entsprechenden Zugang zu Dokumentation haben."}]
[null,{"$f":"IF(C19,Tipps!D65,\"\")","v":"F1.16"},{"$f":"Tipps!M65","v":true},"waar",{"$f":"IF(Tipps!M65,Tipps!G67,\"\")","v":"Entwickeln Sie ein Management-of-Change-Verfahren, um eine Überprüfung im Hinblick auf die Risikobewertung (A&GS, Umweltschutz und Prozesssicherheit) von Betriebsanleitungen, Genehmigungen und sonstigen Unterlagen zu gewährleisten, die gegebenenfalls von der Änderung betroffen sind."}]
[null,{"$f":"IF(C20,Tipps!D71,\"\")","v":"F2.1"},{"$f":"Tipps!M71","v":true},"waar",{"$f":"IF(Tipps!M71,Tipps!G73,\"\")","v":"Definition von Rollen und Ressourcen\nWenden Sie die Richtlinie auf allen Ebenen der Organisation an.\nDefinieren Sie bestimmte Ziele und verfolgen Sie diese Ziele mit Indikatoren nach.\nApply the policy for all levels in the organisation.\nDefine specific objectives and track these objectives with indicators."}]
[null,{"$f":"IF(C21,Tipps!D75,\"\")","v":"F2.2"},{"$f":"Tipps!M75","v":true},"waar",{"$f":"IF(Tipps!M75,Tipps!G77,\"\")","v":"Ermitteln und beschreiben Sie die potenziellen Risiken für die öffentliche Gesundheit und Sicherheit im normalen Betrieb und in einer verschlechterten Situation im Kontext eines geänderten oder abnormalen Betriebs für den Betrieb aller Prozesse, Anlagen und Standorte.\nEntwickeln Sie einen Gefahrenbeurteilungsplan und setzen Sie diesen um.\n• Verwenden Sie systematische Ansätze (z. B. Arbeitssicherheitsanalyse, vorläufige Gefahrenanalyse, Analyse der Fehlermöglichkeiten und -wirkungen usw.) zur Analyse von Arbeiten oder Tätigkeiten, die im Werk durchgeführt werden, um die Gesundheits- oder Sicherheitsrisiken im Zusammenhang mit diesen Arbeiten oder Tätigkeiten zu ermitteln; \n• Führen Sie industrielle Hygienebeurteilungen für die Belastung von Arbeitskräften durch chemische, physikalische und biologische Wirkstoffe durch; \n• Entwickeln Sie Systeme, die die schnelle Beurteilung von potenziellen Gesundheits- und Sicherheitsrisiken auslösen."}]
[null,{"$f":"IF(C22,Tipps!D79,\"\")","v":"F2.3"},{"$f":"Tipps!M79","v":true},"waar",{"$f":"IF(Tipps!M79,Tipps!G81,\"\")","v":"Kein Bedarf für sofortige Strategieänderung, aber Verbesserungen sind immer im Auge zu behalten."}]
[null,{"$f":"IF(C23,Tipps!D83,\"\")","v":"F2.4"},{"$f":"Tipps!M83","v":true},"waar",{"$f":"IF(Tipps!M83,Tipps!G85,\"\")","v":"Entwicklung eines Gesundheits- und Sicherheitsprogramms durch das Management der Organisation."}]
[null,{"$f":"IF(C24,Tipps!D87,\"\")","v":"F2.5"},{"$f":"Tipps!M87","v":true},"waar",{"$f":"IF(Tipps!M87,Tipps!G89,\"\")","v":"Evaluieren Sie regelmäßig die Effektivität des Wartungsprogramms, messen Sie den Erfolg und verbessern Sie die Wartungspläne."}]
[null,{"$f":"IF(C25,Tipps!D91,\"\")","v":"F2.6"},{"$f":"Tipps!M91","v":true},"waar",{"$f":"IF(Tipps!M91,Tipps!G93,\"\")","v":"Machen Sie die Mitarbeiter aufmerksam, dass sie die „Arbeitsstoppbefugnis“ besitzen, wenn die persönliche Schutzausrüstung (PSA) als ungeeignet betrachtet wird, um eine Gefahr im Griff zu haben. "}]
[null,{"$f":"IF(C26,Tipps!D95,\"\")","v":"F2.7"},{"$f":"Tipps!M95","v":true},"waar",{"$f":"IF(Tipps!M95,Tipps!G97,\"\")","v":"Fördern Sie eine ausgeglichene Work-Life-Balance, sorgen Sie dafür, dass Beschäftigte die Möglichkeit für Vorschläge haben und die Organisation diese berücksichtigt.\nSorgen Sie im Hinblick auf die Ergonomie dafür, dass es eine systematische Evaluierung für alle Arbeitsplätze gibt."}]
[null,{"$f":"IF(C27,Tipps!D99,\"\")","v":""},{"$f":"Tipps!M99","v":0},"onwaar",{"$f":"IF(Tipps!M99,Tipps!G101,\"\")","v":""}]
[null,{"$f":"IF(C28,Tipps!D103,\"\")","v":"F2.9"},{"$f":"Tipps!M103","v":true},"waar",{"$f":"IF(Tipps!M103,Tipps!G105,\"\")","v":"Kein Bedarf für sofortige Strategieänderung, aber Verbesserungen sind immer im Auge zu behalten."}]
[null,{"$f":"IF(C29,Tipps!D107,\"\")","v":"F2.10"},{"$f":"Tipps!M107","v":true},"waar",{"$f":"IF(Tipps!M107,Tipps!G109,\"\")","v":"Bieten Sie neuen Mitarbeitern Schulungen in Bezug auf A&GS. Geben Sie ihnen die Möglichkeit zur Teilnahme an Diskussionen über die A&GS-Richtlinie."}]
[null,{"$f":"IF(C30,Tipps!D111,\"\")","v":"F2.11"},{"$f":"Tipps!M111","v":true},"waar",{"$f":"IF(Tipps!M111,Tipps!G113,\"\")","v":"Definieren Sie auf allen Ebenen der Organisation deutlich Zuständigkeiten zur Verhinderung von Unfällen.\nWenden Sie die Richtlinie des Unternehmens an.\nDem Prozesssicherheitspersonal werden klare Ziele vorgegeben, um gemäß dem jeweiligen Grad an Verantwortung zur Leistung beitragen zu können."}]
[null,{"$f":"IF(C31,Tipps!D115,\"\")","v":"F2.12"},{"$f":"Tipps!M115","v":true},"waar",{"$f":"IF(Tipps!M115,Tipps!G117,\"\")","v":"Ermitteln Sie im Detail Folgendes für alle Prozesse/Anlagen/Standorte: \n- Die potenziellen Risiken für die öffentliche Gesundheit und Sicherheit im Normalbetrieb;\n- Die potenziellen Risiken für die öffentliche Gesundheit und Sicherheit in einer verschlechterten Situation im Kontext eines geänderten oder abnormalen Betriebs.\n- The potential risks to public health and safety in normal course of operation;\n- The potential risks to public health and safety in a degraded situation in the context of altered or abnormal operation."}]
[null,{"$f":"IF(C32,Tipps!D119,\"\")","v":"F2.13"},{"$f":"Tipps!M119","v":true},"waar",{"$f":"IF(Tipps!M119,Tipps!G121,\"\")","v":"Definieren Sie die Kriterien für das Team als Teil der Analyse von Vorfällen/Unfällen, darunter ein Koordinator und ein Zeitrahmen für Schlussfolgerungen."}]
[null,{"$f":"IF(C33,Tipps!D123,\"\")","v":"F2.14"},{"$f":"Tipps!M123","v":true},"waar",{"$f":"IF(Tipps!M123,Tipps!G125,\"\")","v":"Überprüfen Sie regelmäßig die gesamte Dokumentation im Zusammenhang mit Prozesssicherheit, um zu gewährleisten, dass sie auf dem neuesten Stand ist (z. B. alle Änderungen werden berücksichtigt und bewertet)."}]
[null,{"$f":"IF(C34,Tipps!D127,\"\")","v":"F2.15"},{"$f":"Tipps!M127","v":true},"waar",{"$f":"IF(Tipps!M127,Tipps!G129,\"\")","v":"Entwickeln Sie ein kontinuierliches Kommunikationssystem vor Ort oder ein Kontrollsystem für die Anwesenheit von Beschäftigten an kritischen Orten oder bei isolierten Tätigkeiten.\nÜberprüfen Sie regelmäßig die Anweisungen für die kritischen Arbeiten.\nEntwickeln Sie ein System von Arbeitsgenehmigungen für kritische Anlagen und Installationen. "}]
[null,{"$f":"IF(C35,Tipps!D131,\"\")","v":"F2.16"},{"$f":"Tipps!M131","v":true},"waar",{"$f":"IF(Tipps!M131,Tipps!G133,\"\")","v":"Es wird empfohlen, einen detaillierten Plan für den Aufstellungsort zu haben. Diese Pläne existieren für den Standort, die Gebäude, die Grundrisse, die Fluchtwege und bei Bedarf für Bereiche mit besonderen Sicherheitsanforderungen (z. B. Abstand in Bezug auf andere Anforderungen (ATEX; Fluchtwege, angrenzende Gebäude usw.))."}]
[null,{"$f":"IF(C36,Tipps!D135,\"\")","v":"F2.17"},{"$f":"Tipps!M135","v":true},"waar",{"$f":"IF(Tipps!M135,Tipps!G137,\"\")","v":"Kein Bedarf für sofortige Strategieänderung, aber Verbesserungen sind immer im Auge zu behalten."}]
[null,{"$f":"IF(C37,Tipps!D139,\"\")","v":"F2.18"},{"$f":"Tipps!M139","v":true},"waar",{"$f":"IF(Tipps!M139,Tipps!G141,\"\")","v":"Es wird empfohlen, bei Abweichungen im Prozess an dauerhaft besetzten Orten über Alarme zu verfügen."}]
[null,{"$f":"IF(C38,Tipps!D143,\"\")","v":"F2.19"},{"$f":"Tipps!M143","v":true},"waar",{"$f":"IF(Tipps!M143,Tipps!G145,\"\")","v":"Benennen Sie die verantwortlichen Mitarbeiter für die Umsetzung des Wartungsprogramms. Indikatoren werden zur Überwachung der Wartungsarbeiten festgelegt (Prozentsatz der Fertigstellung, aufgetretene Probleme usw.)."}]
[null,{"$f":"IF(C39,Tipps!D147,\"\")","v":"F2.20"},{"$f":"Tipps!M147","v":true},"waar",{"$f":"IF(Tipps!M147,Tipps!G149,\"\")","v":"Evaluieren Sie den Bedarf für die sichere Versorgung von Energie/Vorräten. Entwickeln Sie alternative Lösungen für die verfügbaren Hauptenergieservices."}]
[null,{"$f":"IF(C40,Tipps!D151,\"\")","v":"F2.21"},{"$f":"Tipps!M151","v":true},"waar",{"$f":"IF(Tipps!M151,Tipps!G153,\"\")","v":"Entwickeln Sie ein Verfahren für die Planung der Landnutzung zur Evaluierung und zum Einholen von Kenntnissen über das benachbarte Gemeinwesen (z. B. Schulen, Kindergärten, Krankenhäuser, Pflegeheime, Einkaufs- und Sportzentren) und zur Evaluierung des Bedarfs an Bereitschaft, Kommunikation und Evakuierung im Notfall und – bei Bedarf – zur Evaluierung der Einstellung der Produktion."}]
[null,{"$f":"IF(C41,Tipps!D155,\"\")","v":"F2.22"},{"$f":"Tipps!M155","v":true},"waar",{"$f":"IF(Tipps!M155,Tipps!G157,\"\")","v":"Sorgen Sie für die Schulung von Mitarbeitern und Auftragnehmern zu Prozesssicherheit. Es ist ein Schulungsplan vorhanden, der alle Aspekte der Prozess- und Werkssicherheit abdeckt, darunter ein Zeitplan zur regelmäßigen Wiederholung dieser Schulungen. Außerdem gibt es ein Nachschulungsprogramm für Mitarbeiter mit Verantwortung für Prozess- und Werkssicherheitsaufgaben, die längere Zeit abwesend waren (z. B. Schwangerschaft, Krankheit, Sabbatical…). "}]
[null,{"$f":"IF(C42,Tipps!D159,\"\")","v":"F2.23"},{"$f":"Tipps!M159","v":true},"waar",{"$f":"IF(Tipps!M159,Tipps!G161,\"\")","v":"Überwachen Sie die Entwicklung der Temperatur und des Drucks im gesamten Prozess in normalen und Worst-Case-Situationen."}]
[null,{"$f":"IF(C43,Tipps!D163,\"\")","v":"F2.24"},{"$f":"Tipps!M163","v":true},"waar",{"$f":"IF(Tipps!M163,Tipps!G165,\"\")","v":"Stellen Sie diese Elemente sofort allen Mitarbeitern zur Verfügung, die an dem Prozess arbeiten. Schulen Sie die Mitarbeiter zur Nutzung der Dokumentation und zu den Maßnahmen im Zusammenhang mit diesen Verfahren/Handbüchern."}]
[null,{"$f":"IF(C44,Tipps!D167,\"\")","v":"F2.25"},{"$f":"Tipps!M167","v":true},"waar",{"$f":"IF(Tipps!M167,Tipps!G169,\"\")","v":"Evaluieren Sie die relevanten Sicherheitsmaßnahmen, die bei Transportvorgängen erforderlich sind."}]
[null,{"$f":"IF(C45,Tipps!D171,\"\")","v":"F2.26"},{"$f":"Tipps!M171","v":true},"waar",{"$f":"IF(Tipps!M171,Tipps!G173,\"\")","v":"Entwickeln Sie Verfahren für das systematische und geeignete Be- und Entladen von gefährlichen Gütern anhand von Checklisten."}]
[null,{"$f":"IF(C46,Tipps!D175,\"\")","v":"F2.27"},{"$f":"Tipps!M175","v":true},"waar",{"$f":"IF(Tipps!M175,Tipps!G177,\"\")","v":"Führen Sie eine Bewertung der Bedrohungen im Hinblick auf die guten Praktiken Ihrer Organisation durch."}]
[null,{"$f":"IF(C47,Tipps!D179,\"\")","v":"F2.28"},{"$f":"Tipps!M179","v":true},"waar",{"$f":"IF(Tipps!M179,Tipps!G181,\"\")","v":"Entwickeln Sie ein Zugangsverfahren, bei dem Besucher den Standort nur in Begleitung von Mitarbeitern betreten können."}]
[null,{"$f":"IF(C48,Tipps!D183,\"\")","v":"F2.29"},{"$f":"Tipps!M183","v":true},"waar",{"$f":"IF(Tipps!M183,Tipps!G185,\"\")","v":"Nehmen Sie an Arbeitsgruppen zur Cybersicherheit teil."}]
[null,{"$f":"IF(C49,Tipps!D187,\"\")","v":"F2.30"},{"$f":"Tipps!M187","v":true},"waar",{"$f":"IF(Tipps!M187,Tipps!G189,\"\")","v":"Erstellen Sie eine Liste der Kontaktdaten von Mitarbeitern, damit Sie sie im Fall einer Krise rasch kontaktieren können und um sicher zu sein, dass sie keine Hilfe brauchen. Stellen Sie sicher, dass die Liste auf dem neuesten Stand ist!"}]
[null,{"$f":"IF(C50,Tipps!D191,\"\")","v":"F2.31"},{"$f":"Tipps!M191","v":true},"waar",{"$f":"IF(Tipps!M191,Tipps!G193,\"\")","v":"Überprüfen Sie alle Arbeitnehmer und Besucher des Standorts."}]
[null,{"$f":"IF(C51,Tipps!D195,\"\")","v":"F2.32"},{"$f":"Tipps!M195","v":true},"waar",{"$f":"IF(Tipps!M195,Tipps!G197,\"\")","v":"Erinnern Sie die Mitarbeiter an die Anweisungen zur Wachsamkeit und an die Sicherheitsverfahren, falls sie verdächtige Objekte oder Fahrzeuge wahrnehmen."}]
[null,{"$f":"IF(C52,Tipps!D199,\"\")","v":"F2.33"},{"$f":"Tipps!M199","v":true},"waar",{"$f":"IF(Tipps!M199,Tipps!G201,\"\")","v":"Setzen Sie Prioritäten zur Reduzierung auf Basis der Evaluierung. Kommunizieren Sie die Bestandsaufnahme den Mitarbeitern und der Öffentlichkeit."}]
[null,{"$f":"IF(C53,Tipps!D203,\"\")","v":"F2.34"},{"$f":"Tipps!M203","v":true},"waar",{"$f":"IF(Tipps!M203,Tipps!G205,\"\")","v":"Legen Sie strategische Ziele fest und unterstützen Sie Maßnahmen zur Kontrolle und Reduzierung des ökologischen Fußabdrucks der Organisation."}]
[null,{"$f":"IF(C54,Tipps!D207,\"\")","v":"F2.35"},{"$f":"Tipps!M207","v":true},"waar",{"$f":"IF(Tipps!M207,Tipps!G209,\"\")","v":"Überprüfen Sie regelmäßig die Praktiken der Abfallentsorgung."}]
[null,{"$f":"IF(C55,Tipps!D211,\"\")","v":"F2.36"},{"$f":"Tipps!M211","v":true},"waar",{"$f":"IF(Tipps!M211,Tipps!G213,\"\")","v":"Ermitteln Sie risikoreiche Aktivitäten im Zusammenhang mit Grundwasserverschmutzung. Ermitteln Sie technische und betriebliche Kontrollen und setzen Sie diese um."}]
[null,{"$f":"IF(C56,Tipps!D215,\"\")","v":"F2.37"},{"$f":"Tipps!M215","v":true},"waar",{"$f":"IF(Tipps!M215,Tipps!G217,\"\")","v":"Entwickeln Sie Technologien, um die Risiken einer Verschmutzung des Bodens zu verhindern. Sorgen Sie dafür, dass diese Technologien und Best Practices innerhalb des Sektors ausgetauscht werden, um auch anderen zu helfen, sich zu verbessern."}]
[null,{"$f":"IF(C57,Tipps!D219,\"\")","v":"F2.38"},{"$f":"Tipps!M219","v":true},"waar",{"$f":"IF(Tipps!M219,Tipps!G221,\"\")","v":"Definieren Sie den Prozess und die Zuständigkeiten für die Sanierung von versehentlichen Verunreinigungen.\nUntersuchen Sie den Standort, um die Situation in Bezug auf bestehende Verunreinigungen zu verstehen."}]
[null,{"$f":"IF(C58,Tipps!D223,\"\")","v":"F2.39"},{"$f":"Tipps!M223","v":true},"waar",{"$f":"IF(Tipps!M223,Tipps!G225,\"\")","v":"Legen Sie Ziele und Indikatoren für die Emissionsreduzierung fest. Überprüfen Sie systematisch den Fortschritt in Richtung dieser Ziele."}]
[null,{"$f":"IF(C59,Tipps!D227,\"\")","v":"F2.40"},{"$f":"Tipps!M227","v":true},"waar",{"$f":"IF(Tipps!M227,Tipps!G229,\"\")","v":"Setzen Sie technische und betriebliche Kontrollen um, um diese Emissionen zu verhindern und zu überwachen."}]
[null,{"$f":"IF(C60,Tipps!D231,\"\")","v":""},{"$f":"Tipps!M231","v":0},"onwaar",{"$f":"IF(Tipps!M231,Tipps!G233,\"\")","v":""}]
[null,{"$f":"IF(C61,Tipps!D235,\"\")","v":"F2.42"},{"$f":"Tipps!M235","v":true},"waar",{"$f":"IF(Tipps!M235,Tipps!G237,\"\")","v":"Legen Sie Ziele und Indikatoren für die Emissionsreduzierung fest. Überprüfen Sie systematisch den Fortschritt in Richtung dieser Ziele."}]
[null,{"$f":"IF(C62,Tipps!D239,\"\")","v":"F2.43"},{"$f":"Tipps!M239","v":true},"waar",{"$f":"IF(Tipps!M239,Tipps!G241,\"\")","v":"Entwickeln Sie ein Notfallverfahren für versehentliche Verunreinigungen. Beurteilen Sie die Quellen oder Gründe von/für versehentliche Verunreinigungen als Teil der Prozesssicherheitsuntersuchung. "}]
[null,{"$f":"IF(C63,Tipps!D243,\"\")","v":"F2.44"},{"$f":"Tipps!M243","v":true},"waar",{"$f":"IF(Tipps!M243,Tipps!G245,\"\")","v":"Führen Sie einen Nachweis der verfügbaren Schulungen und evaluieren Sie regelmäßig die Effektivität der Schulungen."}]
[null,{"$f":"IF(C64,Tipps!D247,\"\")","v":"F2.45"},{"$f":"Tipps!M247","v":true},"waar",{"$f":"IF(Tipps!M247,Tipps!G249,\"\")","v":"Kommunizieren Sie die Überwachung der Umweltleistungsindikatoren an Stakeholder, um das Engagement der Organisation für die Umweltbelange des geografischen Gebiets zu unterstreichen, in dem sie angesiedelt ist."}]
[null,{"$f":"IF(C65,Tipps!D253,\"\")","v":"F3.1"},{"$f":"Tipps!M253","v":true},"waar",{"$f":"IF(Tipps!M253,Tipps!G255,\"\")","v":"Berücksichtigen Sie die menschliche Gesundheit und die Umwelt früh im Produktentwicklungsprozess: Sie können systematische Screening-Tests früh im Planungsprozess durchführen. \nVersammeln Sie relevante Akteure innerhalb der Organisation und externe Partner, wenn Sie die funktionalen Spezifikationen von neuen Produkten erarbeiten, um mögliche Designwege zu ermitteln.\nMobilisieren Sie personelle und finanzielle Ressourcen, um mögliche Designwege zu untersuchen, die auch die EU-Vorschriften für chemische Produkte (REACH, BPR...) berücksichtigen.  "}]
[null,{"$f":"IF(C66,Tipps!D257,\"\")","v":"F3.2"},{"$f":"Tipps!M257","v":true},"waar",{"$f":"IF(Tipps!M257,Tipps!G259,\"\")","v":"Der Prozess ist verfeinert und wird auf kontinuierlicher Basis ausgeführt. Automatische Benachrichtigungen für neu veröffentlichte Informationen zu Stoffen und Produkten sind vorhanden (z. B. RSS-Feed von wissenschaftlichen Zeitschriften). "}]
[null,{"$f":"IF(C67,Tipps!D261,\"\")","v":"F3.3"},{"$f":"Tipps!M261","v":true},"waar",{"$f":"IF(Tipps!M261,Tipps!G263,\"\")","v":"Achten Sie darauf, dass Ihre Bestandsaufnahme Informationen über gekaufte, verwendete und hergestellte Stoffe umfassen, die Standardparameter über die Stoff- und Produkteigenschaften aufführen. Weisen Sie verantwortliche Ressourcen für die Aktualisierungen zu und bestimmen Sie die Häufigkeit der Aktualisierungen. Verknüpfen Sie Stoffe/Produkte und Anforderungen. Fragen, die sich aus den aktualisierten Informationen ergeben, sollten erkannt und behandelt werden.  "}]
[null,{"$f":"IF(C68,Tipps!D265,\"\")","v":"F3.4"},{"$f":"Tipps!M265","v":true},"waar",{"$f":"IF(Tipps!M265,Tipps!G267,\"\")","v":"Entwickeln Sie eine Plattform zum Speichern von vorhandenen Informationen. Implementieren Sie ein Verfahren zur Klassifizierung und Ermittlung der Art von Informationen, um verfügbare Informationen leicht nachzuverfolgen und abzurufen. "}]
[null,{"$f":"IF(C69,Tipps!D269,\"\")","v":"F3.5"},{"$f":"Tipps!M269","v":true},{"$f":"IF(C69,\"waar\",\"onwaar\")","v":"waar"},{"$f":"IF(Tipps!M269,Tipps!G271,\"\")","v":"Erfassen Sie zusätzlich zu den bestimmungsgemäßen Verwendungen eines Produkts absichtliche Fehlanwendungen und unsachgemäße Anwendungen und integrieren Sie diese in ein Dokumentationssystem, das die Anwendungen nachverfolgt. \nSorgen Sie für die Erfassung von Informationen über Anwendungen von nachgeschalteten Anwendern. "}]
[null,{"$f":"IF(C70,Tipps!D273,\"\")","v":"F3.6"},{"$f":"Tipps!M273","v":true},"waar",{"$f":"IF(Tipps!M273,Tipps!G275,\"\")","v":"Bestimmen Sie Ressourcen zum Überwachen von neuen Informationen. Überprüfen Sie regelmäßig in der Literatur vorhandene oder in REACH-Dossiers verbreitete Informationen, die möglicherweise für Ihre Produkte oder ähnliche Produkte oder den Tätigkeitsbereich relevant sein könnten. Implementieren Sie ein Verfahren zur Bewertung und Integration neuer Informationen in die vorhandenen Informationen für den möglichen Einschluss als Basis für Risikobeschreibung und -management."}]
[null,{"$f":"IF(C71,Tipps!D277,\"\")","v":"Q3.7"},{"$f":"Tipps!M277","v":true},"waar",{"$f":"IF(Tipps!M277,Tipps!G279,\"\")","v":"Erstellen Sie eine klare Übersicht der wichtigsten Parameter, die die Risikobeschreibung beeinflussen können: Gefahr, Anwendung und Exposition, geltende Vorschriften und Zulassungen, neue Märkte oder Anwendungen, aus der Lieferkette gemeldete Ereignisse, neue Testverfahren und sich abzeichnende Gesundheits- oder Umweltbedenken.\nBestimmen Sie Kriterien, die eine Neueinschätzung der Risikobewertung auf Basis der neuen verfügbaren Informationen auslösen. "}]
[null,{"$f":"IF(C72,Tipps!D281,\"\")","v":"F3.8"},{"$f":"Tipps!M281","v":true},"waar",{"$f":"IF(Tipps!M281,Tipps!G283,\"\")","v":"Bewerten Sie die Risikomanagementmaßnahmen für Anwendung, Lagerung und Entsorgung von Chemikalien neu, wenn neue Informationen zu Produktgefahren und Risikobeschreibung verfügbar sind. Die erwarteten Kenntnisse und Fähigkeiten von möglichen Anwendern von (End-)Produkten müssen in die Bewertungen einfließen.  "}]
[null,{"$f":"IF(C73,Tipps!D285,\"\")","v":"F3.9"},{"$f":"Tipps!M285","v":true},"waar",{"$f":"IF(Tipps!M285,Tipps!G287,\"\")","v":"Überwachen Sie ständig Informationen über die Auswirkungen ähnlicher Produkte auf Gesundheit und Umwelt während ihrer Verwendung und nach ihrer Elimination.\nRegistrieren und verfolgen Sie sicherheitsrelevante Vorfälle/Unfälle, die von Kunden und Endanwendern gemeldet werden."}]
[null,{"$f":"IF(C74,Tipps!D289,\"\")","v":"F3.10"},{"$f":"Tipps!M289","v":true},"waar",{"$f":"IF(Tipps!M289,Tipps!G291,\"\")","v":"Tauschen Sie aktualisierte Versionen von Sicherheitsdatenblättern proaktiv mit nachgeschalteten Anwendern aus und achten Sie darauf, dass sie sie erhalten und den Inhalt verstehen. Seien Sie bereit, zusätzliche Anleitungen/Anweisungen zu liefern, wenn diese gewünscht oder als notwendig erachtet werden. "}]
[null,{"$f":"IF(C75,Tipps!D295,\"\")","v":"F4.1"},{"$f":"Tipps!M295","v":true},"waar",{"$f":"IF(Tipps!M295,Tipps!G297,\"\")","v":"Entwickeln Sie eine Richtlinie zur Verpflichtung der Organisation zu einer verantwortungsvollen Beschaffung. \nInformieren Sie beim Kauf von Geräten, Waren und Dienstleistungen die Anbieter über die Umweltrichtlinie und -anforderungen Ihrer Organisation und unterstützen Sie den CSR-Ansatz durch ihre Kooperation.\nEine beispielhafte Regelung die (ganz oder teilweise) verwendet werden kann, ist TfS (https://tfs-initiative.com/). Unternehmen können sich gegebenenfalls für andere Regelungen oder Systeme/Kriterien entscheiden.  Ein guter Leitfaden (entwickelt vom VCI) zu „Nachhaltiges Lieferkettenmanagement für mittelständische Unternehmen der chemischen Industrie“ ist https://www.chemiehoch3.de/fileadmin/user_upload/News/Chemie3_Guide_Supply_Chain_eng.pdf"}]
[null,{"$f":"IF(C76,Tipps!D299,\"\")","v":"F4.2"},{"$f":"Tipps!M299","v":true},"waar",{"$f":"IF(Tipps!M299,Tipps!G301,\"\")","v":"Fördern Sie die wichtigsten Geschäftspartner der Organisation mit mittel- bis langfristigen Verträgen, damit sie in effizientere und verantwortungsvollere Technologien investieren können."}]
[null,{"$f":"IF(C77,Tipps!D303,\"\")","v":"F4.3"},{"$f":"Tipps!M303","v":true},"waar",{"$f":"IF(Tipps!M303,Tipps!G305,\"\")","v":"Implementieren Sie Prozesse, um die Verwicklung in oder die Beteiligung an kartell- und wettbewerbsrechtlichen Fragen und Bestechlichkeit zu verhindern, z. B. durch die Implementierung eines Systems für Mitarbeiter, das die anonyme Meldung von Situationen mit einem entsprechenden Risiko ermöglicht."}]
[null,{"$f":"IF(C78,Tipps!D307,\"\")","v":"F4.4"},{"$f":"Tipps!M307","v":true},"waar",{"$f":"IF(Tipps!M307,Tipps!G309,\"\")","v":"Definieren Sie einen Prozess für die Evaluierung von Geschäftspartnern anhand der Kriterien für soziale Fragen und Menschenrechte.\nEine beispielhafte Regelung die (ganz oder teilweise) verwendet werden kann, ist TfS (https://tfs-initiative.com/).\nUnternehmen können sich gegebenenfalls für andere Regelungen oder Systeme/Kriterien entscheiden."}]
[null,{"$f":"IF(C79,Tipps!D311,\"\")","v":"F4.5"},{"$f":"Tipps!M311","v":true},"waar",{"$f":"IF(Tipps!M311,Tipps!G313,\"\")","v":"Ergreifen Sie drei der folgenden Maßnahmen, um Kinderarbeit in Ihrer Organisation sicher zu verhindern:\n- Sorgen Sie für ein System zum Altersnachweis;\n- Keine Kinder unter 15 Jahren beschäftigen (einschlägige Gesetzgebung beachten). (Auszubildende, schul- oder ausbildungsbezogene Praktika sind die einzige Ausnahme);\n- Achten Sie darauf, dass die Beschäftigung von Unter-18-Jährigen nicht mit dem Schulbesuch der Kinder kollidiert (Summe der Stunden des Transports zu und von Arbeit und Schule, Schulbesuch und Arbeit weniger als 10 Stunden pro Tag);\n- Sorgen Sie dafür, dass die Arbeit junger Beschäftigter nicht geistig, physisch, sozial oder moralisch gefährlich und schädlich ist"}]
[null,{"$f":"IF(C80,Tipps!D315,\"\")","v":"F4.6"},{"$f":"Tipps!M315","v":true},"waar",{"$f":"IF(Tipps!M315,Tipps!G317,\"\")","v":"Definieren Sie einen Prozess für die Evaluierung der Logistikpartner anhand ihrer Einhaltung der Anforderungen der Organisation."}]
[null,{"$f":"IF(C81,Tipps!D319,\"\")","v":"F4.7"},{"$f":"Tipps!M319","v":true},"waar",{"$f":"IF(Tipps!M319,Tipps!G321,\"\")","v":"Wenn Eigentum oder Daten eines nachgeschalteten Anwenders oder externen Anbieters verloren geht, beschädigt wird oder anderweitig nicht mehr zur Verwendung geeignet ist, sorgen Sie dafür, dass die Organisation dies dem nachgeschalteten Anwender oder externen Anbieter meldet und dokumentierte Informationen über das Geschehene aufbewahrt."}]
[null,{"$f":"IF(C82,Tipps!D323,\"\")","v":"F4.8"},{"$f":"Tipps!M323","v":true},"waar",{"$f":"IF(Tipps!M323,Tipps!G325,\"\")","v":"Schließen Sie Folgendes in den Dialog mit den nachgeschalteten Anwendern der Organisation ein:\n- Einholen von Kundenfeedback zu Produkten und Dienstleistungen, einschließlich Beschwerden von nachgeschalteten Anwendern.\n- Obtaining customer feedback relating to products and services, including downstream users' complaints.\n"}]
[null,{"$f":"IF(C83,Tipps!D329,\"\")","v":"F5.1"},{"$f":"Tipps!M329","v":true},"waar",{"$f":"IF(Tipps!M329,Tipps!G331,\"\")","v":"Die Organisation kann ihre Stakeholder einteilen und je nach Einfluss auf Ihre Tätigkeit und ihr Interesse daran in einem Einfluss-/Interesse-Raster für die Priorisierung von Stakeholdern klassifizieren.\nDie Bewertung von Bedürfnissen und Erwartungen von Stakeholdern verlangt die aktive Prüfung von Stakeholder-Interessen und positives Feedback in Bezug auf die Organisation sowie die Berücksichtigung dieses Feedbacks bei der Festlegung von Zielen und Vorgaben."}]
[null,{"$f":"IF(C84,Tipps!D333,\"\")","v":"F5.2"},{"$f":"Tipps!M333","v":true},"waar",{"$f":"IF(Tipps!M333,Tipps!G335,\"\")","v":"Im Austausch mit den Stakeholdern ist es für eine Organisation empfehlenswert, einen Dialog mit ihren Stakeholdern zu etablieren, um die Interessen, das Engagement und die mögliche Beteiligung von relevanten Akteuren im entsprechenden Tätigkeitsbereich der Organisation herauszufinden. Das erlaubt es der Organisation, Möglichkeiten für die Ausübung ihrer Tätigkeiten zu erkunden und sie anhand des von den Stakeholdern erhaltenen Feedbacks weiterzuentwickeln."}]
[null,{"$f":"IF(C85,Tipps!D337,\"\")","v":"F5.3"},{"$f":"Tipps!M337","v":true},"waar",{"$f":"IF(Tipps!M337,Tipps!G339,\"\")","v":"Lassen Sie die Ergebnisse der Leistungsbewertung der Organisation jährlich vor der Veröffentlichung von Dritten prüfen."}]
[null,{"$f":"IF(C86,Tipps!D341,\"\")","v":"F5.4"},{"$f":"Tipps!M341","v":true},"waar",{"$f":"IF(Tipps!M341,Tipps!G343,\"\")","v":"Ermitteln Sie die Ansprüche der lokalen Allgemeinheit und reagieren Sie darauf. Entwickeln Sie einen Dialog mit den lokalen Vertretern in Bezug auf das Wohlbefinden der Anrainer."}]
[null,{"$f":"IF(C87,Tipps!D345,\"\")","v":"F5.5"},{"$f":"Tipps!M345","v":true},"waar",{"$f":"IF(Tipps!M345,Tipps!G347,\"\")","v":"Leisten Sie einen Beitrag zur lokalen Beschäftigung und unterstützen Sie lokale Schulen: bei Rekrutierungen, durch die Einstellung von Praktikanten aus lokalen Schulen, durch die Teilnahme an schulischen Aktivitäten…"}]
[null,{"$f":"IF(C88,Tipps!D351,\"\")","v":"F6.1"},{"$f":"Tipps!M351","v":true},"waar",{"$f":"IF(Tipps!M351,Tipps!G353,\"\")","v":"Nachdem Sie die Stakeholder identifiziert und diese einbezogen haben, legen Sie fest, welche (gesellschaftlichen, wirtschaftlichen und ökologischen) Nachhaltigkeitsindikatoren gemessen werden sollen, sodass Sie tatsächlich die gewünschten und notwendigen Erkenntnisse erhalten; Sie können zu diesem Zweck die vorhandenen Sektor-Roadmaps (Link zum Sektor-Roadmap des WBCSD: https://www.wbcsd.org/Programs/People/Sustainable-Development-Goals/SDG-Sector-Roadmaps/Resources/SDG-Sector-Roadmaps), die Nachhaltigkeitscharta (Link zur Cefic-Charta: https://chemistrycan.com/app/uploads/2017/10/Cefic-Sustainability-Charter-signed.pdf) und die Grundsätze (Link zu ACC-Grundsätzen: https://www.americanchemistry.com/Sustainability/Principles.html) nutzen."},null,null,null,null,"link 1","link 2","link 3"]
[null,{"$f":"IF(C89,Tipps!D358,\"\")","v":"F6.2"},{"$f":"Tipps!M358","v":true},"waar",{"$f":"IF(Tipps!M358,Tipps!G360,\"\")","v":"Bilden Sie die Beiträge der Organisation zu den SDG ab."},null,null,null,null,"link 1","link 2","link 3"]
[null,{"$f":"IF(C90,Tipps!D365,\"\")","v":"F6.3"},{"$f":"Tipps!M365","v":true},"waar",{"$f":"IF(Tipps!M365,Tipps!G367,\"\")","v":"Engagieren Sie sich intern für Nachhaltigkeitsthemen auf einfache, direkte und präzise Weise.\nDurch klare und konsistente interne Kommunikation wird Nachhaltigkeit zu einem festen Bestandteil Ihrer Unternehmenskultur — einer Kultur, auf die Ihre Mitarbeiter stolz sein können und die ihre Zufriedenheit erhöht.\n\nBy communicating internally in a clear and consistent fashion, sustainability becomes an ingrained part of your organisation's culture — one that your employees can take pride in, increasing their satisfaction."}]
[null,{"$f":"IF(C91,Tipps!D369,\"\")","v":"F6.4"},{"$f":"Tipps!M369","v":true},"waar",{"$f":"IF(Tipps!M369,Tipps!G371,\"\")","v":"Eine Anleitung, wie ein Prozess zur Gestaltung von Produkten mit verbesserten Nachhaltigkeitsergebnissen eingerichtet werden kann, ist unter https://www.wbcsd.org/contentwbc/download/5870/80216 zu finden"}]
[null,{"$f":"IF(C92,Tipps!D373,\"\")","v":"F6.5"},{"$f":"Tipps!M373","v":true},"waar",{"$f":"IF(Tipps!M373,Tipps!G375,\"\")","v":"Einführung eines Systems zur Messung der Ressourceneffizienz in den Produktions-prozessen des Unternehmens.\nEinführung einer Einkaufspolitik, die eine Kreislaufwirtschaft begünstigt (z. B. Bevorzugung von Produkten mit Ökodesign, biobasierten oder sekundären Rohstoffen sowie Förderung der Wiederverwendung)."}]
[null,{"$f":"IF(C93,Tipps!D377,\"\")","v":"F6.6"},{"$f":"Tipps!M377","v":true},"waar",{"$f":"IF(Tipps!M377,Tipps!G379,\"\")","v":"Untersuchen und identifizieren Sie die Recyclingfähigkeit und Haltbarkeit der Produkte und planen Sie Verbesserungen im Produktdesignprozess zu diesen Aspekten."}]
[null,{"$f":"IF(C94,Tipps!D381,\"\")","v":"F6.7"},{"$f":"Tipps!M381","v":true},"waar",{"$f":"IF(Tipps!M381,Tipps!G383,\"\")","v":"Berücksichtigen Sie bei der Bewertung von Innovationsprojekten die Kriterien zur Verbesserung der sozialen oder ökologischen Auswirkungen."}]
[null,{"$f":"IF(C95,Tipps!D385,\"\")","v":"F6.8"},{"$f":"Tipps!M385","v":true},"waar",{"$f":"IF(Tipps!M385,Tipps!G387,\"\")","v":"Verfolgen Sie die Ergebnisse der bestehenden Innovationspanels und Kooperationen."}]
[null,{"$f":"IF(C96,Tipps!D389,\"\")","v":"F6.9"},{"$f":"Tipps!M389","v":true},"waar",{"$f":"IF(Tipps!M389,Tipps!G391,\"\")","v":"Arbeiten Sie mit Kollegen und Partnern der chemischen Industrie zusammen, um nachhaltige Verbrauchsmuster zu unterstützen."}]
[null,{"$f":"IF(C97,Tipps!D393,\"\")","v":"F6.10"},{"$f":"Tipps!M393","v":true},"waar",{"$f":"IF(Tipps!M393,Tipps!G395,\"\")","v":"Bauen Sie ein Programm zur Reduzierung des Wasserverbrauchs auf und berichten Sie über die Ergebnisse dieses Plans und Aufzeichnungen Ihrer Organisation über den Wasserverbrauch.\nZu guten Ansätzen für den Umgang mit Wasser gehören u. a.: EWS-https://ews.info/ und CDP – Wasser- https://www.cdp.net/en/water"},null,null,null,null,"link 1","link 2"]
[null,{"$f":"IF(C98,Tipps!D399,\"\")","v":"F6.11"},{"$f":"Tipps!M399","v":true},"waar",{"$f":"IF(Tipps!M399,Tipps!G401,\"\")","v":"Analysieren Sie die Auswirkungen der Produktion und der Produkte an dem bzw. den Standorten Ihrer Organisation auf die biologische Vielfalt und stellen Sie einen Aktionsplan auf, um diese Auswirkungen zu beschränken (einschließlich der Auswirkungen Ihrer Organisation auf die Zerstörung des Waldes, wie z. B. durch Reduzierung des Papierverbrauchs). Erstellen Sie eine ökologische Bestandsaufnahme der Standorte und Produkte Ihrer Organisation und ermitteln Sie die spezifischen Empfindlichkeiten der Umgebung. \nMögliche Maßnahmen: \n- Schaffen Sie neue Lebensräume und ökologische Kontinuität mit den umliegenden Flächen;\n- Installieren Sie ein grünes Dach und fördern Sie das ökologische Management von Flächen;\n- Ergreifen Sie Maßnahmen zur Förderung der biologischen Vielfalt (wie z. B. Niederwald, Insektenhaus usw.)\nWertvolle Hinweise sind u. a. unter  http://www.teebweb.org/areas-of-work/teeb-for-business/ zu finden"}]
[null,{"$f":"IF(C99,Tipps!D403,\"\")","v":"F6.12"},{"$f":"Tipps!M403","v":true},"waar",{"$f":"IF(Tipps!M403,Tipps!G405,\"\")","v":"Implementieren Sie spezifische Maßnahmen zur Sicherstellung der Ökodienstleistungen für Ihre Tätigkeit (z. B. Abhängigkeit von bestimmten Rohstoffen).\nWertvolle Hinweise sind u. a. unter  http://www.teebweb.org/areas-of-work/teeb-for-business/ zu finden"}]
[null,{"$f":"IF(C100,Tipps!D407,\"\")","v":"F6.13"},{"$f":"Tipps!M407","v":true},"waar",{"$f":"IF(Tipps!M407,Tipps!G409,\"\")","v":"Definierung und Umsetzung eines Erfassungsplans für Energiedaten\n\nNennen Sie die Daten, die zur Überwachung der wichtigsten Merkmale erforderlich sind, und definieren Sie,  in welchen zeitlichen Abständen die Daten gesammelt und über welche Zeiträume sie aufbewahrt werden."}]
[null,{"$f":"IF(C101,Tipps!D411,\"\")","v":"F6.14"},{"$f":"Tipps!M411","v":true},"waar",{"$f":"IF(Tipps!M411,Tipps!G413,\"\")","v":"Identifizieren Sie die potenziellen Quellen der Energiegewinnung Ihrer Organisation (z. B. Wärme (fatal heat), Biogasproduktion).\nSchließen Sie mit dem Stromlieferanten Ihrer Organisation Verträge über die Lieferung erneuerbarer Energie.\nSchöpfen Sie die erneuerbaren Energiequellen und die Flexibilität Ihrer Organisation in jeder Hinsicht aus."}]
[null,{"$f":"IF(C102,Tipps!D415,\"\")","v":"F6.15"},{"$f":"Tipps!M415","v":true},"waar",{"$f":"IF(Tipps!M415,Tipps!G417,\"\")","v":"Führen Sie eine Lückenanalyse durch, um das Potenzial zur Verringerung von Emissionen Scope 1 und 2 zu ermitteln."}]
[null,{"$f":"IF(C103,Tipps!D419,\"\")","v":"F6.16"},{"$f":"Tipps!M419","v":true},"waar",{"$f":"IF(Tipps!M419,Tipps!G421,\"\")","v":"Identifizieren Sie die mit dem Klimawandel verbundenen Risiken für die Aktivitäten Ihrer Organisation und mögliche Maßnahmen zur Begrenzung dieser Risiken."}]
[null,{"$f":"IF(C104,Tipps!D423,\"\")","v":"F6.17"},{"$f":"Tipps!M423","v":true},"waar",{"$f":"IF(Tipps!M423,Tipps!G425,\"\")","v":"Verpflichten Sie sich (z. B. durch Unterzeichnung einer Charta der guten Praxis) zur Gleichstellung und richten Sie spezielle Prozesse zur Gewährleistung der Gleichstellung ein."}]

{"sheet":"Technische Seite","index":15,"n_rows":713,"n_cols":64,"rows_kept":713,"cut":false,"hidden":false,"merged":[[580,14,580,15],[9,60,9,178]]}
["This technical page contains reference data and formules for each chapter."]
["Yellow fields are editable"]
[]
["chapter 1"]
[]
[]
[null,null,null,null,null,null,null,null,"scores in case of compliance",null,null,null,null,null,null,null,null,null,null,"to copy",null,null,null,null,null,null,null,null,null,null,null,null,"equal weights (adaptable)",null,null,null,"MCA"]
[null,"scores",null,null,null,"prefill",null,"answered","ISO9001","ISO14001","ISO26000","ISO45001","ISO50001","EMAS","RC14001","RCMS","GHS",null,null,{"$f":"I8","v":"ISO9001"},{"$f":"J8","v":"ISO14001"},{"$f":"K8","v":"ISO26000"},{"$f":"L8","v":"ISO45001"},"ISO50001",{"$f":"N8","v":"EMAS"},{"$f":"O8","v":"RC14001"},{"$f":"P8","v":"RCMS"},"GHS","clear",null,"weights",null,{"$f":"IF(SUM(AG10:AG32)=100,\"ok\",\"error\")","v":"ok"},{"$f":"IF(SUM(AH10:AH32)/COUNT(AG10:AG32)=100,\"ok\",\"error\")","v":"ok"},null,null,"subscores","score",null,null,"identification of major issues",null,null,null,null,null,"scores for standards",null,null,null,null,null,null,null,null,null,null,"improvement tips"]
[null,null,null,null,null,null,null,null,null,null,null,null,null,null,null,null,null,null,null,null,null,null,null,null,null,null,null,null,null,null,null,null,null,null,null,null,null,{"$f":"(AK10*AG10+AK13*AG13+AK15*AG15+AK18*AG18+AK20*AG20+AG24*AK24+AG29*AK29+AG31*AK31)/100","v":2.0000000000000004},null,null,null,null,null,null,null,null,null,{"$f":"I8","v":"ISO9001"},{"$f":"J8","v":"ISO14001"},{"$f":"K8","v":"ISO26000"},{"$f":"L8","v":"ISO45001"},{"$f":"M8","v":"ISO50001"},{"$f":"N8","v":"EMAS"},{"$f":"O8","v":"RC14001"},{"$f":"P8","v":"RCMS"},"GHS"]
[null,{"$f":"'Kapitel 1'!C6","v":"F1.1"},{"$f":"IF('Kapitel 1'!K7,1,IF('Kapitel 1'!K8,2,IF('Kapitel 1'!K9,3,IF('Kapitel 1'!K10,4,\"\"))))","v":1},"formula 4 choices",null,null,{"$f":"B10","v":"F1.1"},{"$f":"'Kapitel 1'!K7","v":true},false,false,false,false,false,false,false,false,null,null,{"$f":"G10","v":"F1.1"},{"$f":"IF(I10=\"\",$H10,I10)","v":false},{"$f":"IF(J10=\"\",$H10,J10)","v":false},{"$f":"IF(K10=\"\",$H10,K10)","v":false},{"$f":"IF(L10=\"\",$H10,L10)","v":false},{"$f":"IF(M10=\"\",$H10,M10)","v":false},{"$f":"IF(N10=\"\",$H10,N10)","v":false},{"$f":"IF(O10=\"\",$H10,O10)","v":false},{"$f":"IF(P10=\"\",$H10,P10)","v":false},{"$f":"IF(Q10=\"\",$H10,Q10)","v":true},false,null,{"$f":"'Kapitel 1'!B4","v":"Umfang & Verpflichtung"},null,{"$f":"100/7","v":14.285714285714286},null,null,null,{"$f":"((C10*AH11)+(C11*AH12))/100","v":1},null,null,null,{"$f":"B10","v":"F1.1"},1,{"$f":"IF(C10<AP10,\"major issue\",\"ok\")","v":"ok"},{"$f":"IF(AQ10<>\"ok\",1,0)","v":0},null,null,{"$f":"AO10","v":"F1.1"},{"$f":"IF(I10,1,IF(I11,2,IF(I12,3,IF(I13,4,\"-\"))))","v":3},{"$f":"IF(J10,1,IF(J11,2,IF(J12,3,IF(J13,4,\"-\"))))","v":3},{"$f":"IF(K10,1,IF(K11,2,IF(K12,3,IF(K13,4,\"-\"))))","v":3},{"$f":"IF(L10,1,IF(L11,2,IF(L12,3,IF(L13,4,\"-\"))))","v":3},{"$f":"IF(M10,1,IF(M11,2,IF(M12,3,IF(M13,4,\"-\"))))","v":3},{"$f":"IF(N10,1,IF(N11,2,IF(N12,3,IF(N13,4,\"-\"))))","v":3},{"$f":"IF(O10,1,IF(O11,2,IF(O12,3,IF(O13,4,\"-\"))))","v":3},{"$f":"IF(P10,1,IF(P11,2,IF(P12,3,IF(P13,4,\"-\"))))","v":4},{"$f":"IF(Q10,1,IF(Q11,2,IF(Q12,3,IF(Q13,4,\"-\"))))","v":"-"},null,{"$f":"G10","v":"F1.1"},{"$f":"CONCATENATE(BF10,BH10)","v":"F1.1WAHR"},{"$f":"H10","v":true},"Die Entwicklung und Umsetzung einer Richtlinie ist ein guter Weg, um die Mitarbeiter zu informieren, was im Bereich HSEE&S (Gesundheit, Sicherheit, Umwelt, Energie) von ihnen erwartet wird.\nDie Richtlinie kann ein eigenständiges Dokument oder Teil der Qualitäts- oder anderer Organisationsrichtlinien sein. Die Geschäftsleitung hat eine Schlüsselrolle bei der Formulierung, Umsetzung und Kommunikation der Richtlinie.\nDie Richtlinie berücksichtigt Folgendes:\n- Mission, Werte und Überzeugungen der Organisation;\n- kontinuierliche Verbesserung;\n- Einhaltung von HSEE&S-Gesetzen und -Vorschriften;\n- Einhaltung anderer HSEE&S-Kriterien, zu denen sich die Organisation verpflichtet;\n- Kommunikation mit Stakeholdern;\n- Koordination mit anderen Organisationsrichtlinien.\nDie Richtlinie soll einfach und verständlich sein. Fragen Sie sich, was Sie erreichen möchten, und wie Sie das in der Organisation am besten kommunizieren können. Testen Sie die Einfachheit und Prägnanz anhand der Frage: „Können unsere Mitarbeiter die Absichten unserer Richtlinie mit höchstens 20 Wörtern beschreiben?“. Passen Sie den Inhalt Ihrer Richtlinie an die Vorgaben und Ziele Ihrer Organisation an, damit die Richtlinie Kohärenz mit diesen Vorgaben und Zielen aufweist.\nDie Verpflichtung zur Einhaltung von Gesetzten und Vorschriften ist eine Selbstverständlichkeit.\nVor der Verpflichtung zur Erfüllung anderer HSEE&S-bezogener Anforderungen, kann die Organisation gegebenenfalls eine Bestandsaufnahme durchführen, um das Ausmaß der Verpflichtung zu verstehen. "]
[null,{"$f":"'Kapitel 1'!C12","v":"F1.2"},{"$f":"IF('Kapitel 1'!K13,1,IF('Kapitel 1'!K14,2,IF('Kapitel 1'!K15,3,IF('Kapitel 1'!K16,4,\"\"))))","v":1},"formula 4 choices",null,null,null,{"$f":"'Kapitel 1'!K8","v":false},false,false,false,false,false,false,false,false,null,null,null,{"$f":"IF(I11=\"\",$H11,I11)","v":false},false,false,{"$f":"IF(L11=\"\",$H11,L11)","v":false},{"$f":"IF(M11=\"\",$H11,M11)","v":false},false,false,false,false,false,null,null,{"$f":"B10","v":"F1.1"},null,50,null,null,null,null,null,null,{"$f":"B11","v":"F1.2"},1,{"$f":"IF(C11<AP11,\"major issue\",\"ok\")","v":"ok"},{"$f":"IF(AQ11<>\"ok\",1,0)","v":0},null,null,{"$f":"AO11","v":"F1.2"},{"$f":"IF(I14,1,IF(I15,2,IF(I16,3,IF(I17,4,\"-\"))))","v":3},{"$f":"IF(J14,1,IF(J15,2,IF(J16,3,IF(J17,4,\"-\"))))","v":3},{"$f":"IF(K14,1,IF(K15,2,IF(K16,3,IF(K17,4,\"-\"))))","v":"-"},{"$f":"IF(L14,1,IF(L15,2,IF(L16,3,IF(L17,4,\"-\"))))","v":3},{"$f":"IF(M14,1,IF(M15,2,IF(M16,3,IF(M17,4,\"-\"))))","v":3},{"$f":"IF(N14,1,IF(N15,2,IF(N16,3,IF(N17,4,\"-\"))))","v":3},{"$f":"IF(O14,1,IF(O15,2,IF(O16,3,IF(O17,4,\"-\"))))","v":3},{"$f":"IF(P14,1,IF(P15,2,IF(P16,3,IF(P17,4,\"-\"))))","v":"-"},"-",null,{"$f":"BF10","v":"F1.1"},{"$f":"CONCATENATE(BF11,BH11)","v":"F1.1FALSCH"},{"$f":"H11","v":false},"Es wird empfohlen, den Mitarbeitern die Richtlinie zu kommunizieren und sie bei deren Verständnis zu unterstützen. Zu den Möglichkeiten der internen Kommunikation Ihrer Richtlinie gehören der Aushang an Arbeitsplätzen, die Einbeziehung in Schulungen und Schulungsunterlagen und der Verweis darauf in Mitarbeiter- oder Betriebsversammlungen. Testen Sie von Zeit zu Zeit das Bewusstsein und das Verständnis, indem Sie Mitarbeiter fragen, wo sie eine HSEE&S-Richtlinie finden können, welche Bedeutung sie ihr beimessen und wie sie ihre Arbeit beeinflusst.\nEs wird empfohlen, in der Richtlinie klar auf die Verpflichtung der Organisation zur kontinuierlichen Verbesserung im Bereich Responsible Care hinzuweisen. "]
[null,{"$f":"'Kapitel 1'!C20","v":"F1.3"},{"$f":"IF('Kapitel 1'!K21,1,IF('Kapitel 1'!K22,2,IF('Kapitel 1'!K23,3,IF('Kapitel 1'!K24,4,\"\"))))","v":2},"formula 4 choices",null,null,null,{"$f":"'Kapitel 1'!K9","v":false},true,true,true,true,true,true,true,false,null,null,null,{"$f":"IF(I12=\"\",$H12,I12)","v":true},true,true,{"$f":"IF(L12=\"\",$H12,L12)","v":true},true,true,true,false,false,false,null,null,{"$f":"B11","v":"F1.2"},null,50,null,null,null,null,null,null,"F1.3",1,"ok",0,null,null,"F1.3",{"$f":"IF(I18,1,IF(I19,2,IF(I20,3,IF(I21,4,\"-\"))))","v":"-"},{"$f":"IF(J18,1,IF(J19,2,IF(J20,3,IF(J21,4,\"-\"))))","v":2},{"$f":"IF(K18,1,IF(K19,2,IF(K20,3,IF(K21,4,\"-\"))))","v":2},{"$f":"IF(L18,1,IF(L19,2,IF(L20,3,IF(L21,4,\"-\"))))","v":2},{"$f":"IF(M18,1,IF(M19,2,IF(M20,3,IF(M21,4,\"-\"))))","v":2},{"$f":"IF(N18,1,IF(N19,2,IF(N20,3,IF(N21,4,\"-\"))))","v":2},{"$f":"IF(O18,1,IF(O19,2,IF(O20,3,IF(O21,4,\"-\"))))","v":2},{"$f":"IF(P18,1,IF(P19,2,IF(P20,3,IF(P21,4,\"-\"))))","v":2},"-",null,{"$f":"BF11","v":"F1.1"},"F1.1FALSCH",{"$f":"H12","v":false},"Angemessene Kommunikation der Richtlinie an Stakeholder und diese der Öffentlichkeit zugänglich machen. Ihre Stakeholder können Fremdfirmen vor Ort, Geschäftspartner, Vertreter der Allgemeinheit usw. nach Maßgabe der Organisation sein. Unternehmen sollten überlegen, eine generische Liste ihrer Stakeholder zu pflegen, und planen, wie sie diesen die Richtlinie und andere Informationen kommuniziert. Die Organisation sollte regelmäßig das Bewusstsein für diese Richtlinie bei diesen Stakeholdern als Teil ihres Prozesses zur Messung der Wirksamkeit ihrer kommunikativen Wirksamkeit testen.\nDie Richtlinie muss auch der Öffentlichkeit zugänglich sein. Einige Beispiele für die öffentliche Kommunikation sind die Veröffentlichung der Richtlinie auf der Webseite der Organisation, die Platzierung der Richtlinie auf Visitenkarten, der Abdruck in den Geschäftsberichten oder in anderen Veröffentlichungen...\nDatieren Sie die Richtlinie und schließen Sie die Unterschrift eines Vertreters der Geschäftsleitung ein. Das veranschaulicht die Verpflichtung der Geschäftsleitung für diese Richtlinie.\nFühren Sie eine Bestandsaufnahme mit leitenden Mitarbeitern durch, um festzustellen, was diese tun, um ihre Unterstützung für HSEE&S/Responsible Care zu zeigen (z. B. Einbindung des Managements in HSEE&S-Programme, Reden, Aktivitäten zur Zielsetzung...)"]
[null,{"$f":"'Kapitel 1'!C28","v":"F1.4"},{"$f":"IF('Kapitel 1'!K29,1,IF('Kapitel 1'!K30,2,IF('Kapitel 1'!K31,3,IF('Kapitel 1'!K32,4,\"\"))))","v":2},"formula 4 choices",null,null,null,{"$f":"'Kapitel 1'!K10","v":false},false,false,false,false,false,false,false,true,null,null,null,{"$f":"IF(I13=\"\",$H13,I13)","v":false},false,false,{"$f":"IF(L13=\"\",$H13,L13)","v":false},false,false,false,true,{"$f":"IF(Q13=\"\",$H13,Q13)","v":false},false,null,{"$f":"'Kapitel 1'!B18","v":"Compliance"},null,{"$f":"100/7","v":14.285714285714286},null,null,null,{"$f":"C12","v":2},null,null,null,"F1.4",1,"ok",0,null,null,"F1.4",{"$f":"IF(I22,1,IF(I23,2,IF(I24,3,IF(I25,4,\"-\"))))","v":2},{"$f":"IF(J22,1,IF(J23,2,IF(J24,3,IF(J25,4,\"-\"))))","v":2},{"$f":"IF(K22,1,IF(K23,2,IF(K24,3,IF(K25,4,\"-\"))))","v":4},{"$f":"IF(L22,1,IF(L23,2,IF(L24,3,IF(L25,4,\"-\"))))","v":2},{"$f":"IF(M22,1,IF(M23,2,IF(M24,3,IF(M25,4,\"-\"))))","v":2},{"$f":"IF(N22,1,IF(N23,2,IF(N24,3,IF(N25,4,\"-\"))))","v":2},{"$f":"IF(O22,1,IF(O23,2,IF(O24,3,IF(O25,4,\"-\"))))","v":2},{"$f":"IF(P22,1,IF(P23,2,IF(P24,3,IF(P25,4,\"-\"))))","v":2},"-",null,{"$f":"BF12","v":"F1.1"},"F1.1FALSCH",{"$f":"H13","v":false},"Testen Sie von Zeit zu Zeit das Bewusstsein und das Verständnis, indem Sie Mitarbeiter fragen, ob sie wissen, dass es eine HSEE&S-Richtlinie gibt, welche Bedeutung sie ihr beimessen und wie sie ihre Arbeit beeinflusst.\nDie Organisation sollte regelmäßig das Bewusstsein für diese Richtlinie bei ihren Stakeholdern als Teil ihres Prozesses zur Messung der Wirksamkeit ihrer kommunikativen Wirksamkeit testen.\nDie Liste der Stakeholder ist zu prüfen und zu aktualisieren, um veränderten Umständen Rechnung zu tragen."]
[null,{"$f":"'Kapitel 1'!C34","v":"F1.5"},{"$f":"IF('Kapitel 1'!K35,1,IF('Kapitel 1'!K36,2,IF('Kapitel 1'!K37,3,IF('Kapitel 1'!K38,4,\"\"))))","v":3},"formula 4 choices",null,null,{"$f":"B11","v":"F1.2"},{"$f":"'Kapitel 1'!K13","v":true},false,false,null,false,false,false,false,null,null,null,null,null,null,null,null,null,null,null,null,null,null,null,null,{"$f":"B12","v":"F1.3"},null,100,null,null,null,null,null,null,"F1.5",2,"ok",0,null,null,"F1.5",{"$f":"IF(I26,1,IF(I27,2,IF(I28,3,IF(I29,4,\"-\"))))","v":3},{"$f":"IF(J26,1,IF(J27,2,IF(J28,3,IF(J29,4,\"-\"))))","v":3},{"$f":"IF(K26,1,IF(K27,2,IF(K28,3,IF(K29,4,\"-\"))))","v":3},{"$f":"IF(L26,1,IF(L27,2,IF(L28,3,IF(L29,4,\"-\"))))","v":3},{"$f":"IF(M26,1,IF(M27,2,IF(M28,3,IF(M29,4,\"-\"))))","v":3},{"$f":"IF(N26,1,IF(N27,2,IF(N28,3,IF(N29,4,\"-\"))))","v":3},{"$f":"IF(O26,1,IF(O27,2,IF(O28,3,IF(O29,4,\"-\"))))","v":3},{"$f":"IF(P26,1,IF(P27,2,IF(P28,3,IF(P29,4,\"-\"))))","v":"-"},"-",null,{"$f":"G14","v":"F1.2"},"F1.2WAHR",true,"Bestimmen Sie externe und interne Probleme, die für den Zweck der Organisation relevant sind und ihre Fähigkeit zum Erreichen der angestrebten Ergebnisse ihres Managementsystems beeinflussen. Verschiedene Methoden stehen für die Ermittlung dieser Probleme zur Verfügung. Die PESTLE-Kriterien (engl. Abkürzung der Begriffe politisch, wirtschaftlich, sozial, technologisch, rechtlich und ökologisch) beispielsweise liefern einen Rahmen zur Ermittlung von Problemen im jeweiligen Kontext der Organisation. Diese Probleme haben alle Umweltbedingungen zu umfassen, die von der Organisation beeinflusst werden oder in der Lage sind, diese zu beeinflussen. "]
[null,{"$f":"'Kapitel 1'!C40","v":"F1.6"},{"$f":"IF('Kapitel 1'!K41,1,IF('Kapitel 1'!K42,2,IF('Kapitel 1'!K43,3,IF('Kapitel 1'!K44,4,\"\"))))","v":4},"formula 4 choices",null,null,null,{"$f":"'Kapitel 1'!K14","v":false},false,false,null,false,false,false,false,null,null,null,null,null,null,null,null,null,null,null,null,null,null,null,{"$f":"'Kapitel 1'!B26","v":"Management-Strukturen"},null,{"$f":"100/7","v":14.285714285714286},null,null,null,{"$f":"((C13*AH16)+(C14*AH17)+(C15*AH18)+(C16*AH19))/100","v":2.5},null,null,null,"F1.6",2,"ok",0,null,null,"F1.6",{"$f":"IF(I30,1,IF(I31,2,IF(I32,3,IF(I33,4,\"-\"))))","v":"-"},{"$f":"IF(J30,1,IF(J31,2,IF(J32,3,IF(J33,4,\"-\"))))","v":"-"},{"$f":"IF(K30,1,IF(K31,2,IF(K32,3,IF(K33,4,\"-\"))))","v":"-"},{"$f":"IF(L30,1,IF(L31,2,IF(L32,3,IF(L33,4,\"-\"))))","v":"-"},{"$f":"IF(M30,1,IF(M31,2,IF(M32,3,IF(M33,4,\"-\"))))","v":"-"},{"$f":"IF(N30,1,IF(N31,2,IF(N32,3,IF(N33,4,\"-\"))))","v":"-"},{"$f":"IF(O30,1,IF(O31,2,IF(O32,3,IF(O33,4,\"-\"))))","v":3},{"$f":"IF(P30,1,IF(P31,2,IF(P32,3,IF(P33,4,\"-\"))))","v":"-"},"-",null,{"$f":"BF14","v":"F1.2"},"F1.2FALSCH",false,"Überlegen Sie, welche externen und internen Probleme Risiken und Chancen für die Organisation darstellen"]
[null,{"$f":"'Kapitel 1'!C46","v":"F1.7"},{"$f":"IF('Kapitel 1'!K47,1,IF('Kapitel 1'!K48,2,IF('Kapitel 1'!K49,3,IF('Kapitel 1'!K50,4,\"\"))))","v":1},"formula 4 choices",null,null,null,{"$f":"'Kapitel 1'!K15","v":false},true,true,null,true,true,true,true,null,null,null,{"$f":"G14","v":"F1.2"},{"$f":"IF(I14=\"\",$H14,I14)","v":false},false,true,false,false,false,false,true,true,false,null,null,{"$f":"B13","v":"F1.4"},null,25,null,null,null,null,null,null,"F1.7",2,"major issue",1,null,null,"F1.7",{"$f":"IF(I34,1,IF(I35,2,IF(I36,3,IF(I37,4,\"-\"))))","v":3},{"$f":"IF(J34,1,IF(J35,2,IF(J36,3,IF(J37,4,\"-\"))))","v":3},{"$f":"IF(K34,1,IF(K35,2,IF(K36,3,IF(K37,4,\"-\"))))","v":"-"},{"$f":"IF(L34,1,IF(L35,2,IF(L36,3,IF(L37,4,\"-\"))))","v":3},{"$f":"IF(M34,1,IF(M35,2,IF(M36,3,IF(M37,4,\"-\"))))","v":3},{"$f":"IF(N34,1,IF(N35,2,IF(N36,3,IF(N37,4,\"-\"))))","v":4},{"$f":"IF(O34,1,IF(O35,2,IF(O36,3,IF(O37,4,\"-\"))))","v":3},{"$f":"IF(P34,1,IF(P35,2,IF(P36,3,IF(P37,4,\"-\"))))","v":3},"-",null,{"$f":"BF15","v":"F1.2"},"F1.2FALSCH",false,"Behandeln Sie die externen und internen Probleme proaktiv, indem Sie Maßnahmen für den Umgang mit Risiken und Chancen planen. Bestimmen Sie für jede Maßnahme, wer für die Nachverfolgung verantwortlich ist und sorgen Sie dafür, dass die Maßnahmen durchgeführt werden. "]
[null,{"$f":"'Kapitel 1'!C54","v":"F1.8"},{"$f":"IF('Kapitel 1'!K55,1,IF('Kapitel 1'!K56,2,IF('Kapitel 1'!K57,3,IF('Kapitel 1'!K58,4,\"\"))))","v":2},"formula 4 choices",null,null,null,{"$f":"'Kapitel 1'!K16","v":false},false,false,null,false,false,false,false,null,null,null,null,{"$f":"IF(I15=\"\",$H15,I15)","v":false},{"$f":"IF(J15=\"\",$H15,J15)","v":false},{"$f":"IF(K15=\"\",$H15,K15)","v":false},{"$f":"IF(L15=\"\",$H15,L15)","v":false},{"$f":"IF(M15=\"\",$H15,M15)","v":false},{"$f":"IF(N15=\"\",$H15,N15)","v":false},{"$f":"IF(O15=\"\",$H15,O15)","v":false},{"$f":"IF(P15=\"\",$H15,P15)","v":false},false,false,null,null,"F1.5",null,25,null,null,null,null,null,null,"F1.8",2,"ok",0,null,null,"F1.8",{"$f":"IF(I38,1,IF(I39,2,IF(I40,3,IF(I41,4,\"-\"))))","v":3},{"$f":"IF(J38,1,IF(J39,2,IF(J40,3,IF(J41,4,\"-\"))))","v":3},{"$f":"IF(K38,1,IF(K39,2,IF(K40,3,IF(K41,4,\"-\"))))","v":"-"},{"$f":"IF(L38,1,IF(L39,2,IF(L40,3,IF(L41,4,\"-\"))))","v":3},{"$f":"IF(M38,1,IF(M39,2,IF(M40,3,IF(M41,4,\"-\"))))","v":3},{"$f":"IF(N38,1,IF(N39,2,IF(N40,3,IF(N41,4,\"-\"))))","v":3},{"$f":"IF(O38,1,IF(O39,2,IF(O40,3,IF(O41,4,\"-\"))))","v":3},{"$f":"IF(P38,1,IF(P39,2,IF(P40,3,IF(P41,4,\"-\"))))","v":3},"-",null,{"$f":"BF16","v":"F1.2"},"F1.2FALSCH",false,"Top-Ergebnis, bewerten Sie externe und interne Probleme jedes Jahr neu und verfolgen Sie regelmäßig die bei den Maßnahmen erzielten Fortschritte."]
[null,{"$f":"'Kapitel 1'!C60","v":"F1.9"},{"$f":"IF('Kapitel 1'!K61,1,IF('Kapitel 1'!K62,2,IF('Kapitel 1'!K63,3,IF('Kapitel 1'!K64,4,\"\"))))","v":1},"formula 4 choices",null,null,{"$f":"B12","v":"F1.3"},{"$f":"'Kapitel 1'!K21","v":false},null,false,false,false,false,false,false,false,null,null,null,true,true,false,true,true,true,true,false,false,false,null,null,{"$f":"B15","v":"F1.6"},null,25,null,null,null,null,null,null,"F1.9",2,"major issue",1,null,null,"F1.9",{"$f":"IF(I42,1,IF(I43,2,IF(I44,3,IF(I45,4,\"-\"))))","v":3},3,"-",3,3,3,3,3,"-",null,{"$f":"G18","v":"F1.3"},"F1.3FALSCH",false,"Top-Ergebnis, bewerten Sie externe und interne Probleme jedes Jahr neu und verfolgen Sie regelmäßig die bei den Maßnahmen erzielten Fortschritte."]
[null,{"$f":"'Kapitel 1'!C66","v":"F1.10"},{"$f":"IF('Kapitel 1'!K67,1,IF('Kapitel 1'!K68,2,IF('Kapitel 1'!K69,3,IF('Kapitel 1'!K70,4,\"\"))))","v":3},"formula 4 choices",null,null,null,{"$f":"'Kapitel 1'!K22","v":true},null,true,true,true,true,true,true,true,null,null,null,false,false,false,false,false,false,false,false,false,false,null,null,{"$f":"B16","v":"F1.7"},null,25,null,null,null,null,null,null,"F1.10",1,"ok",0,null,null,"F1.10",{"$f":"IF(I46,1,IF(I47,2,IF(I48,3,IF(I49,4,\"-\"))))","v":3},3,"-",3,3,3,3,3,"-",null,{"$f":"BF18","v":"F1.3"},"F1.3WAHR",true,"Bringen Sie sich aktiv in die Vorbereitung neuer Rechtsvorschriften auf Bundes- bzw. Länderebene ein."]
[null,{"$f":"'Kapitel 1'!C74","v":"F1.11"},{"$f":"IF('Kapitel 1'!K75,1,IF('Kapitel 1'!K76,2,IF('Kapitel 1'!K77,3,IF('Kapitel 1'!K78,4,\"\"))))","v":3},"formula 4 choices",null,null,null,{"$f":"'Kapitel 1'!K23","v":false},null,false,false,false,false,false,false,false,null,null,null,null,null,null,null,null,null,null,null,null,null,null,{"$f":"'Kapitel 1'!B52","v":"Sicherstellung der kontinuierlichen Verbesserung"},null,{"$f":"100/7","v":14.285714285714286},null,null,null,{"$f":"((C17*AH21)+(C18*AH22)+(C19*AH23))/100","v":2},null,null,null,"F1.11",1,"ok",0,null,null,"F1.11",{"$f":"IF(I50,1,IF(I51,2,IF(I52,3,IF(I53,4,\"-\"))))","v":3},3,"-",3,3,3,3,3,"-",null,{"$f":"BF19","v":"F1.3"},"F1.3FALSCH",false,"Bringen Sie sich aktiv in die Vorbereitung neuer Rechtsvorschriften auf EU-Ebene ein oder arbeiten Sie mit Behördenvertretern in der Folgenabschätzung für Industrieunternehmen und die Umwelt zusammen. "]
[null,{"$f":"'Kapitel 1'!C80","v":"F1.12"},{"$f":"IF('Kapitel 1'!K81,1,IF('Kapitel 1'!K82,2,IF('Kapitel 1'!K83,3,IF('Kapitel 1'!K84,4,\"\"))))","v":2},"formula 4 choices",null,null,null,{"$f":"'Kapitel 1'!K24","v":false},null,false,false,false,false,false,false,false,null,null,null,null,null,null,null,null,null,null,null,null,null,null,null,{"$f":"B17","v":"F1.8"},null,{"$f":"100/3","v":33.333333333333336},null,null,null,null,null,null,"F1.12",2,"ok",0,null,null,"F1.12",{"$f":"IF(I54,1,IF(I55,2,IF(I56,3,IF(I57,4,\"-\"))))","v":3},3,"-",3,3,3,3,4,"-",null,{"$f":"BF20","v":"F1.3"},"F1.3FALSCH",false,"Es wird empfohlen, das System jährlich zu überprüfen und zu entscheiden, was noch benötigt wird, was weggelassen werden kann, welche neuen Probleme entstehen…"]
[null,{"$f":"'Kapitel 1'!C86","v":"F1.13"},{"$f":"IF('Kapitel 1'!K87,1,IF('Kapitel 1'!K88,2,IF('Kapitel 1'!K89,3,IF('Kapitel 1'!K90,4,\"\"))))","v":1},"formula 4 choices",null,null,{"$f":"B13","v":"F1.4"},{"$f":"'Kapitel 1'!K29","v":false},false,false,false,false,false,false,false,false,null,null,null,null,null,null,null,null,null,null,null,null,null,null,null,{"$f":"B18","v":"F1.9"},null,{"$f":"100/3","v":33.333333333333336},null,null,null,null,null,null,"F1.13",2,"major issue",1,null,null,"F1.13",{"$f":"IF(I58,1,IF(I59,2,IF(I60,3,IF(I61,4,\"-\"))))","v":3},3,"-",3,3,3,3,3,"-",null,{"$f":"G22","v":"F1.4"},"F1.4FALSCH",false,"Beauftragen Sie als ersten Schritt eine zentrale Person mit Erfahrung in HSEE&S mit der Umsetzung eines HSEE&S-Managementsystems und verlangen Sie von ihr einen Bericht an die oberste Geschäftsleitung.\nSeien Sie sich bewusst, dass die effektivsten Programme zur Einbeziehung der Mitarbeiter damit beginnen, die Mitarbeiter in der Umsetzungsphase des Managementsystems (HSEE&S) einzubeziehen."]
[null,{"$f":"'Kapitel 1'!C92","v":"F1.14"},{"$f":"IF('Kapitel 1'!K93,1,IF('Kapitel 1'!K94,2,IF('Kapitel 1'!K95,3,IF('Kapitel 1'!K96,4,\"\"))))","v":4},"formula 4 choices",null,null,null,{"$f":"'Kapitel 1'!K30","v":true},true,true,false,true,true,true,true,true,null,null,null,null,null,null,null,null,null,null,null,null,null,null,null,"F1.10",null,{"$f":"100/3","v":33.333333333333336},null,null,null,null,null,null,"F1.14",1,"ok",0,null,null,"F1.14",{"$f":"IF(I62,1,IF(I63,2,IF(I64,3,IF(I65,4,\"-\"))))","v":"-"},2,"-",3,2,3,2,3,"-",null,{"$f":"BF22","v":"F1.4"},"F1.4WAHR",true,"Beauftragen Sie eine Gruppe von Personen mit der Umsetzung eines HSEE&S-Managementsystems und verlangen Sie von ihr einen Bericht an die oberste Geschäftsleitung.\nBedienen Sie sich einer eindeutigen, präzisen und deutlichen Sprache, um allen klar zu machen, was von ihnen erwartet wird.\n- Definition von Zuständigkeiten auf allen Ebenen der Organisation.\n- Übertragung von Zuständigkeiten nur an diejenigen, die innerhalb ihres Zuständigkeitsbereichs mit der Umsetzung, Leitung und Steuerung der Maßnahmen beauftragt sind.\n- Messen Sie die Leistung der Mitarbeiter bei den zugewiesenen Aufgaben.\nSeien Sie sich bewusst, dass die effektivsten Programme zur Einbeziehung der Mitarbeiter damit beginnen, die Mitarbeiter in der Umsetzungsphase des Managementsystems (HSEE&S) einzubeziehen."]
[null,{"$f":"'Kapitel 1'!C100","v":"F1.15"},{"$f":"IF('Kapitel 1'!K101,1,IF('Kapitel 1'!K102,2,IF('Kapitel 1'!K103,3,IF('Kapitel 1'!K104,4,\"\"))))","v":2},"formula 4 choices",null,null,null,{"$f":"'Kapitel 1'!K31","v":false},false,false,false,false,false,false,false,false,null,null,{"$f":"G18","v":"F1.3"},{"$f":"IF(I18=\"\",$H18,I18)","v":false},{"$f":"IF(J18=\"\",$H18,J18)","v":false},{"$f":"IF(K18=\"\",$H18,K18)","v":false},{"$f":"IF(L18=\"\",$H18,L18)","v":false},false,false,false,{"$f":"IF(P18=\"\",$H18,P18)","v":false},false,false,null,{"$f":"'Kapitel 1'!B72","v":"Ressourcen, Aus- und Weiterbildung, Einbeziehung der Mitarbeiter"},null,{"$f":"100/7","v":14.285714285714286},null,null,null,{"$f":"((C20*AH25)+(C21*AH26)+(C22*AH27)+(C23*AH28))/100","v":2.5},null,null,null,"F1.15",1,"ok",0,null,null,"F1.15",{"$f":"IF(I66,1,IF(I67,2,IF(I68,3,IF(I69,4,\"-\"))))","v":3},3,"-",3,3,3,3,3,"-",null,{"$f":"BF23","v":"F1.4"},"F1.4FALSCH",false,"Führen Sie eine Bestandsaufnahme Ihres Responsible Care-/HSEE&S-Programme durch, um die vorhandene Mitarbeitereinbindung in deren Entwicklung, Kommunikation und Umsetzung zu ermitteln. Bauen Sie auf bestehenden Erfolgen auf. Konzentrieren Sie sich auf die Stärkung von Bereichen mit weniger Beteiligung der Mitarbeiter.\nBinden Sie Mitarbeiter in HSEE&S-Aktivitäten wie Programme zur Bewusstseinsbildung der Allgemeinheit usw. ein.\nSeien Sie sich bewusst, dass die effektivsten Programme zur Einbeziehung der Mitarbeiter damit beginnen, die Mitarbeiter in der Umsetzungsphase des Managementsystems (HSEE&S) einzubeziehen."]
[null,{"$f":"'Kapitel 1'!C108","v":"F1.16"},{"$f":"IF('Kapitel 1'!K109,1,IF('Kapitel 1'!K110,2,IF('Kapitel 1'!K111,3,IF('Kapitel 1'!K112,4,\"\"))))","v":2},"formula 4 choices",null,null,null,{"$f":"'Kapitel 1'!K32","v":false},false,false,true,false,false,false,false,false,null,null,null,{"$f":"IF(I19=\"\",$H19,I19)","v":true},true,true,true,true,true,true,true,true,false,null,null,{"$f":"B20","v":"F1.11"},null,25,null,null,null,null,null,null,"F1.16",2,"ok",0,null,null,"F1.16",{"$f":"IF(I70,1,IF(I71,2,IF(I72,3,IF(I73,4,\"-\"))))","v":3},3,"-",3,3,3,3,3,"-",null,{"$f":"BF24","v":"F1.4"},"F1.4FALSCH",false,"Es wird empfohlen, das System jährlich zu überprüfen und zu entscheiden, was noch benötigt wird, was weggelassen werden kann, welche neuen Probleme entstehen…"]
[null,null,null,null,null,null,{"$f":"B14","v":"F1.5"},{"$f":"'Kapitel 1'!K35","v":false},false,false,false,false,false,false,false,null,null,null,null,{"$f":"IF(I20=\"\",$H20,I20)","v":false},false,false,false,false,false,false,false,false,false,null,null,{"$f":"B21","v":"F1.12"},null,25,null,null,null,null,null,null,null,null,null,null,null,null,null,null,null,null,null,null,null,null,null,null,null,{"$f":"G26","v":"F1.5"},"F1.5FALSCH",false,"Binden Sie den Vorstand ein:\n- Integrieren Sie HSEE&S in die strategischen Überlegungen des Managements;\n- Schulen Sie die Manager so, dass die Berücksichtigung von HSEE&S-Angelegenheiten reflexartig erfolgt;\n- Übersetzen Sie die HSEE&S-Leistung in andere Bereiche, z. B. Unternehmensgewinne, Finanzfragen, Kundennutzen usw.\n- Halten Sie die Kommunikation aufrecht.\nLangfristiges Engagement, wie es durch die konsequente Anwendung der HSEE&S der Organisation belegt wird, ist für den Erfolg der Programme wesentlich. Inkonsequente oder mangelnde Führung des Managements untergräbt die Glaubwürdigkeit der HSEE&S-Richtlinien in den Augen der Mitarbeiter. Die Mitarbeiter beobachten, ob das Management wirklich der Gesundheits- und Sicherheitsrichtlinie verpflichtet ist. Wenn die Unterstützung des Managements als nicht aufrichtig betrachtet wird (z. B. durch das Ignorieren der bestehenden Sicherheitsanforderungen), wird die Glaubwürdigkeit des Managements ausgehöhlt. "]
[null,null,null,null,null,null,null,{"$f":"'Kapitel 1'!K36","v":false},false,false,false,false,false,false,false,null,null,null,null,{"$f":"IF(I21=\"\",$H21,I21)","v":false},false,false,false,false,false,false,false,false,false,null,null,"F1.13",null,25,null,null,null,null,null,null,null,null,null,{"$f":"IF(SUM(AR10:AR25)>0,\"Schlüsselelemente von RC müssen noch umgesetzt werden; s. Tipps\",\"\")","v":"Schlüsselelemente von RC müssen noch umgesetzt werden; s. Tipps"},null,null,null,null,null,null,null,null,null,null,null,null,null,{"$f":"BF26","v":"F1.5"},"F1.5FALSCH",false,"Vermitteln Sie dem Vorstand die potenziell positiven Auswirkungen des HSEE&S-Managementsystems auf das Geschäft der Organisation (d. h. Markenimage, soziale Akzeptanz von Aktivitäten, Unterscheidung von der Konkurrenz, betriebliche Effizienz…)."]
[null,null,null,null,null,null,null,{"$f":"'Kapitel 1'!K37","v":true},true,true,true,true,true,true,true,null,null,null,null,null,null,null,null,null,null,null,null,null,null,null,null,"F1.14",null,25,null,null,null,null,null,null,null,null,null,null,null,null,null,null,null,null,null,null,null,null,null,null,null,{"$f":"BF27","v":"F1.5"},"F1.5WAHR",true,"Der Vorstand wird zum Botschafter für das Managementsystem (HSEE&S) und geht mit gutem Beispiel voran:\nBinden Sie den Vorstand ein:\n- Beziehen Sie HSEE&S in Neujahrsansprachen, Mitarbeiterfeste, interne Wettbewerbe usw. ein.\n- Gewährleisten Sie die Sichtbarkeit von Umweltschutzrichtlinien, Maßnahmen und Ergebnissen;\n- Vermitteln Sie Kunden die Botschaft;\n- Halten Sie die Kommunikation aufrecht."]
[null,null,null,null,null,null,null,{"$f":"'Kapitel 1'!K38","v":false},false,false,false,false,false,false,false,null,null,null,null,null,null,null,null,null,null,null,null,null,null,null,{"$f":"'Kapitel 1'!B98","v":"Dokumentenmanagement"},null,{"$f":"100/7","v":14.285714285714286},null,null,null,{"$f":"C24","v":2},null,null,null,null,null,null,null,null,null,null,null,null,null,null,null,null,null,null,null,null,{"$f":"BF28","v":"F1.5"},"F1.5FALSCH",false,"Es wird empfohlen, das System jährlich zu überprüfen und zu entscheiden, was noch benötigt wird, was weggelassen werden kann, welche neuen Probleme entstehen…"]
[null,null,null,null,null,null,{"$f":"B15","v":"F1.6"},{"$f":"'Kapitel 1'!K41","v":false},null,null,null,null,null,null,false,null,null,null,null,null,null,null,null,null,null,null,null,null,null,null,null,{"$f":"B24","v":"F1.15"},null,100,null,null,null,null,null,null,null,null,null,null,null,null,null,null,null,null,null,null,null,null,null,null,null,{"$f":"G30","v":"F1.6"},"F1.6FALSCH",false,"Ziele werden in die Formulierung von Stellenbeschreibungen derjenigen mit HSEE&S-Zuständigkeiten integriert, die mit dem Managementsystem (HSEE&S) verbunden sind."]
[null,null,null,null,null,null,null,{"$f":"'Kapitel 1'!K42","v":false},null,null,null,null,null,null,false,null,null,null,null,null,null,null,null,null,null,null,null,null,null,null,{"$f":"'Kapitel 1'!B106","v":"Management des Wandels („Management of change“ / MoC"},null,{"$f":"100/7","v":14.285714285714286},null,null,null,{"$f":"C25","v":2},null,null,null,null,null,null,null,null,null,null,null,null,null,null,null,null,null,null,null,null,{"$f":"BF30","v":"F1.6"},"F1.6FALSCH",false,"Ziele werden in die Formulierung von Stellenbeschreibungen aller Manager und HSEE&S-Verantwortlichen integriert, die mit dem Managementsystem (HSEE&S) verbunden sind."]
[null,null,null,null,null,null,null,{"$f":"'Kapitel 1'!K43","v":false},null,null,null,null,null,null,true,null,null,null,{"$f":"G22","v":"F1.4"},{"$f":"IF(I22=\"\",$H22,I22)","v":false},{"$f":"IF(J22=\"\",$H22,J22)","v":false},{"$f":"IF(K22=\"\",$H22,K22)","v":false},{"$f":"IF(L22=\"\",$H22,L22)","v":false},{"$f":"IF(M22=\"\",$H22,M22)","v":false},{"$f":"IF(N22=\"\",$H22,N22)","v":false},{"$f":"IF(O22=\"\",$H22,O22)","v":false},{"$f":"IF(P22=\"\",$H22,P22)","v":false},false,false,null,null,{"$f":"B25","v":"F1.16"},null,100,null,null,null,null,null,null,null,null,null,null,null,null,null,null,null,null,null,null,null,null,null,null,null,{"$f":"BF31","v":"F1.6"},"F1.6FALSCH",false,"Ziele werden in die Formulierung von Stellenbeschreibungen aller Mitarbeiter integriert, die mit dem Managementsystem (HSEE&S) verbunden sind oder andere Anreize zur Motivation der Responsible Care-Leistung von Mitarbeitern auf allen Ebenen der Organisation umsetzen. "]
[null,null,null,null,null,null,null,{"$f":"'Kapitel 1'!K44","v":true},null,null,null,null,null,null,false,null,null,null,null,{"$f":"IF(I23=\"\",$H23,I23)","v":true},true,false,true,{"$f":"IF(M23=\"\",$H23,M23)","v":true},{"$f":"IF(N23=\"\",$H23,N23)","v":true},true,true,true,false,null,null,null,null,null,null,null,null,null,null,null,null,null,null,null,null,null,null,null,null,null,null,null,null,null,null,null,null,{"$f":"BF32","v":"F1.6"},"F1.6WAHR",true,"Es wird empfohlen, das System jährlich zu überprüfen und zu entscheiden, was noch benötigt wird, was weggelassen werden kann, welche neuen Probleme entstehen…"]
[null,null,null,null,null,null,{"$f":"B16","v":"F1.7"},{"$f":"'Kapitel 1'!K47","v":true},false,false,null,false,false,false,false,false,null,null,null,{"$f":"IF(I24=\"\",$H24,I24)","v":false},false,false,false,false,false,false,false,false,false,null,null,null,null,null,null,null,null,null,null,null,null,null,null,null,null,null,null,null,null,null,null,null,null,null,null,null,null,{"$f":"G34","v":"F1.7"},"F1.7WAHR",true,"Definieren Sie die Governance-Struktur für das Management von HSEE&S-Themen. Beauftragen Sie verantwortliche Personen mit  klaren Rollen."]
[null,null,null,null,null,null,null,{"$f":"'Kapitel 1'!K48","v":false},false,false,null,false,false,false,false,false,null,null,null,{"$f":"IF(I25=\"\",$H25,I25)","v":false},false,true,false,{"$f":"IF(M25=\"\",$H25,M25)","v":false},false,false,{"$f":"IF(P25=\"\",$H25,P25)","v":false},{"$f":"IF(Q25=\"\",$H25,Q25)","v":false},false,null,null,null,null,null,null,null,null,null,null,null,null,null,null,null,null,null,null,null,null,null,null,null,null,null,null,null,null,{"$f":"BF34","v":"F1.7"},"F1.7FALSCH",false,"Die verantwortlichen beauftragten Personen müssen Prozessleistungsindikatoren für jeden Kernprozess definieren, um in der Lage zu sein, die Verbesserung ihrer Prozesse zu bewerten und zu überprüfen. Bei komplexen Organisationen wird empfohlen, eine verantwortliche Person für jede Teilorganisation (Referat oder Abteilung) auf jeder Ebene zu ernennen, auf der die Leistung bewertet werden kann."]
[null,null,null,null,null,null,null,{"$f":"'Kapitel 1'!K49","v":false},true,true,null,true,true,false,true,true,null,null,null,null,null,null,null,null,null,null,null,null,null,null,null,null,null,null,null,null,null,null,null,null,null,null,null,null,null,null,null,null,null,null,null,null,null,null,null,null,null,{"$f":"BF35","v":"F1.7"},"F1.7FALSCH",false,"Es wird empfohlen, dass die verantwortlichen Personen Teil eines Teams sind, wobei eine für HSEE&S verantwortliche Person direkt an die oberste Führungsebene berichtet. Ideal wäre es, wenn der für HSEE&S Verantwortliche jemand ist, der in die höchste Ebene der Organisation eingebunden ist"]
[null,null,null,null,null,null,null,{"$f":"'Kapitel 1'!K50","v":false},false,false,null,false,false,true,false,false,null,null,null,null,null,null,null,null,null,null,null,null,null,null,null,null,null,null,null,null,null,null,null,null,null,null,null,null,null,null,null,null,null,null,null,null,null,null,null,null,null,{"$f":"BF36","v":"F1.7"},"F1.7FALSCH",false,"Es wird empfohlen, dass die verantwortlichen Personen Teil eines Teams sind, wobei eine für HSEE&S verantwortliche Person direkt an die oberste Führungsebene berichtet. Ideal wäre es, wenn der für HSEE&S Verantwortliche jemand ist, der in die höchste Ebene der Organisation eingebunden ist"]
[null,null,null,null,null,null,{"$f":"B17","v":"F1.8"},{"$f":"'Kapitel 1'!K55","v":false},false,false,null,false,false,false,false,false,null,null,{"$f":"G26","v":"F1.5"},{"$f":"IF(I26=\"\",$H26,I26)","v":false},{"$f":"IF(J26=\"\",$H26,J26)","v":false},{"$f":"IF(K26=\"\",$H26,K26)","v":false},{"$f":"IF(L26=\"\",$H26,L26)","v":false},false,{"$f":"IF(N26=\"\",$H26,N26)","v":false},{"$f":"IF(O26=\"\",$H26,O26)","v":false},{"$f":"IF(P26=\"\",$H26,P26)","v":false},false,false,null,null,null,null,null,null,null,null,null,null,null,null,null,null,null,null,null,null,null,null,null,null,null,null,null,null,null,null,{"$f":"G38","v":"F1.8"},"F1.8FALSCH",false,"Bestimmen Sie einen Evaluierungszeitpunkt für die Überprüfung der RC-Leistung und ermitteln Sie den möglichen Änderungsbedarf für Richtlinie, Ziele, Vorgaben, andere Elemente des Managementsystems, veränderte Umstände und die Verpflichtung zur kontinuierlichen Verbesserung.\nBeziehen Sie Folgendes in diese Überprüfung ein: Auditergebnisse und mögliche Nichtkonformitäten zur Entwicklung eines Aktionsplans für die Verbesserung Ihrer Leistung. "]
[null,null,null,null,null,null,null,{"$f":"'Kapitel 1'!K56","v":true},false,false,null,false,false,false,false,false,null,null,null,{"$f":"IF(I27=\"\",$H27,I27)","v":false},false,false,false,false,false,false,false,false,false,null,null,null,null,null,null,null,null,null,null,null,null,null,null,null,null,null,null,null,null,null,null,null,null,null,null,null,null,{"$f":"BF38","v":"F1.8"},"F1.8WAHR",true,"Stellen Sie sicher, dass die relevanten Leistungsindikatoren vorhanden sind und die Aktionspläne im Einklang mit den wesentlichen Risiken und Chancen für die Organisation sowie im Einklang mit der Strategie zur Förderung der kontinuierlichen Verbesserung überprüft werden. Definieren Sie die erforderlichen Ressourcen, um die Umsetzung des Aktionsplans zu ermöglichen."]
[null,null,null,null,null,null,null,{"$f":"'Kapitel 1'!K57","v":false},true,true,null,true,true,true,true,true,null,null,null,{"$f":"IF(I28=\"\",$H28,I28)","v":true},true,true,true,true,true,true,true,true,false,null,null,null,null,null,null,null,null,null,null,null,null,null,null,null,null,null,null,null,null,null,null,null,null,null,null,null,null,{"$f":"BF39","v":"F1.8"},"F1.8FALSCH",false,"Sorgen Sie dafür, dass die Maßnahmen regelmäßig nachverfolgt werden. Besprechen Sie die Leistungsüberprüfung und die Interaktion mit Stakeholdern regelmäßig mit der obersten Leitung. Überprüfen Sie die KPIs mindestens vierteljährlich, um so früh wie möglich aufkommende Trends zu erkennen. "]
[null,null,null,null,null,null,null,{"$f":"'Kapitel 1'!K58","v":false},false,false,null,false,false,false,false,false,null,null,null,{"$f":"IF(I29=\"\",$H29,I29)","v":false},false,false,false,false,false,false,{"$f":"IF(P29=\"\",$H29,P29)","v":false},{"$f":"IF(Q29=\"\",$H29,Q29)","v":false},false,null,null,null,null,null,null,null,null,null,null,null,null,null,null,null,null,null,null,null,null,null,null,null,null,null,null,null,null,{"$f":"BF40","v":"F1.8"},"F1.8FALSCH",false,"Es wird empfohlen, das System jährlich zu überprüfen und zu entscheiden, was noch benötigt wird, was weggelassen werden kann, welche neuen Probleme entstehen…"]
[null,null,null,null,null,null,{"$f":"B18","v":"F1.9"},{"$f":"'Kapitel 1'!K61","v":true},false,false,null,false,false,false,false,false,null,null,null,null,null,null,null,null,null,null,null,null,null,null,null,null,null,null,null,null,null,null,null,null,null,null,null,null,null,null,null,null,null,null,null,null,null,null,null,null,null,{"$f":"G42","v":"F1.9"},"F1.9WAHR",true,"Überlegen Sie als ersten Schritt den Einsatz von „Gastauditoren“ von anderen Werken oder Funktionsbereichen."]
[null,null,null,null,null,null,null,{"$f":"'Kapitel 1'!K62","v":false},false,false,null,false,false,false,false,false,null,null,null,null,null,null,null,null,null,null,null,null,null,null,null,null,null,null,null,null,null,null,null,null,null,null,null,null,null,null,null,null,null,null,null,null,null,null,null,null,null,{"$f":"BF42","v":"F1.9"},"F1.9FALSCH",false,"Schaffen Sie Möglichkeiten für die Interaktion von Management und Mitarbeitern. Sorgen Sie dafür, dass die Ergebnisse der Audits bei den Managementbewertungen besprochen werden."]
[null,null,null,null,null,null,null,{"$f":"'Kapitel 1'!K63","v":false},true,true,null,true,true,true,true,true,null,null,{"$f":"G30","v":"F1.6"},{"$f":"IF(I30=\"\",$H30,I30)","v":false},{"$f":"IF(J30=\"\",$H30,J30)","v":false},{"$f":"IF(K30=\"\",$H30,K30)","v":false},{"$f":"IF(L30=\"\",$H30,L30)","v":false},false,{"$f":"IF(N30=\"\",$H30,N30)","v":false},{"$f":"IF(O30=\"\",$H30,O30)","v":false},{"$f":"IF(P30=\"\",$H30,P30)","v":false},false,false,null,null,null,null,null,null,null,null,null,null,null,null,null,null,null,null,null,null,null,null,null,null,null,null,null,null,null,null,{"$f":"BF43","v":"F1.9"},"F1.9FALSCH",false,"Sorgen Sie dafür, dass beim Auftreten von Nichtkonformitäten Korrekturmaßnahmen ergriffen und der obersten Leitung berichtet werden."]
[null,null,null,null,null,null,null,{"$f":"'Kapitel 1'!K64","v":false},false,false,null,false,false,false,false,false,null,null,null,{"$f":"IF(I31=\"\",$H31,I31)","v":false},false,false,false,false,false,false,false,false,false,null,null,null,null,null,null,null,null,null,null,null,null,null,null,null,null,null,null,null,null,null,null,null,null,null,null,null,null,"F1.9","F1.9FALSCH",false,"Schließen Sie die Schleife. Sorgen Sie dafür, dass ein Prozess zur Evaluierung des „Managementsystemevaluierungsprozesses“ auf Effektivität vorhanden ist."]
[null,null,null,null,null,null,{"$f":"B19","v":"F1.10"},{"$f":"'Kapitel 1'!K67","v":false},false,false,null,false,false,false,false,false,null,null,null,{"$f":"IF(I32=\"\",$H32,I32)","v":false},false,false,false,false,false,true,false,false,false,null,null,null,null,null,null,null,null,null,null,null,null,null,null,null,null,null,null,null,null,null,null,null,null,null,null,null,null,{"$f":"G46","v":"F1.10"},"F1.10FALSCH",false,"Berichten Sie Vorfälle und entwickeln Sie Kriterien zur Beurteilung der Schwere."]
[null,null,null,null,null,null,null,{"$f":"'Kapitel 1'!K68","v":false},false,false,null,false,false,false,false,false,null,null,null,{"$f":"IF(I33=\"\",$H33,I33)","v":true},true,true,{"$f":"IF(L33=\"\",$H33,L33)","v":true},{"$f":"IF(M33=\"\",$H33,M33)","v":true},true,false,true,true,false,null,null,null,null,null,null,null,null,null,null,null,null,null,null,null,null,null,null,null,null,null,null,null,null,null,null,null,null,{"$f":"BF46","v":"F1.10"},"F1.10FALSCH",false,"Entwickeln Sie eine systematische Berichterstattung für alle Vorfälle in der Organisation (Beurteilung ihres Schweregrads, Analyse der Grundursache des Problems, Vorschlag von Abhilfemaßnahmen und Sicherstellen, dass sie angemessen umgesetzt und vermittelt werden). \nAußer dem nötigen Verständnis der Prozesse, bei denen der Vorfall geschah, wird empfohlen, die Unabhängigkeit des Prüfers von den untersuchten Abteilungen oder Verantwortlichen zu gewährleisten."]
[null,null,null,null,null,null,null,{"$f":"'Kapitel 1'!K69","v":true},true,true,null,true,true,true,true,true,null,null,null,null,null,null,null,null,null,null,null,null,null,null,null,null,null,null,null,null,null,null,null,null,null,null,null,null,null,null,null,null,null,null,null,null,null,null,null,null,null,{"$f":"BF47","v":"F1.10"},"F1.10WAHR",true,"Sorgen Sie für den Austausch der aus den Untersuchungen gewonnenen Erkenntnisse außerhalb der Organisation nach Bedarf mit Partnerorganisationen oder  Peers."]
[null,null,null,null,null,null,null,{"$f":"'Kapitel 1'!K70","v":false},false,false,null,false,false,false,false,false,null,null,null,null,null,null,null,null,null,null,null,null,null,null,null,null,null,null,null,null,null,null,null,null,null,null,null,null,null,null,null,null,null,null,null,null,null,null,null,null,null,{"$f":"BF48","v":"F1.10"},"F1.10FALSCH",false,"Es wird empfohlen, das System jährlich zu überprüfen und zu entscheiden, was noch benötigt wird, was weggelassen werden kann, welche neuen Probleme entstehen…"]
[null,null,null,null,null,null,{"$f":"B20","v":"F1.11"},{"$f":"'Kapitel 1'!K75","v":false},false,false,null,false,false,false,false,false,null,null,{"$f":"G34","v":"F1.7"},{"$f":"IF(I34=\"\",$H34,I34)","v":false},{"$f":"IF(J34=\"\",$H34,J34)","v":false},{"$f":"IF(K34=\"\",$H34,K34)","v":true},{"$f":"IF(L34=\"\",$H34,L34)","v":false},false,{"$f":"IF(N34=\"\",$H34,N34)","v":false},{"$f":"IF(O34=\"\",$H34,O34)","v":false},{"$f":"IF(P34=\"\",$H34,P34)","v":false},true,false,null,null,null,null,null,null,null,null,null,null,null,null,null,null,null,null,null,null,null,null,null,null,null,null,null,null,null,null,{"$f":"G50","v":"F1.11"},"F1.11FALSCH",false,"Berücksichtigen Sie HSEE&S-Anforderungen oder vorzunehmende Verbesserungen bei den Budgetplanungen für Investitionen und Betriebskosten."]
[null,null,null,null,null,null,null,{"$f":"'Kapitel 1'!K76","v":false},false,false,null,false,false,false,false,false,null,null,null,{"$f":"IF(I35=\"\",$H35,I35)","v":false},false,false,false,false,false,false,false,false,false,null,null,null,null,null,null,null,null,null,null,null,null,null,null,null,null,null,null,null,null,null,null,null,null,null,null,null,null,{"$f":"BF50","v":"F1.11"},"F1.11FALSCH",false,"Halten Sie qualifiziertes HSEE&S-Personal (Mitarbeiter und/oder Berater), das in der Lage ist, das Management in Bezug auf geeignete Maßnahmen im Umgang mit bestimmten HSEE&S-Problemen zu beraten.\nBerücksichtigen Sie HSEE&S-Anforderungen bei den Budgetplanungszyklen für Investitionen und Betriebskosten.\nSorgen Sie für entsprechende Schulung und Ressourcen für Mitarbeiter auf allen Ebenen der Organisation, ermutigen Sie z. B. Mitarbeiter zum Besuch von Seminaren, Meetings und Konferenzen zu HSEE&S."]
[null,null,null,null,null,null,null,{"$f":"'Kapitel 1'!K77","v":true},true,true,null,true,true,true,true,true,null,null,null,{"$f":"IF(I36=\"\",$H36,I36)","v":true},true,false,true,true,false,true,true,false,false,null,null,null,null,null,null,null,null,null,null,null,null,null,null,null,null,null,null,null,null,null,null,null,null,null,null,null,null,{"$f":"BF51","v":"F1.11"},"F1.11WAHR",true,"Ressourcen zur Beurteilung der Verbesserungen sind ebenfalls zu planen, zusätzlich zu denjenigen für die Umsetzung von Maßnahmen"]
[null,null,null,null,null,null,null,{"$f":"'Kapitel 1'!K78","v":false},false,false,null,false,false,false,false,false,null,null,null,{"$f":"IF(I37=\"\",$H37,I37)","v":false},false,false,false,false,true,false,false,false,false,null,null,null,null,null,null,null,null,null,null,null,null,null,null,null,null,null,null,null,null,null,null,null,null,null,null,null,null,{"$f":"BF52","v":"F1.11"},"F1.11FALSCH",false,"Es wird empfohlen, das System jährlich zu überprüfen und zu entscheiden, was noch benötigt wird, was weggelassen werden kann, welche neuen Probleme entstehen…"]
[null,null,null,null,null,null,{"$f":"B21","v":"F1.12"},{"$f":"'Kapitel 1'!K81","v":false},false,false,null,false,false,false,false,false,null,null,null,null,null,null,null,null,null,null,null,null,null,null,null,null,null,null,null,null,null,null,null,null,null,null,null,null,null,null,null,null,null,null,null,null,null,null,null,null,null,{"$f":"G54","v":"F1.12"},"F1.12FALSCH",false,"Bereiten Sie einige Kommunikationsmaterialien für relevante HSEE&S vor. "]
[null,null,null,null,null,null,null,{"$f":"'Kapitel 1'!K82","v":true},false,false,null,false,false,false,false,false,null,null,null,null,null,null,null,null,null,null,null,null,null,null,null,null,null,null,null,null,null,null,null,null,null,null,null,null,null,null,null,null,null,null,null,null,null,null,null,null,null,{"$f":"BF54","v":"F1.12"},"F1.12WAHR",true,"Entwerfen und entwickeln Sie HSEE&S-Schulungsmaterialien und -methoden für alle Ebenen der Organisation. Dazu können u. a. Managementbriefings, laufende begleitende Schulungsprogramme, Informationen zu Richtlinien, Verfahren und Programmen in regelmäßig angesetzten Sicherheitsbesprechungen zählen."]
[null,null,null,null,null,null,null,{"$f":"'Kapitel 1'!K83","v":false},true,true,null,true,true,true,true,false,null,null,null,null,null,null,null,null,null,null,null,null,null,null,null,null,null,null,null,null,null,null,null,null,null,null,null,null,null,null,null,null,null,null,null,null,null,null,null,null,null,{"$f":"BF55","v":"F1.12"},"F1.12FALSCH",false,"Bewerten Sie die Effektivität des internen Kommunikationsplans durch eine mögliche regelmäßige Umfrage: ist das Bewusstsein bei den Mitarbeitern vorhanden? Welche Informationen benötigen sie noch? Wie viele Mitarbeiter haben Sie mit der geplanten Kommunikation erreicht? Wurde das Ziel erreicht? Wurde die Botschaft wie erwartet aufgenommen? "]
[null,null,null,null,null,null,null,{"$f":"'Kapitel 1'!K84","v":false},false,false,null,false,false,false,false,true,null,null,null,null,null,null,null,null,null,null,null,null,null,null,null,null,null,null,null,null,null,null,null,null,null,null,null,null,null,null,null,null,null,null,null,null,null,null,null,null,null,{"$f":"BF56","v":"F1.12"},"F1.12FALSCH",false,"Es wird empfohlen, das System jährlich zu überprüfen und zu entscheiden, was noch benötigt wird, was weggelassen werden kann, welche neuen Probleme entstehen…"]
[null,null,null,null,null,null,{"$f":"B22","v":"F1.13"},{"$f":"'Kapitel 1'!K87","v":true},false,false,null,false,false,false,false,false,null,null,{"$f":"G38","v":"F1.8"},{"$f":"IF(I38=\"\",$H38,I38)","v":false},{"$f":"IF(J38=\"\",$H38,J38)","v":false},{"$f":"IF(K38=\"\",$H38,K38)","v":false},{"$f":"IF(L38=\"\",$H38,L38)","v":false},false,{"$f":"IF(N38=\"\",$H38,N38)","v":false},{"$f":"IF(O38=\"\",$H38,O38)","v":false},{"$f":"IF(P38=\"\",$H38,P38)","v":false},false,false,null,null,null,null,null,null,null,null,null,null,null,null,null,null,null,null,null,null,null,null,null,null,null,null,null,null,null,null,{"$f":"G58","v":"F1.13"},"F1.13WAHR",true,"Schulung ist ein Instrument, um Mitarbeitern und Geschäftspartnern entsprechende Kenntnisse und Informationen zu vermitteln.\n\nSchulung muss für jeden Aufgabenbereich in der gesamten Organisation dokumentiert werden. In der Regel wird eine Schulungsmatrix oder -datenbank verwendet, um den Schulungsbedarf für jeden Mitarbeiter auf Basis der Tätigkeitskategorie und des Aufgabenbereichs zu ermitteln.\nDie Schulungsanforderungen können von den gesamten Prozessen für Korrektur- und Vorbeugemaßnahmen des Managementsystems beeinflusst werden. Erkenntnisse aus einem Vorfall oder einer Nichtkonformität im System können zu Änderungen bei bestimmten Schulungsanforderungen führen."]
[null,null,null,null,null,null,null,{"$f":"'Kapitel 1'!K88","v":false},false,false,null,false,false,false,false,false,null,null,null,{"$f":"IF(I39=\"\",$H39,I39)","v":false},false,true,false,false,false,false,false,true,false,null,null,null,null,null,null,null,null,null,null,null,null,null,null,null,null,null,null,null,null,null,null,null,null,null,null,null,null,{"$f":"BF58","v":"F1.13"},"F1.13FALSCH",false,"Es wird empfohlen, Schulungsprogramme im Hinblick auf das Erreichend der festgelegten Ziele und Vorgaben zu entwickeln – zusätzlich zur Einhaltung der gesetzlichen und anderen HSEE&S-bezogenen Anforderungen.\nSchulungen können auf vielen Ebenen erfolgen, darunter Präsenzschulungen, betriebliches und arbeitsbegleitendes Lernen. \nSchulungsprogramme können für neue Mitarbeiter (und Auftragnehmer) sowie als laufende Schulungsmaßnahmen für alle Mitarbeiter (und Auftragnehmer) entwickelt werden. Entwickeln Sie Programme für die Mitarbeiterorientierung, die Fragen im Zusammenhang mit Responsible Care betonen.\nEs ist wichtig, dass eine Organisation Schulungsaufzeichnungen für jeden Mitarbeiter führt. Das kann durch ein papiergestütztes Nachverfolgungssystem oder eine Datenbank erfolgen."]
[null,null,null,null,null,null,null,{"$f":"'Kapitel 1'!K89","v":false},true,true,null,true,true,true,true,true,null,null,null,{"$f":"IF(I40=\"\",$H40,I40)","v":true},true,false,true,true,true,true,true,false,false,null,null,null,null,null,null,null,null,null,null,null,null,null,null,null,null,null,null,null,null,null,null,null,null,null,null,null,null,{"$f":"BF59","v":"F1.13"},"F1.13FALSCH",false,"Um effektiv zu sein, sollte das Managementsystem die Feststellung der Kompetenz derjenigen Mitarbeiter enthalten, die in durch das Risikobewertungssystem der Organisation ermittelten Hochrisikobereichen arbeiten."]
[null,null,null,null,null,null,null,{"$f":"'Kapitel 1'!K90","v":false},false,false,null,false,false,false,false,false,null,null,null,{"$f":"IF(I41=\"\",$H41,I41)","v":false},false,false,false,false,false,false,false,false,false,null,null,null,null,null,null,null,null,null,null,null,null,null,null,null,null,null,null,null,null,null,null,null,null,null,null,null,null,{"$f":"BF60","v":"F1.13"},"F1.13FALSCH",false,"Zusätzliche Schwerpunktbereiche können Personal umfassen, das in der Interaktion, Qualifizierung und Überprüfung mit/von Geschäftspartnern und im Dialog mit Stakeholdern tätig ist, sowie interne Auditoren."]
[null,null,null,null,null,null,{"$f":"B23","v":"F1.14"},{"$f":"'Kapitel 1'!K93","v":false},null,false,null,false,false,false,false,false,null,null,null,null,null,null,null,null,null,null,null,null,null,null,null,null,null,null,null,null,null,null,null,null,null,null,null,null,null,null,null,null,null,null,null,null,null,null,null,null,null,{"$f":"G62","v":"F1.14"},"F1.14FALSCH",false,"Informieren Sie Mitarbeiter regelmäßig über relevante HSEE&S-Themen, -Ziele und -Auswirkungen."]
[null,null,null,null,null,null,null,{"$f":"'Kapitel 1'!K94","v":false},null,true,null,false,true,false,true,false,null,null,null,null,null,null,null,null,null,null,null,null,null,null,null,null,null,null,null,null,null,null,null,null,null,null,null,null,null,null,null,null,null,null,null,null,null,null,null,null,null,{"$f":"BF62","v":"F1.14"},"F1.14FALSCH",false,"Organisieren Sie Momente des Dialogs innerhalb der Organisation, die es allen Mitarbeitern ermöglichen, die Interessen und konkreten Auswirkungen eines Managementsystems (HSEE&S) zu verstehen, fördern Sie persönliche Initiativen und ändern Sie Ziele anhand des praktischen Feedbacks aus dem Feld.\n- Fördern Sie die Kommunikation von unten nach oben, indem Sie Mitarbeiter in die Entwicklung und Umsetzung von Verfahren und Programmen einbeziehen.\n- Entwickeln Sie Programme, durch die sich die Mitarbeiter ihrer Rolle bei der Ermittlung und Kommunikation bestimmter Gefahren und/oder Korrekturmaßnahmen bewusster werden.\n- Würdigen Sie die Beteiligung oder die Beiträge von Mitarbeitern an bzw. für HSEE&S-Programme(n) durch die Erwähnung in Publikationen oder mithilfe von Auszeichnungsprogrammen.\n- Stellen Sie Kummerkästen für Vorschläge von HSEE&S-Ideen oder für Bedenken zur Verfügung. Kommunizieren Sie Folgemaßnahmen und liefern Sie Feedback für Vorschläge."]
[null,null,null,null,null,null,null,{"$f":"'Kapitel 1'!K95","v":false},null,false,null,true,false,true,false,true,null,null,{"$f":"G42","v":"F1.9"},{"$f":"IF(I42=\"\",$H42,I42)","v":false},false,true,false,false,false,false,false,true,false,null,null,null,null,null,null,null,null,null,null,null,null,null,null,null,null,null,null,null,null,null,null,null,null,null,null,null,null,{"$f":"BF63","v":"F1.14"},"F1.14FALSCH",false,"Evaluieren Sie die Effektivität der Mitarbeiterbeteiligung.\nMachen Sie die Mitarbeitervertretung zu einem wichtigen Partner bei allen Entscheidungen. Entwickeln Sie ein System, das gute Vorschläge belohnt.\nMake employee's organisation a key partner for all decisions. Establish a system rewarding good suggestions."]
[null,null,null,null,null,null,null,{"$f":"'Kapitel 1'!K96","v":true},null,false,null,false,false,false,false,false,null,null,null,{"$f":"IF(I43=\"\",$H43,I43)","v":false},{"$f":"IF(J43=\"\",$H43,J43)","v":false},{"$f":"IF(K43=\"\",$H43,K43)","v":false},{"$f":"IF(L43=\"\",$H43,L43)","v":false},{"$f":"IF(M43=\"\",$H43,M43)","v":false},{"$f":"IF(N43=\"\",$H43,N43)","v":false},{"$f":"IF(O43=\"\",$H43,O43)","v":false},{"$f":"IF(P43=\"\",$H43,P43)","v":false},false,false,null,null,null,null,null,null,null,null,null,null,null,null,null,null,null,null,null,null,null,null,null,null,null,null,null,null,null,null,{"$f":"BF64","v":"F1.14"},"F1.14WAHR",true,"Es wird empfohlen, das System jährlich zu überprüfen und zu entscheiden, was noch benötigt wird, was weggelassen werden kann, welche neuen Probleme entstehen…"]
[null,null,null,null,null,null,{"$f":"B24","v":"F1.15"},{"$f":"'Kapitel 1'!K101","v":false},false,false,null,false,false,false,false,false,null,null,null,true,{"$f":"IF(J44=\"\",$H44,J44)","v":true},false,true,true,{"$f":"IF(N44=\"\",$H44,N44)","v":true},{"$f":"IF(O44=\"\",$H44,O44)","v":true},true,false,false,null,null,null,null,null,null,null,null,null,null,null,null,null,null,null,null,null,null,null,null,null,null,null,null,null,null,null,null,{"$f":"G66","v":"F1.15"},"F1.15FALSCH",false,"Erstellen Sie eine umfassende Liste interner Regelungen für Abteilungen und Mitarbeitern in Bezug auf HSEE&S. "]
[null,null,null,null,null,null,null,{"$f":"'Kapitel 1'!K102","v":true},false,false,null,false,false,false,false,false,null,null,null,false,false,false,false,false,{"$f":"IF(N45=\"\",$H45,N45)","v":false},{"$f":"IF(O45=\"\",$H45,O45)","v":false},false,false,false,null,null,null,null,null,null,null,null,null,null,null,null,null,null,null,null,null,null,null,null,null,null,null,null,null,null,null,null,{"$f":"BF66","v":"F1.15"},"F1.15WAHR",true,"Es wird empfohlen, die Dokumente systematisch zu verwalten, sie aktuell zu halten und ungültige Dokumentation zu beseitigen.\nEs ist wichtig, dass Mitarbeiter je nach ihrer Position entsprechenden Zugang zu Dokumentation haben."]
[null,null,null,null,null,null,null,{"$f":"'Kapitel 1'!K103","v":false},true,true,null,true,true,true,true,true,null,null,null,null,null,null,null,null,null,null,null,null,null,null,null,null,null,null,null,null,null,null,null,null,null,null,null,null,null,null,null,null,null,null,null,null,null,null,null,null,null,{"$f":"BF67","v":"F1.15"},"F1.15FALSCH",false,"Es wird empfohlen, die HSEE&S-Dokumentation allen Mitarbeitern zugänglich zu machen."]
[null,null,null,null,null,null,null,{"$f":"'Kapitel 1'!K104","v":false},false,false,null,false,false,false,false,false,null,null,null,null,null,null,null,null,null,null,null,null,null,null,null,null,null,null,null,null,null,null,null,null,null,null,null,null,null,null,null,null,null,null,null,null,null,null,null,null,null,{"$f":"BF68","v":"F1.15"},"F1.15FALSCH",false,"Es wird empfohlen, das System jährlich zu überprüfen und zu entscheiden, was noch benötigt wird, was weggelassen werden kann, welche neuen Probleme entstehen…"]
[null,null,null,null,null,null,{"$f":"B25","v":"F1.16"},{"$f":"'Kapitel 1'!K109","v":false},false,false,null,false,false,false,false,false,null,null,{"$f":"G46","v":"F1.10"},{"$f":"IF(I46=\"\",$H46,I46)","v":false},false,false,false,false,false,false,false,false,false,null,null,null,null,null,null,null,null,null,null,null,null,null,null,null,null,null,null,null,null,null,null,null,null,null,null,null,null,{"$f":"G70","v":"F1.16"},"F1.16FALSCH",false,"Definieren Sie, welche Art von Änderungen unter ein MoC-Verfahren fallen muss und klären sie den Ansatz zur Umsetzung einer Änderung in der Organisation:\nWie ist der Rest der Organisation zu informieren? Was sind die Voraussetzungen für die Genehmigung einer Änderung? Wer ist zur Genehmigung berechtigt? Wer ist befugt, die ordnungsgemäße Durchführung der Änderung zu bestätigen?"]
[null,null,null,null,null,null,null,{"$f":"'Kapitel 1'!K110","v":true},false,false,null,false,false,false,false,false,null,null,null,{"$f":"IF(I47=\"\",$H47,I47)","v":false},{"$f":"IF(J47=\"\",$H47,J47)","v":false},{"$f":"IF(K47=\"\",$H47,K47)","v":false},{"$f":"IF(L47=\"\",$H47,L47)","v":false},{"$f":"IF(M47=\"\",$H47,M47)","v":false},{"$f":"IF(N47=\"\",$H47,N47)","v":false},{"$f":"IF(O47=\"\",$H47,O47)","v":false},{"$f":"IF(P47=\"\",$H47,P47)","v":false},{"$f":"IF(Q47=\"\",$H47,Q47)","v":false},false,null,null,null,null,null,null,null,null,null,null,null,null,null,null,null,null,null,null,null,null,null,null,null,null,null,null,null,null,{"$f":"BF70","v":"F1.16"},"F1.16WAHR",true,"Entwickeln Sie ein Management-of-Change-Verfahren, um eine Überprüfung im Hinblick auf die Risikobewertung (A&GS, Umweltschutz und Prozesssicherheit) von Betriebsanleitungen, Genehmigungen und sonstigen Unterlagen zu gewährleisten, die gegebenenfalls von der Änderung betroffen sind."]
[null,null,null,null,null,null,null,{"$f":"'Kapitel 1'!K111","v":false},true,true,null,true,true,true,true,true,null,null,null,true,true,true,true,true,true,{"$f":"IF(O48=\"\",$H48,O48)","v":true},{"$f":"IF(P48=\"\",$H48,P48)","v":true},true,false,null,null,null,null,null,null,null,null,null,null,null,null,null,null,null,null,null,null,null,null,null,null,null,null,null,null,null,null,{"$f":"BF71","v":"F1.16"},"F1.16FALSCH",false,"Schaffen Sie ein Management-of-Change-Register, um die Übersicht für alle betroffenen Mitarbeiter zu wahren. Diese Übersicht muss aktualisiert werden und den aktuellen Status aller Projekte anzeigen.\nDas Informieren und die Schulung der Mitarbeiter (einschließlich Auftragnehmer) ist wesentlich."]
[null,null,null,null,null,null,null,{"$f":"'Kapitel 1'!K112","v":false},false,false,null,false,false,false,false,false,null,null,null,false,false,false,false,false,false,{"$f":"IF(O49=\"\",$H49,O49)","v":false},{"$f":"IF(P49=\"\",$H49,P49)","v":false},{"$f":"IF(Q49=\"\",$H49,Q49)","v":false},false,null,null,null,null,null,null,null,null,null,null,null,null,null,null,null,null,null,null,null,null,null,null,null,null,null,null,null,null,{"$f":"BF72","v":"F1.16"},"F1.16FALSCH",false,"Es wird empfohlen, das System jährlich zu überprüfen und zu entscheiden, was noch benötigt wird, was weggelassen werden kann, welche neuen Probleme entstehen…"]
[]
[]
[]
[]
[null,null,null,null,null,null,null,null,null,null,null,null,null,null,null,null,null,null,{"$f":"G50","v":"F1.11"},{"$f":"IF(I50=\"\",$H50,I50)","v":false},false,false,false,false,false,false,false,false,false]
[null,null,null,null,null,null,null,null,null,null,null,null,null,null,null,null,null,null,null,{"$f":"IF(I51=\"\",$H51,I51)","v":false},{"$f":"IF(J51=\"\",$H51,J51)","v":false},{"$f":"IF(K51=\"\",$H51,K51)","v":false},{"$f":"IF(L51=\"\",$H51,L51)","v":false},{"$f":"IF(M51=\"\",$H51,M51)","v":false},{"$f":"IF(N51=\"\",$H51,N51)","v":false},{"$f":"IF(O51=\"\",$H51,O51)","v":false},{"$f":"IF(P51=\"\",$H51,P51)","v":false},{"$f":"IF(Q51=\"\",$H51,Q51)","v":false},false]
[null,null,null,null,null,null,null,null,null,null,null,null,null,null,null,null,null,null,null,true,true,true,true,true,true,{"$f":"IF(O52=\"\",$H52,O52)","v":true},{"$f":"IF(P52=\"\",$H52,P52)","v":true},true,false]
[null,null,null,null,null,null,null,null,null,null,null,null,null,null,null,null,null,null,null,false,false,false,false,false,false,{"$f":"IF(O53=\"\",$H53,O53)","v":false},false,false,false]
[]
[]
[null,null,null,null,null,null,null,null,null,null,null,null,null,null,null,null,null,null,{"$f":"G54","v":"F1.12"},{"$f":"IF(I54=\"\",$H54,I54)","v":false},false,false,false,false,false,false,false,false,false]
[null,null,null,null,null,null,null,null,null,null,null,null,null,null,null,null,null,null,null,{"$f":"IF(I55=\"\",$H55,I55)","v":false},{"$f":"IF(J55=\"\",$H55,J55)","v":false},{"$f":"IF(K55=\"\",$H55,K55)","v":true},{"$f":"IF(L55=\"\",$H55,L55)","v":false},{"$f":"IF(M55=\"\",$H55,M55)","v":false},{"$f":"IF(N55=\"\",$H55,N55)","v":false},{"$f":"IF(O55=\"\",$H55,O55)","v":false},{"$f":"IF(P55=\"\",$H55,P55)","v":false},true,false]
[null,null,null,null,null,null,null,null,null,null,null,null,null,null,null,null,null,null,null,true,true,false,true,true,true,{"$f":"IF(O56=\"\",$H56,O56)","v":true},false,false,false]
[null,null,null,null,null,null,null,null,null,null,null,null,null,null,null,null,null,null,null,false,false,false,false,false,false,false,true,false,false]
[]
[]
[null,null,null,null,null,null,null,null,null,null,null,null,null,null,null,null,null,null,{"$f":"G58","v":"F1.13"},{"$f":"IF(I58=\"\",$H58,I58)","v":false},false,true,false,false,false,false,false,true,false]
[null,null,null,null,null,null,null,null,null,null,null,null,null,null,null,null,null,null,null,{"$f":"IF(I59=\"\",$H59,I59)","v":false},{"$f":"IF(J59=\"\",$H59,J59)","v":false},{"$f":"IF(K59=\"\",$H59,K59)","v":false},{"$f":"IF(L59=\"\",$H59,L59)","v":false},{"$f":"IF(M59=\"\",$H59,M59)","v":false},{"$f":"IF(N59=\"\",$H59,N59)","v":false},{"$f":"IF(O59=\"\",$H59,O59)","v":false},{"$f":"IF(P59=\"\",$H59,P59)","v":false},false,false]
[null,null,null,null,null,null,null,null,null,null,null,null,null,null,null,null,null,null,null,true,true,false,true,true,true,true,true,false,false]
[null,null,null,null,null,null,null,null,null,null,null,null,null,null,null,null,null,null,null,false,false,false,false,false,{"$f":"IF(N61=\"\",$H61,N61)","v":false},false,false,false,false]
[]
[]
[null,null,null,null,null,null,null,null,null,null,null,null,null,null,null,null,null,null,{"$f":"G62","v":"F1.14"},{"$f":"IF(I62=\"\",$H62,I62)","v":false},false,false,false,false,false,false,false,false,false]
[null,null,null,null,null,null,null,null,null,null,null,null,null,null,null,null,null,null,null,{"$f":"IF(I63=\"\",$H63,I63)","v":false},{"$f":"IF(J63=\"\",$H63,J63)","v":true},{"$f":"IF(K63=\"\",$H63,K63)","v":false},{"$f":"IF(L63=\"\",$H63,L63)","v":false},{"$f":"IF(M63=\"\",$H63,M63)","v":true},{"$f":"IF(N63=\"\",$H63,N63)","v":false},{"$f":"IF(O63=\"\",$H63,O63)","v":true},{"$f":"IF(P63=\"\",$H63,P63)","v":false},false,false]
[null,null,null,null,null,null,null,null,null,null,null,null,null,null,null,null,null,null,null,false,false,false,true,false,true,false,true,false,false]
[null,null,null,null,null,null,null,null,null,null,null,null,null,null,null,null,null,null,null,true,false,true,false,false,false,false,false,true,false]
[]
[]
[]
[]
[null,null,null,null,null,null,null,null,null,null,null,null,null,null,null,null,null,null,{"$f":"G66","v":"F1.15"},{"$f":"IF(I66=\"\",$H66,I66)","v":false},false,false,false,false,false,false,false,false,false]
[null,null,null,null,null,null,null,null,null,null,null,null,null,null,null,null,null,null,null,{"$f":"IF(I67=\"\",$H67,I67)","v":false},{"$f":"IF(J67=\"\",$H67,J67)","v":false},{"$f":"IF(K67=\"\",$H67,K67)","v":true},{"$f":"IF(L67=\"\",$H67,L67)","v":false},{"$f":"IF(M67=\"\",$H67,M67)","v":false},{"$f":"IF(N67=\"\",$H67,N67)","v":false},{"$f":"IF(O67=\"\",$H67,O67)","v":false},{"$f":"IF(P67=\"\",$H67,P67)","v":false},true,false]
[null,null,null,null,null,null,null,null,null,null,null,null,null,null,null,null,null,null,null,true,true,false,true,true,true,true,true,false,false]
[null,null,null,null,null,null,null,null,null,null,null,null,null,null,null,null,null,null,null,false,false,false,false,false,false,false,false,false,false]
[]
[]
[]
[]
[null,null,null,null,null,null,null,null,null,null,null,null,null,null,null,null,null,null,{"$f":"G70","v":"F1.16"},{"$f":"IF(I70=\"\",$H70,I70)","v":false},false,false,false,false,false,false,false,false,false]
[null,null,null,null,null,null,null,null,null,null,null,null,null,null,null,null,null,null,null,{"$f":"IF(I71=\"\",$H71,I71)","v":false},{"$f":"IF(J71=\"\",$H71,J71)","v":false},{"$f":"IF(K71=\"\",$H71,K71)","v":true},{"$f":"IF(L71=\"\",$H71,L71)","v":false},{"$f":"IF(M71=\"\",$H71,M71)","v":false},{"$f":"IF(N71=\"\",$H71,N71)","v":false},{"$f":"IF(O71=\"\",$H71,O71)","v":false},{"$f":"IF(P71=\"\",$H71,P71)","v":false},true,false]
[null,null,null,null,null,null,null,null,null,null,null,null,null,null,null,null,null,null,null,true,true,false,true,true,true,true,true,false,false]
[null,null,null,null,null,null,null,null,null,null,null,null,null,null,null,null,null,null,null,false,false,false,false,false,false,false,false,{"$f":"IF(Q73=\"\",$H73,Q73)","v":false},false]
[]
["chapter 2"]
[]
[]
[]
[null,null,null,null,null,null,null,null,"scores in case of compliance",null,null,null,null,null,null,null,null,null,null,"to copy",null,null,null,null,null,null,null,null,null,null,null,null,"equal weights per question (adaptable)",null,null,null,"MCA"]
[null,"scores",null,null,null,"prefill",null,"answered","ISO9001","ISO14001","ISO26000","ISO45001","ISO50001","EMAS","RC14001","RCMS","GHS",null,null,{"$f":"I122","v":"ISO9001"},{"$f":"J122","v":"ISO14001"},{"$f":"K122","v":"ISO26000"},{"$f":"L122","v":"ISO45001"},{"$f":"M122","v":"ISO50001"},{"$f":"N122","v":"EMAS"},{"$f":"O122","v":"RC14001"},{"$f":"P122","v":"RCMS"},"GHS","clear",null,"weights",null,{"$f":"IF(SUM(AG124:AG173)=100,\"ok\",\"error\")","v":"ok"},{"$f":"IF(SUM(AH124:AH173)/COUNT(AG124:AG173)=100,\"ok\",\"error\")","v":"ok"},null,null,"subscores","score",null,null,"identification of major issues",null,null,null,null,null,"scores for standards",null,null,null,null,null,null,null,null,null,null,"improvement tips"]
[null,null,null,null,null,null,null,null,null,null,null,null,null,null,null,null,null,null,null,null,null,null,null,null,null,null,null,null,null,null,null,null,null,null,null,null,null,{"$f":"(AK124*AG124+AK135*AG135+AK150*AG150+AK153*AG153+AG160*AK160)/100","v":1.9333333333333331},null,null,null,null,null,null,null,null,null,{"$f":"I122","v":"ISO9001"},{"$f":"J122","v":"ISO14001"},{"$f":"K122","v":"ISO26000"},{"$f":"L122","v":"ISO45001"},{"$f":"M122","v":"ISO50001"},{"$f":"N122","v":"EMAS"},{"$f":"O122","v":"RC14001"},{"$f":"P122","v":"RCMS"},"GHS"]
[null,{"$f":"'Kapitel 2'!C6","v":"F2.1"},{"$f":"IF('Kapitel 2'!K7,1,IF('Kapitel 2'!K8,2,IF('Kapitel 2'!K9,3,IF('Kapitel 2'!K10,4,\"\"))))","v":1},"formula 4 choices",null,null,{"$f":"B124","v":"F2.1"},{"$f":"'Kapitel 2'!K7","v":true},null,null,null,false,null,null,false,null,null,null,{"$f":"G124","v":"F2.1"},{"$f":"IF(I124=\"\",$H124,I124)","v":true},{"$f":"IF(J124=\"\",$H124,J124)","v":true},{"$f":"IF(K124=\"\",$H124,K124)","v":true},{"$f":"IF(L124=\"\",$H124,L124)","v":false},{"$f":"IF(M124=\"\",$H124,M124)","v":true},{"$f":"IF(N124=\"\",$H124,N124)","v":true},{"$f":"IF(O124=\"\",$H124,O124)","v":false},{"$f":"IF(P124=\"\",$H124,P124)","v":true},true,false,null,{"$f":"'Kapitel 2'!B4","v":"Arbeits- und Gesundheitsschutz"},null,{"$f":"10/45*100","v":22.222222222222221},null,null,null,{"$f":"(C124*AH125+C125*AH126+C126*AH127+C127*AH128+C128*AH129+C129*AH130+C130*AH131+C131*AH132+C132*AH133+C133*AH134)/100","v":1.9},null,null,null,{"$f":"B124","v":"F2.1"},1,{"$f":"IF(C124<AP124,\"major issue\",\"ok\")","v":"ok"},{"$f":"IF(AQ124<>\"ok\",1,0)","v":0},null,null,{"$f":"AO124","v":"F2.1"},{"$f":"IF(I124,1,IF(I125,2,IF(I126,3,IF(I127,4,\"-\"))))","v":"-"},{"$f":"IF(J124,1,IF(J125,2,IF(J126,3,IF(J127,4,\"-\"))))","v":"-"},{"$f":"IF(K124,1,IF(K125,2,IF(K126,3,IF(K127,4,\"-\"))))","v":"-"},{"$f":"IF(L124,1,IF(L125,2,IF(L126,3,IF(L127,4,\"-\"))))","v":2},{"$f":"IF(M124,1,IF(M125,2,IF(M126,3,IF(M127,4,\"-\"))))","v":"-"},{"$f":"IF(N124,1,IF(N125,2,IF(N126,3,IF(N127,4,\"-\"))))","v":"-"},{"$f":"IF(O124,1,IF(O125,2,IF(O126,3,IF(O127,4,\"-\"))))","v":2},{"$f":"IF(P124,1,IF(P125,2,IF(P126,3,IF(P127,4,\"-\"))))","v":"-"},"-",null,{"$f":"G124","v":"F2.1"},{"$f":"CONCATENATE(BF124,BH124)","v":"F2.1WAHR"},{"$f":"H124","v":true},"Definition von Rollen und Ressourcen\nWenden Sie die Richtlinie auf allen Ebenen der Organisation an.\nDefinieren Sie bestimmte Ziele und verfolgen Sie diese Ziele mit Indikatoren nach.\nApply the policy for all levels in the organisation.\nDefine specific objectives and track these objectives with indicators."]
[null,{"$f":"'Kapitel 2'!C12","v":"F2.2"},{"$f":"IF('Kapitel 2'!K13,1,IF('Kapitel 2'!K14,2,IF('Kapitel 2'!K15,3,IF('Kapitel 2'!K16,4,\"\"))))","v":1},"formula 4 choices",null,null,null,{"$f":"'Kapitel 2'!K8","v":false},null,null,null,true,null,null,true,null,null,null,null,{"$f":"IF(I125=\"\",$H125,I125)","v":false},false,false,true,{"$f":"IF(M125=\"\",$H125,M125)","v":false},false,true,false,false,false,null,null,{"$f":"B124","v":"F2.1"},null,10,null,null,null,null,null,null,{"$f":"B125","v":"F2.2"},1,{"$f":"IF(C125<AP125,\"major issue\",\"ok\")","v":"ok"},{"$f":"IF(AQ125<>\"ok\",1,0)","v":0},null,null,{"$f":"AO125","v":"F2.2"},{"$f":"IF(I128,1,IF(I129,2,IF(I130,3,IF(I131,4,\"-\"))))","v":"-"},{"$f":"IF(J128,1,IF(J129,2,IF(J130,3,IF(J131,4,\"-\"))))","v":"-"},{"$f":"IF(K128,1,IF(K129,2,IF(K130,3,IF(K131,4,\"-\"))))","v":"-"},{"$f":"IF(L128,1,IF(L129,2,IF(L130,3,IF(L131,4,\"-\"))))","v":2},{"$f":"IF(M128,1,IF(M129,2,IF(M130,3,IF(M131,4,\"-\"))))","v":"-"},{"$f":"IF(N128,1,IF(N129,2,IF(N130,3,IF(N131,4,\"-\"))))","v":"-"},{"$f":"IF(O128,1,IF(O129,2,IF(O130,3,IF(O131,4,\"-\"))))","v":"-"},{"$f":"IF(P128,1,IF(P129,2,IF(P130,3,IF(P131,4,\"-\"))))","v":"-"},"-",null,{"$f":"BF124","v":"F2.1"},"F2.1FALSCH",{"$f":"H125","v":false},"Definieren Sie auf allen Ebenen der Organisation deutlich Zuständigkeiten zur Verhinderung von Unfällen.\nWenden Sie die Richtlinie des Unternehmens an.\nDem A&GS-Personal werden klare Ziele vorgegeben, um gemäß dem jeweiligen Grad an Verantwortung zur Leistung beitragen zu können."]
[null,{"$f":"'Kapitel 2'!C18","v":"F2.3"},{"$f":"IF('Kapitel 2'!K19,1,IF('Kapitel 2'!K20,2,IF('Kapitel 2'!K21,3,IF('Kapitel 2'!K22,4,\"\"))))","v":4},"formula 4 choices",null,null,null,{"$f":"'Kapitel 2'!K9","v":false},null,null,null,false,null,null,false,null,null,null,null,{"$f":"IF(I126=\"\",$H126,I126)","v":false},false,false,{"$f":"IF(L126=\"\",$H126,L126)","v":false},false,false,false,false,false,false,null,null,{"$f":"B125","v":"F2.2"},null,10,null,null,null,null,null,null,"F2.3",2,"ok",0,null,null,"F2.3",{"$f":"IF(I132,1,IF(I133,2,IF(I134,3,IF(I135,4,\"-\"))))","v":"-"},"-","-",3,"-","-","-","-","-",null,{"$f":"BF125","v":"F2.1"},"F2.1FALSCH",false,"Binden Sie die Mitarbeiter in die Entwicklung der Richtlinien ein."]
[null,{"$f":"'Kapitel 2'!C24","v":"F2.4"},{"$f":"IF('Kapitel 2'!K25,1,IF('Kapitel 2'!K26,2,IF('Kapitel 2'!K27,3,IF('Kapitel 2'!K28,4,\"\"))))","v":1},"formula 4 choices",null,null,null,{"$f":"'Kapitel 2'!K10","v":false},null,null,null,false,null,null,false,null,null,null,null,{"$f":"IF(I127=\"\",$H127,I127)","v":false},false,false,{"$f":"IF(L127=\"\",$H127,L127)","v":false},false,false,false,{"$f":"IF(P127=\"\",$H127,P127)","v":false},{"$f":"IF(Q127=\"\",$H127,Q127)","v":false},false,null,null,"F2.3",null,10,null,null,null,null,null,null,"F2.4",1,"ok",0,null,null,"F2.4",{"$f":"IF(I136,1,IF(I137,2,IF(I138,3,IF(I139,4,\"-\"))))","v":"-"},"-","-",3,"-","-",3,"-","-",null,{"$f":"BF126","v":"F2.1"},"F2.1FALSCH",false,"Kein Bedarf für sofortige Strategieänderung, aber Verbesserungen sind immer im Auge zu behalten."]
[null,{"$f":"'Kapitel 2'!C30","v":"F2.5"},{"$f":"IF('Kapitel 2'!K31,1,IF('Kapitel 2'!K32,2,IF('Kapitel 2'!K33,3,IF('Kapitel 2'!K34,4,\"\"))))","v":2},"formula 4 choices",null,null,{"$f":"B125","v":"F2.2"},{"$f":"'Kapitel 2'!K13","v":true},null,null,null,false,null,null,null,null,null,null,null,null,null,null,null,null,null,null,null,null,null,null,null,"F2.4",null,10,null,null,null,null,null,null,"F2.5",1,"ok",0,null,null,"F2.5",{"$f":"IF(I140,1,IF(I141,2,IF(I142,3,IF(I143,4,\"-\"))))","v":"-"},"-","-",3,"-","-","-","-","-",null,{"$f":"G128","v":"F2.2"},"F2.2WAHR",{"$f":"H128","v":true},"Ermitteln und beschreiben Sie die potenziellen Risiken für die öffentliche Gesundheit und Sicherheit im normalen Betrieb und in einer verschlechterten Situation im Kontext eines geänderten oder abnormalen Betriebs für den Betrieb aller Prozesse, Anlagen und Standorte.\nEntwickeln Sie einen Gefahrenbeurteilungsplan und setzen Sie diesen um.\n• Verwenden Sie systematische Ansätze (z. B. Arbeitssicherheitsanalyse, vorläufige Gefahrenanalyse, Analyse der Fehlermöglichkeiten und -wirkungen usw.) zur Analyse von Arbeiten oder Tätigkeiten, die im Werk durchgeführt werden, um die Gesundheits- oder Sicherheitsrisiken im Zusammenhang mit diesen Arbeiten oder Tätigkeiten zu ermitteln; \n• Führen Sie industrielle Hygienebeurteilungen für die Belastung von Arbeitskräften durch chemische, physikalische und biologische Wirkstoffe durch; \n• Entwickeln Sie Systeme, die die schnelle Beurteilung von potenziellen Gesundheits- und Sicherheitsrisiken auslösen."]
[null,{"$f":"'Kapitel 2'!C36","v":"F2.6"},{"$f":"IF('Kapitel 2'!K37,1,IF('Kapitel 2'!K38,2,IF('Kapitel 2'!K39,3,IF('Kapitel 2'!K40,4,\"\"))))","v":3},"formula 4 choices",null,null,null,{"$f":"'Kapitel 2'!K14","v":false},null,null,null,true,null,null,null,null,null,null,null,null,null,null,null,null,null,null,null,null,null,null,null,"F2.5",null,10,null,null,null,null,null,null,"F2.6",2,"ok",0,null,null,"F2.6",{"$f":"IF(I144,1,IF(I145,2,IF(I146,3,IF(I147,4,\"-\"))))","v":"-"},"-","-",3,"-","-","-","-","-",null,{"$f":"BF128","v":"F2.2"},"F2.2FALSCH",false,"Ermitteln Sie Mitarbeiter mit einem Risiko, Gesundheits- und Sicherheitsrisiken ausgesetzt zu sein."]
[null,{"$f":"'Kapitel 2'!C42","v":"F2.7"},{"$f":"IF('Kapitel 2'!K43,1,IF('Kapitel 2'!K44,2,IF('Kapitel 2'!K45,3,IF('Kapitel 2'!K46,4,\"\"))))","v":1},"formula 4 choices",null,null,null,{"$f":"'Kapitel 2'!K15","v":false},null,null,null,false,null,null,null,null,null,null,{"$f":"G128","v":"F2.2"},{"$f":"IF(I128=\"\",$H128,I128)","v":true},true,true,false,true,true,true,true,true,false,null,null,"F2.6",null,10,null,null,null,null,null,null,"F2.7",2,"major issue",1,null,null,"F2.7",{"$f":"IF(I148,1,IF(I149,2,IF(I150,3,IF(I151,4,\"-\"))))","v":"-"},"-",4,3,"-","-",3,"-","-",null,{"$f":"BF129","v":"F2.2"},"F2.2FALSCH",false,"Bestimmen Sie Folgendes für die ermittelten Vorfallsszenarien:\no die Auswirkungen von gefährlichen Phänomenen auf die öffentliche Gesundheit und Sicherheit und ihre Intensität (Schweregrad);\no die Wahrscheinlichkeit des Auftretens (Wahrscheinlichkeitsgrad) und davon ausgehend die Höhe des Risikos oder der Kritikalität (Verbindung von Schweregrad und Wahrscheinlichkeit).\nTauschen Sie Ihre Best Practices mit Geschäftspartnern oder in Verbänden aus."]
[null,{"$f":"'Kapitel 2'!C48","v":"F2.8"},{"$f":"IF('Kapitel 2'!K49,1,IF('Kapitel 2'!K50,2,IF('Kapitel 2'!K51,3,IF('Kapitel 2'!K52,4,\"\"))))","v":1},"formula 4 choices",null,null,null,{"$f":"'Kapitel 2'!K16","v":false},null,null,null,false,null,null,null,null,null,null,null,{"$f":"IF(I129=\"\",$H129,I129)","v":false},{"$f":"IF(J129=\"\",$H129,J129)","v":false},{"$f":"IF(K129=\"\",$H129,K129)","v":false},{"$f":"IF(L129=\"\",$H129,L129)","v":true},{"$f":"IF(M129=\"\",$H129,M129)","v":false},{"$f":"IF(N129=\"\",$H129,N129)","v":false},{"$f":"IF(O129=\"\",$H129,O129)","v":false},{"$f":"IF(P129=\"\",$H129,P129)","v":false},false,false,null,null,"F2.7",null,10,null,null,null,null,null,null,"F2.8",1,"ok",0,null,null,"F2.8",{"$f":"IF(I152,1,IF(I153,2,IF(I154,3,IF(I155,4,\"-\"))))","v":"-"},3,3,3,"-","-",4,"-","-",null,{"$f":"BF130","v":"F2.2"},"F2.2FALSCH",false,"Kein Bedarf für sofortige Strategieänderung, aber Verbesserungen sind immer im Auge zu behalten."]
[null,{"$f":"'Kapitel 2'!C54","v":"F2.9"},{"$f":"IF('Kapitel 2'!K55,1,IF('Kapitel 2'!K56,2,IF('Kapitel 2'!K57,3,IF('Kapitel 2'!K58,4,\"\"))))","v":4},"formula 4 choices",null,null,{"$f":"B126","v":"F2.3"},{"$f":"'Kapitel 2'!K19","v":false},null,null,null,false,null,null,null,null,null,null,null,false,false,false,false,false,false,false,false,false,false,null,null,"F2.8",null,10,null,null,null,null,null,null,"F2.9",1,"ok",0,null,null,"F2.9",{"$f":"IF(I156,1,IF(I157,2,IF(I158,3,IF(I159,4,\"-\"))))","v":"-"},"-",3,3,"-","-",3,"-","-",null,{"$f":"G132","v":"F2.3"},"F2.3FALSCH",false,"Evaluieren Sie Werksaufgaben und Aufträge, um bestimmte physische und medizinische Anforderungen im Zusammenhang mit einer bestimmten Aufgabe zu ermitteln.\n• Es wird empfohlen, dass qualifiziertes Gesundheits- und Sicherheitspersonal die durchgeführten Arbeiten überwacht und die Tätigkeitsbeschreibungen und Aufgaben der verschiedenen im gesamten Werk durchgeführten Tätigkeiten überprüft;\n• Priorisieren Sie Tätigkeiten, für die Beurteilungskriterien festgelegt werden. Es wird empfohlen, dass medizinisches Personal (z. B. Arbeitsmediziner oder arbeitsmedizinische Pfleger) auf individueller Basis das Risiko eines Mitarbeiters für negative gesundheitliche Folgen bestimmen, die aus der Durchführung von wesentlichen Hauptaufgaben mit oder ohne angemessene(r) Anpassung resultieren."]
[null,{"$f":"'Kapitel 2'!C60","v":"F2.10"},{"$f":"IF('Kapitel 2'!K61,1,IF('Kapitel 2'!K62,2,IF('Kapitel 2'!K63,3,IF('Kapitel 2'!K64,4,\"\"))))","v":1},"formula 4 choices",null,null,null,{"$f":"'Kapitel 2'!K20","v":false},null,null,null,false,null,null,null,null,null,null,null,false,false,false,false,false,false,false,{"$f":"IF(P131=\"\",$H131,P131)","v":false},{"$f":"IF(Q131=\"\",$H131,Q131)","v":false},false,null,null,"F2.9",null,10,null,null,null,null,null,null,"F2.10",1,"ok",0,null,null,"F2.10",{"$f":"IF(I160,1,IF(I161,2,IF(I162,3,IF(I163,4,\"-\"))))","v":3},3,3,3,3,3,3,"-","-",null,{"$f":"BF132","v":"F2.3"},"F2.3FALSCH",false,"Bewerten Sie mithilfe von medizinischen, tätigkeitsbezogenen Kriterien die Fähigkeit von Einzelpersonen, eine bestimmte Tätigkeit oder Aufgabe zu erledigen.\n• Dem medizinischen Personal wird empfohlen, spezielle medizinische Tests zu ermitteln, die für die Beurteilung von Einzelpersonen für eine bestimmte Tätigkeit nützlich sein können (z. B. Sehtests für Personen, die ein motorisiertes Fahrzeug lenken), und sie in Vorab-Gesundheitsuntersuchungen zu integrieren.\n• Dem medizinischen Personal wird empfohlen, dafür zu sorgen, dass Aussagen zum Risiko von negativen gesundheitlichen Folgen nur auf den medizinischen Tests im Zusammenhang mit den Anforderungen der Tätigkeit basieren und keine anderen Tests als Teil von routinemäßigen Gesundheitsuntersuchungen durchgeführt werden;\n• Dem medizinischen Personal wird empfohlen, grundlegende medizinische Tests der Mitarbeiter nach Bedarf durchzuführen, um Umstände zu erkennen, die mit ihrer Fähigkeit zur sicheren Durchführung einer bestimmten Tätigkeit in Widerspruch stehen könnten."]
[null,{"$f":"'Kapitel 2'!C68","v":"F2.11"},{"$f":"IF('Kapitel 2'!K69,1,IF('Kapitel 2'!K70,2,IF('Kapitel 2'!K71,3,IF('Kapitel 2'!K72,4,\"\"))))","v":2},"formula 4 choices",null,null,null,{"$f":"'Kapitel 2'!K21","v":false},null,null,null,true,null,null,null,null,null,null,null,null,null,null,null,null,null,null,null,null,null,null,null,{"$f":"B133","v":"F2.10"},null,10,null,null,null,null,null,null,"F2.11",1,"ok",0,null,null,"F2.11",{"$f":"IF(I164,1,IF(I165,2,IF(I166,3,IF(I167,4,\"-\"))))","v":"-"},"-","-","-","-","-","-","-","-",null,{"$f":"BF133","v":"F2.3"},"F2.3FALSCH",false,"Dem medizinischen Personal wird empfohlen, dafür zu sorgen, dass medizinische Tests nur von diesem geprüft werden, um die Vertraulichkeit der medizinischen Ergebnisse zu gewährleisten."]
[null,{"$f":"'Kapitel 2'!C74","v":"F2.12"},{"$f":"IF('Kapitel 2'!K75,1,IF('Kapitel 2'!K76,2,IF('Kapitel 2'!K77,3,IF('Kapitel 2'!K78,4,\"\"))))","v":1},"formula 4 choices",null,null,null,{"$f":"'Kapitel 2'!K22","v":true},null,null,null,false,null,null,null,null,null,null,null,null,null,null,null,null,null,null,null,null,null,null,{"$f":"'Kapitel 2'!B66","v":"Verfahrenssicherheit"},null,{"$f":"14/45*100","v":31.111111111111111},null,null,null,{"$f":"(C134*AH136+C135*AH137+C136*AH138+C137*AH139+C138*AH140+C139*AH141+C140*AH142+C141*AH143+C142*AH144+C143*AH145+C144*AH146+C145*AH147+C146*AH148+C147*AH149)/100","v":2},null,null,null,"F2.12",1,"ok",0,null,null,"F2.12",{"$f":"IF(I168,1,IF(I169,2,IF(I170,3,IF(I171,4,\"-\"))))","v":"-"},"-","-","-","-","-","-","-","-",null,{"$f":"BF134","v":"F2.3"},"F2.3WAHR",true,"Kein Bedarf für sofortige Strategieänderung, aber Verbesserungen sind immer im Auge zu behalten."]
[null,{"$f":"'Kapitel 2'!C80","v":"F2.13"},{"$f":"IF('Kapitel 2'!K81,1,IF('Kapitel 2'!K82,2,IF('Kapitel 2'!K83,3,IF('Kapitel 2'!K84,4,\"\"))))","v":2},"formula 4 choices",null,null,{"$f":"B127","v":"F2.4"},{"$f":"'Kapitel 2'!K25","v":true},null,null,null,false,null,null,false,null,null,null,{"$f":"G132","v":"F2.3"},{"$f":"IF(I132=\"\",$H132,I132)","v":false},false,false,false,false,false,false,false,false,false,null,null,{"$f":"B134","v":"F2.11"},null,{"$f":"100/14","v":7.1428571428571432},null,null,null,null,null,null,"F2.13",1,"ok",0,null,null,"F2.13",{"$f":"IF(I172,1,IF(I173,2,IF(I174,3,IF(I175,4,\"-\"))))","v":"-"},"-","-","-","-","-","-","-","-",null,{"$f":"G136","v":"F2.4"},"F2.4WAHR",true,"Entwicklung eines Gesundheits- und Sicherheitsprogramms durch das Management der Organisation."]
[null,{"$f":"'Kapitel 2'!C86","v":"F2.14"},{"$f":"IF('Kapitel 2'!K87,1,IF('Kapitel 2'!K88,2,IF('Kapitel 2'!K89,3,IF('Kapitel 2'!K90,4,\"\"))))","v":3},"formula 4 choices",null,null,null,{"$f":"'Kapitel 2'!K26","v":false},null,null,null,false,null,null,false,null,null,null,null,{"$f":"IF(I133=\"\",$H133,I133)","v":false},{"$f":"IF(J133=\"\",$H133,J133)","v":false},false,false,{"$f":"IF(M133=\"\",$H133,M133)","v":false},{"$f":"IF(N133=\"\",$H133,N133)","v":false},false,false,false,false,null,null,{"$f":"B135","v":"F2.12"},null,{"$f":"100/14","v":7.1428571428571432},null,null,null,null,null,null,"F2.14",1,"ok",0,null,null,"F2.14",{"$f":"IF(I176,1,IF(I177,2,IF(I178,3,IF(I179,4,\"-\"))))","v":"-"},"-","-","-","-","-","-","-","-",null,{"$f":"BF136","v":"F2.4"},"F2.4FALSCH",false,"Entwicklung von Prozessen zur Bewertung des Folgenden: Arbeits- und Gesundheitsschutzchancen zur Verbesserung der Arbeits- und Gesundheitsschutzleistung unter Berücksichtigung der geplanten Änderungen an der Organisation, ihren Richtlinien, Prozessen oder Tätigkeiten und:\n1) Chancen zur Anpassung der Arbeit, der Arbeitsorganisation und des Arbeitsumfelds an die Beschäftigten;\n2) Chancen zur Beseitigung von Gefahren und zur Reduzierung von Arbeits- und Gesundheitsschutzrisiken;\n3) Andere Chancen für die Verbesserung des A&GS-Managementsystems"]
[null,{"$f":"'Kapitel 2'!C92","v":"F2.15"},{"$f":"IF('Kapitel 2'!K93,1,IF('Kapitel 2'!K94,2,IF('Kapitel 2'!K95,3,IF('Kapitel 2'!K96,4,\"\"))))","v":1},"formula 4 choices",null,null,null,{"$f":"'Kapitel 2'!K27","v":false},null,null,null,true,null,null,true,null,null,null,null,false,false,false,true,false,false,false,false,false,false,null,null,"F2.13",null,7.1428571428571432,null,null,null,null,null,null,"F2.15",1,"ok",0,null,null,"F2.15",{"$f":"IF(I180,1,IF(I181,2,IF(I182,3,IF(I183,4,\"-\"))))","v":"-"},"-","-","-","-","-","-","-","-",null,{"$f":"BF137","v":"F2.4"},"F2.4FALSCH",false,"Evaluieren Sie das Gesundheits- und Sicherheitsprogramm regelmäßig auf seine Effektivität (d. h. extern verifiziert, zum Beispiel über Leistungsindikatoren) und ergreifen Sie regelmäßige Maßnahmen, damit Mitarbeitern und Auftragnehmern Risiken und Chancen bewusst bleiben, und achten Sie auf deren Beteiligung am Programm."]
[null,{"$f":"'Kapitel 2'!C98","v":"F2.16"},{"$f":"IF('Kapitel 2'!K99,1,IF('Kapitel 2'!K100,2,IF('Kapitel 2'!K101,3,IF('Kapitel 2'!K102,4,\"\"))))","v":1},"formula 4 choices",null,null,null,{"$f":"'Kapitel 2'!K28","v":false},null,null,null,false,null,null,false,null,null,null,null,true,true,true,false,true,true,true,true,true,false,null,null,"F2.14",null,7.1428571428571432,null,null,null,null,null,null,"F2.16",1,"ok",0,null,null,"F2.16",{"$f":"IF(I184,1,IF(I185,2,IF(I186,3,IF(I187,4,\"-\"))))","v":"-"},"-","-","-","-","-","-","-","-",null,{"$f":"BF138","v":"F2.4"},"F2.4FALSCH",false,"Kein Bedarf für sofortige Strategieänderung, aber Verbesserungen sind immer im Auge zu behalten."]
[null,{"$f":"'Kapitel 2'!C104","v":"F2.17"},{"$f":"IF('Kapitel 2'!K105,1,IF('Kapitel 2'!K106,2,IF('Kapitel 2'!K107,3,IF('Kapitel 2'!K108,4,\"\"))))","v":4},"formula 4 choices",null,null,{"$f":"B128","v":"F2.5"},{"$f":"'Kapitel 2'!K31","v":false},null,null,null,false,null,null,null,null,null,null,null,null,null,null,null,null,null,null,null,null,null,null,null,"F2.15",null,7.1428571428571432,null,null,null,null,null,null,{"$f":"B140","v":"F2.17"},1,"ok",{"$f":"IF(AQ140<>\"ok\",1,0)","v":0},null,null,"F2.17",{"$f":"IF(I188,1,IF(I189,2,IF(I190,3,IF(I191,4,\"-\"))))","v":"-"},"-","-","-","-","-","-","-","-",null,{"$f":"G140","v":"F2.5"},"F2.5FALSCH",false,"Entwickeln Sie vorbeugende Wartungsmaßnahmen und Hausordnungen, um die Sicherheit der Einrichtungen, Werkzeuge und Anlagen zu erhalten."]
[null,{"$f":"'Kapitel 2'!C110","v":"F2.18"},{"$f":"IF('Kapitel 2'!K111,1,IF('Kapitel 2'!K112,2,IF('Kapitel 2'!K113,3,IF('Kapitel 2'!K114,4,\"\"))))","v":2},"formula 4 choices",null,null,null,{"$f":"'Kapitel 2'!K32","v":true},null,null,null,false,null,null,null,null,null,null,null,null,null,null,null,null,null,null,null,null,null,null,null,"F2.16",null,7.1428571428571432,null,null,null,null,null,null,"F2.18",1,"ok",{"$f":"IF(AQ141<>\"ok\",1,0)","v":0},null,null,"F2.18",{"$f":"IF(I192,1,IF(I193,2,IF(I194,3,IF(I195,4,\"-\"))))","v":"-"},"-","-","-","-","-","-","-","-",null,{"$f":"BF140","v":"F2.5"},"F2.5WAHR",true,"Evaluieren Sie regelmäßig die Effektivität des Wartungsprogramms, messen Sie den Erfolg und verbessern Sie die Wartungspläne."]
[null,{"$f":"'Kapitel 2'!C116","v":"F2.19"},{"$f":"IF('Kapitel 2'!K117,1,IF('Kapitel 2'!K118,2,IF('Kapitel 2'!K119,3,IF('Kapitel 2'!K120,4,\"\"))))","v":2},"formula 4 choices",null,null,null,{"$f":"'Kapitel 2'!K33","v":false},null,null,null,true,null,null,null,null,null,null,{"$f":"G136","v":"F2.4"},{"$f":"IF(I136=\"\",$H136,I136)","v":true},true,true,false,true,true,false,true,true,false,null,null,"F2.17",null,7.1428571428571432,null,null,null,null,null,null,"F2.19",1,"ok",0,null,null,"F2.19",{"$f":"IF(I196,1,IF(I197,2,IF(I198,3,IF(I199,4,\"-\"))))","v":"-"},"-","-","-","-","-","-","-","-",null,{"$f":"BF141","v":"F2.5"},"F2.5FALSCH",false,"Schaffen Sie eine ausgeklügeltes risiko- oder wissensbasiertes Wartungs- und Inspektionsprogramm."]
[null,{"$f":"'Kapitel 2'!C122","v":"F2.20"},{"$f":"IF('Kapitel 2'!K123,1,IF('Kapitel 2'!K124,2,IF('Kapitel 2'!K125,3,IF('Kapitel 2'!K126,4,\"\"))))","v":1},"formula 4 choices",null,null,null,{"$f":"'Kapitel 2'!K34","v":false},null,null,null,false,null,null,null,null,null,null,null,{"$f":"IF(I137=\"\",$H137,I137)","v":false},{"$f":"IF(J137=\"\",$H137,J137)","v":false},false,false,{"$f":"IF(M137=\"\",$H137,M137)","v":false},{"$f":"IF(N137=\"\",$H137,N137)","v":false},false,false,false,false,null,null,"F2.18",null,7.1428571428571432,null,null,null,null,null,null,"F2.20",1,"ok",0,null,null,"F2.20",{"$f":"IF(I200,1,IF(I201,2,IF(I202,3,IF(I203,4,\"-\"))))","v":"-"},"-","-","-","-","-","-","-","-",null,{"$f":"BF142","v":"F2.5"},"F2.5FALSCH",false,"Kein Bedarf für sofortige Strategieänderung, aber Verbesserungen sind immer im Auge zu behalten."]
[null,{"$f":"'Kapitel 2'!C128","v":"F2.21"},{"$f":"IF('Kapitel 2'!K129,1,IF('Kapitel 2'!K130,2,IF('Kapitel 2'!K131,3,IF('Kapitel 2'!K132,4,\"\"))))","v":3},"formula 4 choices",null,null,{"$f":"B129","v":"F2.6"},{"$f":"'Kapitel 2'!K37","v":false},null,null,null,false,null,null,null,null,null,null,null,false,false,false,true,false,false,true,false,false,false,null,null,"F2.19",null,7.1428571428571432,null,null,null,null,null,null,"F2.21",1,"ok",0,null,null,"F2.21",{"$f":"IF(I204,1,IF(I205,2,IF(I206,3,IF(I207,4,\"-\"))))","v":"-"},"-",3,"-","-","-","-","-","-",null,{"$f":"G144","v":"F2.6"},"F2.6FALSCH",false,"Entwickeln Sie einen detaillierten Plan, der einen Zeitplan, organisatorische Verantwortlichkeiten und benötigte Ressourcen für jede zu erledigende Tätigkeit festlegt. "]
[null,{"$f":"'Kapitel 2'!C134","v":"F2.22"},{"$f":"IF('Kapitel 2'!K135,1,IF('Kapitel 2'!K136,2,IF('Kapitel 2'!K137,3,IF('Kapitel 2'!K138,4,\"\"))))","v":1},"formula 4 choices",null,null,null,{"$f":"'Kapitel 2'!K38","v":false},null,null,null,false,null,null,null,null,null,null,null,false,false,false,false,{"$f":"IF(M139=\"\",$H139,M139)","v":false},false,false,false,false,false,null,null,"F2.20",null,7.1428571428571432,null,null,null,null,null,null,"F2.22",1,"ok",0,null,null,"F2.22",{"$f":"IF(I208,1,IF(I209,2,IF(I210,3,IF(I211,4,\"-\"))))","v":"-"},"-","-","-","-","-","-","-","-",null,{"$f":"BF144","v":"F2.6"},"F2.6FALSCH",false,"Schulen Sie Ihre Mitarbeiter so, dass sie wissen und verstehen, wann welche persönliche Schutzausrüstung (PSA) notwendig ist, und führen Sie PSA-Bewertungen durch. "]
[null,{"$f":"'Kapitel 2'!C140","v":"F2.23"},{"$f":"IF('Kapitel 2'!K141,1,IF('Kapitel 2'!K142,2,IF('Kapitel 2'!K143,3,IF('Kapitel 2'!K144,4,\"\"))))","v":2},"formula 4 choices",null,null,null,{"$f":"'Kapitel 2'!K39","v":true},null,null,null,true,null,null,null,null,null,null,null,null,null,null,null,null,null,null,null,null,null,null,null,"F2.21",null,7.1428571428571432,null,null,null,null,null,null,"F2.23",1,"ok",0,null,null,"F2.23",{"$f":"IF(I212,1,IF(I213,2,IF(I214,3,IF(I215,4,\"-\"))))","v":"-"},"-","-","-","-","-","-","-","-",null,{"$f":"BF145","v":"F2.6"},"F2.6WAHR",true,"Machen Sie die Mitarbeiter aufmerksam, dass sie die „Arbeitsstoppbefugnis“ besitzen, wenn die persönliche Schutzausrüstung (PSA) als ungeeignet betrachtet wird, um eine Gefahr im Griff zu haben. "]
[null,{"$f":"'Kapitel 2'!C146","v":"F2.24"},{"$f":"IF('Kapitel 2'!K147,1,IF('Kapitel 2'!K148,2,IF('Kapitel 2'!K149,3,IF('Kapitel 2'!K150,4,\"\"))))","v":3},"formula 4 choices",null,null,null,{"$f":"'Kapitel 2'!K40","v":false},null,null,null,false,null,null,null,null,null,null,null,null,null,null,null,null,null,null,null,null,null,null,null,"F2.22",null,7.1428571428571432,null,null,null,null,null,null,"F2.24",1,"ok",0,null,null,"F2.24",{"$f":"IF(I216,1,IF(I217,2,IF(I218,3,IF(I219,4,\"-\"))))","v":"-"},"-","-","-","-","-","-","-","-",null,{"$f":"BF146","v":"F2.6"},"F2.6FALSCH",false,"Kein Bedarf für sofortige Strategieänderung, aber Verbesserungen sind immer im Auge zu behalten."]
[null,{"$f":"'Kapitel 2'!C154","v":"F2.25"},{"$f":"IF('Kapitel 2'!K155,1,IF('Kapitel 2'!K156,2,IF('Kapitel 2'!K157,3,IF('Kapitel 2'!K158,4,\"\"))))","v":2},"formula 4 choices",null,null,{"$f":"B130","v":"F2.7"},{"$f":"'Kapitel 2'!K43","v":true},null,null,false,false,null,null,false,null,null,null,{"$f":"G140","v":"F2.5"},{"$f":"IF(I140=\"\",$H140,I140)","v":false},false,false,false,false,false,false,false,false,false,null,null,"F2.23",null,7.1428571428571432,null,null,null,null,null,null,"F2.25",2,"ok",0,null,null,"F2.25",{"$f":"IF(I220,1,IF(I221,2,IF(I222,3,IF(I223,4,\"-\"))))","v":"-"},"-","-","-","-","-","-","-","-",null,{"$f":"G148","v":"F2.7"},"F2.7WAHR",true,"Fördern Sie eine ausgeglichene Work-Life-Balance, sorgen Sie dafür, dass Beschäftigte die Möglichkeit für Vorschläge haben und die Organisation diese berücksichtigt.\nSorgen Sie im Hinblick auf die Ergonomie dafür, dass es eine systematische Evaluierung für alle Arbeitsplätze gibt."]
[null,{"$f":"'Kapitel 2'!C160","v":"F2.26"},{"$f":"IF('Kapitel 2'!K161,1,IF('Kapitel 2'!K162,2,IF('Kapitel 2'!K163,3,IF('Kapitel 2'!K164,4,\"\"))))","v":1},"formula 4 choices",null,null,null,{"$f":"'Kapitel 2'!K44","v":false},null,null,false,false,null,null,false,null,null,null,null,{"$f":"IF(I141=\"\",$H141,I141)","v":true},{"$f":"IF(J141=\"\",$H141,J141)","v":true},true,false,{"$f":"IF(M141=\"\",$H141,M141)","v":true},{"$f":"IF(N141=\"\",$H141,N141)","v":true},true,true,true,false,null,null,"F2.24",null,7.1428571428571432,null,null,null,null,null,null,"F2.26",1,"ok",0,null,null,"F2.26",{"$f":"IF(I224,1,IF(I225,2,IF(I226,3,IF(I227,4,\"-\"))))","v":"-"},"-","-","-","-","-","-","-","-",null,{"$f":"BF148","v":"F2.7"},"F2.7FALSCH",false,"Entwickeln Sie ein Verfahren, das alle Vorschläge der Beschäftigten aufgreift und verfolgen Sie die Änderungen nach, die zu ihrer Behandlung vorgenommen wurden.\nSchulen Sie Mitarbeiter in der richtigen ergonomischen Verwendung der Anlagen.\nMessen Sie die Wahrnehmung der Mitarbeiter in Bezug auf ihre Work-Life-Balance durch eine anonyme Umfrage;"]
[null,{"$f":"'Kapitel 2'!C168","v":"F2.27"},{"$f":"IF('Kapitel 2'!K169,1,IF('Kapitel 2'!K170,2,IF('Kapitel 2'!K171,3,IF('Kapitel 2'!K172,4,\"\"))))","v":1},"formula 4 choices",null,null,null,{"$f":"'Kapitel 2'!K45","v":false},null,null,false,true,null,null,true,null,null,null,null,false,false,false,true,false,false,false,false,false,false,null,{"$f":"'Kapitel 2'!B152","v":"Vertrieb"},null,{"$f":"2/45*100","v":4.4444444444444446},null,null,null,{"$f":"(C148*AH151+C149*AH152)/100","v":1.5},null,null,null,"F2.27",1,"ok",0,null,null,"F2.27",{"$f":"IF(I228,1,IF(I229,2,IF(I230,3,IF(I231,4,\"-\"))))","v":"-"},"-","-","-","-","-","-","-","-",null,{"$f":"BF149","v":"F2.7"},"F2.7FALSCH",false,"Entwickeln Sie ein spezifisches Programm zur Verbesserung der wichtigsten Problematiken, die sich aus der Umfrage ergeben.\nEvaluieren Sie regelmäßig die Effektivität des Programms."]
[null,{"$f":"'Kapitel 2'!C174","v":"F2.28"},{"$f":"IF('Kapitel 2'!K175,1,IF('Kapitel 2'!K176,2,IF('Kapitel 2'!K177,3,IF('Kapitel 2'!K178,4,\"\"))))","v":2},"formula 4 choices",null,null,null,{"$f":"'Kapitel 2'!K46","v":false},null,null,true,false,null,null,false,null,null,null,null,false,false,false,false,false,false,false,false,false,false,null,null,{"$f":"B148","v":"F2.25"},null,50,null,null,null,null,null,null,"F2.28",2,"ok",0,null,null,"F2.28",{"$f":"IF(I232,1,IF(I233,2,IF(I234,3,IF(I235,4,\"-\"))))","v":"-"},"-","-","-","-","-","-","-","-",null,{"$f":"BF150","v":"F2.7"},"F2.7FALSCH",false,"Kein Bedarf für sofortige Strategieänderung, aber Verbesserungen sind immer im Auge zu behalten."]
[null,{"$f":"'Kapitel 2'!C180","v":"F2.29"},{"$f":"IF('Kapitel 2'!K181,1,IF('Kapitel 2'!K182,2,IF('Kapitel 2'!K183,3,IF('Kapitel 2'!K184,4,\"\"))))","v":1},"formula 4 choices",null,null,{"$f":"B131","v":"F2.8"},{"$f":"'Kapitel 2'!K49","v":true},null,false,false,false,null,null,false,null,null,null,null,null,null,null,null,null,null,null,null,null,null,null,null,{"$f":"B149","v":"F2.26"},null,50,null,null,null,null,null,null,"F2.29",2,"major issue",1,null,null,"F2.29",{"$f":"IF(I236,1,IF(I237,2,IF(I238,3,IF(I239,4,\"-\"))))","v":"-"},"-","-","-","-","-","-","-","-",null,{"$f":"G152","v":"F2.8"},"F2.8WAHR",true,"Ordnen Sie den Risiken eine Wichtigkeit zu."]
[null,{"$f":"'Kapitel 2'!C186","v":"F2.30"},{"$f":"IF('Kapitel 2'!K187,1,IF('Kapitel 2'!K188,2,IF('Kapitel 2'!K189,3,IF('Kapitel 2'!K190,4,\"\"))))","v":1},"formula 4 choices",null,null,null,{"$f":"'Kapitel 2'!K50","v":false},null,false,false,false,null,null,false,null,null,null,null,null,null,null,null,null,null,null,null,null,null,null,{"$f":"'Kapitel 2'!B166","v":" Sicherheit"},null,{"$f":"6/45*100","v":13.333333333333334},null,null,null,{"$f":"(C150*AH154+C151*AH155+C152*AH156+C153*AH157+C154*AH158+C155*AH159)/100","v":1.5},null,null,null,"F2.30",2,"major issue",1,null,null,"F2.30",{"$f":"IF(I240,1,IF(I241,2,IF(I242,3,IF(I243,4,\"-\"))))","v":"-"},"-","-","-","-","-","-","-","-",null,{"$f":"BF152","v":"F2.8"},"F2.8FALSCH",false,"Ergreifen Sie angemessene Korrekturmaßnahmen, um das erneute Auftreten von Unfällen und Vorfällen zu verhindern."]
[null,{"$f":"'Kapitel 2'!C192","v":"F2.31"},{"$f":"IF('Kapitel 2'!K193,1,IF('Kapitel 2'!K194,2,IF('Kapitel 2'!K195,3,IF('Kapitel 2'!K196,4,\"\"))))","v":3},"formula 4 choices",null,null,null,{"$f":"'Kapitel 2'!K51","v":false},null,true,true,true,null,null,false,null,null,null,{"$f":"G144","v":"F2.6"},{"$f":"IF(I144=\"\",$H144,I144)","v":false},false,false,false,false,false,false,false,false,false,null,null,{"$f":"B150","v":"F2.27"},null,{"$f":"100/6","v":16.666666666666668},null,null,null,null,null,null,{"$f":"B154","v":"F2.31"},2,"ok",0,null,null,"F2.31",{"$f":"IF(I244,1,IF(I245,2,IF(I246,3,IF(I247,4,\"-\"))))","v":"-"},"-","-","-","-","-","-","-","-",null,{"$f":"BF153","v":"F2.8"},"F2.8FALSCH",false,"Tauschen Sie wichtige Erkenntnisse und die zugehörigen Korrekturmaßnahmen mit interessierten Parteien aus."]
[null,{"$f":"'Kapitel 2'!C198","v":"F2.32"},{"$f":"IF('Kapitel 2'!K199,1,IF('Kapitel 2'!K200,2,IF('Kapitel 2'!K201,3,IF('Kapitel 2'!K202,4,\"\"))))","v":1},"formula 4 choices",null,null,null,{"$f":"'Kapitel 2'!K52","v":false},null,false,false,false,null,null,true,null,null,null,null,{"$f":"IF(I145=\"\",$H145,I145)","v":false},{"$f":"IF(J145=\"\",$H145,J145)","v":false},false,false,{"$f":"IF(M145=\"\",$H145,M145)","v":false},{"$f":"IF(N145=\"\",$H145,N145)","v":false},false,false,false,false,null,null,{"$f":"B151","v":"F2.28"},null,{"$f":"100/6","v":16.666666666666668},null,null,null,null,null,null,"F2.32",2,"major issue",1,null,null,"F2.32",{"$f":"IF(I248,1,IF(I249,2,IF(I250,3,IF(I251,4,\"-\"))))","v":"-"},"-","-","-","-","-","-","-","-",null,{"$f":"BF154","v":"F2.8"},"F2.8FALSCH",false,"Kein Bedarf für sofortige Strategieänderung, aber Verbesserungen sind immer im Auge zu behalten."]
[null,{"$f":"'Kapitel 2'!C206","v":"F2.33"},{"$f":"IF('Kapitel 2'!K207,1,IF('Kapitel 2'!K208,2,IF('Kapitel 2'!K209,3,IF('Kapitel 2'!K210,4,\"\"))))","v":2},"formula 4 choices",null,null,{"$f":"B132","v":"F2.9"},{"$f":"'Kapitel 2'!K55","v":false},null,null,false,false,null,null,false,null,null,null,null,true,true,true,true,true,true,true,true,true,false,null,null,"F2.29",null,16.666666666666668,null,null,null,null,null,null,"F2.33",2,"ok",0,null,null,"F2.33",{"$f":"IF(I252,1,IF(I253,2,IF(I254,3,IF(I255,4,\"-\"))))","v":"-"},3,3,"-","-",3,3,3,"-",null,{"$f":"G156","v":"F2.9"},"F2.9FALSCH",false,"Bereiten Sie alle Mitarbeiter und Besucher durch regelmäßige Übungen auf die Reaktion auf einen Notfall vor. Ermitteln, benennen und schulen Sie zuerst Ersthelfer und andere Personen, die eine Rolle bei der Reaktion auf Notfälle übernehmen."]
[null,{"$f":"'Kapitel 2'!C212","v":"F2.34"},{"$f":"IF('Kapitel 2'!K213,1,IF('Kapitel 2'!K214,2,IF('Kapitel 2'!K215,3,IF('Kapitel 2'!K216,4,\"\"))))","v":1},"formula 4 choices",null,null,null,{"$f":"'Kapitel 2'!K56","v":false},null,null,false,false,null,null,false,null,null,null,null,false,false,false,false,false,false,false,false,false,false,null,null,"F2.30",null,16.666666666666668,null,null,null,null,null,null,"F2.34",1,"ok",0,null,null,"F2.34",{"$f":"IF(I256,1,IF(I257,2,IF(I258,3,IF(I259,4,\"-\"))))","v":"-"},4,"-","-",4,4,4,"-","-",null,{"$f":"BF156","v":"F2.9"},"F2.9FALSCH",false,"Überprüfen Sie den Notfallplan anhand der bei den Notfallübungen und anderen Ereignissen gewonnenen Erkenntnisse."]
[null,{"$f":"'Kapitel 2'!C218","v":"F2.35"},{"$f":"IF('Kapitel 2'!K219,1,IF('Kapitel 2'!K220,2,IF('Kapitel 2'!K221,3,IF('Kapitel 2'!K222,4,\"\"))))","v":2},"formula 4 choices",null,null,null,{"$f":"'Kapitel 2'!K57","v":false},null,null,true,true,null,null,true,null,null,null,null,null,null,null,null,null,null,null,null,null,null,null,null,"F2.31",null,16.666666666666668,null,null,null,null,null,null,"F2.35",1,"ok",0,null,null,"F2.35",{"$f":"IF(I260,1,IF(I261,2,IF(I262,3,IF(I263,4,\"-\"))))","v":"-"},3,"-","-","-",3,3,3,"-",null,{"$f":"BF157","v":"F2.9"},"F2.9FALSCH",false,"Sorgen Sie für eine enge Zusammenarbeit mit externen Ersthelfern, indem Sie sie an einigen Notfallübungen teilnehmen lassen, ihnen den Standort vorstellen und den Notfallplan zugänglich machen."]
[null,{"$f":"'Kapitel 2'!C224","v":"F2.36"},{"$f":"IF('Kapitel 2'!K225,1,IF('Kapitel 2'!K226,2,IF('Kapitel 2'!K227,3,IF('Kapitel 2'!K228,4,\"\"))))","v":1},"formula 4 choices",null,null,null,{"$f":"'Kapitel 2'!K58","v":true},null,null,false,false,null,null,false,null,null,null,null,null,null,null,null,null,null,null,null,null,null,null,null,{"$f":"B155","v":"F2.32"},null,16.666666666666668,null,null,null,null,null,null,"F2.36",1,"ok",0,null,null,"F2.36",{"$f":"IF(I264,1,IF(I265,2,IF(I266,3,IF(I267,4,\"-\"))))","v":"-"},3,"-","-","-",3,3,3,"-",null,"F2.9","F2.9WAHR",true,"Kein Bedarf für sofortige Strategieänderung, aber Verbesserungen sind immer im Auge zu behalten."]
[null,{"$f":"'Kapitel 2'!C230","v":"F2.37"},{"$f":"IF('Kapitel 2'!K231,1,IF('Kapitel 2'!K232,2,IF('Kapitel 2'!K233,3,IF('Kapitel 2'!K234,4,\"\"))))","v":3},"formula 4 choices",null,null,{"$f":"B133","v":"F2.10"},{"$f":"'Kapitel 2'!K61","v":true},false,false,false,false,false,false,false,null,null,null,{"$f":"G148","v":"F2.7"},{"$f":"IF(I148=\"\",$H148,I148)","v":true},true,false,false,true,true,false,true,true,false,null,{"$f":"'Kapitel 2'!B204","v":"Umwelt"},null,{"$f":"13/45*100","v":28.888888888888886},null,null,null,{"$f":"(C156*AH161+C157*AH162+C158*AH163+C159*AH164+C160*AH165+C161*AH166+C162*AH167+C163*AH168+C164*AH169+C165*AH170+C166*AH171+C167*AH172+C168*AH173)/100","v":2.1538461538461537},null,null,null,"F2.37",1,"ok",0,null,null,"F2.37",{"$f":"IF(I268,1,IF(I269,2,IF(I270,3,IF(I271,4,\"-\"))))","v":"-"},3,"-","-","-",3,3,3,"-",null,{"$f":"G160","v":"F2.10"},"F2.10WAHR",true,"Bieten Sie neuen Mitarbeitern Schulungen in Bezug auf A&GS. Geben Sie ihnen die Möglichkeit zur Teilnahme an Diskussionen über die A&GS-Richtlinie."]
[null,{"$f":"'Kapitel 2'!C236","v":"F2.38"},{"$f":"IF('Kapitel 2'!K237,1,IF('Kapitel 2'!K238,2,IF('Kapitel 2'!K239,3,IF('Kapitel 2'!K240,4,\"\"))))","v":1},"formula 4 choices",null,null,null,{"$f":"'Kapitel 2'!K62","v":false},false,false,false,false,false,false,false,null,null,null,null,{"$f":"IF(I149=\"\",$H149,I149)","v":false},{"$f":"IF(J149=\"\",$H149,J149)","v":false},false,false,{"$f":"IF(M149=\"\",$H149,M149)","v":false},{"$f":"IF(N149=\"\",$H149,N149)","v":false},false,false,false,false,null,null,{"$f":"B156","v":"F2.33"},null,{"$f":"100/13","v":7.6923076923076925},null,null,null,null,null,null,"F2.38",1,"ok",0,null,null,"F2.38",{"$f":"IF(I272,1,IF(I273,2,IF(I274,3,IF(I275,4,\"-\"))))","v":"-"},3,"-","-","-",3,3,3,"-",null,{"$f":"BF160","v":"F2.10"},"F2.10FALSCH",false,"Binden Sie Mitarbeiter in die Bewertung von beruflichen Risiken und in Überprüfungen der A&GS-Richtlinie ein.\nSorgen Sie dafür, dass auch Auftragnehmer vom Schulungssystem erfasst werden, ihr Grad an Kompetenz in A&GS-Angelegenheiten geprüft wird und Schulungen nach Bedarf angeboten werden."]
[null,{"$f":"'Kapitel 2'!C242","v":"F2.39"},{"$f":"IF('Kapitel 2'!K243,1,IF('Kapitel 2'!K244,2,IF('Kapitel 2'!K245,3,IF('Kapitel 2'!K246,4,\"\"))))","v":3},"formula 4 choices",null,null,null,{"$f":"'Kapitel 2'!K63","v":false},true,true,true,true,true,true,true,null,null,null,null,false,false,false,true,false,false,true,false,false,false,null,null,{"$f":"B157","v":"F2.34"},null,{"$f":"100/13","v":7.6923076923076925},null,null,null,null,null,null,"F2.39",1,"ok",0,null,null,"F2.39",{"$f":"IF(I276,1,IF(I277,2,IF(I278,3,IF(I279,4,\"-\"))))","v":"-"},3,"-","-","-",3,3,3,"-",null,{"$f":"BF161","v":"F2.10"},"F2.10FALSCH",false,"Evaluieren Sie die Effektivität der Kommunikation und Schulungen für alle Mitarbeiter."]
[null,{"$f":"'Kapitel 2'!C248","v":"F2.40"},{"$f":"IF('Kapitel 2'!K249,1,IF('Kapitel 2'!K250,2,IF('Kapitel 2'!K251,3,IF('Kapitel 2'!K252,4,\"\"))))","v":1},"formula 4 choices",null,null,null,{"$f":"'Kapitel 2'!K64","v":false},false,false,false,false,false,false,false,null,null,null,null,false,false,true,false,false,false,false,false,false,false,null,null,"F2.35",null,7.6923076923076925,null,null,null,null,null,null,"F2.40",1,"ok",0,null,null,"F2.40",{"$f":"IF(I280,1,IF(I281,2,IF(I282,3,IF(I283,4,\"-\"))))","v":"-"},3,"-","-","-",3,3,3,"-",null,{"$f":"BF162","v":"F2.10"},"F2.10FALSCH",false,"Kein Bedarf für sofortige Strategieänderung, aber Verbesserungen sind immer im Auge zu behalten."]
[null,{"$f":"'Kapitel 2'!C254","v":"F2.41"},{"$f":"IF('Kapitel 2'!K255,1,IF('Kapitel 2'!K256,2,IF('Kapitel 2'!K257,3,IF('Kapitel 2'!K258,4,\"\"))))","v":3},"formula 4 choices",null,null,{"$f":"B134","v":"F2.11"},{"$f":"'Kapitel 2'!K69","v":false},null,null,null,null,null,null,null,null,null,null,null,null,null,null,null,null,null,null,null,null,null,null,null,"F2.36",null,7.6923076923076925,null,null,null,null,null,null,"F2.41",1,"ok",0,null,null,"F2.41",{"$f":"IF(I284,1,IF(I285,2,IF(I286,3,IF(I287,4,\"-\"))))","v":"-"},3,"-","-","-",3,3,3,"-",null,{"$f":"G164","v":"F2.11"},"F2.11FALSCH",false,"Definition von Rollen und Ressourcen.\nWenden Sie die Richtlinie für alle an.\nDefinieren Sie bestimmte Ziele und verfolgen Sie diese Ziele mit Indikatoren nach."]
[null,{"$f":"'Kapitel 2'!C260","v":"F2.42"},{"$f":"IF('Kapitel 2'!K261,1,IF('Kapitel 2'!K262,2,IF('Kapitel 2'!K263,3,IF('Kapitel 2'!K264,4,\"\"))))","v":3},"formula 4 choices",null,null,null,{"$f":"'Kapitel 2'!K70","v":true},null,null,null,null,null,null,null,null,null,null,null,null,null,null,null,null,null,null,null,null,null,null,null,"F2.37",null,7.6923076923076925,null,null,null,null,null,null,"F2.42",1,"ok",0,null,null,"F2.42",{"$f":"IF(I288,1,IF(I289,2,IF(I290,3,IF(I291,4,\"-\"))))","v":"-"},3,"-","-","-",3,3,3,"-",null,{"$f":"BF164","v":"F2.11"},"F2.11WAHR",true,"Definieren Sie auf allen Ebenen der Organisation deutlich Zuständigkeiten zur Verhinderung von Unfällen.\nWenden Sie die Richtlinie des Unternehmens an.\nDem Prozesssicherheitspersonal werden klare Ziele vorgegeben, um gemäß dem jeweiligen Grad an Verantwortung zur Leistung beitragen zu können."]
[null,{"$f":"'Kapitel 2'!C266","v":"F2.43"},{"$f":"IF('Kapitel 2'!K267,1,IF('Kapitel 2'!K268,2,IF('Kapitel 2'!K269,3,IF('Kapitel 2'!K270,4,\"\"))))","v":2},"formula 4 choices",null,null,null,{"$f":"'Kapitel 2'!K71","v":false},null,null,null,null,null,null,null,null,null,null,{"$f":"G152","v":"F2.8"},{"$f":"IF(I152=\"\",$H152,I152)","v":true},false,false,false,true,true,false,true,true,false,null,null,"F2.38",null,7.6923076923076925,null,null,null,null,null,null,"F2.43",1,"ok",0,null,null,"F2.43",{"$f":"IF(I292,1,IF(I293,2,IF(I294,3,IF(I295,4,\"-\"))))","v":"-"},3,4,"-","-",3,3,"-","-",null,{"$f":"BF165","v":"F2.11"},"F2.11FALSCH",false,"Binden Sie die Mitarbeiter in die Entwicklung der Richtlinien ein."]
[null,{"$f":"'Kapitel 2'!C272","v":"F2.44"},{"$f":"IF('Kapitel 2'!K273,1,IF('Kapitel 2'!K274,2,IF('Kapitel 2'!K275,3,IF('Kapitel 2'!K276,4,\"\"))))","v":3},"formula 4 choices",null,null,null,{"$f":"'Kapitel 2'!K72","v":false},null,null,null,null,null,null,null,null,null,null,null,{"$f":"IF(I153=\"\",$H153,I153)","v":false},{"$f":"IF(J153=\"\",$H153,J153)","v":false},false,false,{"$f":"IF(M153=\"\",$H153,M153)","v":false},{"$f":"IF(N153=\"\",$H153,N153)","v":false},false,false,false,false,null,null,"F2.39",null,7.6923076923076925,null,null,null,null,null,null,"F2.44",1,"ok",0,null,null,"F2.44",{"$f":"IF(I296,1,IF(I297,2,IF(I298,3,IF(I299,4,\"-\"))))","v":"-"},3,3,"-","-",3,3,3,"-",null,{"$f":"BF166","v":"F2.11"},"F2.11FALSCH",false,"Kein Bedarf für sofortige Strategieänderung, aber Verbesserungen sind immer im Auge zu behalten."]
[null,{"$f":"'Kapitel 2'!C278","v":"F2.45"},{"$f":"IF('Kapitel 2'!K279,1,IF('Kapitel 2'!K280,2,IF('Kapitel 2'!K281,3,IF('Kapitel 2'!K282,4,\"\"))))","v":3},"formula 4 choices",null,null,{"$f":"B135","v":"F2.12"},{"$f":"'Kapitel 2'!K75","v":true},null,null,null,null,null,null,null,null,null,null,null,false,true,true,true,false,false,false,false,false,false,null,null,{"$f":"B163","v":"F2.40"},null,7.6923076923076925,null,null,null,null,null,null,{"$f":"B168","v":"F2.45"},1,{"$f":"IF(C168<AP168,\"major issue\",\"ok\")","v":"ok"},0,null,null,"F2.45",{"$f":"IF(I300,1,IF(I301,2,IF(I302,3,IF(I303,4,\"-\"))))","v":"-"},1,3,"-","-",2,2,2,"-",null,{"$f":"G168","v":"F2.12"},"F2.12WAHR",true,"Ermitteln Sie im Detail Folgendes für alle Prozesse/Anlagen/Standorte: \n- Die potenziellen Risiken für die öffentliche Gesundheit und Sicherheit im Normalbetrieb;\n- Die potenziellen Risiken für die öffentliche Gesundheit und Sicherheit in einer verschlechterten Situation im Kontext eines geänderten oder abnormalen Betriebs.\n- The potential risks to public health and safety in normal course of operation;\n- The potential risks to public health and safety in a degraded situation in the context of altered or abnormal operation."]
[null,null,null,null,null,null,null,{"$f":"'Kapitel 2'!K76","v":false},null,null,null,null,null,null,null,null,null,null,null,false,false,false,false,false,false,true,false,false,false,null,null,"F2.41",null,7.6923076923076925,null,null,null,null,null,null,null,null,null,null,null,null,null,null,null,null,null,null,null,null,null,null,null,{"$f":"BF168","v":"F2.12"},"F2.12FALSCH",false,"Zusätzlich: \n- Geben Sie diese Informationen über die potenziellen Risiken in den verschiedenen Situationen an die lokalen Anrainer weiter;\n- Sorgen Sie für die Kontrolle der Sicherheit durch die Verbreitung dieser Informationen."]
[null,null,null,null,null,null,null,{"$f":"'Kapitel 2'!K77","v":false},null,null,null,null,null,null,null,null,null,null,null,null,null,null,null,null,null,null,null,null,null,null,null,"F2.42",null,7.6923076923076925,null,null,null,null,null,null,null,null,null,{"$f":"IF(SUM(AR124:AR168)>0,\"Schlüsselelemente von RC müssen noch umgesetzt werden; s. Tipps\",\"\")","v":"Schlüsselelemente von RC müssen noch umgesetzt werden; s. Tipps"},null,null,null,null,null,null,null,null,null,null,null,null,null,{"$f":"BF169","v":"F2.12"},"F2.12FALSCH",false,"Bestimmen Sie Folgendes für die ermittelten Unfallszenarien: \n- die Auswirkungen von gefährlichen Phänomenen auf die öffentliche Gesundheit und Sicherheit und ihre Intensität (Schweregrad);\n- die Wahrscheinlichkeit des Auftretens (Wahrscheinlichkeitsgrad) und davon ausgehend die Höhe des Risikos oder der Kritikalität (Verbindung von Schweregrad und Wahrscheinlichkeit)."]
[null,null,null,null,null,null,null,{"$f":"'Kapitel 2'!K78","v":false},null,null,null,null,null,null,null,null,null,null,null,null,null,null,null,null,null,null,null,null,null,null,null,"F2.43",null,7.6923076923076925,null,null,null,null,null,null,null,null,null,null,null,null,null,null,null,null,null,null,null,null,null,null,null,{"$f":"BF170","v":"F2.12"},"F2.12FALSCH",false,"Kein Bedarf für sofortige Strategieänderung, aber Verbesserungen sind immer im Auge zu behalten."]
[null,null,null,null,null,null,{"$f":"B136","v":"F2.13"},{"$f":"'Kapitel 2'!K81","v":false},null,null,null,null,null,null,null,null,null,null,{"$f":"G156","v":"F2.9"},{"$f":"IF(I156=\"\",$H156,I156)","v":false},false,false,false,false,false,false,false,false,false,null,null,"F2.44",null,7.6923076923076925,null,null,null,null,null,null,null,null,null,null,null,null,null,null,null,null,null,null,null,null,null,null,null,{"$f":"G172","v":"F2.13"},"F2.13FALSCH",false,"Entwickeln Sie Klassifizierungskriterien für die Unfälle (basierend auf Art/Folge und potenziellen Risiken).\nErmitteln Sie die Vorfälle im Zusammenhang mit Prozesssicherheit (zumindest laut Definitionen des ICCA-Indikators für die die Leistung der Prozesssicherheit (LoC)) (https://cefic.org/app/uploads/2019/02/Cefic-ICCA-Guidance-on-Process-Safety-Performance-Indicators.pdf)."]
[null,null,null,null,null,null,null,{"$f":"'Kapitel 2'!K82","v":true},null,null,null,null,null,null,null,null,null,null,null,{"$f":"IF(I157=\"\",$H157,I157)","v":false},{"$f":"IF(J157=\"\",$H157,J157)","v":false},false,false,{"$f":"IF(M157=\"\",$H157,M157)","v":false},{"$f":"IF(N157=\"\",$H157,N157)","v":false},false,false,false,false,null,null,"F2.45",null,7.6923076923076925,null,null,null,null,null,null,null,null,null,null,null,null,null,null,null,null,null,null,null,null,null,null,null,{"$f":"BF172","v":"F2.13"},"F2.13WAHR",true,"Definieren Sie die Kriterien für das Team als Teil der Analyse von Vorfällen/Unfällen, darunter ein Koordinator und ein Zeitrahmen für Schlussfolgerungen."]
[null,null,null,null,null,null,null,{"$f":"'Kapitel 2'!K83","v":false},null,null,null,null,null,null,null,null,null,null,null,false,false,true,true,false,false,true,false,false,false,null,null,null,null,null,null,null,null,null,null,null,null,null,null,null,null,null,null,null,null,null,null,null,null,null,null,null,null,{"$f":"BF173","v":"F2.13"},"F2.13FALSCH",false,"Unfälle werden als Lernerfahrung verwendet und die Informationen darüber ausgetauscht.\nFühren Sie Good Practices für Korrekturmaßnahmen nach Möglichkeit als vorbeugende Maßnahmen ein."]
[null,null,null,null,null,null,null,{"$f":"'Kapitel 2'!K84","v":false},null,null,null,null,null,null,null,null,null,null,null,true,true,false,false,true,true,false,true,true,false,null,null,null,null,null,null,null,null,null,null,null,null,null,null,null,null,null,null,null,null,null,null,null,null,null,null,null,null,{"$f":"BF174","v":"F2.13"},"F2.13FALSCH",false,"Kein Bedarf für sofortige Strategieänderung, aber Verbesserungen sind immer im Auge zu behalten."]
[null,null,null,null,null,null,{"$f":"B137","v":"F2.14"},{"$f":"'Kapitel 2'!K87","v":false},null,null,null,null,null,null,null,null,null,null,null,null,null,null,null,null,null,null,null,null,null,null,null,null,null,null,null,null,null,null,null,null,null,null,null,null,null,null,null,null,null,null,null,null,null,null,null,null,null,{"$f":"G176","v":"F2.14"},"F2.14FALSCH",false,"Entwickeln Sie Kriterien, System und Periodizität für die Kontrolle der Bewertung der Prozesssicherheit und der Umsetzung der Ziele.\nIntegrieren Sie die Auditergebnisse und die Evaluierung im Hinblick auf die Ziele in die Managementbewertung für jede Abteilung oder jeden Bereich des Unternehmens.\nIntegrieren Sie die Überprüfung der Auditergebnisse und die Evaluierung im Hinblick auf die Ziele in der Managementbewertung.\nErmitteln Sie Indikatoren zur Überprüfung der Effektivität des Systems."]
[null,null,null,null,null,null,null,{"$f":"'Kapitel 2'!K88","v":false},null,null,null,null,null,null,null,null,null,null,null,null,null,null,null,null,null,null,null,null,null,null,null,null,null,null,null,null,null,null,null,null,null,null,null,null,null,null,null,null,null,null,null,null,null,null,null,null,null,{"$f":"BF176","v":"F2.14"},"F2.14FALSCH",false,"Priorisieren Sie Audit- und Inspektionsergebnisse.\nVerwenden Sie die Auditergebnisse zur Festlegung künftiger Ziele."]
[null,null,null,null,null,null,null,{"$f":"'Kapitel 2'!K89","v":true},null,null,null,null,null,null,null,null,null,null,{"$f":"G160","v":"F2.10"},{"$f":"IF(I160=\"\",$H160,I160)","v":false},false,false,false,false,false,false,true,true,false,null,null,null,null,null,null,null,null,null,null,null,null,null,null,null,null,null,null,null,null,null,null,null,null,null,null,null,null,{"$f":"BF177","v":"F2.14"},"F2.14WAHR",true,"Überprüfen Sie regelmäßig die gesamte Dokumentation im Zusammenhang mit Prozesssicherheit, um zu gewährleisten, dass sie auf dem neuesten Stand ist (z. B. alle Änderungen werden berücksichtigt und bewertet)."]
[null,null,null,null,null,null,null,{"$f":"'Kapitel 2'!K90","v":false},null,null,null,null,null,null,null,null,null,null,null,{"$f":"IF(I161=\"\",$H161,I161)","v":false},{"$f":"IF(J161=\"\",$H161,J161)","v":false},false,false,{"$f":"IF(M161=\"\",$H161,M161)","v":false},{"$f":"IF(N161=\"\",$H161,N161)","v":false},false,false,false,false,null,null,null,null,null,null,null,null,null,null,null,null,null,null,null,null,null,null,null,null,null,null,null,null,null,null,null,null,{"$f":"BF178","v":"F2.14"},"F2.14FALSCH",false,"Kein Bedarf für sofortige Strategieänderung, aber Verbesserungen sind immer im Auge zu behalten."]
[null,null,null,null,null,null,{"$f":"B138","v":"F2.15"},{"$f":"'Kapitel 2'!K93","v":true},null,null,null,null,null,null,null,null,null,null,null,true,true,true,true,true,true,true,false,false,false,null,null,null,null,null,null,null,null,null,null,null,null,null,null,null,null,null,null,null,null,null,null,null,null,null,null,null,null,{"$f":"G180","v":"F2.15"},"F2.15WAHR",true,"Entwickeln Sie ein kontinuierliches Kommunikationssystem vor Ort oder ein Kontrollsystem für die Anwesenheit von Beschäftigten an kritischen Orten oder bei isolierten Tätigkeiten.\nÜberprüfen Sie regelmäßig die Anweisungen für die kritischen Arbeiten.\nEntwickeln Sie ein System von Arbeitsgenehmigungen für kritische Anlagen und Installationen. "]
[null,null,null,null,null,null,null,{"$f":"'Kapitel 2'!K94","v":false},null,null,null,null,null,null,null,null,null,null,null,false,false,false,false,false,false,false,false,false,false,null,null,null,null,null,null,null,null,null,null,null,null,null,null,null,null,null,null,null,null,null,null,null,null,null,null,null,null,{"$f":"BF180","v":"F2.15"},"F2.15FALSCH",false,"Entwickeln Sie ein System, in dem Mitarbeiter Verbesserungsvorschläge machen und ihr Feedback über aufgetretene Probleme oder Vorfälle im Zusammenhang mit den Arbeitsanweisungen abgeben können."]
[null,null,null,null,null,null,null,{"$f":"'Kapitel 2'!K95","v":false},null,null,null,null,null,null,null,null,null,null,null,null,null,null,null,null,null,null,null,null,null,null,null,null,null,null,null,null,null,null,null,null,null,null,null,null,null,null,null,null,null,null,null,null,null,null,null,null,null,{"$f":"BF181","v":"F2.15"},"F2.15FALSCH",false,"Evaluieren und definieren Sie das Minimum an Personal.\nEs sind Prozesse für den sicheren Betrieb (oder die Abschaltung) vorhanden, falls die minimale Personalausstattung nicht gewährleistet werden kann (z. B. Krankheit, Streiks…)."]
[null,null,null,null,null,null,null,{"$f":"'Kapitel 2'!K96","v":false},null,null,null,null,null,null,null,null,null,null,null,null,null,null,null,null,null,null,null,null,null,null,null,null,null,null,null,null,null,null,null,null,null,null,null,null,null,null,null,null,null,null,null,null,null,null,null,null,null,{"$f":"BF182","v":"F2.15"},"F2.15FALSCH",false,"Kein Bedarf für sofortige Strategieänderung, aber Verbesserungen sind immer im Auge zu behalten."]
[null,null,null,null,null,null,{"$f":"B139","v":"F2.16"},{"$f":"'Kapitel 2'!K99","v":true},null,null,null,null,null,null,null,null,null,null,null,null,null,null,null,null,null,null,null,null,null,null,null,null,null,null,null,null,null,null,null,null,null,null,null,null,null,null,null,null,null,null,null,null,null,null,null,null,null,{"$f":"G184","v":"F2.16"},"F2.16WAHR",true,"Es wird empfohlen, einen detaillierten Plan für den Aufstellungsort zu haben. Diese Pläne existieren für den Standort, die Gebäude, die Grundrisse, die Fluchtwege und bei Bedarf für Bereiche mit besonderen Sicherheitsanforderungen (z. B. Abstand in Bezug auf andere Anforderungen (ATEX; Fluchtwege, angrenzende Gebäude usw.))."]
[null,null,null,null,null,null,null,{"$f":"'Kapitel 2'!K100","v":false},null,null,null,null,null,null,null,null,null,null,null,null,null,null,null,null,null,null,null,null,null,null,null,null,null,null,null,null,null,null,null,null,null,null,null,null,null,null,null,null,null,null,null,null,null,null,null,null,null,{"$f":"BF184","v":"F2.16"},"F2.16FALSCH",false,"Setzen Sie beste verfügbare Technologien (BVT) ein, z. B. SIS, redundante Installation, ausfallsichere Installationen… "]
[null,null,null,null,null,null,null,{"$f":"'Kapitel 2'!K101","v":false},null,null,null,null,null,null,null,null,null,null,{"$f":"G164","v":"F2.11"},{"$f":"IF(I164=\"\",$H164,I164)","v":false},false,false,false,false,false,false,false,false,false,null,null,null,null,null,null,null,null,null,null,null,null,null,null,null,null,null,null,null,null,null,null,null,null,null,null,null,null,{"$f":"BF185","v":"F2.16"},"F2.16FALSCH",false,"Planen Sie so, dass auch ein Ausfall zu einer sicheren Situation führt."]
[null,null,null,null,null,null,null,{"$f":"'Kapitel 2'!K102","v":false},null,null,null,null,null,null,null,null,null,null,null,{"$f":"IF(I165=\"\",$H165,I165)","v":true},{"$f":"IF(J165=\"\",$H165,J165)","v":true},true,true,{"$f":"IF(M165=\"\",$H165,M165)","v":true},{"$f":"IF(N165=\"\",$H165,N165)","v":true},true,true,true,false,null,null,null,null,null,null,null,null,null,null,null,null,null,null,null,null,null,null,null,null,null,null,null,null,null,null,null,null,{"$f":"BF186","v":"F2.16"},"F2.16FALSCH",false,"Kein Bedarf für sofortige Strategieänderung, aber Verbesserungen sind immer im Auge zu behalten."]
[null,null,null,null,null,null,{"$f":"B140","v":"F2.17"},{"$f":"'Kapitel 2'!K105","v":false},null,null,null,null,null,null,null,null,null,null,null,false,false,false,false,false,false,false,false,false,false,null,null,null,null,null,null,null,null,null,null,null,null,null,null,null,null,null,null,null,null,null,null,null,null,null,null,null,null,{"$f":"G188","v":"F2.17"},{"$f":"CONCATENATE(BF188,BH188)","v":"F2.17FALSCH"},false,"Testen, dokumentieren und überprüfen Sie sicherheitskritische Anlagen vor der Inbetriebnahme der Installation.\nDie beabsichtigte Funktion wird überprüft und dokumentiert.\nEntwickeln Sie ein Verfahren zur Beschreibung von Korrekturmaßnahmen und vorübergehenden Lösungen, bis Korrekturmaßnahmen durchgeführt wurden, falls verbleibende Risiken vor der Inbetriebnahme erkannt werden."]
[null,null,null,null,null,null,null,{"$f":"'Kapitel 2'!K106","v":false},null,null,null,null,null,null,null,null,null,null,null,false,false,false,false,false,false,false,false,false,false,null,null,null,null,null,null,null,null,null,null,null,null,null,null,null,null,null,null,null,null,null,null,null,null,null,null,null,null,{"$f":"BF188","v":"F2.17"},"F2.17FALSCH",{"$f":"H189","v":false},"Verifizieren Sie die Effektivität der Korrekturmaßnahmen."]
[null,null,null,null,null,null,null,{"$f":"'Kapitel 2'!K107","v":false},null,null,null,null,null,null,null,null,null,null,null,null,null,null,null,null,null,null,null,null,null,null,null,null,null,null,null,null,null,null,null,null,null,null,null,null,null,null,null,null,null,null,null,null,null,null,null,null,null,{"$f":"BF189","v":"F2.17"},"F2.17FALSCH",false,"Halten Sie die Dokumentation bereit, darunter zur Inbetriebnahme, Wartung und Aktualisierung des Prozesses und der Anlage."]
[null,null,null,null,null,null,null,{"$f":"'Kapitel 2'!K108","v":true},null,null,null,null,null,null,null,null,null,null,null,null,null,null,null,null,null,null,null,null,null,null,null,null,null,null,null,null,null,null,null,null,null,null,null,null,null,null,null,null,null,null,null,null,null,null,null,null,null,{"$f":"BF190","v":"F2.17"},"F2.17WAHR",true,"Kein Bedarf für sofortige Strategieänderung, aber Verbesserungen sind immer im Auge zu behalten."]
[null,null,null,null,null,null,{"$f":"B141","v":"F2.18"},{"$f":"'Kapitel 2'!K111","v":false},null,null,null,null,null,null,null,null,null,null,{"$f":"G168","v":"F2.12"},{"$f":"IF(I168=\"\",$H168,I168)","v":true},true,true,true,true,true,true,true,true,false,null,null,null,null,null,null,null,null,null,null,null,null,null,null,null,null,null,null,null,null,null,null,null,null,null,null,null,null,{"$f":"G192","v":"F2.18"},"F2.18FALSCH",false,"Ermitteln Sie die kritischen Prozesselemente und definieren Sie den Grad der Zuverlässigkeit, den diese Elemente haben sollen. "]
[null,null,null,null,null,null,null,{"$f":"'Kapitel 2'!K112","v":true},null,null,null,null,null,null,null,null,null,null,null,{"$f":"IF(I169=\"\",$H169,I169)","v":false},{"$f":"IF(J169=\"\",$H169,J169)","v":false},false,false,{"$f":"IF(M169=\"\",$H169,M169)","v":false},{"$f":"IF(N169=\"\",$H169,N169)","v":false},false,false,false,false,null,null,null,null,null,null,null,null,null,null,null,null,null,null,null,null,null,null,null,null,null,null,null,null,null,null,null,null,{"$f":"BF192","v":"F2.18"},"F2.18WAHR",true,"Es wird empfohlen, bei Abweichungen im Prozess an dauerhaft besetzten Orten über Alarme zu verfügen."]
[null,null,null,null,null,null,null,{"$f":"'Kapitel 2'!K113","v":false},null,null,null,null,null,null,null,null,null,null,null,false,false,false,false,false,false,false,false,false,false,null,null,null,null,null,null,null,null,null,null,null,null,null,null,null,null,null,null,null,null,null,null,null,null,null,null,null,null,{"$f":"BF193","v":"F2.18"},"F2.18FALSCH",false,"Führen Sie eine Evaluierung für jeden Reaktor oder Lagerbehälter oder alle anderen Anlagen durch, die Mengen an gefährlichen Stoffen über einem gewissen Grenzwert enthalten, um zu gewährleisten, dass ein System zur Prävention, Eindämmung und Evakuierung vorhanden ist."]
[null,null,null,null,null,null,null,{"$f":"'Kapitel 2'!K114","v":false},null,null,null,null,null,null,null,null,null,null,null,false,false,false,false,false,false,false,false,false,false,null,null,null,null,null,null,null,null,null,null,null,null,null,null,null,null,null,null,null,null,null,null,null,null,null,null,null,null,{"$f":"BF194","v":"F2.18"},"F2.18FALSCH",false,"Kein Bedarf für sofortige Strategieänderung, aber Verbesserungen sind immer im Auge zu behalten."]
[null,null,null,null,null,null,{"$f":"B142","v":"F2.19"},{"$f":"'Kapitel 2'!K117","v":false},null,null,null,null,null,null,null,null,null,null,null,null,null,null,null,null,null,null,null,null,null,null,null,null,null,null,null,null,null,null,null,null,null,null,null,null,null,null,null,null,null,null,null,null,null,null,null,null,null,{"$f":"G196","v":"F2.19"},"F2.19FALSCH",false,"Nehmen Sie im Programm klare Kriterien für Folgendes auf: Aktualisierungen im Fall von Nichtkonformitäten, Periodizität, Ziele und besondere Wartungsanweisungen für alle Anlagen mit einem Einfluss auf die Prozesssicherheit.\nEntwickeln Sie ein spezifisches Programm für diejenigen Teile, die kritisch für die Prozesssicherheit sind (Schlösser, Schleifen, Sicherheitsventile, Berstscheiben…)."]
[null,null,null,null,null,null,null,{"$f":"'Kapitel 2'!K118","v":true},null,null,null,null,null,null,null,null,null,null,null,null,null,null,null,null,null,null,null,null,null,null,null,null,null,null,null,null,null,null,null,null,null,null,null,null,null,null,null,null,null,null,null,null,null,null,null,null,null,{"$f":"BF196","v":"F2.19"},"F2.19WAHR",true,"Benennen Sie die verantwortlichen Mitarbeiter für die Umsetzung des Wartungsprogramms. Indikatoren werden zur Überwachung der Wartungsarbeiten festgelegt (Prozentsatz der Fertigstellung, aufgetretene Probleme usw.)."]
[null,null,null,null,null,null,null,{"$f":"'Kapitel 2'!K119","v":false},null,null,null,null,null,null,null,null,null,null,{"$f":"G172","v":"F2.13"},{"$f":"IF(I172=\"\",$H172,I172)","v":false},false,false,false,false,false,false,false,false,false,null,null,null,null,null,null,null,null,null,null,null,null,null,null,null,null,null,null,null,null,null,null,null,null,null,null,null,null,{"$f":"BF197","v":"F2.19"},"F2.19FALSCH",false,"Evaluieren Sie regelmäßig die Effektivität des Wartungsprogramms. Darüber hinaus werden der Erfolg gemessen und die Wartungspläne verbessert."]
[null,null,null,null,null,null,null,{"$f":"'Kapitel 2'!K120","v":false},null,null,null,null,null,null,null,null,null,null,null,{"$f":"IF(I173=\"\",$H173,I173)","v":true},{"$f":"IF(J173=\"\",$H173,J173)","v":true},true,true,{"$f":"IF(M173=\"\",$H173,M173)","v":true},{"$f":"IF(N173=\"\",$H173,N173)","v":true},true,true,true,false,null,null,null,null,null,null,null,null,null,null,null,null,null,null,null,null,null,null,null,null,null,null,null,null,null,null,null,null,{"$f":"BF198","v":"F2.19"},"F2.19FALSCH",false,"Kein Bedarf für sofortige Strategieänderung, aber Verbesserungen sind immer im Auge zu behalten."]
[null,null,null,null,null,null,{"$f":"B143","v":"F2.20"},{"$f":"'Kapitel 2'!K123","v":true},null,null,null,null,null,null,null,null,null,null,null,false,false,false,false,false,false,false,false,false,false,null,null,null,null,null,null,null,null,null,null,null,null,null,null,null,null,null,null,null,null,null,null,null,null,null,null,null,null,{"$f":"G200","v":"F2.20"},"F2.20WAHR",true,"Evaluieren Sie den Bedarf für die sichere Versorgung von Energie/Vorräten. Entwickeln Sie alternative Lösungen für die verfügbaren Hauptenergieservices."]
[null,null,null,null,null,null,null,{"$f":"'Kapitel 2'!K124","v":false},null,null,null,null,null,null,null,null,null,null,null,false,false,false,false,false,false,false,false,false,false,null,null,null,null,null,null,null,null,null,null,null,null,null,null,null,null,null,null,null,null,null,null,null,null,null,null,null,null,{"$f":"BF200","v":"F2.20"},"F2.20FALSCH",false,"Führen Sie Tests zur Überprüfung des einwandfreien Betriebs von Notfallsystemen und der eindeutigen Erkennung von verantwortlichen Mitarbeitern durch."]
[null,null,null,null,null,null,null,{"$f":"'Kapitel 2'!K125","v":false},null,null,null,null,null,null,null,null,null,null,null,null,null,null,null,null,null,null,null,null,null,null,null,null,null,null,null,null,null,null,null,null,null,null,null,null,null,null,null,null,null,null,null,null,null,null,null,null,null,{"$f":"BF201","v":"F2.20"},"F2.20FALSCH",false,"Entwickeln Sie einen Notfallplan einschließlich der möglichen Eventualitäten und der Vorgabe von zulässigen Reaktionszeiten, Reaktionsgruppen und Prozessen."]
[null,null,null,null,null,null,null,{"$f":"'Kapitel 2'!K126","v":false},null,null,null,null,null,null,null,null,null,null,null,null,null,null,null,null,null,null,null,null,null,null,null,null,null,null,null,null,null,null,null,null,null,null,null,null,null,null,null,null,null,null,null,null,null,null,null,null,null,{"$f":"BF202","v":"F2.20"},"F2.20FALSCH",false,"Kein Bedarf für sofortige Strategieänderung, aber Verbesserungen sind immer im Auge zu behalten."]
[null,null,null,null,null,null,{"$f":"B144","v":"F2.21"},{"$f":"'Kapitel 2'!K129","v":false},null,null,false,null,null,null,null,null,null,null,{"$f":"G176","v":"F2.14"},{"$f":"IF(I176=\"\",$H176,I176)","v":false},false,false,false,false,false,false,false,false,false,null,null,null,null,null,null,null,null,null,null,null,null,null,null,null,null,null,null,null,null,null,null,null,null,null,null,null,null,{"$f":"G204","v":"F2.21"},"F2.21FALSCH",false,"Führen Sie mindestens einmal pro Jahr praktische Übungen durch, gefolgt von einer Evaluierung der Effektivität des Notfallplans. Entwickeln Sie ein Informationsprogramm zur Kommunikation mit den Behörden, Eingreiftruppen, der Presse, der Allgemeinheit usw. und zur Verbesserung der Bereitschaft im Notfall. "]
[null,null,null,null,null,null,null,{"$f":"'Kapitel 2'!K130","v":false},null,null,false,null,null,null,null,null,null,null,null,{"$f":"IF(I177=\"\",$H177,I177)","v":false},{"$f":"IF(J177=\"\",$H177,J177)","v":false},false,false,{"$f":"IF(M177=\"\",$H177,M177)","v":false},{"$f":"IF(N177=\"\",$H177,N177)","v":false},false,false,false,false,null,null,null,null,null,null,null,null,null,null,null,null,null,null,null,null,null,null,null,null,null,null,null,null,null,null,null,null,{"$f":"BF204","v":"F2.21"},"F2.21FALSCH",false,"Darüber hinaus wurde der Notfallplan mit einem externen Notfallplan in Zusammenarbeit mit Partnern und benachbarten Organisation ausgearbeitet und integriert (falls zutreffend). "]
[null,null,null,null,null,null,null,{"$f":"'Kapitel 2'!K131","v":true},null,null,true,null,null,null,null,null,null,null,null,true,true,true,true,true,true,true,true,true,false,null,null,null,null,null,null,null,null,null,null,null,null,null,null,null,null,null,null,null,null,null,null,null,null,null,null,null,null,{"$f":"BF205","v":"F2.21"},"F2.21WAHR",true,"Entwickeln Sie ein Verfahren für die Planung der Landnutzung zur Evaluierung und zum Einholen von Kenntnissen über das benachbarte Gemeinwesen (z. B. Schulen, Kindergärten, Krankenhäuser, Pflegeheime, Einkaufs- und Sportzentren) und zur Evaluierung des Bedarfs an Bereitschaft, Kommunikation und Evakuierung im Notfall und – bei Bedarf – zur Evaluierung der Einstellung der Produktion."]
[null,null,null,null,null,null,null,{"$f":"'Kapitel 2'!K132","v":false},null,null,false,null,null,null,null,null,null,null,null,{"$f":"IF(I179=\"\",$H179,I179)","v":false},false,false,false,false,false,false,false,false,false,null,null,null,null,null,null,null,null,null,null,null,null,null,null,null,null,null,null,null,null,null,null,null,null,null,null,null,null,{"$f":"BF206","v":"F2.21"},"F2.21FALSCH",false,"Kein Bedarf für sofortige Strategieänderung, aber Verbesserungen sind immer im Auge zu behalten."]
[null,null,null,null,null,null,{"$f":"B145","v":"F2.22"},{"$f":"'Kapitel 2'!K135","v":true},null,null,null,null,null,null,null,null,null,null,null,null,null,null,null,null,null,null,null,null,null,null,null,null,null,null,null,null,null,null,null,null,null,null,null,null,null,null,null,null,null,null,null,null,null,null,null,null,null,{"$f":"G208","v":"F2.22"},"F2.22WAHR",true,"Sorgen Sie für die Schulung von Mitarbeitern und Auftragnehmern zu Prozesssicherheit. Es ist ein Schulungsplan vorhanden, der alle Aspekte der Prozess- und Werkssicherheit abdeckt, darunter ein Zeitplan zur regelmäßigen Wiederholung dieser Schulungen. Außerdem gibt es ein Nachschulungsprogramm für Mitarbeiter mit Verantwortung für Prozess- und Werkssicherheitsaufgaben, die längere Zeit abwesend waren (z. B. Schwangerschaft, Krankheit, Sabbatical…). "]
[null,null,null,null,null,null,null,{"$f":"'Kapitel 2'!K136","v":false},null,null,null,null,null,null,null,null,null,null,null,null,null,null,null,null,null,null,null,null,null,null,null,null,null,null,null,null,null,null,null,null,null,null,null,null,null,null,null,null,null,null,null,null,null,null,null,null,null,{"$f":"BF208","v":"F2.22"},"F2.22FALSCH",false,"Bieten Sie laufende Weiterbildung im Zusammenhang mit neuen Prozesssicherheits-Tools und -Techniken (Prozesssicherheitsexperten des Unternehmens)."]
[null,null,null,null,null,null,null,{"$f":"'Kapitel 2'!K137","v":false},null,null,null,null,null,null,null,null,null,null,{"$f":"G180","v":"F2.15"},{"$f":"IF(I180=\"\",$H180,I180)","v":true},true,true,true,true,true,true,true,true,false,null,null,null,null,null,null,null,null,null,null,null,null,null,null,null,null,null,null,null,null,null,null,null,null,null,null,null,null,{"$f":"BF209","v":"F2.22"},"F2.22FALSCH",false,"Liefern Sie den Nachweis der Kompetenzen aller Mitarbeiter, die zur Prozesssicherheit beitragen (Qualifikationen für die Wartung in ATEX-Zonen, Aktivierung und Deaktivierung von Alarmen und sicherheitskritischen Anlagen, Verifizierung von Sicherheitsmaßnahmen und -installationen, Genehmigungen für Auftragnehmer, professionelles Carnet usw.)."]
[null,null,null,null,null,null,null,{"$f":"'Kapitel 2'!K138","v":false},null,null,null,null,null,null,null,null,null,null,null,{"$f":"IF(I181=\"\",$H181,I181)","v":false},{"$f":"IF(J181=\"\",$H181,J181)","v":false},false,false,{"$f":"IF(M181=\"\",$H181,M181)","v":false},{"$f":"IF(N181=\"\",$H181,N181)","v":false},false,false,false,false,null,null,null,null,null,null,null,null,null,null,null,null,null,null,null,null,null,null,null,null,null,null,null,null,null,null,null,null,{"$f":"BF210","v":"F2.22"},"F2.22FALSCH",false,"Kein Bedarf für sofortige Strategieänderung, aber Verbesserungen sind immer im Auge zu behalten."]
[null,null,null,null,null,null,{"$f":"B146","v":"F2.23"},{"$f":"'Kapitel 2'!K141","v":false},null,null,null,null,null,null,null,null,null,null,null,false,false,false,false,false,false,false,false,false,false,null,null,null,null,null,null,null,null,null,null,null,null,null,null,null,null,null,null,null,null,null,null,null,null,null,null,null,null,{"$f":"G212","v":"F2.23"},"F2.23FALSCH",false,"Sorgen Sie für die Transparenz der Eigenschaften aller relevanten Reaktionen im Prozess. "]
[null,null,null,null,null,null,null,{"$f":"'Kapitel 2'!K142","v":true},null,null,null,null,null,null,null,null,null,null,null,false,false,false,false,false,false,false,false,false,false,null,null,null,null,null,null,null,null,null,null,null,null,null,null,null,null,null,null,null,null,null,null,null,null,null,null,null,null,{"$f":"BF212","v":"F2.23"},"F2.23WAHR",true,"Überwachen Sie die Entwicklung der Temperatur und des Drucks im gesamten Prozess in normalen und Worst-Case-Situationen."]
[null,null,null,null,null,null,null,{"$f":"'Kapitel 2'!K143","v":false},null,null,null,null,null,null,null,null,null,null,null,null,null,null,null,null,null,null,null,null,null,null,null,null,null,null,null,null,null,null,null,null,null,null,null,null,null,null,null,null,null,null,null,null,null,null,null,null,null,{"$f":"BF213","v":"F2.23"},"F2.23FALSCH",false,"Halten Sie Sicherheitsdaten für alle Prozesse und Stoffe bereit (darunter mögliche zwischenzeitliche Stoffe, Rückstände und anderes).\nZum Beispiel: Evaluierung der thermischen und chemischen Stabilität (z. B. Selbstzersetzungstemperatur, Zeit bis zur maximalen Rate, Differentialthermoanalyse…), Folgen von Interferenzen mit anderen Stoffen (darunter z. B. Energie wie Dampf, Wasser, Kühl-/Wärmemittel), Informationen über untere/obere Explosionsgrenze."]
[null,null,null,null,null,null,null,{"$f":"'Kapitel 2'!K144","v":false},null,null,null,null,null,null,null,null,null,null,null,null,null,null,null,null,null,null,null,null,null,null,null,null,null,null,null,null,null,null,null,null,null,null,null,null,null,null,null,null,null,null,null,null,null,null,null,null,null,{"$f":"BF214","v":"F2.23"},"F2.23FALSCH",false,"Kein Bedarf für sofortige Strategieänderung, aber Verbesserungen sind immer im Auge zu behalten."]
[null,null,null,null,null,null,{"$f":"B147","v":"F2.24"},{"$f":"'Kapitel 2'!K147","v":false},null,null,null,null,null,null,null,null,null,null,{"$f":"G184","v":"F2.16"},{"$f":"IF(I184=\"\",$H184,I184)","v":true},true,true,true,true,true,true,true,true,false,null,null,null,null,null,null,null,null,null,null,null,null,null,null,null,null,null,null,null,null,null,null,null,null,null,null,null,null,{"$f":"G216","v":"F2.24"},"F2.24FALSCH",false,"Erstellen Sie Diagramme von verfügbaren Rohrleitungen und Instrumenten und halten Sie sie auf dem neuesten Stand."]
[null,null,null,null,null,null,null,{"$f":"'Kapitel 2'!K148","v":false},null,null,null,null,null,null,null,null,null,null,null,{"$f":"IF(I185=\"\",$H185,I185)","v":false},{"$f":"IF(J185=\"\",$H185,J185)","v":false},false,false,{"$f":"IF(M185=\"\",$H185,M185)","v":false},{"$f":"IF(N185=\"\",$H185,N185)","v":false},false,false,false,false,null,null,null,null,null,null,null,null,null,null,null,null,null,null,null,null,null,null,null,null,null,null,null,null,null,null,null,null,{"$f":"BF216","v":"F2.24"},"F2.24FALSCH",false,"Aktualisieren Sie Herstellungsverfahren und Bedienungsanleitungen, die alle möglichen Betriebsphasen beschreiben (z. B. Inbetriebnahme, Normalbetrieb, Notabschaltung, außergewöhnliche Arbeiten usw.).\nDefinieren Sie operative Margen und geplante Maßnahmen für Notfälle und Anomalien."]
[null,null,null,null,null,null,null,{"$f":"'Kapitel 2'!K149","v":true},null,null,null,null,null,null,null,null,null,null,null,false,false,false,false,false,false,false,false,false,false,null,null,null,null,null,null,null,null,null,null,null,null,null,null,null,null,null,null,null,null,null,null,null,null,null,null,null,null,{"$f":"BF217","v":"F2.24"},"F2.24WAHR",true,"Stellen Sie diese Elemente sofort allen Mitarbeitern zur Verfügung, die an dem Prozess arbeiten. Schulen Sie die Mitarbeiter zur Nutzung der Dokumentation und zu den Maßnahmen im Zusammenhang mit diesen Verfahren/Handbüchern."]
[null,null,null,null,null,null,null,{"$f":"'Kapitel 2'!K150","v":false},null,null,null,null,null,null,null,null,null,null,null,false,false,false,false,false,false,false,false,false,false,null,null,null,null,null,null,null,null,null,null,null,null,null,null,null,null,null,null,null,null,null,null,null,null,null,null,null,null,{"$f":"BF218","v":"F2.24"},"F2.24FALSCH",false,"Kein Bedarf für sofortige Strategieänderung, aber Verbesserungen sind immer im Auge zu behalten."]
[null,null,null,null,null,null,{"$f":"B148","v":"F2.25"},{"$f":"'Kapitel 2'!K155","v":false},null,null,null,null,null,null,null,null,null,null,null,null,null,null,null,null,null,null,null,null,null,null,null,null,null,null,null,null,null,null,null,null,null,null,null,null,null,null,null,null,null,null,null,null,null,null,null,null,null,{"$f":"G220","v":"F2.25"},"F2.25FALSCH",false,"Definieren Sie Mindestanforderungen für eine sichere Logistik und machen Sie diese zu Anforderungen an Ihre Logistikanbieter."]
[null,null,null,null,null,null,null,{"$f":"'Kapitel 2'!K156","v":true},null,null,null,null,null,null,null,null,null,null,null,null,null,null,null,null,null,null,null,null,null,null,null,null,null,null,null,null,null,null,null,null,null,null,null,null,null,null,null,null,null,null,null,null,null,null,null,null,null,{"$f":"BF220","v":"F2.25"},"F2.25WAHR",true,"Evaluieren Sie die relevanten Sicherheitsmaßnahmen, die bei Transportvorgängen erforderlich sind."]
[null,null,null,null,null,null,null,{"$f":"'Kapitel 2'!K157","v":false},null,null,null,null,null,null,null,null,null,null,{"$f":"G188","v":"F2.17"},{"$f":"IF(I188=\"\",$H188,I188)","v":false},false,false,false,false,false,false,false,false,false,null,null,null,null,null,null,null,null,null,null,null,null,null,null,null,null,null,null,null,null,null,null,null,null,null,null,null,null,{"$f":"BF221","v":"F2.25"},"F2.25FALSCH",false,"Eine beispielhafte Regelung die (ganz oder teilweise) verwendet werden kann, ist SQAS (https://www.sqas.org/). Unternehmen können sich gegebenenfalls für andere Regelungen oder Systeme/Kriterien entscheiden. Die Wahl eines Logistikanbieters basiert auf dem individuellen Entscheidungsprozess jedes Unternehmens, wobei SQAS eine Rolle spielt oder auch nicht."]
[null,null,null,null,null,null,null,{"$f":"'Kapitel 2'!K158","v":false},null,null,null,null,null,null,null,null,null,null,null,{"$f":"IF(I189=\"\",$H189,I189)","v":false},{"$f":"IF(J189=\"\",$H189,J189)","v":false},false,false,{"$f":"IF(M189=\"\",$H189,M189)","v":false},{"$f":"IF(N189=\"\",$H189,N189)","v":false},false,false,false,false,null,null,null,null,null,null,null,null,null,null,null,null,null,null,null,null,null,null,null,null,null,null,null,null,null,null,null,null,{"$f":"BF222","v":"F2.25"},"F2.25FALSCH",false,"Kein Bedarf für sofortige Strategieänderung, aber Verbesserungen sind immer im Auge zu behalten."]
[null,null,null,null,null,null,{"$f":"B149","v":"F2.26"},{"$f":"'Kapitel 2'!K161","v":true},null,null,null,null,null,null,null,null,null,null,null,false,false,false,false,false,false,false,false,false,false,null,null,null,null,null,null,null,null,null,null,null,null,null,null,null,null,null,null,null,null,null,null,null,null,null,null,null,null,{"$f":"G224","v":"F2.26"},"F2.26WAHR",true,"Entwickeln Sie Verfahren für das systematische und geeignete Be- und Entladen von gefährlichen Gütern anhand von Checklisten."]
[null,null,null,null,null,null,null,{"$f":"'Kapitel 2'!K162","v":false},null,null,null,null,null,null,null,null,null,null,null,true,true,true,true,true,true,true,true,true,false,null,null,null,null,null,null,null,null,null,null,null,null,null,null,null,null,null,null,null,null,null,null,null,null,null,null,null,null,{"$f":"BF224","v":"F2.26"},"F2.26FALSCH",false,"Richten Sie eine Notfallnummer für externe Logistikpartner ein (Erreichbarkeit 24/7). Sorgen Sie für verfügbaren Support in den relevanten Sprachen."]
[null,null,null,null,null,null,null,{"$f":"'Kapitel 2'!K163","v":false},null,null,null,null,null,null,null,null,null,null,null,null,null,null,null,null,null,null,null,null,null,null,null,null,null,null,null,null,null,null,null,null,null,null,null,null,null,null,null,null,null,null,null,null,null,null,null,null,null,{"$f":"BF225","v":"F2.26"},"F2.26FALSCH",false,"Schließen Sie die Logistikkette in den Notfallplan Ihres Standorts ein.\nSeien Sie vorbereitet, Unterstützung für die Bereinigung von Leckagen beim Transport zu leisten (z. B durch ICE oder ein ähnliches System)."]
[null,null,null,null,null,null,null,{"$f":"'Kapitel 2'!K164","v":false},null,null,null,null,null,null,null,null,null,null,null,null,null,null,null,null,null,null,null,null,null,null,null,null,null,null,null,null,null,null,null,null,null,null,null,null,null,null,null,null,null,null,null,null,null,null,null,null,null,{"$f":"BF226","v":"F2.26"},"F2.26FALSCH",false,"Kein Bedarf für sofortige Strategieänderung, aber Verbesserungen sind immer im Auge zu behalten."]
[null,null,null,null,null,null,{"$f":"B150","v":"F2.27"},{"$f":"'Kapitel 2'!K169","v":true},null,null,null,null,null,null,null,null,null,null,{"$f":"G192","v":"F2.18"},{"$f":"IF(I192=\"\",$H192,I192)","v":false},false,false,false,false,false,false,false,false,false,null,null,null,null,null,null,null,null,null,null,null,null,null,null,null,null,null,null,null,null,null,null,null,null,null,null,null,null,{"$f":"G228","v":"F2.27"},"F2.27WAHR",true,"Führen Sie eine Bewertung der Bedrohungen im Hinblick auf die guten Praktiken Ihrer Organisation durch."]
[null,null,null,null,null,null,null,{"$f":"'Kapitel 2'!K170","v":false},null,null,null,null,null,null,null,null,null,null,null,{"$f":"IF(I193=\"\",$H193,I193)","v":true},{"$f":"IF(J193=\"\",$H193,J193)","v":true},true,true,{"$f":"IF(M193=\"\",$H193,M193)","v":true},{"$f":"IF(N193=\"\",$H193,N193)","v":true},true,true,true,false,null,null,null,null,null,null,null,null,null,null,null,null,null,null,null,null,null,null,null,null,null,null,null,null,null,null,null,null,{"$f":"BF228","v":"F2.27"},"F2.27FALSCH",false,"Entwickeln Sie Maßnahmen zum Umgang mit den erkannten Bedrohungen und allen relevanten Änderungen, um die Kontrolle zu gewährleisten."]
[null,null,null,null,null,null,null,{"$f":"'Kapitel 2'!K171","v":false},null,null,null,null,null,null,null,null,null,null,null,false,false,false,false,false,false,false,false,false,false,null,null,null,null,null,null,null,null,null,null,null,null,null,null,null,null,null,null,null,null,null,null,null,null,null,null,null,null,{"$f":"BF229","v":"F2.27"},"F2.27FALSCH",false,"Evaluieren Sie regelmäßig die Effektivität des Sicherheitsrisikomanagement-Prozesses."]
[null,null,null,null,null,null,null,{"$f":"'Kapitel 2'!K172","v":false},null,null,null,null,null,null,null,null,null,null,null,false,false,false,false,false,false,false,false,false,false,null,null,null,null,null,null,null,null,null,null,null,null,null,null,null,null,null,null,null,null,null,null,null,null,null,null,null,null,{"$f":"BF230","v":"F2.27"},"F2.27FALSCH",false,"Kein Bedarf für sofortige Strategieänderung, aber Verbesserungen sind immer im Auge zu behalten."]
[null,null,null,null,null,null,{"$f":"B151","v":"F2.28"},{"$f":"'Kapitel 2'!K175","v":false},null,null,null,null,null,null,null,null,null,null,null,null,null,null,null,null,null,null,null,null,null,null,null,null,null,null,null,null,null,null,null,null,null,null,null,null,null,null,null,null,null,null,null,null,null,null,null,null,null,{"$f":"G232","v":"F2.28"},"F2.28FALSCH",false,"Überwachen und kontrollieren Sie den Zugang von Menschen, Fahrzeugen und eingehenden Objekten (einschließlich Pakete) durch die Anpassung technischer und personeller Ressourcen:\n- Zugangskontrollen können Tore, Zäune, Security-Personal, Ausweissysteme und Eindringungserkennung umfassen.\n- Formalisieren Sie eine Kennzeichnung von sensiblen Bereichen und die Zutrittsbedingungen für alle Personen.\n- Kontrollieren Sie systematisch Personen, Fahrzeuge und Waren (Besucher, Lieferanten, Dienstleister), bevor sie Zutritt zum Standort erhalten. "]
[null,null,null,null,null,null,null,{"$f":"'Kapitel 2'!K176","v":true},null,null,null,null,null,null,null,null,null,null,null,null,null,null,null,null,null,null,null,null,null,null,null,null,null,null,null,null,null,null,null,null,null,null,null,null,null,null,null,null,null,null,null,null,null,null,null,null,null,{"$f":"BF232","v":"F2.28"},"F2.28WAHR",true,"Entwickeln Sie ein Zugangsverfahren, bei dem Besucher den Standort nur in Begleitung von Mitarbeitern betreten können."]
[null,null,null,null,null,null,null,{"$f":"'Kapitel 2'!K177","v":false},null,null,null,null,null,null,null,null,null,null,{"$f":"G196","v":"F2.19"},{"$f":"IF(I196=\"\",$H196,I196)","v":false},false,false,false,false,false,false,false,false,false,null,null,null,null,null,null,null,null,null,null,null,null,null,null,null,null,null,null,null,null,null,null,null,null,null,null,null,null,{"$f":"BF233","v":"F2.28"},"F2.28FALSCH",false,"Evaluieren Sie die Effektivität des Prozesses durch regelmäßige Überprüfungen."]
[null,null,null,null,null,null,null,{"$f":"'Kapitel 2'!K178","v":false},null,null,null,null,null,null,null,null,null,null,null,{"$f":"IF(I197=\"\",$H197,I197)","v":true},true,true,true,{"$f":"IF(M197=\"\",$H197,M197)","v":true},{"$f":"IF(N197=\"\",$H197,N197)","v":true},true,true,true,false,null,null,null,null,null,null,null,null,null,null,null,null,null,null,null,null,null,null,null,null,null,null,null,null,null,null,null,null,{"$f":"BF234","v":"F2.28"},"F2.28FALSCH",false,"Schulen Sie Ihre Mitarbeiter in Hinblick auf mögliche Sicherheitsrisiken und die entsprechende Reaktion, falls solche Situation tatsächlich eintreten (z. B. wie ist im Falle eines Eindringlings oder bei einem anderen Sicherheitsverstoß zu reagieren). Schulen Sie Ihre Mitarbeiter, wachsam zu sein (z. B. Ansprechen von unbekannten Personen, die keinen Ausweis tragen)."]
[null,null,null,null,null,null,{"$f":"B152","v":"F2.29"},{"$f":"'Kapitel 2'!K181","v":true},null,null,null,null,null,null,null,null,null,null,null,false,false,false,false,false,false,false,false,false,false,null,null,null,null,null,null,null,null,null,null,null,null,null,null,null,null,null,null,null,null,null,null,null,null,null,null,null,null,{"$f":"G236","v":"F2.29"},"F2.29WAHR",true,"Nehmen Sie an Arbeitsgruppen zur Cybersicherheit teil."]
[null,null,null,null,null,null,null,{"$f":"'Kapitel 2'!K182","v":false},null,null,null,null,null,null,null,null,null,null,null,false,false,false,false,false,false,false,false,false,false,null,null,null,null,null,null,null,null,null,null,null,null,null,null,null,null,null,null,null,null,null,null,null,null,null,null,null,null,{"$f":"BF236","v":"F2.29"},"F2.29FALSCH",false,"Kommunizieren Sie das Thema der Cybersicherheit Ihren Mitarbeitern und schulen Sie sie im Umgang damit."]
[null,null,null,null,null,null,null,{"$f":"'Kapitel 2'!K183","v":false},null,null,null,null,null,null,null,null,null,null,null,null,null,null,null,null,null,null,null,null,null,null,null,null,null,null,null,null,null,null,null,null,null,null,null,null,null,null,null,null,null,null,null,null,null,null,null,null,null,{"$f":"BF237","v":"F2.29"},"F2.29FALSCH",false,"Ermitteln, verfolgen und mindern Sie Cybersicherheitsrisiken, die Geschäfts- und HSE&S-Systeme beeinflussen, mithilfe eines risikobasierten Ansatzes zur Bedrohungsminderung."]
[null,null,null,null,null,null,null,{"$f":"'Kapitel 2'!K184","v":false},null,null,null,null,null,null,null,null,null,null,null,null,null,null,null,null,null,null,null,null,null,null,null,null,null,null,null,null,null,null,null,null,null,null,null,null,null,null,null,null,null,null,null,null,null,null,null,null,null,{"$f":"BF238","v":"F2.29"},"F2.29FALSCH",false,"Entwickeln Sie ein umfassendes System für Zugangsrechte zu IT-Systemen auf reiner Kennwortbasis und – je nach den tatsächlichen Aufgaben der Mitarbeiter – erlauben Sie den Zugriff auf sensible Informationen nur auf einer bedarfsorientierten Basis. Legen Sie Regeln für die sichere Verwendung von Unternehmens-IT-Systemen fest (z. B. Verwendung der IT für Privatzwecke, Zugriff auf Webseiten…)."]
[null,null,null,null,null,null,{"$f":"B153","v":"F2.30"},{"$f":"'Kapitel 2'!K187","v":true},null,null,null,null,null,null,null,null,null,null,{"$f":"G200","v":"F2.20"},{"$f":"IF(I200=\"\",$H200,I200)","v":true},true,true,true,true,true,true,true,true,false,null,null,null,null,null,null,null,null,null,null,null,null,null,null,null,null,null,null,null,null,null,null,null,null,null,null,null,null,{"$f":"G240","v":"F2.30"},"F2.30WAHR",true,"Erstellen Sie eine Liste der Kontaktdaten von Mitarbeitern, damit Sie sie im Fall einer Krise rasch kontaktieren können und um sicher zu sein, dass sie keine Hilfe brauchen. Stellen Sie sicher, dass die Liste auf dem neuesten Stand ist!"]
[null,null,null,null,null,null,null,{"$f":"'Kapitel 2'!K188","v":false},null,null,null,null,null,null,null,null,null,null,null,{"$f":"IF(I201=\"\",$H201,I201)","v":false},false,false,false,{"$f":"IF(M201=\"\",$H201,M201)","v":false},{"$f":"IF(N201=\"\",$H201,N201)","v":false},false,false,false,false,null,null,null,null,null,null,null,null,null,null,null,null,null,null,null,null,null,null,null,null,null,null,null,null,null,null,null,null,{"$f":"BF240","v":"F2.30"},"F2.30FALSCH",false,"Liefern Sie den Behörden Informationen, damit sie in der Lage sind, einen speziellen Notfallplan für solche Sicherheitsvorfälle zu erstellen, die ein hohes Maß an Risiko für die Organisation und/oder ihre Umgebung darstellen."]
[null,null,null,null,null,null,null,{"$f":"'Kapitel 2'!K189","v":false},null,null,null,null,null,null,null,null,null,null,null,false,false,false,false,false,false,false,false,false,false,null,null,null,null,null,null,null,null,null,null,null,null,null,null,null,null,null,null,null,null,null,null,null,null,null,null,null,null,{"$f":"BF241","v":"F2.30"},"F2.30FALSCH",false,"Suchen Sie die Zusammenarbeit mit öffentlichen Hilfsorganisationen, um die Maßnahmen festzulegen, die im Fall eines Vorfalls zu ergreifen sind (z. B. Krisenübungen, Schulung durch die Organisation...)."]
[null,null,null,null,null,null,null,{"$f":"'Kapitel 2'!K190","v":false},null,null,null,null,null,null,null,null,null,null,null,false,false,false,false,false,false,false,false,false,false,null,null,null,null,null,null,null,null,null,null,null,null,null,null,null,null,null,null,null,null,null,null,null,null,null,null,null,null,{"$f":"BF242","v":"F2.30"},"F2.30FALSCH",false,"Entwickeln Sie ein System, mit dem Sie erkennen können, welche Ihrer Mitarbeiter tatsächlich auf dem Gelände sind und welche abwesend sind."]
[null,null,null,null,null,null,{"$f":"B154","v":"F2.31"},{"$f":"'Kapitel 2'!K193","v":false},null,null,null,null,null,null,null,null,null,null,null,null,null,null,null,null,null,null,null,null,null,null,null,null,null,null,null,null,null,null,null,null,null,null,null,null,null,null,null,null,null,null,null,null,null,null,null,null,null,{"$f":"G244","v":"F2.31"},"F2.31FALSCH",false,"Achten Sie besonders auf abnormales Verhalten und auf das Risiko der Radikalisierung unter Mitarbeitern und Dienstleistern."]
[null,null,null,null,null,null,null,{"$f":"'Kapitel 2'!K194","v":false},null,null,null,null,null,null,null,null,null,null,null,null,null,null,null,null,null,null,null,null,null,null,null,null,null,null,null,null,null,null,null,null,null,null,null,null,null,null,null,null,null,null,null,null,null,null,null,null,null,{"$f":"BF244","v":"F2.31"},"F2.31FALSCH",false,"Entwickeln Sie ein Verfahren, bei dem Arbeitnehmer abnormales Verhalten melden können."]
[null,null,null,null,null,null,null,{"$f":"'Kapitel 2'!K195","v":true},null,null,null,null,null,null,null,null,null,null,{"$f":"G204","v":"F2.21"},{"$f":"IF(I204=\"\",$H204,I204)","v":false},false,false,false,false,false,false,false,false,false,null,null,null,null,null,null,null,null,null,null,null,null,null,null,null,null,null,null,null,null,null,null,null,null,null,null,null,null,{"$f":"BF245","v":"F2.31"},"F2.31WAHR",true,"Überprüfen Sie alle Arbeitnehmer und Besucher des Standorts."]
[null,null,null,null,null,null,null,{"$f":"'Kapitel 2'!K196","v":false},null,null,null,null,null,null,null,null,null,null,null,{"$f":"IF(I205=\"\",$H205,I205)","v":false},false,false,false,{"$f":"IF(M205=\"\",$H205,M205)","v":false},{"$f":"IF(N205=\"\",$H205,N205)","v":false},false,false,false,false,null,null,null,null,null,null,null,null,null,null,null,null,null,null,null,null,null,null,null,null,null,null,null,null,null,null,null,null,{"$f":"BF246","v":"F2.31"},"F2.31FALSCH",false,"Schulen Sie die Mitarbeiter, wachsam zu sein, um sich abzeichnende Probleme wie die oben erwähnten frühzeitig zu erkennen."]
[null,null,null,null,null,null,{"$f":"B155","v":"F2.32"},{"$f":"'Kapitel 2'!K199","v":true},null,null,null,null,null,null,null,null,null,null,null,true,true,true,true,true,true,true,true,true,false,null,null,null,null,null,null,null,null,null,null,null,null,null,null,null,null,null,null,null,null,null,null,null,null,null,null,null,null,{"$f":"G248","v":"F2.32"},"F2.32WAHR",true,"Erinnern Sie die Mitarbeiter an die Anweisungen zur Wachsamkeit und an die Sicherheitsverfahren, falls sie verdächtige Objekte oder Fahrzeuge wahrnehmen."]
[null,null,null,null,null,null,null,{"$f":"'Kapitel 2'!K200","v":false},null,null,null,null,null,null,null,null,null,null,null,false,false,false,false,false,false,false,false,false,false,null,null,null,null,null,null,null,null,null,null,null,null,null,null,null,null,null,null,null,null,null,null,null,null,null,null,null,null,{"$f":"BF248","v":"F2.32"},"F2.32FALSCH",false,"Erinnern Sie alle Beschäftigten regelmäßig an die Anweisungen zur Wachsamkeit und an die Sicherheitsverfahren."]
[null,null,null,null,null,null,null,{"$f":"'Kapitel 2'!K201","v":false},null,null,null,null,null,null,null,null,null,null,null,null,null,null,null,null,null,null,null,null,null,null,null,null,null,null,null,null,null,null,null,null,null,null,null,null,null,null,null,null,null,null,null,null,null,null,null,null,null,{"$f":"BF249","v":"F2.32"},"F2.32FALSCH",false,"Fördern Sie die Beteiligung aller Beschäftigten (Mitarbeiter und Auftragnehmer)."]
[null,null,null,null,null,null,null,{"$f":"'Kapitel 2'!K202","v":false},null,null,null,null,null,null,null,null,null,null,null,null,null,null,null,null,null,null,null,null,null,null,null,null,null,null,null,null,null,null,null,null,null,null,null,null,null,null,null,null,null,null,null,null,null,null,null,null,null,{"$f":"BF250","v":"F2.32"},"F2.32FALSCH",false,"Kein Bedarf für sofortige Strategieänderung, aber Verbesserungen sind immer im Auge zu behalten."]
[null,null,null,null,null,null,{"$f":"B156","v":"F2.33"},{"$f":"'Kapitel 2'!K207","v":false},null,false,false,null,null,false,false,false,null,null,{"$f":"G208","v":"F2.22"},{"$f":"IF(I208=\"\",$H208,I208)","v":true},true,true,true,true,true,true,true,true,false,null,null,null,null,null,null,null,null,null,null,null,null,null,null,null,null,null,null,null,null,null,null,null,null,null,null,null,null,{"$f":"G252","v":"F2.33"},{"$f":"CONCATENATE(BF252,BH252)","v":"F2.33FALSCH"},false,"Evaluieren Sie die möglichen Auswirkungen der Abfallerzeugung und Emissionen (Luft, Wasser, Lärm…)."]
[null,null,null,null,null,null,null,{"$f":"'Kapitel 2'!K208","v":true},null,false,false,null,null,false,false,false,null,null,null,{"$f":"IF(I209=\"\",$H209,I209)","v":false},false,false,false,{"$f":"IF(M209=\"\",$H209,M209)","v":false},{"$f":"IF(N209=\"\",$H209,N209)","v":false},false,false,false,false,null,null,null,null,null,null,null,null,null,null,null,null,null,null,null,null,null,null,null,null,null,null,null,null,null,null,null,null,{"$f":"BF252","v":"F2.33"},"F2.33WAHR",{"$f":"H253","v":true},"Setzen Sie Prioritäten zur Reduzierung auf Basis der Evaluierung. Kommunizieren Sie die Bestandsaufnahme den Mitarbeitern und der Öffentlichkeit."]
[null,null,null,null,null,null,null,{"$f":"'Kapitel 2'!K209","v":false},null,true,true,null,null,true,true,true,null,null,null,false,false,false,false,false,false,false,false,false,false,null,null,null,null,null,null,null,null,null,null,null,null,null,null,null,null,null,null,null,null,null,null,null,null,null,null,null,null,{"$f":"BF253","v":"F2.33"},"F2.33FALSCH",false,"Kommunizieren Sie die Ergebnisse der Folgenabschätzung, die Bestandsaufnahme und die möglichen Risiken den Mitarbeitern und der Öffentlichkeit."]
[null,null,null,null,null,null,null,{"$f":"'Kapitel 2'!K210","v":false},null,false,false,null,null,false,false,false,null,null,null,false,false,false,false,false,false,false,false,false,false,null,null,null,null,null,null,null,null,null,null,null,null,null,null,null,null,null,null,null,null,null,null,null,null,null,null,null,null,{"$f":"BF254","v":"F2.33"},"F2.33FALSCH",false,"Kein Bedarf für sofortige Strategieänderung, aber Verbesserungen sind immer im Auge zu behalten."]
[null,null,null,null,null,null,{"$f":"B157","v":"F2.34"},{"$f":"'Kapitel 2'!K213","v":true},null,false,null,null,false,false,false,null,null,null,null,null,null,null,null,null,null,null,null,null,null,null,null,null,null,null,null,null,null,null,null,null,null,null,null,null,null,null,null,null,null,null,null,null,null,null,null,null,null,{"$f":"G256","v":"F2.34"},"F2.34WAHR",true,"Legen Sie strategische Ziele fest und unterstützen Sie Maßnahmen zur Kontrolle und Reduzierung des ökologischen Fußabdrucks der Organisation."]
[null,null,null,null,null,null,null,{"$f":"'Kapitel 2'!K214","v":false},null,false,null,null,false,false,false,null,null,null,null,null,null,null,null,null,null,null,null,null,null,null,null,null,null,null,null,null,null,null,null,null,null,null,null,null,null,null,null,null,null,null,null,null,null,null,null,null,null,{"$f":"BF256","v":"F2.34"},"F2.34FALSCH",false,"Analysieren Sie regelmäßig die Entwicklung der Umweltleistung und der Umsetzung der Aktionspläne und verbessern Sie die Effektivität. Berücksichtigen Sie Bedenken der Allgemeinheit und die potenziellen Gesundheits-, Sicherheits- und Umweltauswirkungen sowie die Risiken und Chancen, die sich für den Kontext der Organisation ergeben.\nEntwickeln Sie angemessene Umweltindikatoren, um die Umweltleistung zu messen."]
[null,null,null,null,null,null,null,{"$f":"'Kapitel 2'!K215","v":false},null,false,null,null,false,false,false,null,null,null,{"$f":"G212","v":"F2.23"},{"$f":"IF(I212=\"\",$H212,I212)","v":false},false,false,false,false,false,false,false,false,false,null,null,null,null,null,null,null,null,null,null,null,null,null,null,null,null,null,null,null,null,null,null,null,null,null,null,null,null,{"$f":"BF257","v":"F2.34"},"F2.34FALSCH",false,"Machen Sie die oberste Leitung der Organisation verantwortlich für das Erreichen dieser Ziele und sorgen Sie, dass entsprechende Ressourcen zur Verfügung gestellt werden."]
[null,null,null,null,null,null,null,{"$f":"'Kapitel 2'!K216","v":false},null,true,null,null,true,true,true,null,null,null,null,{"$f":"IF(I213=\"\",$H213,I213)","v":true},true,true,true,{"$f":"IF(M213=\"\",$H213,M213)","v":true},{"$f":"IF(N213=\"\",$H213,N213)","v":true},true,true,true,false,null,null,null,null,null,null,null,null,null,null,null,null,null,null,null,null,null,null,null,null,null,null,null,null,null,null,null,null,{"$f":"BF258","v":"F2.34"},"F2.34FALSCH",false,"Kein Bedarf für sofortige Strategieänderung, aber Verbesserungen sind immer im Auge zu behalten."]
[null,null,null,null,null,null,{"$f":"B158","v":"F2.35"},{"$f":"'Kapitel 2'!K219","v":false},null,false,null,null,null,false,false,false,null,null,null,false,false,false,false,false,false,false,false,false,false,null,null,null,null,null,null,null,null,null,null,null,null,null,null,null,null,null,null,null,null,null,null,null,null,null,null,null,null,{"$f":"G260","v":"F2.35"},"F2.35FALSCH",false,"Optimieren Sie die Abfallströme für eine maximale Wiederverwertung."]
[null,null,null,null,null,null,null,{"$f":"'Kapitel 2'!K220","v":true},null,false,null,null,null,false,false,false,null,null,null,false,false,false,false,false,false,false,false,false,false,null,null,null,null,null,null,null,null,null,null,null,null,null,null,null,null,null,null,null,null,null,null,null,null,null,null,null,null,{"$f":"BF260","v":"F2.35"},"F2.35WAHR",true,"Überprüfen Sie regelmäßig die Praktiken der Abfallentsorgung."]
[null,null,null,null,null,null,null,{"$f":"'Kapitel 2'!K221","v":false},null,true,null,null,null,true,true,true,null,null,null,null,null,null,null,null,null,null,null,null,null,null,null,null,null,null,null,null,null,null,null,null,null,null,null,null,null,null,null,null,null,null,null,null,null,null,null,null,null,{"$f":"BF261","v":"F2.35"},"F2.35FALSCH",false,"Setzen Sie mit Partnern ein Abfallentsorgungsprogramm um, um Verbesserungsmöglichkeiten anzupeilen."]
[null,null,null,null,null,null,null,{"$f":"'Kapitel 2'!K222","v":false},null,false,null,null,null,false,false,false,null,null,null,null,null,null,null,null,null,null,null,null,null,null,null,null,null,null,null,null,null,null,null,null,null,null,null,null,null,null,null,null,null,null,null,null,null,null,null,null,null,{"$f":"BF262","v":"F2.35"},"F2.35FALSCH",false,"Kein Bedarf für sofortige Strategieänderung, aber Verbesserungen sind immer im Auge zu behalten."]
[null,null,null,null,null,null,{"$f":"B159","v":"F2.36"},{"$f":"'Kapitel 2'!K225","v":true},null,false,null,null,null,false,false,false,null,null,{"$f":"G216","v":"F2.24"},{"$f":"IF(I216=\"\",$H216,I216)","v":false},false,false,false,false,false,false,false,false,false,null,null,null,null,null,null,null,null,null,null,null,null,null,null,null,null,null,null,null,null,null,null,null,null,null,null,null,null,{"$f":"G264","v":"F2.36"},"F2.36WAHR",true,"Ermitteln Sie risikoreiche Aktivitäten im Zusammenhang mit Grundwasserverschmutzung. Ermitteln Sie technische und betriebliche Kontrollen und setzen Sie diese um."]
[null,null,null,null,null,null,null,{"$f":"'Kapitel 2'!K226","v":false},null,false,null,null,null,false,false,false,null,null,null,{"$f":"IF(I217=\"\",$H217,I217)","v":false},false,false,false,{"$f":"IF(M217=\"\",$H217,M217)","v":false},{"$f":"IF(N217=\"\",$H217,N217)","v":false},false,false,false,false,null,null,null,null,null,null,null,null,null,null,null,null,null,null,null,null,null,null,null,null,null,null,null,null,null,null,null,null,{"$f":"BF264","v":"F2.36"},"F2.36FALSCH",false,"Bewerten Sie regelmäßig die Grundwasserqualität, um eine mögliche Grundwasserverschmutzung zu erkennen. Vergleichen Sie die Daten mit den geltenden Grundwasserqualitätsstandards."]
[null,null,null,null,null,null,null,{"$f":"'Kapitel 2'!K227","v":false},null,true,null,null,null,true,true,true,null,null,null,true,true,true,true,true,true,true,true,true,false,null,null,null,null,null,null,null,null,null,null,null,null,null,null,null,null,null,null,null,null,null,null,null,null,null,null,null,null,{"$f":"BF265","v":"F2.36"},"F2.36FALSCH",false,"Entwickeln Sie Technologien, um die Risiken einer Verschmutzung des Grundwassers zu verhindern. Sorgen Sie dafür, dass diese Technologien und Best Practices innerhalb des Sektors ausgetauscht werden, um auch anderen zu helfen, sich zu verbessern."]
[null,null,null,null,null,null,null,{"$f":"'Kapitel 2'!K228","v":false},null,false,null,null,null,false,false,false,null,null,null,false,false,false,false,false,false,false,false,false,false,null,null,null,null,null,null,null,null,null,null,null,null,null,null,null,null,null,null,null,null,null,null,null,null,null,null,null,null,{"$f":"BF266","v":"F2.36"},"F2.36FALSCH",false,"Kein Bedarf für sofortige Strategieänderung, aber Verbesserungen sind immer im Auge zu behalten."]
[null,null,null,null,null,null,{"$f":"B160","v":"F2.37"},{"$f":"'Kapitel 2'!K231","v":false},null,false,null,null,null,false,false,false,null,null,null,null,null,null,null,null,null,null,null,null,null,null,null,null,null,null,null,null,null,null,null,null,null,null,null,null,null,null,null,null,null,null,null,null,null,null,null,null,null,{"$f":"G268","v":"F2.37"},"F2.37FALSCH",false,"Ermitteln Sie risikoreiche Aktivitäten im Zusammenhang mit Bodenverschmutzung. Ermitteln Sie technische und betriebliche Kontrollen und setzen Sie diese um: \n- Achten Sie auf flüssigkeitsdichte Tanks für in Fässern, Tanks oder Wannen gelagerte Schadstoffe, um die möglichen Ströme aufzufangen.\n- Achten Sie auf versiegelte Böden, wo gefährliche Stoffe gehandhabt oder angeliefert werden."]
[null,null,null,null,null,null,null,{"$f":"'Kapitel 2'!K232","v":false},null,false,null,null,null,false,false,false,null,null,null,null,null,null,null,null,null,null,null,null,null,null,null,null,null,null,null,null,null,null,null,null,null,null,null,null,null,null,null,null,null,null,null,null,null,null,null,null,null,{"$f":"BF268","v":"F2.37"},"F2.37FALSCH",false,"Entwickeln Sie Maßnahmen und Verfahren zur Minimierung der Auswirkungen von versehentlichen Leckagen in den Boden. Überwachen Sie regelmäßig die Bodenqualität. Vergleichen Sie die Daten mit den geltenden Bodenqualitätsstandards."]
[null,null,null,null,null,null,null,{"$f":"'Kapitel 2'!K233","v":true},null,true,null,null,null,true,true,true,null,null,null,null,null,null,null,null,null,null,null,null,null,null,null,null,null,null,null,null,null,null,null,null,null,null,null,null,null,null,null,null,null,null,null,null,null,null,null,null,null,{"$f":"BF269","v":"F2.37"},"F2.37WAHR",true,"Entwickeln Sie Technologien, um die Risiken einer Verschmutzung des Bodens zu verhindern. Sorgen Sie dafür, dass diese Technologien und Best Practices innerhalb des Sektors ausgetauscht werden, um auch anderen zu helfen, sich zu verbessern."]
[null,null,null,null,null,null,null,{"$f":"'Kapitel 2'!K234","v":false},null,false,null,null,null,false,false,false,null,null,null,null,null,null,null,null,null,null,null,null,null,null,null,null,null,null,null,null,null,null,null,null,null,null,null,null,null,null,null,null,null,null,null,null,null,null,null,null,null,{"$f":"BF270","v":"F2.37"},"F2.37FALSCH",false,"Kein Bedarf für sofortige Strategieänderung, aber Verbesserungen sind immer im Auge zu behalten."]
[null,null,null,null,null,null,{"$f":"B161","v":"F2.38"},{"$f":"'Kapitel 2'!K237","v":true},null,false,null,null,null,false,false,false,null,null,{"$f":"G220","v":"F2.25"},{"$f":"IF(I220=\"\",$H220,I220)","v":false},false,false,false,false,false,false,false,false,false,null,null,null,null,null,null,null,null,null,null,null,null,null,null,null,null,null,null,null,null,null,null,null,null,null,null,null,null,{"$f":"G272","v":"F2.38"},"F2.38WAHR",true,"Definieren Sie den Prozess und die Zuständigkeiten für die Sanierung von versehentlichen Verunreinigungen.\nUntersuchen Sie den Standort, um die Situation in Bezug auf bestehende Verunreinigungen zu verstehen."]
[null,null,null,null,null,null,null,{"$f":"'Kapitel 2'!K238","v":false},null,false,null,null,null,false,false,false,null,null,null,{"$f":"IF(I221=\"\",$H221,I221)","v":true},true,true,true,{"$f":"IF(M221=\"\",$H221,M221)","v":true},{"$f":"IF(N221=\"\",$H221,N221)","v":true},true,true,true,false,null,null,null,null,null,null,null,null,null,null,null,null,null,null,null,null,null,null,null,null,null,null,null,null,null,null,null,null,{"$f":"BF272","v":"F2.38"},"F2.38FALSCH",false,"Entwerfen Sie einen Plan für den Umgang mit Verunreinigungen:\n- Verzeichnen Sie die vorhandenen Verunreinigungen.\n- Entwerfen Sie Sanierungspläne, um die verschiedenen Sanierungsmöglichkeiten zu verstehen.\n- Definieren Sie den zeitlichen Ansatz zum Umgang mit diesen Verunreinigungen.\n- Wenn die Verunreinigung weiterhin besteht, überwachen Sie sie, um dafür zu sorgen, dass sie sich nicht ausbreitet, und seien Sie für weitere Maßnahmen bereit, wenn sie es doch tut."]
[null,null,null,null,null,null,null,{"$f":"'Kapitel 2'!K239","v":false},null,true,null,null,null,true,true,true,null,null,null,false,false,false,false,false,false,false,false,false,false,null,null,null,null,null,null,null,null,null,null,null,null,null,null,null,null,null,null,null,null,null,null,null,null,null,null,null,null,{"$f":"BF273","v":"F2.38"},"F2.38FALSCH",false,"Sorgen Sie für die Budgetierung und Umsetzung des Plans für den Umgang mit Verunreinigungen im Management des Standorts."]
[null,null,null,null,null,null,null,{"$f":"'Kapitel 2'!K240","v":false},null,false,null,null,null,false,false,false,null,null,null,false,false,false,false,false,false,false,false,false,false,null,null,null,null,null,null,null,null,null,null,null,null,null,null,null,null,null,null,null,null,null,null,null,null,null,null,null,null,{"$f":"BF274","v":"F2.38"},"F2.38FALSCH",false,"Kein Bedarf für sofortige Strategieänderung, aber Verbesserungen sind immer im Auge zu behalten."]
[null,null,null,null,null,null,{"$f":"B162","v":"F2.39"},{"$f":"'Kapitel 2'!K243","v":false},null,false,null,null,null,false,false,false,null,null,null,null,null,null,null,null,null,null,null,null,null,null,null,null,null,null,null,null,null,null,null,null,null,null,null,null,null,null,null,null,null,null,null,null,null,null,null,null,null,{"$f":"G276","v":"F2.39"},"F2.39FALSCH",false,"Setzen Sie technische und betriebliche Kontrollen um, um diese Emissionen zu verhindern und zu überwachen."]
[null,null,null,null,null,null,null,{"$f":"'Kapitel 2'!K244","v":false},null,false,null,null,null,false,false,false,null,null,null,null,null,null,null,null,null,null,null,null,null,null,null,null,null,null,null,null,null,null,null,null,null,null,null,null,null,null,null,null,null,null,null,null,null,null,null,null,null,{"$f":"BF276","v":"F2.39"},"F2.39FALSCH",false,"Evaluieren Sie Verbesserungsmöglichkeiten. Integrieren Sie sie in einen Aktionsplan"]
[null,null,null,null,null,null,null,{"$f":"'Kapitel 2'!K245","v":true},null,true,null,null,null,true,true,true,null,null,{"$f":"G224","v":"F2.26"},{"$f":"IF(I224=\"\",$H224,I224)","v":true},true,true,true,true,true,true,true,true,false,null,null,null,null,null,null,null,null,null,null,null,null,null,null,null,null,null,null,null,null,null,null,null,null,null,null,null,null,{"$f":"BF277","v":"F2.39"},"F2.39WAHR",true,"Legen Sie Ziele und Indikatoren für die Emissionsreduzierung fest. Überprüfen Sie systematisch den Fortschritt in Richtung dieser Ziele."]
[null,null,null,null,null,null,null,{"$f":"'Kapitel 2'!K246","v":false},null,false,null,null,null,false,false,false,null,null,null,{"$f":"IF(I225=\"\",$H225,I225)","v":false},false,false,false,{"$f":"IF(M225=\"\",$H225,M225)","v":false},{"$f":"IF(N225=\"\",$H225,N225)","v":false},false,false,false,false,null,null,null,null,null,null,null,null,null,null,null,null,null,null,null,null,null,null,null,null,null,null,null,null,null,null,null,null,{"$f":"BF278","v":"F2.39"},"F2.39FALSCH",false,"Kein Bedarf für sofortige Strategieänderung, aber Verbesserungen sind immer im Auge zu behalten."]
[null,null,null,null,null,null,{"$f":"B163","v":"F2.40"},{"$f":"'Kapitel 2'!K249","v":true},null,false,null,null,null,false,false,false,null,null,null,false,false,false,false,false,false,false,false,false,false,null,null,null,null,null,null,null,null,null,null,null,null,null,null,null,null,null,null,null,null,null,null,null,null,null,null,null,null,{"$f":"G280","v":"F2.40"},"F2.40WAHR",true,"Setzen Sie technische und betriebliche Kontrollen um, um diese Emissionen zu verhindern und zu überwachen."]
[null,null,null,null,null,null,null,{"$f":"'Kapitel 2'!K250","v":false},null,false,null,null,null,false,false,false,null,null,null,false,false,false,false,false,false,false,false,false,false,null,null,null,null,null,null,null,null,null,null,null,null,null,null,null,null,null,null,null,null,null,null,null,null,null,null,null,null,{"$f":"BF280","v":"F2.40"},"F2.40FALSCH",false,"Evaluieren Sie Verbesserungsmöglichkeiten. Integrieren Sie sie in einen Aktionsplan."]
[null,null,null,null,null,null,null,{"$f":"'Kapitel 2'!K251","v":false},null,true,null,null,null,true,true,true,null,null,null,null,null,null,null,null,null,null,null,null,null,null,null,null,null,null,null,null,null,null,null,null,null,null,null,null,null,null,null,null,null,null,null,null,null,null,null,null,null,{"$f":"BF281","v":"F2.40"},"F2.40FALSCH",false,"Legen Sie Ziele und Indikatoren für die Emissionsreduzierung fest. Überprüfen Sie systematisch den Fortschritt in Richtung dieser Ziele. Im Fall von Kunststoffen steht Unternehmen die Teilnahme an Initiativen wie „Operation Clean Sweep (OCS)“ https://www.opcleansweep.org/ zur Reduzierung von Flocken, Pellets und Pulver frei."]
[null,null,null,null,null,null,null,{"$f":"'Kapitel 2'!K252","v":false},null,false,null,null,null,false,false,false,null,null,null,null,null,null,null,null,null,null,null,null,null,null,null,null,null,null,null,null,null,null,null,null,null,null,null,null,null,null,null,null,null,null,null,null,null,null,null,null,null,{"$f":"BF282","v":"F2.40"},"F2.40FALSCH",false,"Kein Bedarf für sofortige Strategieänderung, aber Verbesserungen sind immer im Auge zu behalten."]
[null,null,null,null,null,null,{"$f":"B164","v":"F2.41"},{"$f":"'Kapitel 2'!K255","v":false},null,false,null,null,null,false,false,false,null,null,null,null,null,null,null,null,null,null,null,null,null,null,null,null,null,null,null,null,null,null,null,null,null,null,null,null,null,null,null,null,null,null,null,null,null,null,null,null,null,{"$f":"G284","v":"F2.41"},"F2.41FALSCH",false,"Beurteilen Sie die Hauptlärmquellen Ihres Standorts. Berücksichtigen Sie in der Beurteilung normale und abnormale Betriebsbedingungen ist die Beurteilung sowie Situationen tagsüber und nachts.\nSetzen Sie technische und betriebliche Kontrollen um, um Lärmentwicklung zu verhindern."]
[null,null,null,null,null,null,null,{"$f":"'Kapitel 2'!K256","v":false},null,false,null,null,null,false,false,false,null,null,null,null,null,null,null,null,null,null,null,null,null,null,null,null,null,null,null,null,null,null,null,null,null,null,null,null,null,null,null,null,null,null,null,null,null,null,null,null,null,{"$f":"BF284","v":"F2.41"},"F2.41FALSCH",false,"Organisieren Sie regelmäßige Überwachungskampagnen. Definieren Sie Verbesserungsmöglichkeiten. Integrieren Sie sie in einen Aktionsplan. "]
[null,null,null,null,null,null,null,{"$f":"'Kapitel 2'!K257","v":true},null,true,null,null,null,true,true,true,null,null,{"$f":"G228","v":"F2.27"},{"$f":"IF(I228=\"\",$H228,I228)","v":true},true,true,true,true,true,true,true,true,false,null,null,null,null,null,null,null,null,null,null,null,null,null,null,null,null,null,null,null,null,null,null,null,null,null,null,null,null,{"$f":"BF285","v":"F2.41"},"F2.41WAHR",true,"Legen Sie Ziele und Indikatoren für die Emissionsreduzierung fest. Überprüfen Sie systematisch den Fortschritt in Richtung dieser Ziele."]
[null,null,null,null,null,null,null,{"$f":"'Kapitel 2'!K258","v":false},null,false,null,null,null,false,false,false,null,null,null,{"$f":"IF(I229=\"\",$H229,I229)","v":false},false,false,false,{"$f":"IF(M229=\"\",$H229,M229)","v":false},{"$f":"IF(N229=\"\",$H229,N229)","v":false},false,false,false,false,null,null,null,null,null,null,null,null,null,null,null,null,null,null,null,null,null,null,null,null,null,null,null,null,null,null,null,null,{"$f":"BF286","v":"F2.41"},"F2.41FALSCH",false,"Kein Bedarf für sofortige Strategieänderung, aber Verbesserungen sind immer im Auge zu behalten."]
[null,null,null,null,null,null,{"$f":"B165","v":"F2.42"},{"$f":"'Kapitel 2'!K261","v":false},null,false,null,null,null,false,false,false,null,null,null,false,false,false,false,false,false,false,false,false,false,null,null,null,null,null,null,null,null,null,null,null,null,null,null,null,null,null,null,null,null,null,null,null,null,null,null,null,null,{"$f":"G288","v":"F2.42"},"F2.42FALSCH",false,"Beurteilen Sie die (möglichen) Hauptgeruchsquellen Ihres Standorts. Berücksichtigen Sie in der Beurteilung normale und abnormale Betriebsbedingungen ist die Beurteilung sowie Situationen tagsüber und nachts.\nSetzen Sie technische und betriebliche Kontrollen um, um Geruchsemissionen zu verhindern."]
[null,null,null,null,null,null,null,{"$f":"'Kapitel 2'!K262","v":false},null,false,null,null,null,false,false,false,null,null,null,false,false,false,false,false,false,false,false,false,false,null,null,null,null,null,null,null,null,null,null,null,null,null,null,null,null,null,null,null,null,null,null,null,null,null,null,null,null,{"$f":"BF288","v":"F2.42"},"F2.42FALSCH",false,"Richten Sie eine Anlaufstelle für die Nachbarschaft ein, um Beschwerden über Geruchsbelästigungen zu sammeln. Untersuchen Sie bei Beschwerden die Ursachen und überlegen Sie schadensbegrenzende Maßnahmen."]
[null,null,null,null,null,null,null,{"$f":"'Kapitel 2'!K263","v":true},null,true,null,null,null,true,true,true,null,null,null,null,null,null,null,null,null,null,null,null,null,null,null,null,null,null,null,null,null,null,null,null,null,null,null,null,null,null,null,null,null,null,null,null,null,null,null,null,null,{"$f":"BF289","v":"F2.42"},"F2.42WAHR",true,"Legen Sie Ziele und Indikatoren für die Emissionsreduzierung fest. Überprüfen Sie systematisch den Fortschritt in Richtung dieser Ziele."]
[null,null,null,null,null,null,null,{"$f":"'Kapitel 2'!K264","v":false},null,false,null,null,null,false,false,false,null,null,null,null,null,null,null,null,null,null,null,null,null,null,null,null,null,null,null,null,null,null,null,null,null,null,null,null,null,null,null,null,null,null,null,null,null,null,null,null,null,{"$f":"BF290","v":"F2.42"},"F2.42FALSCH",false,"Kein Bedarf für sofortige Strategieänderung, aber Verbesserungen sind immer im Auge zu behalten."]
[null,null,null,null,null,null,{"$f":"B166","v":"F2.43"},{"$f":"'Kapitel 2'!K267","v":false},null,false,false,null,null,false,false,null,null,null,{"$f":"G232","v":"F2.28"},{"$f":"IF(I232=\"\",$H232,I232)","v":false},false,false,false,false,false,false,false,false,false,null,null,null,null,null,null,null,null,null,null,null,null,null,null,null,null,null,null,null,null,null,null,null,null,null,null,null,null,{"$f":"G292","v":"F2.43"},"F2.43FALSCH",false,"Ermitteln Sie Prozesse und Aktivitäten, die zu versehentlichen Emissionen an die Umwelt führen können. Setzen Sie technische und betriebliche Kontrollen um, um versehentliche Emissionen zu verhindern und zu erkennen (z. B. Deiche, flüssigkeitsdichte Flächen, doppelwandige Container/Tanks, Sperrsysteme für die Kanalisation oder die Oberflächenentwässerung…). Evaluieren Sie regelmäßig die Effektivität der umgesetzten Kontrollen."]
[null,null,null,null,null,null,null,{"$f":"'Kapitel 2'!K268","v":true},null,false,false,null,null,false,false,null,null,null,null,{"$f":"IF(I233=\"\",$H233,I233)","v":true},true,true,true,{"$f":"IF(M233=\"\",$H233,M233)","v":true},{"$f":"IF(N233=\"\",$H233,N233)","v":true},true,true,true,false,null,null,null,null,null,null,null,null,null,null,null,null,null,null,null,null,null,null,null,null,null,null,null,null,null,null,null,null,{"$f":"BF292","v":"F2.43"},"F2.43WAHR",true,"Entwickeln Sie ein Notfallverfahren für versehentliche Verunreinigungen. Beurteilen Sie die Quellen oder Gründe von/für versehentliche Verunreinigungen als Teil der Prozesssicherheitsuntersuchung. "]
[null,null,null,null,null,null,null,{"$f":"'Kapitel 2'!K269","v":false},null,true,false,null,null,true,true,null,null,null,null,false,false,false,false,false,false,false,false,false,false,null,null,null,null,null,null,null,null,null,null,null,null,null,null,null,null,null,null,null,null,null,null,null,null,null,null,null,null,{"$f":"BF293","v":"F2.43"},"F2.43FALSCH",false,"Entwickeln Sie ein Kommunikationsverfahren mit lokalen Stakeholdern (Behörden, Medien, lokale Anrainer…) und evaluieren und verbessern Sie regelmäßig die Effektivität des Prozesses. Im Fall von Kunststoffen steht Unternehmen die Teilnahme an Initiativen wie „Operation Clean Sweep (OCS)“ https://www.opcleansweep.org/\n zur Reduzierung von Flocken, Pellets und Pulver frei."]
[null,null,null,null,null,null,null,{"$f":"'Kapitel 2'!K270","v":false},null,false,true,null,null,false,false,null,null,null,null,false,false,false,false,false,false,false,false,false,false,null,null,null,null,null,null,null,null,null,null,null,null,null,null,null,null,null,null,null,null,null,null,null,null,null,null,null,null,{"$f":"BF294","v":"F2.43"},"F2.43FALSCH",false,"Kein Bedarf für sofortige Strategieänderung, aber Verbesserungen sind immer im Auge zu behalten."]
[null,null,null,null,null,null,{"$f":"B167","v":"F2.44"},{"$f":"'Kapitel 2'!K273","v":false},null,false,false,null,null,false,false,false,null,null,null,null,null,null,null,null,null,null,null,null,null,null,null,null,null,null,null,null,null,null,null,null,null,null,null,null,null,null,null,null,null,null,null,null,null,null,null,null,null,{"$f":"G296","v":"F2.44"},"F2.44FALSCH",false,"Schulen Sie alle Mitarbeiter (einschließlich Auftragnehmer und Neueinsteiger) entsprechend ihren umweltbezogenen Zuständigkeiten (die Umweltauswirkungen ihrer Aufgaben). Entwickeln Sie einen Schulungsplan, der alle wesentlichen Umweltaspekte behandelt."]
[null,null,null,null,null,null,null,{"$f":"'Kapitel 2'!K274","v":false},null,false,false,null,null,false,false,false,null,null,null,null,null,null,null,null,null,null,null,null,null,null,null,null,null,null,null,null,null,null,null,null,null,null,null,null,null,null,null,null,null,null,null,null,null,null,null,null,null,{"$f":"BF296","v":"F2.44"},"F2.44FALSCH",false,"Machen Sie alle Mitarbeiter auf die Umweltziele der Organisation aufmerksam.\nEs ist wichtig, dass alle verstehen, wie sie in ihrer Funktion zu den Zielen beitragen können und welche Auswirkungen es hat, wenn sie dies nicht tun. \nFür bestimmte Funktionen wie Umweltexperten ist eine laufende Weiterbildung anzubieten, um zu gewährleisten, dass ihre Kenntnisse von neuen Tools und Techniken auf dem neuesten Stand sind."]
[null,null,null,null,null,null,null,{"$f":"'Kapitel 2'!K275","v":true},null,true,true,null,null,true,true,true,null,null,{"$f":"G236","v":"F2.29"},{"$f":"IF(I236=\"\",$H236,I236)","v":true},true,true,true,true,true,true,true,true,false,null,null,null,null,null,null,null,null,null,null,null,null,null,null,null,null,null,null,null,null,null,null,null,null,null,null,null,null,{"$f":"BF297","v":"F2.44"},"F2.44WAHR",true,"Führen Sie einen Nachweis der verfügbaren Schulungen und evaluieren Sie regelmäßig die Effektivität der Schulungen."]
[null,null,null,null,null,null,null,{"$f":"'Kapitel 2'!K276","v":false},null,false,false,null,null,false,false,false,null,null,null,{"$f":"IF(I237=\"\",$H237,I237)","v":false},false,false,false,{"$f":"IF(M237=\"\",$H237,M237)","v":false},{"$f":"IF(N237=\"\",$H237,N237)","v":false},false,false,false,false,null,null,null,null,null,null,null,null,null,null,null,null,null,null,null,null,null,null,null,null,null,null,null,null,null,null,null,null,{"$f":"BF298","v":"F2.44"},"F2.44FALSCH",false,"Kein Bedarf für sofortige Strategieänderung, aber Verbesserungen sind immer im Auge zu behalten."]
[null,null,null,null,null,null,{"$f":"B168","v":"F2.45"},{"$f":"'Kapitel 2'!K279","v":false},null,true,false,null,null,false,false,false,null,null,null,false,false,false,false,false,false,false,false,false,false,null,null,null,null,null,null,null,null,null,null,null,null,null,null,null,null,null,null,null,null,null,null,null,null,null,null,null,null,{"$f":"G300","v":"F2.45"},"F2.45FALSCH",false,"Informieren Sie die lokale Allgemeinheit regelmäßig über Umweltaspekte in Bezug auf ihre Aktivitäten."]
[null,null,null,null,null,null,null,{"$f":"'Kapitel 2'!K280","v":false},null,false,false,null,null,true,true,true,null,null,null,false,false,false,false,false,false,false,false,false,false,null,null,null,null,null,null,null,null,null,null,null,null,null,null,null,null,null,null,null,null,null,null,null,null,null,null,null,null,{"$f":"BF300","v":"F2.45"},"F2.45FALSCH",false,"Knüpfen Sie Partnerschaften mit Umweltverbänden, um Lösungen zu erklären oder sogar zu entwickeln, die an die Umweltfragen der Organisation angepasst sind."]
[null,null,null,null,null,null,null,{"$f":"'Kapitel 2'!K281","v":true},null,false,true,null,null,false,false,false,null,null,null,null,null,null,null,null,null,null,null,null,null,null,null,null,null,null,null,null,null,null,null,null,null,null,null,null,null,null,null,null,null,null,null,null,null,null,null,null,null,{"$f":"BF301","v":"F2.45"},"F2.45WAHR",true,"Kommunizieren Sie die Überwachung der Umweltleistungsindikatoren an Stakeholder, um das Engagement der Organisation für die Umweltbelange des geografischen Gebiets zu unterstreichen, in dem sie angesiedelt ist."]
[null,null,null,null,null,null,null,{"$f":"'Kapitel 2'!K282","v":false},null,false,false,null,null,false,false,false,null,null,null,null,null,null,null,null,null,null,null,null,null,null,null,null,null,null,null,null,null,null,null,null,null,null,null,null,null,null,null,null,null,null,null,null,null,null,null,null,null,{"$f":"BF302","v":"F2.45"},"F2.45FALSCH",false,"Kein Bedarf für sofortige Strategieänderung, aber Verbesserungen sind immer im Auge zu behalten."]
[null,null,null,null,null,null,null,null,null,null,null,null,null,null,null,null,null,null,{"$f":"G240","v":"F2.30"},{"$f":"IF(I240=\"\",$H240,I240)","v":true},true,true,true,true,true,true,true,true,false]
[null,null,null,null,null,null,null,null,null,null,null,null,null,null,null,null,null,null,null,{"$f":"IF(I241=\"\",$H241,I241)","v":false},false,false,false,{"$f":"IF(M241=\"\",$H241,M241)","v":false},{"$f":"IF(N241=\"\",$H241,N241)","v":false},false,false,false,false]
[null,null,null,null,null,null,null,null,null,null,null,null,null,null,null,null,null,null,null,false,false,false,false,false,false,false,false,false,false]
[null,null,null,null,null,null,null,null,null,null,null,null,null,null,null,null,null,null,null,false,false,false,false,false,false,false,false,false,false]
[]
[]
[null,null,null,null,null,null,null,null,null,null,null,null,null,null,null,null,null,null,{"$f":"G244","v":"F2.31"},{"$f":"IF(I244=\"\",$H244,I244)","v":false},false,false,false,false,false,false,false,false,false]
[null,null,null,null,null,null,null,null,null,null,null,null,null,null,null,null,null,null,null,{"$f":"IF(I245=\"\",$H245,I245)","v":false},false,false,false,{"$f":"IF(M245=\"\",$H245,M245)","v":false},{"$f":"IF(N245=\"\",$H245,N245)","v":false},false,false,false,false]
[null,null,null,null,null,null,null,null,null,null,null,null,null,null,null,null,null,null,null,true,true,true,true,true,true,true,true,true,false]
[null,null,null,null,null,null,null,null,null,null,null,null,null,null,null,null,null,null,null,false,false,false,false,false,false,false,false,false,false]
[]
[]
[null,null,null,null,null,null,null,null,null,null,null,null,null,null,null,null,null,null,{"$f":"G248","v":"F2.32"},{"$f":"IF(I248=\"\",$H248,I248)","v":true},true,true,true,true,true,true,true,true,false]
[null,null,null,null,null,null,null,null,null,null,null,null,null,null,null,null,null,null,null,{"$f":"IF(I249=\"\",$H249,I249)","v":false},false,false,false,{"$f":"IF(M249=\"\",$H249,M249)","v":false},{"$f":"IF(N249=\"\",$H249,N249)","v":false},false,false,false,false]
[null,null,null,null,null,null,null,null,null,null,null,null,null,null,null,null,null,null,null,false,false,false,false,false,false,false,false,false,false]
[null,null,null,null,null,null,null,null,null,null,null,null,null,null,null,null,null,null,null,false,false,false,false,false,false,false,false,false,false]
[]
[]
[]
[]
[null,null,null,null,null,null,null,null,null,null,null,null,null,null,null,null,null,null,{"$f":"G252","v":"F2.33"},{"$f":"IF(I252=\"\",$H252,I252)","v":false},false,false,false,false,false,false,false,false,false]
[null,null,null,null,null,null,null,null,null,null,null,null,null,null,null,null,null,null,null,{"$f":"IF(I253=\"\",$H253,I253)","v":true},false,false,true,{"$f":"IF(M253=\"\",$H253,M253)","v":true},{"$f":"IF(N253=\"\",$H253,N253)","v":false},false,false,true,false]
[null,null,null,null,null,null,null,null,null,null,null,null,null,null,null,null,null,null,null,false,true,true,false,false,true,true,true,false,false]
[null,null,null,null,null,null,null,null,null,null,null,null,null,null,null,null,null,null,null,false,false,false,false,false,false,false,false,false,false]
[]
[]
[null,null,null,null,null,null,null,null,null,null,null,null,null,null,null,null,null,null,{"$f":"G256","v":"F2.34"},{"$f":"IF(I256=\"\",$H256,I256)","v":true},false,true,true,false,false,false,true,true,false]
[null,null,null,null,null,null,null,null,null,null,null,null,null,null,null,null,null,null,null,{"$f":"IF(I257=\"\",$H257,I257)","v":false},false,false,false,{"$f":"IF(M257=\"\",$H257,M257)","v":false},{"$f":"IF(N257=\"\",$H257,N257)","v":false},false,false,false,false]
[null,null,null,null,null,null,null,null,null,null,null,null,null,null,null,null,null,null,null,false,false,false,false,false,false,false,false,false,false]
[null,null,null,null,null,null,null,null,null,null,null,null,null,null,null,null,null,null,null,false,true,false,false,true,true,true,false,false,false]
[]
[]
[null,null,null,null,null,null,null,null,null,null,null,null,null,null,null,null,null,null,{"$f":"G260","v":"F2.35"},{"$f":"IF(I260=\"\",$H260,I260)","v":false},false,false,false,false,false,false,false,false,false]
[null,null,null,null,null,null,null,null,null,null,null,null,null,null,null,null,null,null,null,{"$f":"IF(I261=\"\",$H261,I261)","v":true},false,true,true,{"$f":"IF(M261=\"\",$H261,M261)","v":true},{"$f":"IF(N261=\"\",$H261,N261)","v":false},false,false,true,false]
[null,null,null,null,null,null,null,null,null,null,null,null,null,null,null,null,null,null,null,false,true,false,false,false,true,true,true,false,false]
[null,null,null,null,null,null,null,null,null,null,null,null,null,null,null,null,null,null,null,false,false,false,false,false,false,false,false,false,false]
[]
[]
[null,null,null,null,null,null,null,null,null,null,null,null,null,null,null,null,null,null,{"$f":"G264","v":"F2.36"},{"$f":"IF(I264=\"\",$H264,I264)","v":true},false,true,true,true,false,false,false,true,false]
[null,null,null,null,null,null,null,null,null,null,null,null,null,null,null,null,null,null,null,{"$f":"IF(I265=\"\",$H265,I265)","v":false},false,false,false,{"$f":"IF(M265=\"\",$H265,M265)","v":false},{"$f":"IF(N265=\"\",$H265,N265)","v":false},false,false,false,false]
[null,null,null,null,null,null,null,null,null,null,null,null,null,null,null,null,null,null,null,false,true,false,false,false,true,true,true,false,false]
[null,null,null,null,null,null,null,null,null,null,null,null,null,null,null,null,null,null,null,false,false,false,false,false,false,false,false,false,false]
[]
[]
[null,null,null,null,null,null,null,null,null,null,null,null,null,null,null,null,null,null,{"$f":"G268","v":"F2.37"},{"$f":"IF(I268=\"\",$H268,I268)","v":false},false,false,false,false,false,false,false,false,false]
[null,null,null,null,null,null,null,null,null,null,null,null,null,null,null,null,null,null,null,{"$f":"IF(I269=\"\",$H269,I269)","v":false},false,false,false,{"$f":"IF(M269=\"\",$H269,M269)","v":false},{"$f":"IF(N269=\"\",$H269,N269)","v":false},false,false,false,false]
[null,null,null,null,null,null,null,null,null,null,null,null,null,null,null,null,null,null,null,true,true,true,true,true,true,true,true,true,false]
[null,null,null,null,null,null,null,null,null,null,null,null,null,null,null,null,null,null,null,false,false,false,false,false,false,false,false,false,false]
[]
[]
[null,null,null,null,null,null,null,null,null,null,null,null,null,null,null,null,null,null,{"$f":"G272","v":"F2.38"},{"$f":"IF(I272=\"\",$H272,I272)","v":true},false,true,true,true,false,false,false,true,false]
[null,null,null,null,null,null,null,null,null,null,null,null,null,null,null,null,null,null,null,{"$f":"IF(I273=\"\",$H273,I273)","v":false},false,false,false,{"$f":"IF(M273=\"\",$H273,M273)","v":false},{"$f":"IF(N273=\"\",$H273,N273)","v":false},false,false,false,false]
[null,null,null,null,null,null,null,null,null,null,null,null,null,null,null,null,null,null,null,false,true,false,false,false,true,true,true,false,false]
[null,null,null,null,null,null,null,null,null,null,null,null,null,null,null,null,null,null,null,false,false,false,false,false,false,false,false,false,false]
[]
[]
[null,null,null,null,null,null,null,null,null,null,null,null,null,null,null,null,null,null,{"$f":"G276","v":"F2.39"},{"$f":"IF(I276=\"\",$H276,I276)","v":false},false,false,false,false,false,false,false,false,false]
[null,null,null,null,null,null,null,null,null,null,null,null,null,null,null,null,null,null,null,{"$f":"IF(I277=\"\",$H277,I277)","v":false},false,false,false,{"$f":"IF(M277=\"\",$H277,M277)","v":false},{"$f":"IF(N277=\"\",$H277,N277)","v":false},false,false,false,false]
[null,null,null,null,null,null,null,null,null,null,null,null,null,null,null,null,null,null,null,true,true,true,true,true,true,true,true,true,false]
[null,null,null,null,null,null,null,null,null,null,null,null,null,null,null,null,null,null,null,false,false,false,false,false,false,false,false,false,false]
[]
[]
[null,null,null,null,null,null,null,null,null,null,null,null,null,null,null,null,null,null,{"$f":"G280","v":"F2.40"},{"$f":"IF(I280=\"\",$H280,I280)","v":true},false,true,true,true,false,false,false,true,false]
[null,null,null,null,null,null,null,null,null,null,null,null,null,null,null,null,null,null,null,{"$f":"IF(I281=\"\",$H281,I281)","v":false},false,false,false,{"$f":"IF(M281=\"\",$H281,M281)","v":false},{"$f":"IF(N281=\"\",$H281,N281)","v":false},false,false,false,false]
[null,null,null,null,null,null,null,null,null,null,null,null,null,null,null,null,null,null,null,false,true,false,false,false,true,true,true,false,false]
[null,null,null,null,null,null,null,null,null,null,null,null,null,null,null,null,null,null,null,false,false,false,false,false,false,false,false,false,false]
[]
[]
[null,null,null,null,null,null,null,null,null,null,null,null,null,null,null,null,null,null,{"$f":"G284","v":"F2.41"},{"$f":"IF(I284=\"\",$H284,I284)","v":false},false,false,false,false,false,false,false,false,false]
[null,null,null,null,null,null,null,null,null,null,null,null,null,null,null,null,null,null,null,{"$f":"IF(I285=\"\",$H285,I285)","v":false},false,false,false,{"$f":"IF(M285=\"\",$H285,M285)","v":false},{"$f":"IF(N285=\"\",$H285,N285)","v":false},false,false,false,false]
[null,null,null,null,null,null,null,null,null,null,null,null,null,null,null,null,null,null,null,true,true,true,true,true,true,true,true,true,false]
[null,null,null,null,null,null,null,null,null,null,null,null,null,null,null,null,null,null,null,false,false,false,false,false,false,false,false,false,false]
[]
[]
[null,null,null,null,null,null,null,null,null,null,null,null,null,null,null,null,null,null,{"$f":"G288","v":"F2.42"},{"$f":"IF(I288=\"\",$H288,I288)","v":false},false,false,false,false,false,false,false,false,false]
[null,null,null,null,null,null,null,null,null,null,null,null,null,null,null,null,null,null,null,{"$f":"IF(I289=\"\",$H289,I289)","v":false},false,false,false,{"$f":"IF(M289=\"\",$H289,M289)","v":false},{"$f":"IF(N289=\"\",$H289,N289)","v":false},false,false,false,false]
[null,null,null,null,null,null,null,null,null,null,null,null,null,null,null,null,null,null,null,true,true,true,true,true,true,true,true,true,false]
[null,null,null,null,null,null,null,null,null,null,null,null,null,null,null,null,null,null,null,false,false,false,false,false,false,false,false,false,false]
[]
[]
[null,null,null,null,null,null,null,null,null,null,null,null,null,null,null,null,null,null,{"$f":"G292","v":"F2.43"},{"$f":"IF(I292=\"\",$H292,I292)","v":false},false,false,false,false,false,false,false,false,false]
[null,null,null,null,null,null,null,null,null,null,null,null,null,null,null,null,null,null,null,{"$f":"IF(I293=\"\",$H293,I293)","v":true},false,false,true,{"$f":"IF(M293=\"\",$H293,M293)","v":true},{"$f":"IF(N293=\"\",$H293,N293)","v":false},false,true,true,false]
[null,null,null,null,null,null,null,null,null,null,null,null,null,null,null,null,null,null,null,false,true,false,false,false,true,true,false,false,false]
[null,null,null,null,null,null,null,null,null,null,null,null,null,null,null,null,null,null,null,false,false,true,false,false,false,false,false,false,false]
[]
[]
[null,null,null,null,null,null,null,null,null,null,null,null,null,null,null,null,null,null,{"$f":"G296","v":"F2.44"},{"$f":"IF(I296=\"\",$H296,I296)","v":false},false,false,false,false,false,false,false,false,false]
[null,null,null,null,null,null,null,null,null,null,null,null,null,null,null,null,null,null,null,{"$f":"IF(I297=\"\",$H297,I297)","v":false},false,false,false,{"$f":"IF(M297=\"\",$H297,M297)","v":false},{"$f":"IF(N297=\"\",$H297,N297)","v":false},false,false,false,false]
[null,null,null,null,null,null,null,null,null,null,null,null,null,null,null,null,null,null,null,true,true,true,true,true,true,true,true,true,false]
[null,null,null,null,null,null,null,null,null,null,null,null,null,null,null,null,null,null,null,false,false,false,false,false,false,false,false,false,false]
[]
[]
[null,null,null,null,null,null,null,null,null,null,null,null,null,null,null,null,null,null,{"$f":"G300","v":"F2.45"},{"$f":"IF(I300=\"\",$H300,I300)","v":false},true,false,false,false,false,false,false,false,false]
[null,null,null,null,null,null,null,null,null,null,null,null,null,null,null,null,null,null,null,{"$f":"IF(I301=\"\",$H301,I301)","v":false},false,false,false,{"$f":"IF(M301=\"\",$H301,M301)","v":false},{"$f":"IF(N301=\"\",$H301,N301)","v":true},true,true,false,false]
[null,null,null,null,null,null,null,null,null,null,null,null,null,null,null,null,null,null,null,true,false,true,true,true,false,false,false,true,false]
[null,null,null,null,null,null,null,null,null,null,null,null,null,null,null,null,null,null,null,false,false,false,false,false,false,false,false,false,false]
[]
["chapter 3"]
[]
[null,null,null,null,null,null,null,null,"scores in case of compliance",null,null,null,null,null,null,null,null,null,null,"to copy",null,null,null,null,null,null,null,null,null,null,null,null,"equal weights (adaptable)",null,null,null,"MCA"]
[null,"scores",null,null,null,"prefill",null,"answered","ISO9001","ISO14001","ISO26000","ISO45001","ISO50001","EMAS","RC14001","RCMS","GHS",null,null,{"$f":"I404","v":"ISO9001"},"ISO14001","ISO26000","ISO45001","ISO50001","EMAS","RC14001","RCMS","GHS","clear",null,"weights",null,{"$f":"IF(SUM(AG406:AG421)=100,\"ok\",\"error\")","v":"ok"},{"$f":"IF(SUM(AH406:AH421)/COUNT(AG406:AG421)=100,\"ok\",\"error\")","v":"ok"},null,null,"subscores","score",null,null,"identification of major issues",null,null,null,null,null,"scores for standards",null,null,null,null,null,null,null,null,null,null,"improvement tips"]
[null,null,null,null,null,null,null,null,null,null,null,null,null,null,null,null,null,null,null,null,null,null,null,null,null,null,null,null,null,null,null,null,null,null,null,null,null,{"$f":"(AK406*AG406+AK408*AG408+AK410*AG410+AK415*AG415+AK417*AG417+AK420*AG420+AK422*AG422)/100","v":1.416666666666667},null,null,null,null,null,null,null,null,null,{"$f":"I404","v":"ISO9001"},{"$f":"J404","v":"ISO14001"},{"$f":"K404","v":"ISO26000"},{"$f":"L404","v":"ISO45001"},{"$f":"M404","v":"ISO50001"},{"$f":"N404","v":"EMAS"},{"$f":"O404","v":"RC14001"},{"$f":"P404","v":"RCMS"},"GHS"]
[null,{"$f":"'Kapitel 3'!C6","v":"F3.1"},{"$f":"IF('Kapitel 3'!K7,1,IF('Kapitel 3'!K8,2,IF('Kapitel 3'!K9,3,IF('Kapitel 3'!K10,4,\"\"))))","v":1},"formula 4 choices",null,null,{"$f":"B406","v":"F3.1"},{"$f":"'Kapitel 3'!K7","v":true},true,null,false,null,false,null,null,false,null,null,{"$f":"G406","v":"F3.1"},{"$f":"IF(I406=\"\",$H406,I406)","v":true},true,false,true,false,true,true,false,true,false,null,{"$f":"'Kapitel 3'!B4","v":"Produktdesign und -verbesserung"},null,{"$f":"100/6","v":16.666666666666668},null,null,null,{"$f":"C406","v":1},null,null,null,{"$f":"B406","v":"F3.1"},1,{"$f":"IF(C406<AP406,\"major issue\",\"ok\")","v":"ok"},{"$f":"IF(AQ406<>\"ok\",1,0)","v":0},null,null,{"$f":"AO406","v":"F3.1"},{"$f":"IF(I406,1,IF(I407,2,IF(I408,3,IF(I409,4,\"-\"))))","v":1},"-",4,"-",4,"-","-",3,"-",null,{"$f":"G406","v":"F3.1"},{"$f":"CONCATENATE(BF406,BH406)","v":"F3.1WAHR"},{"$f":"H406","v":true},"Berücksichtigen Sie die menschliche Gesundheit und die Umwelt früh im Produktentwicklungsprozess: Sie können systematische Screening-Tests früh im Planungsprozess durchführen. \nVersammeln Sie relevante Akteure innerhalb der Organisation und externe Partner, wenn Sie die funktionalen Spezifikationen von neuen Produkten erarbeiten, um mögliche Designwege zu ermitteln.\nMobilisieren Sie personelle und finanzielle Ressourcen, um mögliche Designwege zu untersuchen, die auch die EU-Vorschriften für chemische Produkte (REACH, BPR...) berücksichtigen.  "]
[null,{"$f":"'Kapitel 3'!C14","v":"F3.2"},{"$f":"IF('Kapitel 3'!K15,1,IF('Kapitel 3'!K16,2,IF('Kapitel 3'!K17,3,IF('Kapitel 3'!K18,4,\"\"))))","v":2},"formula 4 choices",null,null,null,{"$f":"'Kapitel 3'!K8","v":false},false,null,false,null,false,null,null,false,null,null,null,{"$f":"IF(I407=\"\",$H407,I407)","v":false},false,false,false,{"$f":"IF(M407=\"\",$H407,M407)","v":false},{"$f":"IF(N407=\"\",$H407,N407)","v":false},false,false,false,false,null,null,{"$f":"B406","v":"F3.1"},null,100,null,null,null,null,null,null,{"$f":"B407","v":"F3.2"},1,"ok",{"$f":"IF(AQ407<>\"ok\",1,0)","v":0},null,null,{"$f":"AO407","v":"F3.2"},{"$f":"IF(I410,1,IF(I411,2,IF(I412,3,IF(I413,4,\"-\"))))","v":"-"},"-","-","-","-","-",1,2,"-",null,{"$f":"BF406","v":"F3.1"},"F3.1FALSCH",{"$f":"H407","v":false},"Optimieren Sie die Entscheidungsfindung für den Entwurf von Produkten, um mithilfe von generischer Lebenszyklusanalyse und Bewertungs-Tools für die CO2-Bilanz sowie der aktuellen Ökodesign-Produktkriterien oder ähnlicher Ökodesign-Konzepte als Referenz ihre Auswirkungen auf Gesundheit und Umwelt zu minimieren."]
[null,{"$f":"'Kapitel 3'!C22","v":"F3.3"},{"$f":"IF('Kapitel 3'!K23,1,IF('Kapitel 3'!K24,2,IF('Kapitel 3'!K25,3,IF('Kapitel 3'!K26,4,\"\"))))","v":1},"formula 4 choices",null,null,null,{"$f":"'Kapitel 3'!K9","v":false},false,null,false,null,false,null,null,true,null,null,null,false,false,false,false,false,false,false,true,false,false,null,{"$f":"'Kapitel 3'!B12","v":"Priorisierung von Produkten"},null,{"$f":"100/6","v":16.666666666666668},null,null,null,{"$f":"C407","v":2},null,null,null,"F3.3",1,"ok",0,null,null,"F3.3",{"$f":"IF(I414,1,IF(I415,2,IF(I416,3,IF(I417,4,\"-\"))))","v":1},"-","-","-","-","-",1,"-",3,null,{"$f":"BF407","v":"F3.1"},"F3.1FALSCH",false,"Untersuchen Sie die verfügbaren Informationen zur Risikobeschreibung, um das Risiko aus dem Entwurf zu minimieren. Das kann sich in der Vermeidung der Verwendung von schädlichen Chemikalien ausdrücken, darunter u. a. solche, die krebserregend, erbgutverändernd, fortpflanzungsgefährdend, schwer abbaubar und bioakkumulativ sind. Eine weitere Reduzierung des Risikos für alle ermittelten Anwender oder Kontaktgruppen wird umgesetzt. Machen Sie Ihr Engagement für andere sichtbar. "]
[null,{"$f":"'Kapitel 3'!C28","v":"F3.4"},{"$f":"IF('Kapitel 3'!K29,1,IF('Kapitel 3'!K30,2,IF('Kapitel 3'!K31,3,IF('Kapitel 3'!K32,4,\"\"))))","v":1},"formula 4 choices",null,null,null,{"$f":"'Kapitel 3'!K10","v":false},false,null,true,null,true,null,null,false,null,null,null,false,false,true,false,true,false,false,false,false,false,null,null,{"$f":"B407","v":"F3.2"},null,100,null,null,null,null,null,null,"F3.4",1,"ok",0,null,null,"F3.4",{"$f":"IF(I418,1,IF(I419,2,IF(I420,3,IF(I421,4,\"-\"))))","v":"-"},"-","-","-","-","-",4,4,"-",null,{"$f":"BF408","v":"F3.1"},"F3.1FALSCH",false,"Berücksichtigen Sie Faktoren wie bestimmungsgemäße Verwendung, erwartete Lebensdauer des Produkts, Haltbarkeit, Wiederverwendung, Recycelbarkeit oder vorteilhafte Entsorgung des Produkts bei seiner Entwicklung mithilfe der vollen Lebenszyklusanalyse des Produkts (inklusive Elimination). \nSetzen Sie ein Verfahren zur Entwicklung von Produktsubstitutionsstrategien für kritische Produkte um, indem Sie entsprechende Ressourcen und klare Ziele ermitteln. Berücksichtigen Sie Verbesserungsmöglichkeiten der Energieeffizienz bei der Gestaltung von energieintensiven Prozessen."]
[null,{"$f":"'Kapitel 3'!C34","v":"F3.5"},{"$f":"IF('Kapitel 3'!K35,1,IF('Kapitel 3'!K36,2,IF('Kapitel 3'!K37,3,IF('Kapitel 3'!K38,4,\"\"))))","v":1},"formula 4 choices",null,null,{"$f":"B407","v":"F3.2"},{"$f":"'Kapitel 3'!K15","v":false},null,null,null,null,null,null,true,false,null,null,null,null,null,null,null,null,null,null,null,null,null,null,{"$f":"'Kapitel 3'!B20","v":"Produktinformation"},null,{"$f":"100/6","v":16.666666666666668},null,null,null,{"$f":"(C408*AH411+C409*AH412+C410*AH413+C411*AH414)/100","v":1},null,null,null,"F3.5",1,"ok",0,null,null,"F3.5",{"$f":"IF(I422,1,IF(I423,2,IF(I424,3,IF(I425,4,\"-\"))))","v":"-"},"-","-","-","-","-","-","-","-",null,{"$f":"G410","v":"F3.2"},"F3.2FALSCH",false,"Setzen Sie einen Prozess zur Priorisierung von Produkten um, um diejenigen zu erkennen, die genauere Evaluierung, Bewertung und Risikomanagementkontrollen benötigen, sowie diejenigen, bei denen das Sammeln von weiteren Daten und Informationen erforderlich ist. Wenden Sie einen wissenschafts- und risikobasierten Ansatz an und berücksichtigen Sie Gefahren, bestimmungsgemäße Verwendungen und Expositionspotenzial bei der Priorisierung der Produkte. Schließen Sie Kriterien ein, die einheitlich für alle gescreenten Produkte angewendet werden, und die relevante und glaubwürdige wissenschaftliche Fortschritte aufweisen und wesentliche neue Informationen berücksichtigen, um zu gewährleisten, dass die Entscheidungen zur Priorisierung aktuell bleiben.\nEs wird empfohlen, dass die Priorisierung auch Vertrieb, Transport und Nutzung von Rohstoffen und Produkten umfasst."]
[null,{"$f":"'Kapitel 3'!C40","v":"F3.6"},{"$f":"IF('Kapitel 3'!K41,1,IF('Kapitel 3'!K42,2,IF('Kapitel 3'!K43,3,IF('Kapitel 3'!K44,4,\"\"))))","v":1},"formula 4 choices",null,null,null,{"$f":"'Kapitel 3'!K16","v":true},null,null,null,null,null,null,false,true,null,null,null,null,null,null,null,null,null,null,null,null,null,null,null,{"$f":"B408","v":"F3.3"},null,25,null,null,null,null,null,null,"F3.6",1,"ok",0,null,null,"F3.6",{"$f":"IF(I426,1,IF(I427,2,IF(I428,3,IF(I429,4,\"-\"))))","v":"-"},"-","-","-","-","-",1,"-","-",null,{"$f":"BF410","v":"F3.2"},"F3.2WAHR",true,"Der Prozess ist verfeinert und wird auf kontinuierlicher Basis ausgeführt. Automatische Benachrichtigungen für neu veröffentlichte Informationen zu Stoffen und Produkten sind vorhanden (z. B. RSS-Feed von wissenschaftlichen Zeitschriften). "]
[null,{"$f":"'Kapitel 3'!C48","v":"Q3.7"},{"$f":"IF('Kapitel 3'!K49,1,IF('Kapitel 3'!K50,2,IF('Kapitel 3'!K51,3,IF('Kapitel 3'!K52,4,\"\"))))","v":1},"formula 4 choices",null,null,null,{"$f":"'Kapitel 3'!K17","v":false},null,null,null,null,null,null,false,false,null,null,null,null,null,null,null,null,null,null,null,null,null,null,null,{"$f":"B409","v":"F3.4"},null,25,null,null,null,null,null,null,"Q3.7",1,"ok",0,null,null,"Q3.7",{"$f":"IF(I430,1,IF(I431,2,IF(I432,3,IF(I433,4,\"-\"))))","v":"-"},"-",1,"-","-","-",4,4,"-",null,{"$f":"BF411","v":"F3.2"},"F3.2FALSCH",false,"Überwachen Sie ständig Informationen über die Auswirkungen ähnlicher Produkte auf Gesundheit und Umwelt während ihrer Verwendung und nach ihrer Elimination und aktualisieren Sie dementsprechend REACH-Dossiers und Sicherheitsdatenblätter.\nRegistrieren und verfolgen Sie sicherheitsrelevante Vorfälle/Unfälle, die von Kunden und Endanwendern gemeldet werden, und integrieren Sie diese in den Priorisierungsprozess. \nErmitteln Sie zentrale Kriterien für die Entscheidungsfindung. "]
[null,{"$f":"'Kapitel 3'!C56","v":"F3.8"},{"$f":"IF('Kapitel 3'!K57,1,IF('Kapitel 3'!K58,2,IF('Kapitel 3'!K59,3,IF('Kapitel 3'!K60,4,\"\"))))","v":1},"formula 4 choices",null,null,null,{"$f":"'Kapitel 3'!K18","v":false},null,null,null,null,null,null,false,false,null,null,null,null,null,null,null,null,null,null,null,null,null,null,null,"F3.5",null,25,null,null,null,null,null,null,"F3.8",1,"ok",0,null,null,"F3.8",{"$f":"IF(I434,1,IF(I435,2,IF(I436,3,IF(I437,4,\"-\"))))","v":1},"-",2,"-","-","-",4,4,1,null,{"$f":"BF412","v":"F3.2"},"F3.2FALSCH",false,"Machen Sie die Priorisierung und ihre Rechtfertigung zum Gegenstand öffentlicher Konsultation mit festgelegten Fristen, damit die Branche oder andere Stakeholder zusätzliche Informationen einbringen können."]
[null,{"$f":"'Kapitel 3'!C62","v":"F3.9"},{"$f":"IF('Kapitel 3'!K63,1,IF('Kapitel 3'!K64,2,IF('Kapitel 3'!K65,3,IF('Kapitel 3'!K66,4,\"\"))))","v":2},"formula 4 choices",null,null,{"$f":"B408","v":"F3.3"},{"$f":"'Kapitel 3'!K23","v":true},true,null,null,null,null,null,true,null,false,null,{"$f":"G410","v":"F3.2"},{"$f":"IF(I410=\"\",$H410,I410)","v":false},false,false,false,false,false,true,false,false,false,null,null,"F3.6",null,25,null,null,null,null,null,null,"F3.9",1,"ok",0,null,null,"F3.9",{"$f":"IF(I438,1,IF(I439,2,IF(I440,3,IF(I441,4,\"-\"))))","v":3},"-",4,"-","-","-",4,4,"-",null,{"$f":"G414","v":"F3.3"},"F3.3WAHR",true,"Achten Sie darauf, dass Ihre Bestandsaufnahme Informationen über gekaufte, verwendete und hergestellte Stoffe umfassen, die Standardparameter über die Stoff- und Produkteigenschaften aufführen. Weisen Sie verantwortliche Ressourcen für die Aktualisierungen zu und bestimmen Sie die Häufigkeit der Aktualisierungen. Verknüpfen Sie Stoffe/Produkte und Anforderungen. Fragen, die sich aus den aktualisierten Informationen ergeben, sollten erkannt und behandelt werden.  "]
[null,{"$f":"'Kapitel 3'!C70","v":"F3.10"},{"$f":"IF('Kapitel 3'!K71,1,IF('Kapitel 3'!K72,2,IF('Kapitel 3'!K73,3,IF('Kapitel 3'!K74,4,\"\"))))","v":2},"formula 4 choices",null,null,null,{"$f":"'Kapitel 3'!K24","v":false},false,null,null,null,null,null,false,null,false,null,null,{"$f":"IF(I411=\"\",$H411,I411)","v":true},true,true,true,{"$f":"IF(M411=\"\",$H411,M411)","v":true},{"$f":"IF(N411=\"\",$H411,N411)","v":true},false,true,true,false,null,{"$f":"'Kapitel 3'!B46","v":"Risikocharakterisierung"},null,{"$f":"100/6","v":16.666666666666668},null,null,null,{"$f":"C412","v":1},null,null,null,"F3.10",1,"ok",0,null,null,"F3.10",{"$f":"IF(I442,1,IF(I443,2,IF(I444,3,IF(I445,4,\"-\"))))","v":"-"},"-","-","-","-","-",4,4,1,null,{"$f":"BF414","v":"F3.3"},"F3.3FALSCH",false,"Verifizieren Sie die Einhaltung geltender Vorschriften entlang Ihrer Lieferkette für die gelieferten Produkte. Sorgen Sie für eine intensive und proaktive Kommunikation mit Lieferanten, sammeln Sie Konformitätserklärungen und dokumentieren Sie alle Informationen zur Lieferketten-Compliance. Entwickeln Sie ein effizientes Dokumentationssystem, damit alle Unterlagen und Konformitätserklärungen leicht verfügbar und nachverfolgbar sind, und um in der Lage zu sein, mögliche Probleme einfach zu erkennen und zu verfolgen. "]
[null,null,null,null,null,null,null,{"$f":"'Kapitel 3'!K25","v":false},false,null,null,null,null,null,false,null,true,null,null,false,false,false,false,false,false,false,false,false,false,null,null,{"$f":"B412","v":"Q3.7"},null,100,null,null,null,null,null,null,null,null,null,null,null,null,null,null,null,null,null,null,null,null,null,null,null,{"$f":"BF415","v":"F3.3"},"F3.3FALSCH",false,"Ermitteln Sie die Stoffe, die möglicherweise von regulatorischen Entwicklungen betroffen sind (z. B. Stoffe auf der Zulassungsliste, Gegenstand von öffentlichen Konsultationen, Risikomanagementoptionsanalyse, laufender Aktionsplan für die Allgemeinheit). Abonnieren Sie ECHA-Newsletter, um Informationen über anstehende Entscheidungen oder die nächsten öffentlichen Konsultationen zu erhalten. Sorgen Sie dafür, dass sich Ihr Management und Ihre Lieferanten der neuesten regulatorischen Entwicklungen und ihrer möglichen Auswirkungen auf Produkte und Tätigkeiten bewusst sind. "]
[null,null,null,null,null,null,null,{"$f":"'Kapitel 3'!K26","v":false},false,null,null,null,null,null,false,null,false,null,null,false,false,false,false,false,false,false,false,false,false,null,{"$f":"'Kapitel 3'!B54","v":"Produktrisikomanagement"},null,{"$f":"100/6","v":16.666666666666668},null,null,null,{"$f":"(C413*AH418+C414*AH419)/100","v":1.5},null,null,null,null,null,null,{"$f":"IF(SUM(AR406:AR415)>0,\"Schlüsselelemente von RC müssen noch umgesetzt werden; s. Tipps\",\"\")","v":""},null,null,null,null,null,null,null,null,null,null,null,null,null,{"$f":"BF416","v":"F3.3"},"F3.3FALSCH",false,"Kein Bedarf für sofortige Strategieänderung, aber Verbesserungen sind immer im Auge zu behalten."]
[null,null,null,null,null,null,{"$f":"B409","v":"F3.4"},{"$f":"'Kapitel 3'!K29","v":true},null,null,null,null,null,null,false,false,null,null,null,null,null,null,null,null,null,null,null,null,null,null,null,{"$f":"B413","v":"F3.8"},null,50,null,null,null,null,null,null,null,null,null,null,null,null,null,null,null,null,null,null,null,null,null,null,null,{"$f":"G418","v":"F3.4"},"F3.4WAHR",true,"Entwickeln Sie eine Plattform zum Speichern von vorhandenen Informationen. Implementieren Sie ein Verfahren zur Klassifizierung und Ermittlung der Art von Informationen, um verfügbare Informationen leicht nachzuverfolgen und abzurufen. "]
[null,null,null,null,null,null,null,{"$f":"'Kapitel 3'!K30","v":false},null,null,null,null,null,null,false,false,null,null,null,null,null,null,null,null,null,null,null,null,null,null,null,{"$f":"B414","v":"F3.9"},null,50,null,null,null,null,null,null,null,null,null,null,null,null,null,null,null,null,null,null,null,null,null,null,null,{"$f":"BF418","v":"F3.4"},"F3.4FALSCH",false,"Implementieren Sie einen Prozess zur Überprüfung verfügbarer Informationen auf Zuverlässigkeit und Qualität durch Personal, das für die Bewertung von Gefahreninformationen geschult ist. "]
[null,null,null,null,null,null,null,{"$f":"'Kapitel 3'!K31","v":false},null,null,null,null,null,null,false,false,null,null,null,null,null,null,null,null,null,null,null,null,null,null,{"$f":"'Kapitel 3'!B68","v":"Management der Wertschöpfungskette"},null,{"$f":"100/6","v":16.666666666666668},null,null,null,{"$f":"C415","v":2},null,null,null,null,null,null,null,null,null,null,null,null,null,null,null,null,null,null,null,null,{"$f":"BF419","v":"F3.4"},"F3.4FALSCH",false,"Stellen Sie, wo das möglich ist und ohne die Gefahr der Preisgabe von sensiblen Unternehmensinformationen, interne Informationen für die Integration in öffentliche Datenbanken und internationale Forschungsprogramme zur Verfügung.  "]
[null,null,null,null,null,null,null,{"$f":"'Kapitel 3'!K32","v":false},null,null,null,null,null,null,true,true,null,null,null,null,null,null,null,null,null,null,null,null,null,null,null,{"$f":"B415","v":"F3.10"},null,100,null,null,null,null,null,null,null,null,null,null,null,null,null,null,null,null,null,null,null,null,null,null,null,{"$f":"BF420","v":"F3.4"},"F3.4FALSCH",false,"Kein Bedarf für sofortige Strategieänderung, aber Verbesserungen sind immer im Auge zu behalten."]
[null,null,null,null,null,null,{"$f":"B410","v":"F3.5"},{"$f":"'Kapitel 3'!K35","v":true},null,null,null,null,null,null,null,null,null,null,{"$f":"G414","v":"F3.3"},{"$f":"IF(I414=\"\",$H414,I414)","v":true},true,true,true,true,true,true,true,false,false,null,null,null,null,null,null,null,null,null,null,null,null,null,null,null,null,null,null,null,null,null,null,null,null,null,null,null,null,{"$f":"G422","v":"F3.5"},"F3.5WAHR",true,"Erfassen Sie zusätzlich zu den bestimmungsgemäßen Verwendungen eines Produkts absichtliche Fehlanwendungen und unsachgemäße Anwendungen und integrieren Sie diese in ein Dokumentationssystem, das die Anwendungen nachverfolgt. \nSorgen Sie für die Erfassung von Informationen über Anwendungen von nachgeschalteten Anwendern. "]
[null,null,null,null,null,null,null,{"$f":"'Kapitel 3'!K36","v":false},null,null,null,null,null,null,null,null,null,null,null,{"$f":"IF(I415=\"\",$H415,I415)","v":false},false,false,false,{"$f":"IF(M415=\"\",$H415,M415)","v":false},{"$f":"IF(N415=\"\",$H415,N415)","v":false},false,false,false,false,null,null,null,null,null,null,null,null,null,null,null,null,null,null,null,null,null,null,null,null,null,null,null,null,null,null,null,null,{"$f":"BF422","v":"F3.5"},"F3.5FALSCH",false,"Entwickeln Sie ein Dokumentationssystem für die Informationen zu Verwendungen und Exposition, das einfach für die Integration neuer Informationen angepasst werden kann. Integrieren Sie Überwachungsdaten für die berufliche Exposition, um die Expositionsdaten zu verfeinern und ein realistisches Expositionsmodell zu beschreiben. "]
[null,null,null,null,null,null,null,{"$f":"'Kapitel 3'!K37","v":false},null,null,null,null,null,null,null,null,null,null,null,false,false,false,false,false,false,false,false,true,false,null,null,null,null,null,null,null,null,null,null,null,null,null,null,null,null,null,null,null,null,null,null,null,null,null,null,null,null,{"$f":"BF423","v":"F3.5"},"F3.5FALSCH",false,"Sorgen Sie für eine klare Kommunikation der bestimmungsgemäßen Verwendung an Händler und beschränken Sie die Möglichkeiten für Fehlanwendungen durch die Festlegung zulässiger Anwendungen in einem Vertrag. \nSuchen Sie proaktiv nach (Quellen von) neuen Informationen über Anwendungen und Exposition."]
[null,null,null,null,null,null,null,{"$f":"'Kapitel 3'!K38","v":false},null,null,null,null,null,null,null,null,null,null,null,false,false,false,false,false,false,false,false,false,false,null,null,null,null,null,null,null,null,null,null,null,null,null,null,null,null,null,null,null,null,null,null,null,null,null,null,null,null,{"$f":"BF424","v":"F3.5"},"F3.5FALSCH",false,"Kein Bedarf für sofortige Strategieänderung, aber Verbesserungen sind immer im Auge zu behalten."]
[null,null,null,null,null,null,{"$f":"B411","v":"F3.6"},{"$f":"'Kapitel 3'!K41","v":true},null,null,null,null,null,null,true,null,null,null,null,null,null,null,null,null,null,null,null,null,null,null,null,null,null,null,null,null,null,null,null,null,null,null,null,null,null,null,null,null,null,null,null,null,null,null,null,null,null,{"$f":"G426","v":"F3.6"},"F3.6WAHR",true,"Bestimmen Sie Ressourcen zum Überwachen von neuen Informationen. Überprüfen Sie regelmäßig in der Literatur vorhandene oder in REACH-Dossiers verbreitete Informationen, die möglicherweise für Ihre Produkte oder ähnliche Produkte oder den Tätigkeitsbereich relevant sein könnten. Implementieren Sie ein Verfahren zur Bewertung und Integration neuer Informationen in die vorhandenen Informationen für den möglichen Einschluss als Basis für Risikobeschreibung und -management."]
[null,null,null,null,null,null,null,{"$f":"'Kapitel 3'!K42","v":false},null,null,null,null,null,null,false,null,null,null,null,null,null,null,null,null,null,null,null,null,null,null,null,null,null,null,null,null,null,null,null,null,null,null,null,null,null,null,null,null,null,null,null,null,null,null,null,null,null,{"$f":"BF426","v":"F3.6"},"F3.6FALSCH",false,"Neue Informationen sind nicht auf verfügbare Informationen beschränkt: Kundenbeschwerden, Unfälle und Vorfälle können z. B. wertvolle Informationen zu Gefahren, Anwendungen und Exposition liefern und sollten als neue Informationen dokumentiert und integriert werden. Eine mögliche Änderung im Modus oder in der Art der Anwendung, in der Art der Exposition oder eine Änderung in der ursprünglich vorgesehenen Anwendung sollte ebenfalls berücksichtigt werden."]
[null,{"$f":"'Kapitel 3'!C57","v":""},null,null,null,null,null,{"$f":"'Kapitel 3'!K43","v":false},null,null,null,null,null,null,false,null,null,null,{"$f":"G418","v":"F3.4"},{"$f":"IF(I418=\"\",$H418,I418)","v":true},true,true,true,true,true,false,false,true,false,null,null,null,null,null,null,null,null,null,null,null,null,null,null,null,null,null,null,null,null,null,null,null,null,null,null,null,null,{"$f":"BF427","v":"F3.6"},"F3.6FALSCH",false,"Berücksichtigen Sie den gesamten Lebenszyklus des Produkts und ermitteln Sie die wichtigsten Schritte, wo zusätzliche Informationen zu extrahieren und zu integrieren sind, darunter alle aus der gesamten Lieferkette gesammelten relevanten Informationen. "]
[null,null,null,null,null,null,null,{"$f":"'Kapitel 3'!K44","v":false},null,null,null,null,null,null,false,null,null,null,null,{"$f":"IF(I419=\"\",$H419,I419)","v":false},false,false,false,{"$f":"IF(M419=\"\",$H419,M419)","v":false},{"$f":"IF(N419=\"\",$H419,N419)","v":false},false,false,false,false,null,null,null,null,null,null,null,null,null,null,null,null,null,null,null,null,null,null,null,null,null,null,null,null,null,null,null,null,{"$f":"BF428","v":"F3.6"},"F3.6FALSCH",false,"Kein Bedarf für sofortige Strategieänderung, aber Verbesserungen sind immer im Auge zu behalten."]
[null,null,null,null,null,null,{"$f":"B412","v":"Q3.7"},{"$f":"'Kapitel 3'!K49","v":true},null,null,true,null,null,null,false,false,null,null,null,false,false,false,false,false,false,false,false,false,false,null,null,null,null,null,null,null,null,null,null,null,null,null,null,null,null,null,null,null,null,null,null,null,null,null,null,null,null,{"$f":"G430","v":"Q3.7"},"Q3.7WAHR",true,"Erstellen Sie eine klare Übersicht der wichtigsten Parameter, die die Risikobeschreibung beeinflussen können: Gefahr, Anwendung und Exposition, geltende Vorschriften und Zulassungen, neue Märkte oder Anwendungen, aus der Lieferkette gemeldete Ereignisse, neue Testverfahren und sich abzeichnende Gesundheits- oder Umweltbedenken.\nBestimmen Sie Kriterien, die eine Neueinschätzung der Risikobewertung auf Basis der neuen verfügbaren Informationen auslösen. "]
[null,null,null,null,null,null,null,{"$f":"'Kapitel 3'!K50","v":false},null,null,false,null,null,null,false,false,null,null,null,false,false,false,false,false,false,true,true,false,false,null,null,null,null,null,null,null,null,null,null,null,null,null,null,null,null,null,null,null,null,null,null,null,null,null,null,null,null,{"$f":"BF430","v":"Q3.7"},"Q3.7FALSCH",false,"Überprüfen Sie regelmäßig die Risikobeschreibungen, um die Qualität zu verbessern und integrieren Sie die neuesten Best Practices (unabhängig von der Integration neuer Informationen). \nErweitern Sie den Umfang der Risikobeschreibung durch die Integration sekundärer Informationen über Gefahren und Anwendungen und/oder führen Sie eine Risikobeschreibung durch, die den Produktlebenszyklus umfasst.\nEs wird empfohlen, gute Kenntnisse der auf dem Standort verwendeten, hergestellten oder importierten Stoffe zu haben, auch wenn diese nicht in Verkehr gebracht werden oder regulatorischen Anforderungen unterliegen, unabhängig vom Mengenbereich (Mindestbatterietest, Produktblatt, DNEL/PNEC-Berechnungen)."]
[null,null,null,null,null,null,null,{"$f":"'Kapitel 3'!K51","v":false},null,null,false,null,null,null,false,false,null,null,null,null,null,null,null,null,null,null,null,null,null,null,null,null,null,null,null,null,null,null,null,null,null,null,null,null,null,null,null,null,null,null,null,null,null,null,null,null,null,{"$f":"BF431","v":"Q3.7"},"Q3.7FALSCH",false,"Beteiligen Sie sich an Folgendem: \n• Entwicklung und Validierung neuer alternativen Methoden zur Bewertung von Gefahr und Exposition und zur Beschreibung von Risiken;\n• Förderung der Minimierung von Tierversuchen und Entwicklung alternativer Methoden zu Tierversuchen; \n• Veröffentlichung von Sicherheitskurzberichten für einen relevanten Teil der Organisation "]
[null,null,null,null,null,null,null,{"$f":"'Kapitel 3'!K52","v":false},null,null,false,null,null,null,true,true,null,null,null,null,null,null,null,null,null,null,null,null,null,null,null,null,null,null,null,null,null,null,null,null,null,null,null,null,null,null,null,null,null,null,null,null,null,null,null,null,null,{"$f":"BF432","v":"Q3.7"},"Q3.7FALSCH",false,"Kein Bedarf für sofortige Strategieänderung, aber Verbesserungen sind immer im Auge zu behalten."]
[null,null,null,null,null,null,{"$f":"B413","v":"F3.8"},{"$f":"'Kapitel 3'!K57","v":true},true,null,false,null,null,null,false,false,true,null,{"$f":"G422","v":"F3.5"},{"$f":"IF(I422=\"\",$H422,I422)","v":true},true,true,true,true,true,true,true,true,false,null,null,null,null,null,null,null,null,null,null,null,null,null,null,null,null,null,null,null,null,null,null,null,null,null,null,null,null,{"$f":"G434","v":"F3.8"},"F3.8WAHR",true,"Bewerten Sie die Risikomanagementmaßnahmen für Anwendung, Lagerung und Entsorgung von Chemikalien neu, wenn neue Informationen zu Produktgefahren und Risikobeschreibung verfügbar sind. Die erwarteten Kenntnisse und Fähigkeiten von möglichen Anwendern von (End-)Produkten müssen in die Bewertungen einfließen.  "]
[null,null,null,null,null,null,null,{"$f":"'Kapitel 3'!K58","v":false},false,null,true,null,null,null,false,false,false,null,null,{"$f":"IF(I423=\"\",$H423,I423)","v":false},false,false,false,{"$f":"IF(M423=\"\",$H423,M423)","v":false},{"$f":"IF(N423=\"\",$H423,N423)","v":false},false,false,false,false,null,null,null,null,null,null,null,null,null,null,null,null,null,null,null,null,null,null,null,null,null,null,null,null,null,null,null,null,{"$f":"BF434","v":"F3.8"},"F3.8FALSCH",false,"Verbessern Sie die Risikomanagementmaßnahmen durch das Einholen von Feedback von nachgeschalteten Anwendern in Bezug auf Anwendungen, Transport und Lagerung.\nBerücksichtigen Sie die Recycelbarkeit des Produkts in der nachgeschalteten Kommunikation. \nReduzieren Sie das Risiko mithilfe der folgenden Reihenfolge der Priorität: inhärentes sicheres Design, Schutzeinrichtungen und Informationen für Anwender.\nVerhindern Sie unsachgemäße Handhabung oder Lagerung oder Fehlanwendungen des Produkts, indem Sie Maßnahmen zur Vermeidung der entsprechenden Umstände ergreifen (z. B. Verpackung zur Reduzierung des Risikos von Leckagen)."]
[null,null,null,null,null,null,null,{"$f":"'Kapitel 3'!K59","v":false},false,null,false,null,null,null,false,false,false,null,null,false,false,false,false,false,false,false,false,false,false,null,null,null,null,null,null,null,null,null,null,null,null,null,null,null,null,null,null,null,null,null,null,null,null,null,null,null,null,{"$f":"BF435","v":"F3.8"},"F3.8FALSCH",false,"Machen Sie die Risikomanagementinformationen öffentlich verfügbar und transparent.\nSuchen Sie Kooperation mit Arbeitsgruppen, um Informationen zum Risikomanagement zu erstellen."]
[null,null,null,null,null,null,null,{"$f":"'Kapitel 3'!K60","v":false},false,null,false,null,null,null,true,true,false,null,null,false,false,false,false,false,false,false,false,false,false,null,null,null,null,null,null,null,null,null,null,null,null,null,null,null,null,null,null,null,null,null,null,null,null,null,null,null,null,{"$f":"BF436","v":"F3.8"},"F3.8FALSCH",false,"Kein Bedarf für sofortige Strategieänderung, aber Verbesserungen sind immer im Auge zu behalten."]
[null,null,null,null,null,null,{"$f":"B414","v":"F3.9"},{"$f":"'Kapitel 3'!K63","v":false},false,null,false,null,null,null,false,false,null,null,null,null,null,null,null,null,null,null,null,null,null,null,null,null,null,null,null,null,null,null,null,null,null,null,null,null,null,null,null,null,null,null,null,null,null,null,null,null,null,{"$f":"G438","v":"F3.9"},"F3.9FALSCH",false,"Implementieren Sie einen Prozess zur Ermittlung, Untersuchung und Zuordnung von Bedeutung an Vorfälle und Unfälle im Zusammenhang mit den Produkten, Prozessen und Aktivitäten im Zusammenhang mit dem Betrieb, dessen Instanzen auf dem bestimmten Maß der Bedeutung beruhen.\na) Ermitteln Sie Grundursachen;\nb) Behandeln und mildern Sie alle nachteiligen Auswirkungen;\nc) Leiten Sie Korrektur- und Vorbeugemaßnahmen ein und schließen Sie diese ab:\nd) Tauschen Sie wichtige Erkenntnisse im Zusammenhang mit Korrektur- und Vorbeugemaßnahmen mit relevanten internen und externen Stakeholdern aus;\ne) Überprüfen Sie die Effektivität der ergriffenen Korrektur- und Vorbeugemaßnahmen;\nf) Holen Sie die Genehmigung für die Annahme im Rahmen einer Konzession ein.\nDie Konformität mit den Anforderungen muss verifiziert werden, wenn nicht konforme Ergebnisse korrigiert werden."]
[null,null,null,null,null,null,null,{"$f":"'Kapitel 3'!K64","v":true},false,null,false,null,null,null,false,false,null,null,null,null,null,null,null,null,null,null,null,null,null,null,null,null,null,null,null,null,null,null,null,null,null,null,null,null,null,null,null,null,null,null,null,null,null,null,null,null,null,{"$f":"BF438","v":"F3.9"},"F3.9WAHR",true,"Überwachen Sie ständig Informationen über die Auswirkungen ähnlicher Produkte auf Gesundheit und Umwelt während ihrer Verwendung und nach ihrer Elimination.\nRegistrieren und verfolgen Sie sicherheitsrelevante Vorfälle/Unfälle, die von Kunden und Endanwendern gemeldet werden."]
[null,null,null,null,null,null,null,{"$f":"'Kapitel 3'!K65","v":false},true,null,false,null,null,null,false,false,null,null,{"$f":"G426","v":"F3.6"},{"$f":"IF(I426=\"\",$H426,I426)","v":true},true,true,true,true,true,true,true,true,false,null,null,null,null,null,null,null,null,null,null,null,null,null,null,null,null,null,null,null,null,null,null,null,null,null,null,null,null,{"$f":"BF439","v":"F3.9"},"F3.9FALSCH",false,"Die Organisation verfügt über interne Prozesse und befugte Personen, um ein Produkt aus dem Markt zu nehmen, wenn überprüfbare Daten nachweisen, dass dessen Schädlichkeit in einigen Phasen seines Lebenszyklus deutlich den Nutzwert übersteigt. Solche Prozesse umfassen geeignete Kommunikationskanäle mit allen Stakeholdern. Um ein sicheres Außerverkehrbringen zu erreichen, wird ein Tracking-System benötigt, um zu wissen, welchen Kunden das fragliche Produkt verkauft/geliefert wurde.\nEntwickeln und pflegen Sie Verfahren zur Reaktion auf Unfälle und Notfälle und zur Verhinderung und/oder Minderung der Auswirkungen im Zusammenhang mit Vorfällen bei Rohstoffen, Produkten, Prozessen, Abfällen und Transport."]
[null,null,null,null,null,null,null,{"$f":"'Kapitel 3'!K66","v":false},false,null,true,null,null,null,true,true,null,null,null,{"$f":"IF(I427=\"\",$H427,I427)","v":false},false,false,false,{"$f":"IF(M427=\"\",$H427,M427)","v":false},{"$f":"IF(N427=\"\",$H427,N427)","v":false},false,false,false,false,null,null,null,null,null,null,null,null,null,null,null,null,null,null,null,null,null,null,null,null,null,null,null,null,null,null,null,null,{"$f":"BF440","v":"F3.9"},"F3.9FALSCH",false,"Kein Bedarf für sofortige Strategieänderung, aber Verbesserungen sind immer im Auge zu behalten."]
[null,null,null,null,null,null,{"$f":"B415","v":"F3.10"},{"$f":"'Kapitel 3'!K71","v":false},null,null,null,null,null,null,false,false,true,null,null,false,false,false,false,false,false,false,false,false,false,null,null,null,null,null,null,null,null,null,null,null,null,null,null,null,null,null,null,null,null,null,null,null,null,null,null,null,null,{"$f":"G442","v":"F3.10"},"F3.10FALSCH",false,"Es wird empfohlen, neue Informationen, die in früheren Prozessen ermittelt wurden, in das Sicherheitsdatenblatt zu integrieren und die verschiedenen Versionen effizient nachzuverfolgen. \nNeue Sicherheitsdatenblätter, die von Dritten empfangen wurden, sind auch zu überprüfen und einer Compliance-Kontrolle zu unterziehen. Wenn eine Nichtkonformität festgestellt wird, sind weitere Untersuchungen durchzuführen."]
[null,null,null,null,null,null,null,{"$f":"'Kapitel 3'!K72","v":true},null,null,null,null,null,null,false,false,false,null,null,false,false,false,false,false,false,false,false,false,false,null,null,null,null,null,null,null,null,null,null,null,null,null,null,null,null,null,null,null,null,null,null,null,null,null,null,null,null,{"$f":"BF442","v":"F3.10"},"F3.10WAHR",true,"Tauschen Sie aktualisierte Versionen von Sicherheitsdatenblättern proaktiv mit nachgeschalteten Anwendern aus und achten Sie darauf, dass sie sie erhalten und den Inhalt verstehen. Seien Sie bereit, zusätzliche Anleitungen/Anweisungen zu liefern, wenn diese gewünscht oder als notwendig erachtet werden. "]
[null,null,null,null,null,null,null,{"$f":"'Kapitel 3'!K73","v":false},null,null,null,null,null,null,false,false,false,null,null,null,null,null,null,null,null,null,null,null,null,null,null,null,null,null,null,null,null,null,null,null,null,null,null,null,null,null,null,null,null,null,null,null,null,null,null,null,null,{"$f":"BF443","v":"F3.10"},"F3.10FALSCH",false,"Machen Sie die Sicherheitsdatenblätter öffentlich zugänglich und stellen Sie Kontaktdaten als Anlaufstelle für Dritte zur Verfügung, falls weitere Informationen gewünscht werden. Integrieren Sie Überlegungen zur Recycelbarkeit in das Sicherheitsdatenblatt selbst."]
[null,null,null,null,null,null,null,{"$f":"'Kapitel 3'!K74","v":false},null,null,null,null,null,null,true,true,false,null,null,null,null,null,null,null,null,null,null,null,null,null,null,null,null,null,null,null,null,null,null,null,null,null,null,null,null,null,null,null,null,null,null,null,null,null,null,null,null,{"$f":"BF444","v":"F3.10"},"F3.10FALSCH",false,"Kein Bedarf für sofortige Strategieänderung, aber Verbesserungen sind immer im Auge zu behalten."]
[]
[]
[null,null,null,null,null,null,null,null,null,null,null,null,null,null,null,null,null,null,{"$f":"G430","v":"Q3.7"},{"$f":"IF(I430=\"\",$H430,I430)","v":true},true,true,true,true,true,false,false,true,false]
[null,null,null,null,null,null,null,null,null,null,null,null,null,null,null,null,null,null,null,{"$f":"IF(I431=\"\",$H431,I431)","v":false},false,false,false,{"$f":"IF(M431=\"\",$H431,M431)","v":false},{"$f":"IF(N431=\"\",$H431,N431)","v":false},false,false,false,false]
[null,null,null,null,null,null,null,null,null,null,null,null,null,null,null,null,null,null,null,false,false,false,false,false,false,false,false,false,false]
[null,null,null,null,null,null,null,null,null,null,null,null,null,null,null,null,null,null,null,false,false,false,false,false,false,true,true,false,false]
[]
[]
[]
[]
[null,null,null,null,null,null,null,null,null,null,null,null,null,null,null,null,null,null,{"$f":"G434","v":"F3.8"},{"$f":"IF(I434=\"\",$H434,I434)","v":true},true,false,true,true,true,false,false,true,false]
[null,null,null,null,null,null,null,null,null,null,null,null,null,null,null,null,null,null,null,{"$f":"IF(I435=\"\",$H435,I435)","v":false},false,true,false,{"$f":"IF(M435=\"\",$H435,M435)","v":false},{"$f":"IF(N435=\"\",$H435,N435)","v":false},false,false,false,false]
[null,null,null,null,null,null,null,null,null,null,null,null,null,null,null,null,null,null,null,false,false,false,false,false,false,false,false,false,false]
[null,null,null,null,null,null,null,null,null,null,null,null,null,null,null,null,null,null,null,false,false,false,false,false,false,true,true,false,false]
[]
[]
[null,null,null,null,null,null,null,null,null,null,null,null,null,null,null,null,null,null,{"$f":"G438","v":"F3.9"},{"$f":"IF(I438=\"\",$H438,I438)","v":false},false,false,false,false,false,false,false,false,false]
[null,null,null,null,null,null,null,null,null,null,null,null,null,null,null,null,null,null,null,{"$f":"IF(I439=\"\",$H439,I439)","v":false},true,false,true,{"$f":"IF(M439=\"\",$H439,M439)","v":true},{"$f":"IF(N439=\"\",$H439,N439)","v":true},false,false,true,false]
[null,null,null,null,null,null,null,null,null,null,null,null,null,null,null,null,null,null,null,true,false,false,false,false,false,false,false,false,false]
[null,null,null,null,null,null,null,null,null,null,null,null,null,null,null,null,null,null,null,false,false,true,false,false,false,true,true,false,false]
[]
[]
[]
[]
[null,null,null,null,null,null,null,null,null,null,null,null,null,null,null,null,null,null,{"$f":"G442","v":"F3.10"},{"$f":"IF(I442=\"\",$H442,I442)","v":false},false,false,false,false,false,false,false,true,false]
[null,null,null,null,null,null,null,null,null,null,null,null,null,null,null,null,null,null,null,{"$f":"IF(I443=\"\",$H443,I443)","v":true},true,true,true,{"$f":"IF(M443=\"\",$H443,M443)","v":true},{"$f":"IF(N443=\"\",$H443,N443)","v":true},false,false,false,false]
[null,null,null,null,null,null,null,null,null,null,null,null,null,null,null,null,null,null,null,false,false,false,false,false,false,false,false,false,false]
[null,null,null,null,null,null,null,null,null,null,null,null,null,null,null,null,null,null,null,false,false,false,false,false,false,true,true,false,false]
[]
[]
[]
["chapter 4"]
[]
[null,null,null,null,null,null,null,null,"scores in case of compliance",null,null,null,null,null,null,null,null,null,null,"to copy",null,null,null,null,null,null,null,null,null,null,null,null,"equal weights (adaptable)",null,null,null,"MCA"]
[null,"scores",null,null,null,"prefill",null,"answered","ISO9001","ISO14001","ISO26000","ISO45001","ISO50001","EMAS","RC14001","RCMS","GHS",null,null,{"$f":"I480","v":"ISO9001"},"ISO14001","ISO26000","ISO45001","ISO50001","EMAS","RC14001","RCMS","GHS","clear",null,"weights",null,{"$f":"IF(SUM(AG482:AG495)=100,\"ok\",\"error\")","v":"ok"},{"$f":"IF(SUM(AH482:AH495)/COUNT(AG482:AG495)=100,\"ok\",\"error\")","v":"ok"},null,null,"subscores","score",null,null,"identification of major issues",null,null,null,null,null,"scores for standards",null,null,null,null,null,null,null,null,null,null,"improvement tips"]
[null,null,null,null,null,null,null,null,null,null,null,null,null,null,null,null,null,null,null,null,null,null,null,null,null,null,null,null,null,null,null,null,null,null,null,null,null,{"$f":"(AK482*AG482+AG484*AK484+AK486*AG486+AK488*AG488+AK491*AG491+AK493*AG493)/100","v":1.7500000000000002},null,null,null,null,null,null,null,null,null,{"$f":"I480","v":"ISO9001"},{"$f":"J480","v":"ISO14001"},{"$f":"K480","v":"ISO26000"},{"$f":"L480","v":"ISO45001"},{"$f":"M480","v":"ISO50001"},{"$f":"N480","v":"EMAS"},{"$f":"O480","v":"RC14001"},{"$f":"P480","v":"RCMS"},"GHS"]
[null,{"$f":"'Kapitel 4'!C6","v":"F4.1"},{"$f":"IF('Kapitel 4'!K7,1,IF('Kapitel 4'!K8,2,IF('Kapitel 4'!K9,3,IF('Kapitel 4'!K10,4,\"\"))))","v":1},"formula 4 choices",null,null,{"$f":"B482","v":"F4.1"},{"$f":"'Kapitel 4'!K7","v":true},false,null,null,null,false,null,null,false,null,null,{"$f":"G482","v":"F4.1"},{"$f":"IF(I482=\"\",$H482,I482)","v":false},true,true,true,false,true,true,false,true,false,null,{"$f":"'Kapitel 4'!B4","v":"Verantwortungsvolle Beschaffung (Responsible sourcing)"},null,{"$f":"100/6","v":16.666666666666668},null,null,null,{"$f":"C482","v":1},null,null,null,{"$f":"B482","v":"F4.1"},1,{"$f":"IF(C482<AP482,\"major issue\",\"ok\")","v":"ok"},{"$f":"IF(AQ482<>\"ok\",1,0)","v":0},null,null,{"$f":"AO482","v":"F4.1"},{"$f":"IF(I482,1,IF(I483,2,IF(I484,3,IF(I485,4,\"-\"))))","v":3},{"$f":"IF(J482,1,IF(J483,2,IF(J484,3,IF(J485,4,\"-\"))))","v":"-"},{"$f":"IF(K482,1,IF(K483,2,IF(K484,3,IF(K485,4,\"-\"))))","v":"-"},{"$f":"IF(L482,1,IF(L483,2,IF(L484,3,IF(L485,4,\"-\"))))","v":"-"},{"$f":"IF(M482,1,IF(M483,2,IF(M484,3,IF(M485,4,\"-\"))))","v":3},{"$f":"IF(N482,1,IF(N483,2,IF(N484,3,IF(N485,4,\"-\"))))","v":"-"},{"$f":"IF(O482,1,IF(O483,2,IF(O484,3,IF(O485,4,\"-\"))))","v":"-"},{"$f":"IF(P482,1,IF(P483,2,IF(P484,3,IF(P485,4,\"-\"))))","v":3},"-",null,{"$f":"G482","v":"F4.1"},{"$f":"CONCATENATE(BF482,BH482)","v":"F4.1WAHR"},{"$f":"H482","v":true},"Entwickeln Sie eine Richtlinie zur Verpflichtung der Organisation zu einer verantwortungsvollen Beschaffung. \nInformieren Sie beim Kauf von Geräten, Waren und Dienstleistungen die Anbieter über die Umweltrichtlinie und -anforderungen Ihrer Organisation und unterstützen Sie den CSR-Ansatz durch ihre Kooperation.\nEine beispielhafte Regelung die (ganz oder teilweise) verwendet werden kann, ist TfS (https://tfs-initiative.com/). Unternehmen können sich gegebenenfalls für andere Regelungen oder Systeme/Kriterien entscheiden.  Ein guter Leitfaden (entwickelt vom VCI) zu „Nachhaltiges Lieferkettenmanagement für mittelständische Unternehmen der chemischen Industrie“ ist https://www.chemiehoch3.de/fileadmin/user_upload/News/Chemie3_Guide_Supply_Chain_eng.pdf"]
[null,{"$f":"'Kapitel 4'!C14","v":"F4.2"},{"$f":"IF('Kapitel 4'!K15,1,IF('Kapitel 4'!K16,2,IF('Kapitel 4'!K17,3,IF('Kapitel 4'!K18,4,\"\"))))","v":2},"formula 4 choices",null,null,null,{"$f":"'Kapitel 4'!K8","v":false},false,null,null,null,false,null,null,false,null,null,null,{"$f":"IF(I483=\"\",$H483,I483)","v":false},false,false,false,{"$f":"IF(M483=\"\",$H483,M483)","v":false},{"$f":"IF(N483=\"\",$H483,N483)","v":false},false,false,false,false,null,null,{"$f":"B482","v":"F4.1"},null,100,null,null,null,null,null,null,{"$f":"B483","v":"F4.2"},1,"ok",{"$f":"IF(AQ483<>\"ok\",1,0)","v":0},null,null,{"$f":"AO483","v":"F4.2"},{"$f":"IF(I486,1,IF(I487,2,IF(I488,3,IF(I489,4,\"-\"))))","v":"-"},{"$f":"IF(J486,1,IF(J487,2,IF(J488,3,IF(J489,4,\"-\"))))","v":"-"},{"$f":"IF(K486,1,IF(K487,2,IF(K488,3,IF(K489,4,\"-\"))))","v":"-"},{"$f":"IF(L486,1,IF(L487,2,IF(L488,3,IF(L489,4,\"-\"))))","v":"-"},{"$f":"IF(M486,1,IF(M487,2,IF(M488,3,IF(M489,4,\"-\"))))","v":"-"},{"$f":"IF(N486,1,IF(N487,2,IF(N488,3,IF(N489,4,\"-\"))))","v":"-"},{"$f":"IF(O486,1,IF(O487,2,IF(O488,3,IF(O489,4,\"-\"))))","v":"-"},{"$f":"IF(P486,1,IF(P487,2,IF(P488,3,IF(P489,4,\"-\"))))","v":"-"},"-",null,{"$f":"BF482","v":"F4.1"},"F4.1FALSCH",{"$f":"H483","v":false},"Setzen Sie beim Kauf von energiebetriebenen Produkten, Geräten oder Dienstleistungen die Energieeffizienz der erwarteten Lebensdauer als eines der Kriterien an. Berücksichtigen Sie beim Kauf von Geräten, Waren und Dienstleistungen die Umweltauswirkungen durch Umweltkriterien beim Auswahlverfahren für die gekauften Waren, Geräte und Dienstleistungen.\nEine beispielhafte Regelung die (ganz oder teilweise) verwendet werden kann, ist TfS (https://tfs-initiative.com/). Unternehmen können sich gegebenenfalls für andere Regelungen oder Systeme/Kriterien entscheiden.  Ein guter Leitfaden (entwickelt vom VCI) zu „Nachhaltiges Lieferkettenmanagement für mittelständische Unternehmen der chemischen Industrie“ ist https://www.chemiehoch3.de/fileadmin/user_upload/News/Chemie3_Guide_Supply_Chain_eng.pdf"]
[null,{"$f":"'Kapitel 4'!C22","v":"F4.3"},{"$f":"IF('Kapitel 4'!K23,1,IF('Kapitel 4'!K24,2,IF('Kapitel 4'!K25,3,IF('Kapitel 4'!K26,4,\"\"))))","v":2},"formula 4 choices",null,null,null,{"$f":"'Kapitel 4'!K9","v":false},true,null,null,null,true,null,null,true,null,null,null,true,false,false,false,true,false,false,true,false,false,null,{"$f":"'Kapitel 4'!B12","v":"Zusammenarbeit mit der Wertschöpfungskette "},null,{"$f":"100/6","v":16.666666666666668},null,null,null,{"$f":"C483","v":2},null,null,null,"F4.3",1,"ok",0,null,null,"F4.3",{"$f":"IF(I490,1,IF(I491,2,IF(I492,3,IF(I493,4,\"-\"))))","v":"-"},{"$f":"IF(J490,1,IF(J491,2,IF(J492,3,IF(J493,4,\"-\"))))","v":"-"},{"$f":"IF(K490,1,IF(K491,2,IF(K492,3,IF(K493,4,\"-\"))))","v":4},{"$f":"IF(L490,1,IF(L491,2,IF(L492,3,IF(L493,4,\"-\"))))","v":"-"},{"$f":"IF(M490,1,IF(M491,2,IF(M492,3,IF(M493,4,\"-\"))))","v":"-"},{"$f":"IF(N490,1,IF(N491,2,IF(N492,3,IF(N493,4,\"-\"))))","v":"-"},{"$f":"IF(O490,1,IF(O491,2,IF(O492,3,IF(O493,4,\"-\"))))","v":"-"},{"$f":"IF(P490,1,IF(P491,2,IF(P492,3,IF(P493,4,\"-\"))))","v":"-"},"-",null,{"$f":"BF483","v":"F4.1"},"F4.1FALSCH",false,"Reservieren Sie ein Budget für den Kauf von Geräten und Dienstleistungen, die umweltfreundlich sind und orientieren Sie die Prioritäten Ihrer Einkäufe an Folgenabschätzungen.\nEine beispielhafte Regelung die (ganz oder teilweise) verwendet werden kann, ist TfS (https://tfs-initiative.com/). Unternehmen können sich gegebenenfalls für andere Regelungen entscheiden.  Ein guter Leitfaden (entwickelt vom VCI) zu „Nachhaltiges Lieferkettenmanagement für mittelständische Unternehmen der chemischen Industrie“ ist https://www.chemiehoch3.de/fileadmin/user_upload/News/Chemie3_Guide_Supply_Chain_eng.pdf"]
[null,{"$f":"'Kapitel 4'!C30","v":"F4.4"},{"$f":"IF('Kapitel 4'!K31,1,IF('Kapitel 4'!K32,2,IF('Kapitel 4'!K33,3,IF('Kapitel 4'!K34,4,\"\"))))","v":2},"formula 4 choices",null,null,null,{"$f":"'Kapitel 4'!K10","v":false},false,null,null,null,false,null,null,false,null,null,null,false,false,false,false,false,false,false,false,false,false,null,null,{"$f":"B483","v":"F4.2"},null,100,null,null,null,null,null,null,"F4.4",2,"ok",0,null,null,"F4.4",{"$f":"IF(I494,1,IF(I495,2,IF(I496,3,IF(I497,4,\"-\"))))","v":"-"},{"$f":"IF(J494,1,IF(J495,2,IF(J496,3,IF(J497,4,\"-\"))))","v":"-"},{"$f":"IF(K494,1,IF(K495,2,IF(K496,3,IF(K497,4,\"-\"))))","v":4},{"$f":"IF(L494,1,IF(L495,2,IF(L496,3,IF(L497,4,\"-\"))))","v":"-"},{"$f":"IF(M494,1,IF(M495,2,IF(M496,3,IF(M497,4,\"-\"))))","v":"-"},{"$f":"IF(N494,1,IF(N495,2,IF(N496,3,IF(N497,4,\"-\"))))","v":"-"},{"$f":"IF(O494,1,IF(O495,2,IF(O496,3,IF(O497,4,\"-\"))))","v":"-"},{"$f":"IF(P494,1,IF(P495,2,IF(P496,3,IF(P497,4,\"-\"))))","v":"-"},"-",null,{"$f":"BF484","v":"F4.1"},"F4.1FALSCH",false,"Kein Bedarf für sofortige Strategieänderung, aber Verbesserungen sind immer im Auge zu behalten."]
[null,{"$f":"'Kapitel 4'!C36","v":"F4.5"},{"$f":"IF('Kapitel 4'!K37,1,IF('Kapitel 4'!K38,2,IF('Kapitel 4'!K39,3,IF('Kapitel 4'!K40,4,\"\"))))","v":2},"formula 4 choices",null,null,{"$f":"B483","v":"F4.2"},{"$f":"'Kapitel 4'!K15","v":false},null,null,null,null,null,null,null,null,null,null,null,null,null,null,null,null,null,null,null,null,null,null,{"$f":"'Kapitel 4'!B20","v":"Geschäftsintegrität"},null,{"$f":"100/6","v":16.666666666666668},null,null,null,{"$f":"C484","v":2},null,null,null,"F4.5",2,"ok",0,null,null,"F4.5",{"$f":"IF(I498,1,IF(I499,2,IF(I500,3,IF(I501,4,\"-\"))))","v":"-"},{"$f":"IF(J498,1,IF(J499,2,IF(J500,3,IF(J501,4,\"-\"))))","v":"-"},{"$f":"IF(K498,1,IF(K499,2,IF(K500,3,IF(K501,4,\"-\"))))","v":4},{"$f":"IF(L498,1,IF(L499,2,IF(L500,3,IF(L501,4,\"-\"))))","v":"-"},{"$f":"IF(M498,1,IF(M499,2,IF(M500,3,IF(M501,4,\"-\"))))","v":"-"},{"$f":"IF(N498,1,IF(N499,2,IF(N500,3,IF(N501,4,\"-\"))))","v":"-"},{"$f":"IF(O498,1,IF(O499,2,IF(O500,3,IF(O501,4,\"-\"))))","v":"-"},{"$f":"IF(P498,1,IF(P499,2,IF(P500,3,IF(P501,4,\"-\"))))","v":"-"},"-",null,{"$f":"G486","v":"F4.2"},"F4.2FALSCH",{"$f":"H486","v":false},"Gewähren Sie vertrauenswürdigen Geschäftspartnern bevorzugte Behandlung.\nBringen Sie die Zufriedenheit Ihrer Geschäftspartner in Erfahrung, um eine gute Zusammenarbeit zu erhalten und bei Bedarf zu interagieren."]
[null,{"$f":"'Kapitel 4'!C44","v":"F4.6"},{"$f":"IF('Kapitel 4'!K45,1,IF('Kapitel 4'!K46,2,IF('Kapitel 4'!K47,3,IF('Kapitel 4'!K48,4,\"\"))))","v":2},"formula 4 choices",null,null,null,{"$f":"'Kapitel 4'!K16","v":true},null,null,null,null,null,null,null,null,null,null,null,null,null,null,null,null,null,null,null,null,null,null,null,{"$f":"B484","v":"F4.3"},null,100,null,null,null,null,null,null,"F4.6",1,"ok",0,null,null,"F4.6",{"$f":"IF(I502,1,IF(I503,2,IF(I504,3,IF(I505,4,\"-\"))))","v":"-"},{"$f":"IF(J502,1,IF(J503,2,IF(J504,3,IF(J505,4,\"-\"))))","v":"-"},{"$f":"IF(K502,1,IF(K503,2,IF(K504,3,IF(K505,4,\"-\"))))","v":"-"},{"$f":"IF(L502,1,IF(L503,2,IF(L504,3,IF(L505,4,\"-\"))))","v":3},{"$f":"IF(M502,1,IF(M503,2,IF(M504,3,IF(M505,4,\"-\"))))","v":"-"},{"$f":"IF(N502,1,IF(N503,2,IF(N504,3,IF(N505,4,\"-\"))))","v":"-"},{"$f":"IF(O502,1,IF(O503,2,IF(O504,3,IF(O505,4,\"-\"))))","v":"-"},{"$f":"IF(P502,1,IF(P503,2,IF(P504,3,IF(P505,4,\"-\"))))","v":3},"-",null,{"$f":"BF486","v":"F4.2"},"F4.2WAHR",true,"Fördern Sie die wichtigsten Geschäftspartner der Organisation mit mittel- bis langfristigen Verträgen, damit sie in effizientere und verantwortungsvollere Technologien investieren können."]
[null,{"$f":"'Kapitel 4'!C52","v":"F4.7"},{"$f":"IF('Kapitel 4'!K53,1,IF('Kapitel 4'!K54,2,IF('Kapitel 4'!K55,3,IF('Kapitel 4'!K56,4,\"\"))))","v":1},"formula 4 choices",null,null,null,{"$f":"'Kapitel 4'!K17","v":false},null,null,null,null,null,null,null,null,null,null,null,null,null,null,null,null,null,null,null,null,null,null,{"$f":"'Kapitel 4'!B28","v":"Arbeitnehmerrechte "},null,{"$f":"100/6","v":16.666666666666668},null,null,null,{"$f":"((C485*AH489)+(C486*AH490))/100","v":2},null,null,null,"F4.7",1,"ok",0,null,null,"F4.7",{"$f":"IF(I506,1,IF(I507,2,IF(I508,3,IF(I509,4,\"-\"))))","v":3},{"$f":"IF(J506,1,IF(J507,2,IF(J508,3,IF(J509,4,\"-\"))))","v":"-"},{"$f":"IF(K506,1,IF(K507,2,IF(K508,3,IF(K509,4,\"-\"))))","v":"-"},{"$f":"IF(L506,1,IF(L507,2,IF(L508,3,IF(L509,4,\"-\"))))","v":"-"},{"$f":"IF(M506,1,IF(M507,2,IF(M508,3,IF(M509,4,\"-\"))))","v":"-"},{"$f":"IF(N506,1,IF(N507,2,IF(N508,3,IF(N509,4,\"-\"))))","v":"-"},{"$f":"IF(O506,1,IF(O507,2,IF(O508,3,IF(O509,4,\"-\"))))","v":"-"},{"$f":"IF(P506,1,IF(P507,2,IF(P508,3,IF(P509,4,\"-\"))))","v":"-"},"-",null,{"$f":"BF487","v":"F4.2"},"F4.2FALSCH",false,"Leiten Sie F&E-Programme ein und entwickeln Sie spezifische Partnerschaften mit Geschäftspartnern in der gesamten Wertschöpfungskette, um gemeinsam innovative Produkte und Dienstleistungen zu entwickeln."]
[null,{"$f":"'Kapitel 4'!C58","v":"F4.8"},{"$f":"IF('Kapitel 4'!K59,1,IF('Kapitel 4'!K60,2,IF('Kapitel 4'!K61,3,IF('Kapitel 4'!K62,4,\"\"))))","v":2},"formula 4 choices",null,null,null,{"$f":"'Kapitel 4'!K18","v":false},null,null,null,null,null,null,null,null,null,null,null,null,null,null,null,null,null,null,null,null,null,null,null,{"$f":"B485","v":"F4.4"},null,50,null,null,null,null,null,null,"F4.8",1,"ok",0,null,null,"F4.8",{"$f":"IF(I510,1,IF(I511,2,IF(I512,3,IF(I513,4,\"-\"))))","v":4},{"$f":"IF(J510,1,IF(J511,2,IF(J512,3,IF(J513,4,\"-\"))))","v":"-"},{"$f":"IF(K510,1,IF(K511,2,IF(K512,3,IF(K513,4,\"-\"))))","v":"-"},{"$f":"IF(L510,1,IF(L511,2,IF(L512,3,IF(L513,4,\"-\"))))","v":"-"},{"$f":"IF(M510,1,IF(M511,2,IF(M512,3,IF(M513,4,\"-\"))))","v":"-"},{"$f":"IF(N510,1,IF(N511,2,IF(N512,3,IF(N513,4,\"-\"))))","v":"-"},{"$f":"IF(O510,1,IF(O511,2,IF(O512,3,IF(O513,4,\"-\"))))","v":"-"},{"$f":"IF(P510,1,IF(P511,2,IF(P512,3,IF(P513,4,\"-\"))))","v":"-"},"-",null,{"$f":"BF488","v":"F4.2"},"F4.2FALSCH",false,"Kein Bedarf für sofortige Strategieänderung, aber Verbesserungen sind immer im Auge zu behalten."]
[null,null,null,null,null,null,{"$f":"B484","v":"F4.3"},{"$f":"'Kapitel 4'!K23","v":false},null,null,false,null,null,null,null,null,null,null,{"$f":"G486","v":"F4.2"},{"$f":"IF(I486=\"\",$H486,I486)","v":false},false,false,false,false,false,false,false,false,false,null,null,{"$f":"B486","v":"F4.5"},null,50,null,null,null,null,null,null,null,null,null,null,null,null,null,null,null,null,null,null,null,null,null,null,null,{"$f":"G490","v":"F4.3"},"F4.3FALSCH",false,"Erstellen Sie eine Richtlinie oder einen Verhaltenskodex zur Unternehmensethik (darunter Regelungen zu kartell- und wettbewerbsrechtlichen Fragen und Bestechlichkeit) und sorgen Sie für eine formelle Unterstützung durch die oberste Unternehmensleitung.\nMachen Sie die Mitarbeiter auf ihr erwartetes Verhalten in Risikosituationen aufmerksam.\nEine Möglichkeit dafür ist es, die Mitarbeiter regelmäßig einem Integritätstest zu unterziehen, bei dem die Mitarbeiter Risikosituationen einschätzen."]
[null,null,null,null,null,null,null,{"$f":"'Kapitel 4'!K24","v":true},null,null,false,null,null,null,null,null,null,null,null,{"$f":"IF(I487=\"\",$H487,I487)","v":true},true,true,true,{"$f":"IF(M487=\"\",$H487,M487)","v":true},{"$f":"IF(N487=\"\",$H487,N487)","v":true},true,true,true,false,null,{"$f":"'Kapitel 4'!B42","v":"Logistikpartner"},null,{"$f":"100/6","v":16.666666666666668},null,null,null,{"$f":"C487","v":2},null,null,null,null,null,null,{"$f":"IF(SUM(AR482:AR489)>0,\"Schlüsselelemente von RC müssen noch umgesetzt werden; s. Tipps\",\"\")","v":""},null,null,null,null,null,null,null,null,null,null,null,null,null,{"$f":"BF490","v":"F4.3"},"F4.3WAHR",true,"Implementieren Sie Prozesse, um die Verwicklung in oder die Beteiligung an kartell- und wettbewerbsrechtlichen Fragen und Bestechlichkeit zu verhindern, z. B. durch die Implementierung eines Systems für Mitarbeiter, das die anonyme Meldung von Situationen mit einem entsprechenden Risiko ermöglicht."]
[null,null,null,null,null,null,null,{"$f":"'Kapitel 4'!K25","v":false},null,null,false,null,null,null,null,null,null,null,null,false,false,false,false,{"$f":"IF(M488=\"\",$H488,M488)","v":false},false,false,false,false,false,null,null,{"$f":"B487","v":"F4.6"},null,100,null,null,null,null,null,null,null,null,null,null,null,null,null,null,null,null,null,null,null,null,null,null,null,{"$f":"BF491","v":"F4.3"},"F4.3FALSCH",false,"Machen Sie die Stakeholder der Organisation auf die Richtlinie oder den Kodex zur Unternehmensethik aufmerksam (darunter Regelungen zu kartell- und wettbewerbsrechtlichen Fragen und Bestechlichkeit) und ermöglichen Sie den Stakeholdern der Organisation Zugang zu einem System,  das die Meldung von Situationen mit einem entsprechenden Risiko ermöglicht."]
[null,null,null,null,null,null,null,{"$f":"'Kapitel 4'!K26","v":false},null,null,true,null,null,null,null,null,null,null,null,{"$f":"IF(I489=\"\",$H489,I489)","v":false},false,false,false,{"$f":"IF(M489=\"\",$H489,M489)","v":false},false,false,false,false,false,null,{"$f":"'Kapitel 4'!B50","v":"Nachgeschaltete Anwender"},null,{"$f":"100/6","v":16.666666666666668},null,null,null,{"$f":"((C488*AH494)+(C489*AH495))/100","v":1.5},null,null,null,null,null,null,null,null,null,null,null,null,null,null,null,null,null,null,null,null,{"$f":"BF492","v":"F4.3"},"F4.3FALSCH",false,"Kein Bedarf für sofortige Strategieänderung, aber Verbesserungen sind immer im Auge zu behalten."]
[null,null,null,null,null,null,{"$f":"B485","v":"F4.4"},{"$f":"'Kapitel 4'!K31","v":false},null,null,false,null,null,null,null,null,null,null,null,null,null,null,null,null,null,null,null,null,null,null,null,{"$f":"B488","v":"F4.7"},null,50,null,null,null,null,null,null,null,null,null,null,null,null,null,null,null,null,null,null,null,null,null,null,null,{"$f":"G494","v":"F4.4"},"F4.4FALSCH",false,"Legen Sie Mindestanforderungen in Bezug auf soziale Fragen und Menschenrechte bei den Angaben der Geschäftspartner der Organisation fest und wählen Sie Geschäftspartner anhand dieser Kriterien aus."]
[null,null,null,null,null,null,null,{"$f":"'Kapitel 4'!K32","v":true},null,null,false,null,null,null,null,null,null,null,null,null,null,null,null,null,null,null,null,null,null,null,null,{"$f":"B489","v":"F4.8"},null,50,null,null,null,null,null,null,null,null,null,null,null,null,null,null,null,null,null,null,null,null,null,null,null,{"$f":"BF494","v":"F4.4"},"F4.4WAHR",true,"Definieren Sie einen Prozess für die Evaluierung von Geschäftspartnern anhand der Kriterien für soziale Fragen und Menschenrechte.\nEine beispielhafte Regelung die (ganz oder teilweise) verwendet werden kann, ist TfS (https://tfs-initiative.com/).\nUnternehmen können sich gegebenenfalls für andere Regelungen oder Systeme/Kriterien entscheiden."]
[null,null,null,null,null,null,null,{"$f":"'Kapitel 4'!K33","v":false},null,null,false,null,null,null,null,null,null,null,null,null,null,null,null,null,null,null,null,null,null,null,null,null,null,null,null,null,null,null,null,null,null,null,null,null,null,null,null,null,null,null,null,null,null,null,null,null,null,{"$f":"BF495","v":"F4.4"},"F4.4FALSCH",false,"Überprüfen Sie regelmäßig die Geschäftspartner der Organisation auf ihre Fähigkeit, die Einhaltung von sozialen und Menschenrechten zu gewährleisten."]
[null,null,null,null,null,null,null,{"$f":"'Kapitel 4'!K34","v":false},null,null,true,null,null,null,null,null,null,null,null,null,null,null,null,null,null,null,null,null,null,null,null,null,null,null,null,null,null,null,null,null,null,null,null,null,null,null,null,null,null,null,null,null,null,null,null,null,null,{"$f":"BF496","v":"F4.4"},"F4.4FALSCH",false,"Kein Bedarf für sofortige Strategieänderung, aber Verbesserungen sind immer im Auge zu behalten."]
[null,null,null,null,null,null,{"$f":"B486","v":"F4.5"},{"$f":"'Kapitel 4'!K37","v":false},null,null,false,null,null,null,null,null,null,null,{"$f":"G490","v":"F4.3"},{"$f":"IF(I490=\"\",$H490,I490)","v":false},false,false,false,false,false,false,false,false,false,null,null,null,null,null,null,null,null,null,null,null,null,null,null,null,null,null,null,null,null,null,null,null,null,null,null,null,null,{"$f":"G498","v":"F4.5"},"F4.5FALSCH",false,"Ergreifen Sie zwei der folgenden Maßnahmen, um Kinderarbeit in Ihrer Organisation sicher zu verhindern:\n- Sorgen Sie für ein System zum Altersnachweis;\n- Keine Kinder unter 15 Jahren beschäftigen (einschlägige Gesetzgebung beachten). (Auszubildende, schul- oder ausbildungsbezogene Praktika sind die einzige Ausnahme);\n- Achten Sie darauf, dass die Beschäftigung von Unter-18-Jährigen nicht mit dem Schulbesuch der Kinder kollidiert (Summe der Stunden des Transports zu und von Arbeit und Schule, Schulbesuch und Arbeit weniger als 10 Stunden pro Tag);\n- Sorgen Sie dafür, dass die Arbeit junger Beschäftigter nicht geistig, physisch, sozial oder moralisch gefährlich und schädlich ist."]
[null,null,null,null,null,null,null,{"$f":"'Kapitel 4'!K38","v":true},null,null,false,null,null,null,null,null,null,null,null,{"$f":"IF(I491=\"\",$H491,I491)","v":true},true,false,true,{"$f":"IF(M491=\"\",$H491,M491)","v":true},{"$f":"IF(N491=\"\",$H491,N491)","v":true},true,true,true,false,null,null,null,null,null,null,null,null,null,null,null,null,null,null,null,null,null,null,null,null,null,null,null,null,null,null,null,null,{"$f":"BF498","v":"F4.5"},"F4.5WAHR",true,"Ergreifen Sie drei der folgenden Maßnahmen, um Kinderarbeit in Ihrer Organisation sicher zu verhindern:\n- Sorgen Sie für ein System zum Altersnachweis;\n- Keine Kinder unter 15 Jahren beschäftigen (einschlägige Gesetzgebung beachten). (Auszubildende, schul- oder ausbildungsbezogene Praktika sind die einzige Ausnahme);\n- Achten Sie darauf, dass die Beschäftigung von Unter-18-Jährigen nicht mit dem Schulbesuch der Kinder kollidiert (Summe der Stunden des Transports zu und von Arbeit und Schule, Schulbesuch und Arbeit weniger als 10 Stunden pro Tag);\n- Sorgen Sie dafür, dass die Arbeit junger Beschäftigter nicht geistig, physisch, sozial oder moralisch gefährlich und schädlich ist"]
[null,null,null,null,null,null,null,{"$f":"'Kapitel 4'!K39","v":false},null,null,false,null,null,null,null,null,null,null,null,false,false,false,false,{"$f":"IF(M492=\"\",$H492,M492)","v":false},false,false,false,false,false,null,null,null,null,null,null,null,null,null,null,null,null,null,null,null,null,null,null,null,null,null,null,null,null,null,null,null,null,{"$f":"BF499","v":"F4.5"},"F4.5FALSCH",false,"Ergreifen Sie alle der folgenden Maßnahmen, um Kinderarbeit in Ihrer Organisation sicher zu verhindern:\n- Sorgen Sie für ein System zum Altersnachweis;\n- Keine Kinder unter 15 Jahren beschäftigen (einschlägige Gesetzgebung beachten). (Auszubildende, schul- oder ausbildungsbezogene Praktika sind die einzige Ausnahme);\n- Achten Sie darauf, dass die Beschäftigung von Unter-18-Jährigen nicht mit dem Schulbesuch der Kinder kollidiert (Summe der Stunden des Transports zu und von Arbeit und Schule, Schulbesuch und Arbeit weniger als 10 Stunden pro Tag);\n- Sorgen Sie dafür, dass die Arbeit junger Beschäftigter nicht geistig, physisch, sozial oder moralisch gefährlich und schädlich ist."]
[null,null,null,null,null,null,null,{"$f":"'Kapitel 4'!K40","v":false},null,null,true,null,null,null,null,null,null,null,null,false,false,true,false,{"$f":"IF(M493=\"\",$H493,M493)","v":false},false,false,false,false,false,null,null,null,null,null,null,null,null,null,null,null,null,null,null,null,null,null,null,null,null,null,null,null,null,null,null,null,null,{"$f":"BF500","v":"F4.5"},"F4.5FALSCH",false,"Kein Bedarf für sofortige Strategieänderung, aber Verbesserungen sind immer im Auge zu behalten."]
[null,null,null,null,null,null,{"$f":"B487","v":"F4.6"},{"$f":"'Kapitel 4'!K45","v":false},null,null,null,false,null,null,null,false,null,null,null,null,null,null,null,null,null,null,null,null,null,null,null,null,null,null,null,null,null,null,null,null,null,null,null,null,null,null,null,null,null,null,null,null,null,null,null,null,null,{"$f":"G502","v":"F4.6"},"F4.6FALSCH",false,"Legen Sie Mindestanforderungen für HSE&S in den Vorgaben für Logistikanbieter der Organisation fest."]
[null,null,null,null,null,null,null,{"$f":"'Kapitel 4'!K46","v":true},null,null,null,false,null,null,null,false,null,null,null,null,null,null,null,null,null,null,null,null,null,null,null,null,null,null,null,null,null,null,null,null,null,null,null,null,null,null,null,null,null,null,null,null,null,null,null,null,null,{"$f":"BF502","v":"F4.6"},"F4.6WAHR",true,"Definieren Sie einen Prozess für die Evaluierung der Logistikpartner anhand ihrer Einhaltung der Anforderungen der Organisation."]
[null,null,null,null,null,null,null,{"$f":"'Kapitel 4'!K47","v":false},null,null,null,true,null,null,null,true,null,null,null,null,null,null,null,null,null,null,null,null,null,null,null,null,null,null,null,null,null,null,null,null,null,null,null,null,null,null,null,null,null,null,null,null,null,null,null,null,null,{"$f":"BF503","v":"F4.6"},"F4.6FALSCH",false,"Überprüfen Sie regelmäßig die Logistikpartner der Organisation, um ihre Fähigkeit zur Einhaltung der Anforderungen der Organisation zu gewährleisten (darunter Energieeffizienz und Treibhausgas-(THG-)Emissionen).\nEine beispielhafte Regelung die (ganz oder teilweise) verwendet werden kann, ist SQAS (https://www.sqas.org/). Unternehmen können sich gegebenenfalls für andere Regelungen oder Systeme/Kriterien entscheiden. Die Wahl eines Logistikanbieters basiert auf dem individuellen Entscheidungsprozess jedes Unternehmens, wobei SQAS eine Rolle spielt oder auch nicht."]
[null,null,null,null,null,null,null,{"$f":"'Kapitel 4'!K48","v":false},null,null,null,false,null,null,null,false,null,null,null,null,null,null,null,null,null,null,null,null,null,null,null,null,null,null,null,null,null,null,null,null,null,null,null,null,null,null,null,null,null,null,null,null,null,null,null,null,null,{"$f":"BF504","v":"F4.6"},"F4.6FALSCH",false,"Kein Bedarf für sofortige Strategieänderung, aber Verbesserungen sind immer im Auge zu behalten."]
[null,null,null,null,null,null,{"$f":"B488","v":"F4.7"},{"$f":"'Kapitel 4'!K53","v":true},false,null,null,null,null,null,null,null,null,null,{"$f":"G494","v":"F4.4"},{"$f":"IF(I494=\"\",$H494,I494)","v":false},false,false,false,false,false,false,false,false,false,null,null,null,null,null,null,null,null,null,null,null,null,null,null,null,null,null,null,null,null,null,null,null,null,null,null,null,null,{"$f":"G506","v":"F4.7"},"F4.7WAHR",true,"Wenn Eigentum oder Daten eines nachgeschalteten Anwenders oder externen Anbieters verloren geht, beschädigt wird oder anderweitig nicht mehr zur Verwendung geeignet ist, sorgen Sie dafür, dass die Organisation dies dem nachgeschalteten Anwender oder externen Anbieter meldet und dokumentierte Informationen über das Geschehene aufbewahrt."]
[null,null,null,null,null,null,null,{"$f":"'Kapitel 4'!K54","v":false},false,null,null,null,null,null,null,null,null,null,null,{"$f":"IF(I495=\"\",$H495,I495)","v":true},true,false,true,{"$f":"IF(M495=\"\",$H495,M495)","v":true},{"$f":"IF(N495=\"\",$H495,N495)","v":true},true,true,true,false,null,null,null,null,null,null,null,null,null,null,null,null,null,null,null,null,null,null,null,null,null,null,null,null,null,null,null,null,{"$f":"BF506","v":"F4.7"},"F4.7FALSCH",false,"Legen Sie interne Regeln für den Umgang mit Daten und Eigentum unter Einhaltung des Datenschutzes fest (z. B. bewahren Sie Daten nicht länger als nötig auf)."]
[null,null,null,null,null,null,null,{"$f":"'Kapitel 4'!K55","v":false},true,null,null,null,null,null,null,null,null,null,null,false,false,false,false,{"$f":"IF(M496=\"\",$H496,M496)","v":false},false,false,false,false,false,null,null,null,null,null,null,null,null,null,null,null,null,null,null,null,null,null,null,null,null,null,null,null,null,null,null,null,null,{"$f":"BF507","v":"F4.7"},"F4.7FALSCH",false,"Stellen Sie einen regelmäßigen Dialog mit den nachgeschalteten Anwendern und externen Anbietern her, um sie über die Situation und die angewendeten Prozesse zur Gewährleistung des besten Schutzes ihrer Daten und ihres Eigentums zu informieren."]
[null,null,null,null,null,null,null,{"$f":"'Kapitel 4'!K56","v":false},false,null,null,null,null,null,null,null,null,null,null,false,false,true,false,{"$f":"IF(M497=\"\",$H497,M497)","v":false},false,false,false,false,false,null,null,null,null,null,null,null,null,null,null,null,null,null,null,null,null,null,null,null,null,null,null,null,null,null,null,null,null,{"$f":"BF508","v":"F4.7"},"F4.7FALSCH",false,"Kein Bedarf für sofortige Strategieänderung, aber Verbesserungen sind immer im Auge zu behalten."]
[null,null,null,null,null,null,{"$f":"B489","v":"F4.8"},{"$f":"'Kapitel 4'!K59","v":false},false,null,null,null,null,null,null,null,null,null,null,null,null,null,null,null,null,null,null,null,null,null,null,null,null,null,null,null,null,null,null,null,null,null,null,null,null,null,null,null,null,null,null,null,null,null,null,null,null,{"$f":"G510","v":"F4.8"},"F4.8FALSCH",false,"Schließen Sie Folgendes in den Dialog mit den nachgeschalteten Anwendern der Organisation ein:\n- Bereitstellung von Informationen über Produkte und Dienstleistungen;\n- Umgang mit Anfragen, Verträgen oder Bestellungen, einschließlich Änderungen."]
[null,null,null,null,null,null,null,{"$f":"'Kapitel 4'!K60","v":true},false,null,null,null,null,null,null,null,null,null,null,null,null,null,null,null,null,null,null,null,null,null,null,null,null,null,null,null,null,null,null,null,null,null,null,null,null,null,null,null,null,null,null,null,null,null,null,null,null,{"$f":"BF510","v":"F4.8"},"F4.8WAHR",true,"Schließen Sie Folgendes in den Dialog mit den nachgeschalteten Anwendern der Organisation ein:\n- Einholen von Kundenfeedback zu Produkten und Dienstleistungen, einschließlich Beschwerden von nachgeschalteten Anwendern.\n- Obtaining customer feedback relating to products and services, including downstream users' complaints.\n"]
[null,null,null,null,null,null,null,{"$f":"'Kapitel 4'!K61","v":false},false,null,null,null,null,null,null,null,null,null,{"$f":"G498","v":"F4.5"},{"$f":"IF(I498=\"\",$H498,I498)","v":false},false,false,false,false,false,false,false,false,false,null,null,null,null,null,null,null,null,null,null,null,null,null,null,null,null,null,null,null,null,null,null,null,null,null,null,null,null,{"$f":"BF511","v":"F4.8"},"F4.8FALSCH",false,"Schließen Sie Folgendes in den Dialog mit den nachgeschalteten Anwendern der Organisation ein:\n- Umgang mit oder Kontrolle von Eigentum von nachgeschalteten Anwendern;\n- Festlegen spezifischer Anforderungen für Notfallmaßnahmen, falls relevant."]
[null,null,null,null,null,null,null,{"$f":"'Kapitel 4'!K62","v":false},true,null,null,null,null,null,null,null,null,null,null,{"$f":"IF(I499=\"\",$H499,I499)","v":true},true,false,true,{"$f":"IF(M499=\"\",$H499,M499)","v":true},{"$f":"IF(N499=\"\",$H499,N499)","v":true},true,true,true,false,null,null,null,null,null,null,null,null,null,null,null,null,null,null,null,null,null,null,null,null,null,null,null,null,null,null,null,null,{"$f":"BF512","v":"F4.8"},"F4.8FALSCH",false,"Kein Bedarf für sofortige Strategieänderung, aber Verbesserungen sind immer im Auge zu behalten."]
[null,null,null,null,null,null,null,null,null,null,null,null,null,null,null,null,null,null,null,false,false,false,false,{"$f":"IF(M500=\"\",$H500,M500)","v":false},false,false,false,false,false]
[null,null,null,null,null,null,null,null,null,null,null,null,null,null,null,null,null,null,null,false,false,true,false,{"$f":"IF(M501=\"\",$H501,M501)","v":false},false,false,false,false,false]
[]
[]
[]
[]
[null,null,null,null,null,null,null,null,null,null,null,null,null,null,null,null,null,null,{"$f":"G502","v":"F4.6"},{"$f":"IF(I502=\"\",$H502,I502)","v":false},false,false,false,false,false,false,false,false,false]
[null,null,null,null,null,null,null,null,null,null,null,null,null,null,null,null,null,null,null,{"$f":"IF(I503=\"\",$H503,I503)","v":true},true,true,false,{"$f":"IF(M503=\"\",$H503,M503)","v":true},{"$f":"IF(N503=\"\",$H503,N503)","v":true},true,false,true,false]
[null,null,null,null,null,null,null,null,null,null,null,null,null,null,null,null,null,null,null,false,false,false,true,{"$f":"IF(M504=\"\",$H504,M504)","v":false},false,false,true,false,false]
[null,null,null,null,null,null,null,null,null,null,null,null,null,null,null,null,null,null,null,false,false,false,false,{"$f":"IF(M505=\"\",$H505,M505)","v":false},false,false,false,false,false]
[]
[]
[]
[]
[null,null,null,null,null,null,null,null,null,null,null,null,null,null,null,null,null,null,{"$f":"G506","v":"F4.7"},{"$f":"IF(I506=\"\",$H506,I506)","v":false},true,true,true,true,true,true,true,true,false]
[null,null,null,null,null,null,null,null,null,null,null,null,null,null,null,null,null,null,null,{"$f":"IF(I507=\"\",$H507,I507)","v":false},false,false,false,{"$f":"IF(M507=\"\",$H507,M507)","v":false},{"$f":"IF(N507=\"\",$H507,N507)","v":false},false,false,false,false]
[null,null,null,null,null,null,null,null,null,null,null,null,null,null,null,null,null,null,null,true,false,false,false,{"$f":"IF(M508=\"\",$H508,M508)","v":false},false,false,false,false,false]
[null,null,null,null,null,null,null,null,null,null,null,null,null,null,null,null,null,null,null,false,false,false,false,{"$f":"IF(M509=\"\",$H509,M509)","v":false},false,false,false,false,false]
[]
[]
[null,null,null,null,null,null,null,null,null,null,null,null,null,null,null,null,null,null,{"$f":"G510","v":"F4.8"},{"$f":"IF(I510=\"\",$H510,I510)","v":false},false,false,false,false,false,false,false,false,false]
[null,null,null,null,null,null,null,null,null,null,null,null,null,null,null,null,null,null,null,{"$f":"IF(I511=\"\",$H511,I511)","v":false},true,true,true,{"$f":"IF(M511=\"\",$H511,M511)","v":true},{"$f":"IF(N511=\"\",$H511,N511)","v":true},true,true,true,false]
[null,null,null,null,null,null,null,null,null,null,null,null,null,null,null,null,null,null,null,false,false,false,false,{"$f":"IF(M512=\"\",$H512,M512)","v":false},false,false,false,false,false]
[null,null,null,null,null,null,null,null,null,null,null,null,null,null,null,null,null,null,null,true,false,false,false,{"$f":"IF(M513=\"\",$H513,M513)","v":false},false,false,false,false,false]
[]
["chapter 5"]
[]
[null,null,null,null,null,null,null,null,"scores in case of compliance",null,null,null,null,null,null,null,null,null,null,"to copy",null,null,null,null,null,null,null,null,null,null,null,null,"equal weights (adaptable)",null,null,null,"MCA"]
[null,"scores",null,null,null,"prefill",null,"answered","ISO9001","ISO14001","ISO26000","ISO45001","ISO50001","EMAS","RC14001","RCMS","GHS",null,null,{"$f":"I542","v":"ISO9001"},"ISO14001","ISO26000","ISO45001","ISO50001","EMAS","RC14001","RCMS","GHS","clear",null,"weights",null,{"$f":"IF(SUM(AG544:AG556)=100,\"ok\",\"error\")","v":"ok"},{"$f":"IF(SUM(AH544:AH556)/COUNT(AG544:AG556)=100,\"ok\",\"error\")","v":"ok"},null,null,"subscores","score",null,null,"identification of major issues",null,null,null,null,null,"scores for standards",null,null,null,null,null,null,null,null,null,null,"improvement tips"]
[null,null,null,null,null,null,null,null,null,null,null,null,null,null,null,null,null,null,null,null,null,null,null,null,null,null,null,null,null,null,null,null,null,null,null,null,null,{"$f":"(AK544*AG544+AK546*AG546+AK549*AG549)/100","v":1.666666666666667},null,null,null,null,null,null,null,null,null,{"$f":"I542","v":"ISO9001"},"ISO14001","ISO26000","ISO45001","ISO50001","EMAS","RC14001","RCMS","GHS"]
[null,{"$f":"'Kapitel 5'!C6","v":"F5.1"},{"$f":"IF('Kapitel 5'!K7,1,IF('Kapitel 5'!K8,2,IF('Kapitel 5'!K9,3,IF('Kapitel 5'!K10,4,\"\"))))","v":2},"formula 4 choices",null,null,{"$f":"B544","v":"F5.1"},{"$f":"'Kapitel 5'!K7","v":false},false,false,false,false,false,false,false,false,null,null,{"$f":"G544","v":"F5.1"},{"$f":"IF(I544=\"\",$H544,I544)","v":false},false,false,false,false,false,false,false,false,false,null,{"$f":"'Kapitel 5'!B4","v":"Stakeholder-Bewertung"},null,{"$f":"33+1/3","v":33.333333333333336},null,null,null,{"$f":"(C544*AH545)/100","v":2},null,null,null,{"$f":"B544","v":"F5.1"},1,{"$f":"IF(C544<AP544,\"major issue\",\"ok\")","v":"ok"},{"$f":"IF(AQ544<>\"ok\",1,0)","v":0},null,null,{"$f":"AO544","v":"F5.1"},{"$f":"IF(I544,1,IF(I545,2,IF(I546,3,IF(I547,4,\"-\"))))","v":3},3,4,3,3,3,3,4,"-",null,{"$f":"G544","v":"F5.1"},{"$f":"CONCATENATE(BF544,BH544)","v":"F5.1FALSCH"},{"$f":"H544","v":false},"Der Organisation wird empfohlen, Stakeholder als Gruppen von Personen mit einem Interesse an ihrem Betrieb, ihren Produkten oder anderen Aktivitäten zu betrachten. Ihre Stakeholder können Mitarbeiter, Nachbarn, die Allgemeinheit, Kunden, Lieferanten, Aktionäre, lokale Behörden, Rettungskräfte, Nichtregierungsorganisationen, Medien, Mitbewerber, Verbraucherschutzorganisationen und Interessenvertretungen... sein, nach Maßgabe der Organisation. Ihre Organisation sollte überlegen, eine generische Liste ihrer Stakeholder zu pflegen, und planen, wie sie diesen die Richtlinie und andere Informationen kommuniziert. \nViele Organisation erstellen eine „Stakeholder-Matrix“, die einfach alle ermittelten Stakeholder zusammen mit dem Titel der Person aufführt, die hauptsächlich für die Beziehung mit dem jeweiligen Stakeholder verantwortlich ist.\nEs wird empfohlen, die Liste der Stakeholder der Organisation regelmäßig zu überprüfen, um zu gewährleisten, dass sie aktuell und relevant für Betrieb, Produkte und Auswirkungen auf Gesellschaft und Umwelt ist."]
[null,{"$f":"'Kapitel 5'!C14","v":"F5.2"},{"$f":"IF('Kapitel 5'!K15,1,IF('Kapitel 5'!K16,2,IF('Kapitel 5'!K17,3,IF('Kapitel 5'!K18,4,\"\"))))","v":1},"formula 4 choices",null,null,null,{"$f":"'Kapitel 5'!K8","v":true},false,false,false,false,false,false,false,false,null,null,null,{"$f":"IF(I545=\"\",$H545,I545)","v":false},false,false,false,{"$f":"IF(M545=\"\",$H545,M545)","v":false},{"$f":"IF(N545=\"\",$H545,N545)","v":false},false,false,true,false,null,null,{"$f":"B544","v":"F5.1"},null,100,null,null,null,null,null,null,{"$f":"B545","v":"F5.2"},1,{"$f":"IF(C545<AP545,\"major issue\",\"ok\")","v":"ok"},{"$f":"IF(AQ545<>\"ok\",1,0)","v":0},null,null,{"$f":"AO545","v":"F5.2"},{"$f":"IF(I548,1,IF(I549,2,IF(I550,3,IF(I551,4,\"-\"))))","v":"-"},"-",4,"-","-",3,"-",4,"-",null,{"$f":"BF544","v":"F5.1"},"F5.1WAHR",true,"Die Organisation kann ihre Stakeholder einteilen und je nach Einfluss auf Ihre Tätigkeit und ihr Interesse daran in einem Einfluss-/Interesse-Raster für die Priorisierung von Stakeholdern klassifizieren.\nDie Bewertung von Bedürfnissen und Erwartungen von Stakeholdern verlangt die aktive Prüfung von Stakeholder-Interessen und positives Feedback in Bezug auf die Organisation sowie die Berücksichtigung dieses Feedbacks bei der Festlegung von Zielen und Vorgaben."]
[null,{"$f":"'Kapitel 5'!C20","v":"F5.3"},{"$f":"IF('Kapitel 5'!K21,1,IF('Kapitel 5'!K22,2,IF('Kapitel 5'!K23,3,IF('Kapitel 5'!K24,4,\"\"))))","v":2},"formula 4 choices",null,null,null,{"$f":"'Kapitel 5'!K9","v":false},true,true,false,true,true,true,true,false,null,null,null,true,true,false,true,{"$f":"IF(M546=\"\",$H546,M546)","v":true},true,true,false,false,false,null,{"$f":"'Kapitel 5'!B12","v":"Externer Dialog und Transparenz"},null,{"$f":"33+1/3","v":33.333333333333336},null,null,null,{"$f":"((C545*AH547)+(C546*AH548))/100","v":1.5},null,null,null,{"$f":"B546","v":"F5.3"},1,{"$f":"IF(C546<AP546,\"major issue\",\"ok\")","v":"ok"},0,null,null,"F5.3",{"$f":"IF(I552,1,IF(I553,2,IF(I554,3,IF(I555,4,\"-\"))))","v":"-"},"-","-","-","-",3,"-","-","-",null,{"$f":"BF545","v":"F5.1"},"F5.1FALSCH",false,"Versuchen Sie zu verstehen, was Ihre Stakeholder motiviert und wie Sie sie auf Ihre Seite bringen.\nDie Bedürfnisse und Erwartungen von Stakeholdern können positiv und negativ sein. Wenn Stakeholder positive Bedürfnisse und Erwartungen in Bezug auf die Organisation und ihren Betrieb haben, überlegen Sie, wie diese Informationen Programme im Rahmen der Geschäftsstrategie fördern können. Der Schlüssel ist, dass eine Organisation aktive Dialogsysteme zum Einholen von Feedback der Stakeholder vorweisen muss.\nWenn Sie Umfragen zum Einholen von Feedback verwenden, setzen Sie ein Ziel für eine „akzeptable Anzahl von Antworten“, bevor Sie die Umfragen aussenden. Wenn die Rücklaufquote unter ihrem Ziel liegt, nehmen Sie sich eine Verbesserung in diesem Bereich vor und entwickeln Sie einen Plan für Korrekturmaßnahmen. Das wird Teil des Schwerpunkts der Organisation für die kontinuierliche Verbesserung."]
[null,{"$f":"'Kapitel 5'!C28","v":"F5.4"},{"$f":"IF('Kapitel 5'!K29,1,IF('Kapitel 5'!K30,2,IF('Kapitel 5'!K31,3,IF('Kapitel 5'!K32,4,\"\"))))","v":1},"formula 4 choices",null,null,null,{"$f":"'Kapitel 5'!K10","v":false},false,false,true,false,false,false,false,true,null,null,null,false,false,true,false,{"$f":"IF(M547=\"\",$H547,M547)","v":false},false,false,true,false,false,null,null,{"$f":"B545","v":"F5.2"},null,50,null,null,null,null,null,null,{"$f":"B547","v":"F5.4"},1,{"$f":"IF(C547<AP547,\"major issue\",\"ok\")","v":"ok"},0,null,null,"F5.4",{"$f":"IF(I556,1,IF(I557,2,IF(I558,3,IF(I559,4,\"-\"))))","v":"-"},"-","-","-","-","-","-","-","-",null,{"$f":"BF546","v":"F5.1"},"F5.1FALSCH",false,"Kein Bedarf für sofortige Strategieänderung, aber Verbesserungen sind immer im Auge zu behalten."]
[null,{"$f":"'Kapitel 5'!C34","v":"F5.5"},{"$f":"IF('Kapitel 5'!K35,1,IF('Kapitel 5'!K36,2,IF('Kapitel 5'!K37,3,IF('Kapitel 5'!K38,4,\"\"))))","v":2},"formula 4 choices",null,null,{"$f":"B545","v":"F5.2"},{"$f":"'Kapitel 5'!K15","v":true},null,null,false,null,null,false,null,false,null,null,null,null,null,null,null,null,null,null,null,null,null,null,null,{"$f":"B546","v":"F5.3"},null,50,null,null,null,null,null,null,{"$f":"B548","v":"F5.5"},1,{"$f":"IF(C548<AP548,\"major issue\",\"ok\")","v":"ok"},0,null,null,"F5.5",{"$f":"IF(I560,1,IF(I561,2,IF(I562,3,IF(I563,4,\"-\"))))","v":"-"},"-","-","-","-","-","-","-","-",null,{"$f":"G548","v":"F5.2"},"F5.2WAHR",true,"Im Austausch mit den Stakeholdern ist es für eine Organisation empfehlenswert, einen Dialog mit ihren Stakeholdern zu etablieren, um die Interessen, das Engagement und die mögliche Beteiligung von relevanten Akteuren im entsprechenden Tätigkeitsbereich der Organisation herauszufinden. Das erlaubt es der Organisation, Möglichkeiten für die Ausübung ihrer Tätigkeiten zu erkunden und sie anhand des von den Stakeholdern erhaltenen Feedbacks weiterzuentwickeln."]
[null,null,null,null,null,null,null,{"$f":"'Kapitel 5'!K16","v":false},null,null,false,null,null,false,null,false,null,null,null,null,null,null,null,null,null,null,null,null,null,null,{"$f":"'Kapitel 5'!B26","v":"Örtliche Gemeinden / Anwohner "},null,{"$f":"33+1/3","v":33.333333333333336},null,null,null,{"$f":"((C547*AH550)+(C548*AH551))/100","v":1.5},null,null,null,null,null,null,null,null,null,null,null,null,null,null,null,null,null,null,null,null,{"$f":"BF548","v":"F5.2"},"F5.2FALSCH",false,"Der nächste Schritt ist die Definition bestimmter relevanter Kanäle für den laufenden Dialog mit den wichtigsten Stakeholdern des Unternehmens. \nDas lässt sich durch Newsletter, Kurzberichte von Stakeholder-Meetings oder regelmäßige Fortschrittsberichte erreichen. Das zentrale Anliegen ist die Einhaltung der vereinbarten Formen der Kommunikation. Beachten Sie, dass Stakeholder-Dialoge empfindliche Systeme sind und eine transparente und zuverlässige Kommunikation als stabilisierender Faktor wirken kann."]
[null,null,null,null,null,null,null,{"$f":"'Kapitel 5'!K17","v":false},null,null,false,null,null,true,null,false,null,null,null,null,null,null,null,null,null,null,null,null,null,null,null,{"$f":"B547","v":"F5.4"},null,50,null,null,null,null,null,null,null,null,null,{"$f":"IF(SUM(AR544:AR548)>0,\"Schlüsselelemente von RC müssen noch umgesetzt werden; s. Tipps\",\"\")","v":""},null,null,null,null,null,null,null,null,null,null,null,null,null,{"$f":"BF549","v":"F5.2"},"F5.2FALSCH",false,"Konsultieren Sie diese Kanäle regelmäßig.\nPersonen, die im Stakeholder-Dialog engagiert sind, müssen sich auf Systeme einigen, die von allen Stakeholdern verstanden und nachvollzogen werden können. Falls erforderlich, müssen diese Systeme an die Anforderungen des Stakeholder-Dialogs angepasst werden, weil Stakeholder-Gruppen oft ein sehr unterschiedliches Verständnis von Feedback-Systemen haben. Es kann nützlich sein, Feedback-Kriterien mit allen Stakeholdern zu koordinieren.\nSuchen Sie nach Möglichkeiten für die direkte Einbindung der Stakeholder Ihrer Organisation in Aktivitäten durch die Entwicklung gemeinsamer Projekte und Partnerschaften."]
[null,null,null,null,null,null,null,{"$f":"'Kapitel 5'!K18","v":false},null,null,true,null,null,false,null,true,null,null,null,null,null,null,null,null,null,null,null,null,null,null,null,{"$f":"B548","v":"F5.5"},null,50,null,null,null,null,null,null,null,null,null,null,null,null,null,null,null,null,null,null,null,null,null,null,null,{"$f":"BF550","v":"F5.2"},"F5.2FALSCH",false,"Kein Bedarf für sofortige Strategieänderung, aber Verbesserungen sind immer im Auge zu behalten."]
[null,null,null,null,null,null,{"$f":"B546","v":"F5.3"},{"$f":"'Kapitel 5'!K21","v":false},null,null,null,null,null,false,null,null,null,null,{"$f":"G548","v":"F5.2"},{"$f":"IF(I548=\"\",$H548,I548)","v":true},true,false,true,true,false,true,false,true,false,null,null,null,null,null,null,null,null,null,null,null,null,null,null,null,null,null,null,null,null,null,null,null,null,null,null,null,null,{"$f":"G552","v":"F5.3"},"F5.3FALSCH",false,"Veröffentlichen Sie die Ergebnisse der Leistungsbewertung im Kanal der Organisation."]
[null,null,null,null,null,null,null,{"$f":"'Kapitel 5'!K22","v":true},null,null,null,null,null,false,null,null,null,null,null,{"$f":"IF(I549=\"\",$H549,I549)","v":false},false,false,false,{"$f":"IF(M549=\"\",$H549,M549)","v":false},{"$f":"IF(N549=\"\",$H549,N549)","v":false},false,false,false,false,null,null,null,null,null,null,null,null,null,null,null,null,null,null,null,null,null,null,null,null,null,null,null,null,null,null,null,null,{"$f":"BF552","v":"F5.3"},"F5.3WAHR",true,"Lassen Sie die Ergebnisse der Leistungsbewertung der Organisation jährlich vor der Veröffentlichung von Dritten prüfen."]
[null,null,null,null,null,null,null,{"$f":"'Kapitel 5'!K23","v":false},null,null,null,null,null,true,null,null,null,null,null,false,false,false,false,{"$f":"IF(M550=\"\",$H550,M550)","v":false},true,false,false,false,false,null,null,null,null,null,null,null,null,null,null,null,null,null,null,null,null,null,null,null,null,null,null,null,null,null,null,null,null,{"$f":"BF553","v":"F5.3"},"F5.3FALSCH",false,"Seien Sie proaktiv im Austausch der Ergebnisse der Leistungsbewertung der Organisation mit relevanten Stakeholdern. "]
[null,null,null,null,null,null,null,{"$f":"'Kapitel 5'!K24","v":false},null,null,null,null,null,false,null,null,null,null,null,false,false,true,false,{"$f":"IF(M551=\"\",$H551,M551)","v":false},false,false,true,false,false,null,null,null,null,null,null,null,null,null,null,null,null,null,null,null,null,null,null,null,null,null,null,null,null,null,null,null,null,{"$f":"BF554","v":"F5.3"},"F5.3FALSCH",false,"Kein Bedarf für sofortige Strategieänderung, aber Verbesserungen sind immer im Auge zu behalten."]
[null,null,null,null,null,null,{"$f":"B547","v":"F5.4"},{"$f":"'Kapitel 5'!K29","v":true},null,null,null,null,null,null,null,null,null,null,null,null,null,null,null,null,null,null,null,null,null,null,null,null,null,null,null,null,null,null,null,null,null,null,null,null,null,null,null,null,null,null,null,null,null,null,null,null,null,{"$f":"G556","v":"F5.4"},"F5.4WAHR",true,"Ermitteln Sie die Ansprüche der lokalen Allgemeinheit und reagieren Sie darauf. Entwickeln Sie einen Dialog mit den lokalen Vertretern in Bezug auf das Wohlbefinden der Anrainer."]
[null,null,null,null,null,null,null,{"$f":"'Kapitel 5'!K30","v":false},null,null,null,null,null,null,null,null,null,null,null,null,null,null,null,null,null,null,null,null,null,null,null,null,null,null,null,null,null,null,null,null,null,null,null,null,null,null,null,null,null,null,null,null,null,null,null,null,null,{"$f":"BF556","v":"F5.4"},"F5.4FALSCH",false,"Ermitteln Sie lokale Projekte und Aktionen (in Übereinstimmung mit den zentralen Werten Ihres Unternehmens) und tragen Sie zur lokalen Entwicklung bei. Beispiele von Projekten sind z. B. eine Baumpflanzaktion mit Kollegen zur Unterstützung einer lokalen Naturschutzorganisation, der Austausch des Wissens oder der Erkenntnisse Ihrer Organisation in Vorträgen in lokalen Bildungseinrichtungen..."]
[null,null,null,null,null,null,null,{"$f":"'Kapitel 5'!K31","v":false},null,null,null,null,null,null,null,null,null,null,{"$f":"G552","v":"F5.3"},{"$f":"IF(I552=\"\",$H552,I552)","v":false},false,false,false,false,false,false,false,false,false,null,null,null,null,null,null,null,null,null,null,null,null,null,null,null,null,null,null,null,null,null,null,null,null,null,null,null,null,{"$f":"BF557","v":"F5.4"},"F5.4FALSCH",false,"Leisten Sie einen Beitrag zur lokalen Allgemeinheit durch die Beteiligung an verschiedenen Gruppen, Kommunikationsmitteln, Unternehmensverbänden und Arbeitnehmervertretungen, ökologischen Gruppen, Berufsverbänden, benachbarten Unternehmen, Nachbarschaftsverbänden usw. Pflegen Sie den Kontakt durch gemeinsame Projekte, Aktionen oder Partnerschaften je nach den Anforderungen der Allgemeinheit und reservieren Sie ein Budget dafür."]
[null,null,null,null,null,null,null,{"$f":"'Kapitel 5'!K32","v":false},null,null,null,null,null,null,null,null,null,null,null,{"$f":"IF(I553=\"\",$H553,I553)","v":true},true,true,true,{"$f":"IF(M553=\"\",$H553,M553)","v":true},{"$f":"IF(N553=\"\",$H553,N553)","v":false},true,true,true,false,null,null,null,null,null,null,null,null,null,null,null,null,null,null,null,null,null,null,null,null,null,null,null,null,null,null,null,null,{"$f":"BF558","v":"F5.4"},"F5.4FALSCH",false,"Kein Bedarf für sofortige Strategieänderung, aber Verbesserungen sind immer im Auge zu behalten."]
[null,null,null,null,null,null,{"$f":"B548","v":"F5.5"},{"$f":"'Kapitel 4'!K37","v":false},null,null,null,null,null,null,null,null,null,null,null,false,false,false,false,{"$f":"IF(M554=\"\",$H554,M554)","v":false},true,false,false,false,false,null,null,null,null,null,null,null,null,null,null,null,null,null,null,null,null,null,null,null,null,null,null,null,null,null,null,null,null,{"$f":"G560","v":"F5.5"},"F5.5FALSCH",false,"Reagieren Sie auf die spezifischen Ansprüche der lokalen Schulen und Arbeitsvermittlungen. Entwickeln Sie einen Dialog mit den lokalen Vertretern."]
[null,null,null,null,null,null,null,{"$f":"'Kapitel 4'!K38","v":true},null,null,null,null,null,null,null,null,null,null,null,false,false,false,false,{"$f":"IF(M555=\"\",$H555,M555)","v":false},false,false,false,false,false,null,null,null,null,null,null,null,null,null,null,null,null,null,null,null,null,null,null,null,null,null,null,null,null,null,null,null,null,{"$f":"BF560","v":"F5.5"},"F5.5WAHR",true,"Leisten Sie einen Beitrag zur lokalen Beschäftigung und unterstützen Sie lokale Schulen: bei Rekrutierungen, durch die Einstellung von Praktikanten aus lokalen Schulen, durch die Teilnahme an schulischen Aktivitäten…"]
[null,null,null,null,null,null,null,{"$f":"'Kapitel 4'!K39","v":false},null,null,null,null,null,null,null,null,null,null,null,null,null,null,null,null,null,null,null,null,null,null,null,null,null,null,null,null,null,null,null,null,null,null,null,null,null,null,null,null,null,null,null,null,null,null,null,null,null,{"$f":"BF561","v":"F5.5"},"F5.5FALSCH",false,"Entwickeln Sie Partnerschaften mit lokalen Arbeitsvermittlungen und Ausbildungsprogramme mit lokalen Schulen und Wissenschaftskreisen (z. B. Zusammenarbeit mit Universitäten, Stipendien, Studien usw.)…"]
[null,null,null,null,null,null,null,{"$f":"'Kapitel 4'!K40","v":false},null,null,null,null,null,null,null,null,null,null,null,null,null,null,null,null,null,null,null,null,null,null,null,null,null,null,null,null,null,null,null,null,null,null,null,null,null,null,null,null,null,null,null,null,null,null,null,null,null,{"$f":"BF562","v":"F5.5"},"F5.5FALSCH",false,"Kein Bedarf für sofortige Strategieänderung, aber Verbesserungen sind immer im Auge zu behalten."]
[]
[]
[null,null,null,null,null,null,null,null,null,null,null,null,null,null,null,null,null,null,{"$f":"G556","v":"F5.4"},{"$f":"IF(I556=\"\",$H556,I556)","v":true},true,true,true,true,true,true,true,true,false]
[null,null,null,null,null,null,null,null,null,null,null,null,null,null,null,null,null,null,null,{"$f":"IF(I557=\"\",$H557,I557)","v":false},false,false,false,{"$f":"IF(M557=\"\",$H557,M557)","v":false},{"$f":"IF(N557=\"\",$H557,N557)","v":false},false,false,false,false]
[null,null,null,null,null,null,null,null,null,null,null,null,null,null,null,null,null,null,null,false,false,false,false,{"$f":"IF(M558=\"\",$H558,M558)","v":false},false,false,false,false,false]
[null,null,null,null,null,null,null,null,null,null,null,null,null,null,null,null,null,null,null,false,false,false,false,{"$f":"IF(M559=\"\",$H559,M559)","v":false},false,false,false,false,false]
[]
[]
[null,null,null,null,null,null,null,null,null,null,null,null,null,null,null,null,null,null,{"$f":"G560","v":"F5.5"},{"$f":"IF(I560=\"\",$H560,I560)","v":false},false,false,false,false,false,false,false,false,false]
[null,null,null,null,null,null,null,null,null,null,null,null,null,null,null,null,null,null,null,{"$f":"IF(I561=\"\",$H561,I561)","v":true},true,true,true,{"$f":"IF(M561=\"\",$H561,M561)","v":true},{"$f":"IF(N561=\"\",$H561,N561)","v":true},true,true,true,false]
[null,null,null,null,null,null,null,null,null,null,null,null,null,null,null,null,null,null,null,false,false,false,false,{"$f":"IF(M562=\"\",$H562,M562)","v":false},false,false,false,false,false]
[null,null,null,null,null,null,null,null,null,null,null,null,null,null,null,null,null,null,null,false,false,false,false,{"$f":"IF(M563=\"\",$H563,M563)","v":false},false,false,false,false,false]
[]
[]
["chapter 6"]
[]
[]
[null,null,null,null,null,null,null,null,"scores in case of compliance",null,null,null,null,null,null,null,null,null,null,"to copy",null,null,null,null,null,null,null,null,null,null,null,null,"equal weights per question (adaptable)",null,null,null,"MCA"]
[null,"scores",null,null,null,"prefill",null,"answered","ISO9001","ISO14001","ISO26000","ISO45001","ISO50001","EMAS","RC14001","RCMS","GHS",null,null,{"$f":"I582","v":"ISO9001"},"ISO14001","ISO26000","ISO45001","ISO50001","EMAS","RC14001","RCMS","GHS","clear",null,"weights",null,{"$f":"IF(SUM(AG584:AG609)=100,\"ok\",\"error\")","v":"ok"},{"$f":"IF(SUM(AH584:AH609)/COUNT(AG584:AG609)=100,\"ok\",\"error\")","v":"ok"},null,null,"subscores","score",null,null,"identification of major issues",null,null,null,null,null,"scores for standards",null,null,null,null,null,null,null,null,null,null,"improvement tips"]
[null,null,null,null,null,null,null,null,null,null,null,null,null,null,null,null,null,null,null,null,null,null,null,null,null,null,null,null,null,null,null,null,null,null,null,null,null,{"$f":"(AK584*AG584+AK586*AG586+AK588*AG588+AK590*AG590+AK592*AG592+AG598*AK598+AG600*AK600+AG603*AK603+AG608*AK608)/100","v":1.2941176470588232},null,null,null,null,null,null,null,null,null,{"$f":"I582","v":"ISO9001"},"ISO14001","ISO26000","ISO45001","ISO50001","EMAS","RC14001","RCMS","GHS"]
[null,{"$f":"'Kapitel 6'!C6","v":"F6.1"},{"$f":"IF('Kapitel 6'!K7,1,IF('Kapitel 6'!K8,2,IF('Kapitel 6'!K11,3,IF('Kapitel 6'!K12,4,\"\"))))","v":2},"formula 4 choices",null,null,{"$f":"B584","v":"F6.1"},{"$f":"'Kapitel 6'!K7","v":false},null,null,false,null,null,null,null,null,null,null,{"$f":"G584","v":"F6.1"},{"$f":"IF(I584=\"\",$H584,I584)","v":false},false,false,false,false,false,false,false,false,false,null,{"$f":"'Kapitel 6'!B4","v":"Nachhaltige Entwicklung"},null,{"$f":"1/17*100","v":5.8823529411764701},null,null,null,{"$f":"C584","v":2},null,null,null,{"$f":"B584","v":"F6.1"},1,{"$f":"IF(C584<AP584,\"major issue\",\"ok\")","v":"ok"},{"$f":"IF(AQ584<>\"ok\",1,0)","v":0},null,null,{"$f":"AO584","v":"F6.1"},{"$f":"IF(I584,1,IF(I585,2,IF(I586,3,IF(I587,4,\"-\"))))","v":"-"},"-",3,"-","-","-","-","-","-",null,{"$f":"G584","v":"F6.1"},{"$f":"CONCATENATE(BF584,BH584)","v":"F6.1FALSCH"},{"$f":"H584","v":false},"Beginnen Sie den Wesentlichkeitsprozess, indem Sie eine Liste der relevanten Stakeholder-Gruppen erstellen, und identifizieren Sie dann innerhalb jeder Gruppe Schlüsselkontakte, die Ihnen eine aussagekräftige Perspektive für die Nachhaltigkeitsstrategie Ihres Unternehmens vermitteln können. Berücksichtigen Sie sowohl interne (d. h. Führungskräfte, Direktoren, Regionalmanager, Beschäftigte) als auch externe Kontakte (d. h. Wirtschaftsverbände, Schlüsselkunden, NGOs), um somit eine breite Palette von Perspektiven über die gesamte Wertschöpfungskette hinweg beurteilen zu können.",null,null,"at Q6.1 answer 2"]
[null,{"$f":"'Kapitel 6'!C16","v":"F6.2"},{"$f":"IF('Kapitel 6'!K17,1,IF('Kapitel 6'!K18,2,IF('Kapitel 6'!K19,3,IF('Kapitel 6'!K20,4,\"\"))))","v":1},"formula 4 choices",null,null,null,{"$f":"'Kapitel 6'!K8","v":true},null,null,false,null,null,null,null,null,null,null,null,{"$f":"IF(I585=\"\",$H585,I585)","v":true},true,false,true,{"$f":"IF(M585=\"\",$H585,M585)","v":true},{"$f":"IF(N585=\"\",$H585,N585)","v":true},true,true,true,false,null,null,{"$f":"B584","v":"F6.1"},null,100,null,null,null,null,null,null,"F6.2",1,"ok",{"$f":"IF(AQ585<>\"ok\",1,0)","v":0},null,null,{"$f":"AO585","v":"F6.2"},{"$f":"IF(I588,1,IF(I589,2,IF(I590,3,IF(I591,4,\"-\"))))","v":"-"},"-","-","-","-","-","-","-","-",null,{"$f":"BF584","v":"F6.1"},"F6.1WAHR",true,"Nachdem Sie die Stakeholder identifiziert und diese einbezogen haben, legen Sie fest, welche (gesellschaftlichen, wirtschaftlichen und ökologischen) Nachhaltigkeitsindikatoren gemessen werden sollen, sodass Sie tatsächlich die gewünschten und notwendigen Erkenntnisse erhalten; Sie können zu diesem Zweck die vorhandenen Sektor-Roadmaps (Link zum Sektor-Roadmap des WBCSD: https://www.wbcsd.org/Programs/People/Sustainable-Development-Goals/SDG-Sector-Roadmaps/Resources/SDG-Sector-Roadmaps), die Nachhaltigkeitscharta (Link zur Cefic-Charta: https://chemistrycan.com/app/uploads/2017/10/Cefic-Sustainability-Charter-signed.pdf) und die Grundsätze (Link zu ACC-Grundsätzen: https://www.americanchemistry.com/Sustainability/Principles.html) nutzen.",null,null,"https://www.wbcsd.org/Programs/People/Sustainable-Development-Goals/SDG-Sector-Roadmaps/Resources/SDG-Sector-Roadmaps"]
[null,{"$f":"'Kapitel 6'!C24","v":"F6.3"},{"$f":"IF('Kapitel 6'!K25,1,IF('Kapitel 6'!K26,2,IF('Kapitel 6'!K27,3,IF('Kapitel 6'!K28,4,\"\"))))","v":1},"formula 4 choices",null,null,null,{"$f":"'Kapitel 6'!K11","v":false},null,null,true,null,null,null,null,null,null,null,"link",null,null,null,null,null,null,null,null,null,null,null,{"$f":"'Kapitel 6'!B14","v":"Nachhaltige Entwicklung"},null,{"$f":"1/17*100","v":5.8823529411764701},null,null,null,{"$f":"C585","v":1},null,null,null,"F6.3",1,"ok",0,null,null,"F6.3",{"$f":"IF(I592,1,IF(I593,2,IF(I594,3,IF(I595,4,\"-\"))))","v":"-"},"-",4,"-","-","-","-","-","-",null,{"$f":"BF585","v":"F6.1"},"F6.1FALSCH",false,"Teilen Sie Ihre Ergebnisse und Erkenntnisse mit Ihren Stakeholdern (und darüber hinaus!). In der Regel erfolgt dies mit einem formellen Nachhaltigkeitsbericht oder einer Zusammenfassung (Summary), wobei sich der Austausch aber dann auch über andere Kanäle, wie z. B. die Unternehmenswebsite oder Medienmitteilungen, ausweiten lässt.\nDer Austausch Ihrer Ergebnisse aus der Wesentlichkeitsbewertung kann als Ausgangspunkt für die Fortsetzung der Gespräche und weitere aktiven Beteiligung an Ihren Nachhaltigkeitsinitiativen dienen. Begrüßen Sie das Feedback aller Stakeholder, die Ihre Ergebnisse aus der Wesentlichkeitsbewertung einsehen und prüfen, um das Gespräch nach Abschluss der Bewertung im Fluss zu halten. Nehmen Sie außerdem Ihre Ergebnisse in Ihre allgemeine Nachhaltigkeitsstrategie auf, um somit Kommunikationspläne für jede Gruppe zu erstellen und die Nachhaltigkeitsgeschichte Ihres Unternehmens besser vermitteln zu können.",null,null,"https://cefic.org/app/uploads/2019/01/Cefic-Sustainability-Charter-TeamingUp-For-A-SustainableEurope.pdf"]
[null,{"$f":"'Kapitel 6'!C32","v":"F6.4"},{"$f":"IF('Kapitel 6'!K33,1,IF('Kapitel 6'!K34,2,IF('Kapitel 6'!K35,3,IF('Kapitel 6'!K36,4,\"\"))))","v":1},"formula 4 choices",null,null,null,{"$f":"'Kapitel 6'!K12","v":false},null,null,false,null,null,null,null,null,null,null,"link",null,null,null,null,null,null,null,null,null,null,null,null,{"$f":"B585","v":"F6.2"},null,100,null,null,null,null,null,null,"F6.4",1,"ok",0,null,null,"F6.4",{"$f":"IF(I596,1,IF(I597,2,IF(I598,3,IF(I599,4,\"-\"))))","v":"-"},"-","-","-","-","-","-","-","-",null,{"$f":"BF586","v":"F6.1"},"F6.1FALSCH",false,"Kein Bedarf für sofortige Strategieänderung, aber Verbesserungen sind immer im Auge zu behalten.",null,null,"https://www.americanchemistry.com/Sustainability/Principles.html"]
[null,{"$f":"'Kapitel 6'!C40","v":"F6.5"},{"$f":"IF('Kapitel 6'!K41,1,IF('Kapitel 6'!K42,2,IF('Kapitel 6'!K43,3,IF('Kapitel 6'!K44,4,\"\"))))","v":1},"formula 4 choices",null,null,{"$f":"B585","v":"F6.2"},{"$f":"'Kapitel 6'!K17","v":true},null,null,null,null,null,null,null,null,null,null,null,{"$f":"IF(I586=\"\",$H586,I586)","v":false},false,true,false,false,false,false,false,false,false,null,{"$f":"'Kapitel 6'!B22","v":"Kommunikation"},null,{"$f":"1/17*100","v":5.8823529411764701},null,null,null,{"$f":"C586","v":1},null,null,null,"F6.5",1,"ok",0,null,null,"F6.5",{"$f":"IF(I600,1,IF(I601,2,IF(I602,3,IF(I603,4,\"-\"))))","v":"-"},"-",1,"-","-","-","-","-","-",null,{"$f":"G588","v":"F6.2"},"F6.2WAHR",true,"Bilden Sie die Beiträge der Organisation zu den SDG ab.",null,null,"at Q6.2 answer 2"]
[null,{"$f":"'Kapitel 6'!C46","v":"F6.6"},{"$f":"IF('Kapitel 6'!K47,1,IF('Kapitel 6'!K48,2,IF('Kapitel 6'!K49,3,IF('Kapitel 6'!K50,4,\"\"))))","v":1},"formula 4 choices",null,null,null,{"$f":"'Kapitel 6'!K18","v":false},null,null,null,null,null,null,null,null,null,null,null,false,false,false,false,false,false,false,false,false,false,null,null,{"$f":"B586","v":"F6.3"},null,100,null,null,null,null,null,null,"F6.6",1,"ok",0,null,null,"F6.6",{"$f":"IF(I604,1,IF(I605,2,IF(I606,3,IF(I607,4,\"-\"))))","v":"-"},"-",3,"-","-","-","-","-","-",null,{"$f":"BF588","v":"F6.2"},"F6.2FALSCH",false,"Identifizieren Sie Möglichkeiten bei den Auswirkungen und geplante Aktionen für einen Beitrag zu den SDG für den chemischen Sektor gemäß der Roadmap (z. B. Sektor-Roadmap der WBCSD- https://www.wbcsd.org/Programs/People/Sustainable-Development-Goals/SDG-Sector-Roadmaps/Resources/SDG-Sector-Roadmaps-, Nachhaltigkeitscharta des Cefic https://chemistrycan.com/app/uploads/2017/10/Cefic-Sustainability-Charter-signed.pdf- und ACC-Grundsätze - https://www.americanchemistry.com/Sustainability/Principles.html).",null,null,"https://www.wbcsd.org/Programs/People/Sustainable-Development-Goals/SDG-Sector-Roadmaps/Resources/SDG-Sector-Roadmaps"]
[null,{"$f":"'Kapitel 6'!C52","v":"F6.7"},{"$f":"IF('Kapitel 6'!K53,1,IF('Kapitel 6'!K54,2,IF('Kapitel 6'!K55,3,IF('Kapitel 6'!K56,4,\"\"))))","v":1},"formula 4 choices",null,null,null,{"$f":"'Kapitel 6'!K19","v":false},null,null,null,null,null,null,null,null,null,null,null,null,null,null,null,null,null,null,null,null,null,null,{"$f":"'Kapitel 6'!B30","v":"Nachhaltiges Portfolio"},null,{"$f":"1/17*100","v":5.8823529411764701},null,null,null,{"$f":"C587","v":1},null,null,null,"F6.7",1,"ok",0,null,null,"F6.7",{"$f":"IF(I608,1,IF(I609,2,IF(I610,3,IF(I611,4,\"-\"))))","v":"-"},"-","-","-","-","-","-","-","-",null,{"$f":"BF589","v":"F6.2"},"F6.2FALSCH",false,"Integrieren Sie Nachhaltigkeit vollumfänglich in die Geschäftsstrategie Ihrer Organisation",null,null,"https://cefic.org/app/uploads/2019/01/Cefic-Sustainability-Charter-TeamingUp-For-A-SustainableEurope.pdf"]
[null,{"$f":"'Kapitel 6'!C58","v":"F6.8"},{"$f":"IF('Kapitel 6'!K59,1,IF('Kapitel 6'!K60,2,IF('Kapitel 6'!K61,3,IF('Kapitel 6'!K62,4,\"\"))))","v":1},"formula 4 choices",null,null,null,{"$f":"'Kapitel 6'!K20","v":false},null,null,null,null,null,null,null,null,null,null,null,null,null,null,null,null,null,null,null,null,null,null,null,{"$f":"B587","v":"F6.4"},null,100,null,null,null,null,null,null,"F6.8",1,"ok",0,null,null,"F6.8",{"$f":"IF(I612,1,IF(I613,2,IF(I614,3,IF(I615,4,\"-\"))))","v":"-"},"-","-","-","-","-","-","-","-",null,{"$f":"BF590","v":"F6.2"},"F6.2FALSCH",false,"Kein Bedarf für sofortige Strategieänderung, aber Verbesserungen sind immer im Auge zu behalten.",null,null,"https://www.americanchemistry.com/Sustainability/Principles.html"]
[null,{"$f":"'Kapitel 6'!C64","v":"F6.9"},{"$f":"IF('Kapitel 6'!K65,1,IF('Kapitel 6'!K66,2,IF('Kapitel 6'!K67,3,IF('Kapitel 6'!K68,4,\"\"))))","v":2},"formula 4 choices",null,null,{"$f":"B586","v":"F6.3"},{"$f":"'Kapitel 6'!K25","v":true},null,null,false,null,null,null,null,null,null,null,null,null,null,null,null,null,null,null,null,null,null,null,{"$f":"'Kapitel 6'!B38","v":"Ressourceneffizienz / Kreislaufwirtschaft"},null,{"$f":"5/17*100","v":29.411764705882355},null,null,null,{"$f":"(C588*AH593+C589*AH594+C590*AH595+C591*AH596+C592*AH597)/100","v":1.2},null,null,null,"F6.9",1,"ok",0,null,null,"F6.9",{"$f":"IF(I616,1,IF(I617,2,IF(I618,3,IF(I619,4,\"-\"))))","v":"-"},"-","-","-","-","-","-","-","-",null,{"$f":"G592","v":"F6.3"},"F6.3WAHR",true,"Engagieren Sie sich intern für Nachhaltigkeitsthemen auf einfache, direkte und präzise Weise.\nDurch klare und konsistente interne Kommunikation wird Nachhaltigkeit zu einem festen Bestandteil Ihrer Unternehmenskultur — einer Kultur, auf die Ihre Mitarbeiter stolz sein können und die ihre Zufriedenheit erhöht.\n\nBy communicating internally in a clear and consistent fashion, sustainability becomes an ingrained part of your organisation's culture — one that your employees can take pride in, increasing their satisfaction."]
[null,{"$f":"'Kapitel 6'!C72","v":"F6.10"},{"$f":"IF('Kapitel 6'!K73,1,IF('Kapitel 6'!K74,2,IF('Kapitel 6'!K75,3,IF('Kapitel 6'!K76,4,\"\"))))","v":1},"formula 4 choices",null,null,null,{"$f":"'Kapitel 6'!K26","v":false},null,null,false,null,null,null,null,null,null,null,null,null,null,null,null,null,null,null,null,null,null,null,null,{"$f":"B588","v":"F6.5"},null,20,null,null,null,null,null,null,"F6.10",1,"ok",0,null,null,"F6.10",{"$f":"IF(I620,1,IF(I621,2,IF(I622,3,IF(I623,4,\"-\"))))","v":"-"},"-","-","-","-","-","-","-","-",null,{"$f":"BF592","v":"F6.3"},"F6.3FALSCH",false,"Sprechen Sie extern ad hoc mit Kunden, Arbeitspartnern und der Gemeinschaft über Nachhaltigkeitsthemen.\nDurch die externe Kommunikation mit Geschäftspartnern, Lieferanten und Dienstleistern stellen Sie Erwartungen an die Art und Weise, wie Sie Ihr Geschäft betreiben. Dies kann die Praktiken dieser Geschäftspartner, Lieferanten und Dienstleister sowie auch die Praktiken einer größeren Gemeinschaft beeinflussen. Durch Kommunikation mit Kunden demonstrieren Sie, dass Sie das Engagement Ihrer Kunden für unsere Umwelt teilen."]
[null,{"$f":"'Kapitel 6'!C80","v":"F6.11"},{"$f":"IF('Kapitel 6'!K81,1,IF('Kapitel 6'!K82,2,IF('Kapitel 6'!K83,3,IF('Kapitel 6'!K84,4,\"\"))))","v":1},"formula 4 choices",null,null,null,{"$f":"'Kapitel 6'!K27","v":false},null,null,false,null,null,null,null,null,null,null,{"$f":"G588","v":"F6.2"},{"$f":"IF(I588=\"\",$H588,I588)","v":true},true,true,true,true,true,true,true,true,false,null,null,{"$f":"B589","v":"F6.6"},null,20,null,null,null,null,null,null,"F6.11",1,"ok",0,null,null,"F6.11",{"$f":"IF(I624,1,IF(I625,2,IF(I626,3,IF(I627,4,\"-\"))))","v":"-"},"-","-","-","-","-","-","-","-",null,{"$f":"BF593","v":"F6.3"},"F6.3FALSCH",false,"Beteiligen Sie sich sowohl intern als auch extern an Nachhaltigkeitsthemen. Veröffentlichen Sie jedes Jahr einen vollständigen Nachhaltigkeitsbericht zu allen wesentlichen Angelegenheiten unter Bezugnahme auf die Nachhaltigkeitsberichterstattung der Global Reporting Initiative (GRI) oder gleichwertige Richtlinien.\nDer Informationsaustausch zu Grundsätzen und der Leistung bei Umwelt-, sozialen und Governance-Themen wird Ihnen helfen, Vertrauen bei Ihren Kunden und Partnern aufzubauen, Risiken zu überwachen und zu mindern und Wege zur Erhöhung der Effizienz zu finden, was sich positiv auf Ihre finanziellen Ergebnisse auswirken wird."]
[null,{"$f":"'Kapitel 6'!C86","v":"F6.12"},{"$f":"IF('Kapitel 6'!K87,1,IF('Kapitel 6'!K88,2,IF('Kapitel 6'!K89,3,IF('Kapitel 6'!K90,4,\"\"))))","v":2},"formula 4 choices",null,null,null,{"$f":"'Kapitel 6'!K28","v":false},null,null,true,null,null,null,null,null,null,null,null,false,false,false,false,false,false,false,false,false,false,null,null,{"$f":"B590","v":"F6.7"},null,20,null,null,null,null,null,null,"F6.12",2,"ok",0,null,null,"F6.12",{"$f":"IF(I628,1,IF(I629,2,IF(I630,3,IF(I631,4,\"-\"))))","v":"-"},"-","-","-","-","-","-","-","-",null,{"$f":"BF594","v":"F6.3"},"F6.3FALSCH",false,"Kein Bedarf für sofortige Strategieänderung, aber Verbesserungen sind immer im Auge zu behalten."]
[null,{"$f":"'Kapitel 6'!C94","v":"F6.13"},{"$f":"IF('Kapitel 6'!K95,1,IF('Kapitel 6'!K96,2,IF('Kapitel 6'!K97,3,IF('Kapitel 6'!K98,4,\"\"))))","v":1},"formula 4 choices",null,null,{"$f":"B587","v":"F6.4"},{"$f":"'Kapitel 6'!K33","v":true},null,null,null,null,null,null,null,null,null,null,null,false,false,false,false,false,false,false,false,false,false,null,null,{"$f":"B591","v":"F6.8"},null,20,null,null,null,null,null,null,"F6.13",1,"ok",0,null,null,"F6.13",{"$f":"IF(I632,1,IF(I633,2,IF(I634,3,IF(I635,4,\"-\"))))","v":"-"},"-","-","-",4,"-","-","-","-",null,{"$f":"G596","v":"F6.4"},"F6.4WAHR",true,"Eine Anleitung, wie ein Prozess zur Gestaltung von Produkten mit verbesserten Nachhaltigkeitsergebnissen eingerichtet werden kann, ist unter https://www.wbcsd.org/contentwbc/download/5870/80216 zu finden"]
[null,{"$f":"'Kapitel 6'!C100","v":"F6.14"},{"$f":"IF('Kapitel 6'!K101,1,IF('Kapitel 6'!K102,2,IF('Kapitel 6'!K103,3,IF('Kapitel 6'!K104,4,\"\"))))","v":2},"formula 4 choices",null,null,null,{"$f":"'Kapitel 6'!K34","v":false},null,null,null,null,null,null,null,null,null,null,null,false,false,false,false,false,false,false,false,false,false,null,null,{"$f":"B592","v":"F6.9"},null,20,null,null,null,null,null,null,"F6.14",1,"ok",0,null,null,"F6.14",{"$f":"IF(I636,1,IF(I637,2,IF(I638,3,IF(I639,4,\"-\"))))","v":"-"},"-","-","-","-","-","-","-","-",null,{"$f":"BF596","v":"F6.4"},"F6.4FALSCH",false,"Eine Anleitung, wie ein Prozess zur Gestaltung von Produkten mit verbesserten Nachhaltigkeitsergebnissen eingerichtet werden kann, ist unter https://www.wbcsd.org/contentwbc/download/5870/80216 zu finden"]
[null,{"$f":"'Kapitel 6'!C106","v":"F6.15"},{"$f":"IF('Kapitel 6'!K107,1,IF('Kapitel 6'!K108,2,IF('Kapitel 6'!K109,3,IF('Kapitel 6'!K110,4,\"\"))))","v":1},"formula 4 choices",null,null,null,{"$f":"'Kapitel 6'!K35","v":false},null,null,null,null,null,null,null,null,null,null,null,null,null,null,null,null,null,null,null,null,null,null,{"$f":"'Kapitel 6'!B70","v":"Wasserverbrauch"},null,{"$f":"1/17*100","v":5.8823529411764701},null,null,null,{"$f":"C593","v":1},null,null,null,"F6.15",1,"ok",0,null,null,"F6.15",{"$f":"IF(I640,1,IF(I641,2,IF(I642,3,IF(I643,4,\"-\"))))","v":"-"},"-","-","-","-","-","-","-","-",null,{"$f":"BF597","v":"F6.4"},"F6.4FALSCH",false,"Eine Anleitung, wie ein Prozess zur Gestaltung von Produkten mit verbesserten Nachhaltigkeitsergebnissen eingerichtet werden kann, ist unter https://www.wbcsd.org/contentwbc/download/5870/80216 zu finden"]
[null,{"$f":"'Kapitel 6'!C112","v":"F6.16"},{"$f":"IF('Kapitel 6'!K113,1,IF('Kapitel 6'!K114,2,IF('Kapitel 6'!K115,3,IF('Kapitel 6'!K116,4,\"\"))))","v":2},"formula 4 choices",null,null,null,{"$f":"'Kapitel 6'!K36","v":false},null,null,null,null,null,null,null,null,null,null,null,null,null,null,null,null,null,null,null,null,null,null,null,{"$f":"B593","v":"F6.10"},null,100,null,null,null,null,null,null,"F6.16",1,"ok",0,null,null,"F6.16",{"$f":"IF(I644,1,IF(I645,2,IF(I646,3,IF(I647,4,\"-\"))))","v":"-"},3,3,3,"-",3,3,3,"-",null,{"$f":"BF598","v":"F6.4"},"F6.4FALSCH",false,"Eine Anleitung, wie ein Prozess zur Gestaltung von Produkten mit verbesserten Nachhaltigkeitsergebnissen eingerichtet werden kann, ist unter https://www.wbcsd.org/contentwbc/download/5870/80216 zu finden"]
[null,{"$f":"'Kapitel 6'!C120","v":"F6.17"},{"$f":"IF('Kapitel 6'!K121,1,IF('Kapitel 6'!K122,2,IF('Kapitel 6'!K123,3,IF('Kapitel 6'!K124,4,\"\"))))","v":1},"formula 4 choices",null,null,{"$f":"B588","v":"F6.5"},{"$f":"'Kapitel 6'!K41","v":true},null,null,true,null,null,null,null,null,null,null,null,null,null,null,null,null,null,null,null,null,null,null,{"$f":"'Kapitel 6'!B78","v":"Landnutzung und Biodiversität"},null,{"$f":"2/17*100","v":11.76470588235294},null,null,null,{"$f":"(C594*AH601+C595*AH602)/100","v":1.5},null,null,null,"F6.17",1,"ok",null,null,null,"F6.17",{"$f":"IF(I648,1,IF(I649,2,IF(I650,3,IF(I651,4,\"-\"))))","v":"-"},"-","-","-","-","-","-","-","-",null,{"$f":"G600","v":"F6.5"},"F6.5WAHR",true,"Einführung eines Systems zur Messung der Ressourceneffizienz in den Produktions-prozessen des Unternehmens.\nEinführung einer Einkaufspolitik, die eine Kreislaufwirtschaft begünstigt (z. B. Bevorzugung von Produkten mit Ökodesign, biobasierten oder sekundären Rohstoffen sowie Förderung der Wiederverwendung)."]
[null,null,null,null,null,null,null,{"$f":"'Kapitel 6'!K42","v":false},null,null,false,null,null,null,null,null,null,null,null,null,null,null,null,null,null,null,null,null,null,null,null,{"$f":"B594","v":"F6.11"},null,50,null,null,null,null,null,null,null,null,null,{"$f":"IF(SUM(AR584:AR599)>0,\"Schlüsselelemente von RC müssen noch umgesetzt werden; s. Tipps\",\"\")","v":""},null,null,null,null,null,null,null,null,null,null,null,null,null,{"$f":"BF600","v":"F6.5"},"F6.5FALSCH",false,"Richten Sie einen Prozess ein, um die Ressourceneffizienz in den Produktionsprozessen Ihrer Organisation zu verbessern.\nBevorzugen Sie im Rahmen dieses Prozesses umweltgerecht gestaltete Produkte, biobasierte Rohstoffe und Sekundärrohstoffe aus Recycling und Wiederverwendung durch die Umsetzung von Kriterien zu diesen Aspekten bei der Einkaufsauswahl als Alternative zu nicht erneuerbaren Rohstoffen.\nBeurteilen Sie die Wirksamkeit dieses Prozesses in regelmäßigen Abständen."]
[null,null,null,null,null,null,null,{"$f":"'Kapitel 6'!K43","v":false},null,null,false,null,null,null,null,null,null,null,{"$f":"G592","v":"F6.3"},{"$f":"IF(I592=\"\",$H592,I592)","v":true},true,false,true,true,true,true,true,true,false,null,null,{"$f":"B595","v":"F6.12"},null,50,null,null,null,null,null,null,null,null,null,null,null,null,null,null,null,null,null,null,null,null,null,null,null,{"$f":"BF601","v":"F6.5"},"F6.5FALSCH",false,"Bauen Sie Partnerschaften auf, um die Ressourceneffizienz im Produktionsdesign Ihrer Organisation zu verbessern und tauschen Sie beste Praktiken mit Geschäftspartnern aus.\nEngagieren Sie sich in einer industriellen Symbiose, einschließlich Mitgestaltung (Co-Kreation), wo eine intensive Zusammenarbeit mit externen Unternehmen die Lieferung passender Sekundärmaterialien für den Einsatz als Rohmaterialien garantiert."]
[null,null,null,null,null,null,null,{"$f":"'Kapitel 6'!K44","v":false},null,null,false,null,null,null,null,null,null,null,null,false,false,false,false,false,false,false,false,false,false,null,{"$f":"'Kapitel 6'!B92","v":"Klima und Energieverbrauch"},null,{"$f":"4/17*100","v":23.52941176470588},null,null,null,{"$f":"(C596*AH604+C597*AH605+C598*AH606+C599*AH607)/100","v":1.5},null,null,null,null,null,null,null,null,null,null,null,null,null,null,null,null,null,null,null,null,{"$f":"BF602","v":"F6.5"},"F6.5FALSCH",false,"Kein Bedarf für sofortige Strategieänderung, aber Verbesserungen sind immer im Auge zu behalten."]
[null,null,null,null,null,null,{"$f":"B589","v":"F6.6"},{"$f":"'Kapitel 6'!K47","v":true},null,null,false,null,null,null,null,null,null,null,null,false,false,false,false,false,false,false,false,false,false,null,null,{"$f":"B596","v":"F6.13"},null,25,null,null,null,null,null,null,null,null,null,null,null,null,null,null,null,null,null,null,null,null,null,null,null,{"$f":"G604","v":"F6.6"},"F6.6WAHR",true,"Untersuchen und identifizieren Sie die Recyclingfähigkeit und Haltbarkeit der Produkte und planen Sie Verbesserungen im Produktdesignprozess zu diesen Aspekten."]
[null,null,null,null,null,null,null,{"$f":"'Kapitel 6'!K48","v":false},null,null,false,null,null,null,null,null,null,null,null,false,false,true,false,false,false,false,false,false,false,null,null,{"$f":"B597","v":"F6.14"},null,25,null,null,null,null,null,null,null,null,null,null,null,null,null,null,null,null,null,null,null,null,null,null,null,{"$f":"BF604","v":"F6.6"},"F6.6FALSCH",false,"Überdenken und überprüfen Sie Produkte und Geschäftsprozesse unter Berücksichtigung der Recyclingfähigkeit und Haltbarkeit der Produkte der Organisation.\nGewährleisten Sie, dass die Produkte der Organisation für ein leichteres Recycling und eine Minimierung der anfallenden Abfallmenge ausgelegt sind."]
[null,null,null,null,null,null,null,{"$f":"'Kapitel 6'!K49","v":false},null,null,true,null,null,null,null,null,null,null,null,null,null,null,null,null,null,null,null,null,null,null,null,{"$f":"B598","v":"F6.15"},null,25,null,null,null,null,null,null,null,null,null,null,null,null,null,null,null,null,null,null,null,null,null,null,null,{"$f":"BF605","v":"F6.6"},"F6.6FALSCH",false,"Arbeiten Sie mit der Wertschöpfungskette zusammen, um zirkuläre Lösungen für die Produkte Ihrer Organisation zu verbessern.\nTauschen Sie beste Praktiken mit Geschäftspartnern aus"]
[null,null,null,null,null,null,null,{"$f":"'Kapitel 6'!K50","v":false},null,null,false,null,null,null,null,null,null,null,null,null,null,null,null,null,null,null,null,null,null,null,null,{"$f":"B599","v":"F6.16"},null,25,null,null,null,null,null,null,null,null,null,null,null,null,null,null,null,null,null,null,null,null,null,null,null,{"$f":"BF606","v":"F6.6"},"F6.6FALSCH",false,"Kein Bedarf für sofortige Strategieänderung, aber Verbesserungen sind immer im Auge zu behalten."]
[null,null,null,null,null,null,{"$f":"B590","v":"F6.7"},{"$f":"'Kapitel 6'!K53","v":true},null,null,null,null,null,null,null,null,null,null,null,null,null,null,null,null,null,null,null,null,null,null,{"$f":"'Kapitel 6'!B118","v":"Diversität"},null,{"$f":"1/17*100","v":5.8823529411764701},null,null,null,{"$f":"C600","v":1},null,null,null,null,null,null,null,null,null,null,null,null,null,null,null,null,null,null,null,null,{"$f":"G608","v":"F6.7"},"F6.7WAHR",true,"Berücksichtigen Sie bei der Bewertung von Innovationsprojekten die Kriterien zur Verbesserung der sozialen oder ökologischen Auswirkungen."]
[null,null,null,null,null,null,null,{"$f":"'Kapitel 6'!K54","v":false},null,null,null,null,null,null,null,null,null,null,null,null,null,null,null,null,null,null,null,null,null,null,null,{"$f":"B600","v":"F6.17"},null,100,null,null,null,null,null,null,null,null,null,null,null,null,null,null,null,null,null,null,null,null,null,null,null,{"$f":"BF608","v":"F6.7"},"F6.7FALSCH",false,"Fokussieren Sie die Innovationsprojekte Ihrer Organisation auf Nachhaltigkeitskriterien, bewerten Sie diese Projekte hauptsächlich nach diesen Kriterien und kombinieren Sie ökologische, wirtschaftliche und soziale Überlegungen."]
[null,null,null,null,null,null,null,{"$f":"'Kapitel 6'!K55","v":false},null,null,null,null,null,null,null,null,null,null,{"$f":"G596","v":"F6.4"},{"$f":"IF(I596=\"\",$H596,I596)","v":true},true,true,true,true,true,true,true,true,false,null,null,null,null,null,null,null,null,null,null,null,null,null,null,null,null,null,null,null,null,null,null,null,null,null,null,null,null,{"$f":"BF609","v":"F6.7"},"F6.7FALSCH",false,"Tauschen Sie beste Praktiken aus, um den Nutzen zu erhöhen."]
[null,null,null,null,null,null,null,{"$f":"'Kapitel 6'!K56","v":false},null,null,null,null,null,null,null,null,null,null,null,false,false,false,false,false,false,false,false,false,false,null,null,null,null,null,null,null,null,null,null,null,null,null,null,null,null,null,null,null,null,null,null,null,null,null,null,null,null,{"$f":"BF610","v":"F6.7"},"F6.7FALSCH",false,"Kein Bedarf für sofortige Strategieänderung, aber Verbesserungen sind immer im Auge zu behalten."]
[null,null,null,null,null,null,{"$f":"B591","v":"F6.8"},{"$f":"'Kapitel 6'!K59","v":true},null,null,null,null,null,null,null,null,null,null,null,false,false,false,false,false,false,false,false,false,false,null,null,null,null,null,null,null,null,null,null,null,null,null,null,null,null,null,null,null,null,null,null,null,null,null,null,null,null,{"$f":"G612","v":"F6.8"},"F6.8WAHR",true,"Verfolgen Sie die Ergebnisse der bestehenden Innovationspanels und Kooperationen."]
[null,null,null,null,null,null,null,{"$f":"'Kapitel 6'!K60","v":false},null,null,null,null,null,null,null,null,null,null,null,false,false,false,false,false,false,false,false,false,false,null,null,null,null,null,null,null,null,null,null,null,null,null,null,null,null,null,null,null,null,null,null,null,null,null,null,null,null,{"$f":"BF612","v":"F6.8"},"F6.8FALSCH",false,"Beteiligen Sie sich an kollaborativen Interaktionen zur Innovation mit industriellen oder akademischen Akteuren."]
[null,null,null,null,null,null,null,{"$f":"'Kapitel 6'!K61","v":false},null,null,null,null,null,null,null,null,null,null,null,null,null,null,null,null,null,null,null,null,null,null,null,null,null,null,null,null,null,null,null,null,null,null,null,null,null,null,null,null,null,null,null,null,null,null,null,null,null,{"$f":"BF613","v":"F6.8"},"F6.8FALSCH",false,"Rufen Sie Innovationsprogramme mit industriellen oder akademischen Akteuren ins Leben, bei denen Ihre Organisation die Mittel (Materialien, Budgets, Ressourcen usw.) teilt."]
[null,null,null,null,null,null,null,{"$f":"'Kapitel 6'!K62","v":false},null,null,null,null,null,null,null,null,null,null,null,null,null,null,null,null,null,null,null,null,null,null,null,null,null,null,null,null,null,null,null,null,null,null,null,null,null,null,null,null,null,null,null,null,null,null,null,null,null,{"$f":"BF614","v":"F6.8"},"F6.8FALSCH",false,"Kein Bedarf für sofortige Strategieänderung, aber Verbesserungen sind immer im Auge zu behalten."]
[null,null,null,null,null,null,{"$f":"B592","v":"F6.9"},{"$f":"'Kapitel 6'!K65","v":false},null,null,null,null,null,null,null,null,null,null,null,null,null,null,null,null,null,null,null,null,null,null,null,null,null,null,null,null,null,null,null,null,null,null,null,null,null,null,null,null,null,null,null,null,null,null,null,null,null,{"$f":"G616","v":"F6.9"},"F6.9FALSCH",{"$f":"H616","v":false},"Ermitteln Sie die Auswirkungen der Hersteller Ihrer Organisation und informieren Sie Ihre Kunden darüber."]
[null,null,null,null,null,null,null,{"$f":"'Kapitel 6'!K66","v":true},null,null,null,null,null,null,null,null,null,null,null,null,null,null,null,null,null,null,null,null,null,null,null,null,null,null,null,null,null,null,null,null,null,null,null,null,null,null,null,null,null,null,null,null,null,null,null,null,null,{"$f":"BF616","v":"F6.9"},"F6.9WAHR",true,"Arbeiten Sie mit Kollegen und Partnern der chemischen Industrie zusammen, um nachhaltige Verbrauchsmuster zu unterstützen."]
[null,null,null,null,null,null,null,{"$f":"'Kapitel 6'!K67","v":false},null,null,null,null,null,null,null,null,null,null,{"$f":"G600","v":"F6.5"},{"$f":"IF(I600=\"\",$H600,I600)","v":true},true,true,true,true,true,true,true,true,false,null,null,null,null,null,null,null,null,null,null,null,null,null,null,null,null,null,null,null,null,null,null,null,null,null,null,null,null,{"$f":"BF617","v":"F6.9"},"F6.9FALSCH",false,"Beziehen Sie die Stakeholder Ihrer Organisation ein, um einen nachhaltigeren Verbrauch zu fördern (Leitfäden, Weißbücher, Diskussionen usw.)."]
[null,null,null,null,null,null,null,{"$f":"'Kapitel 6'!K68","v":false},null,null,null,null,null,null,null,null,null,null,null,false,false,false,false,false,false,false,false,false,false,null,null,null,null,null,null,null,null,null,null,null,null,null,null,null,null,null,null,null,null,null,null,null,null,null,null,null,null,"F6.9","F6.9FALSCH",false,"Kein Bedarf für sofortige Strategieänderung, aber Verbesserungen sind immer im Auge zu behalten."]
[null,null,null,null,null,null,{"$f":"B593","v":"F6.10"},{"$f":"'Kapitel 6'!K73","v":true},null,null,null,null,null,null,null,null,null,null,null,false,false,false,false,false,false,false,false,false,false,null,null,null,null,null,null,null,null,null,null,null,null,null,null,null,null,null,null,null,null,null,null,null,null,null,null,null,null,{"$f":"G620","v":"F6.10"},"F6.10WAHR",true,"Bauen Sie ein Programm zur Reduzierung des Wasserverbrauchs auf und berichten Sie über die Ergebnisse dieses Plans und Aufzeichnungen Ihrer Organisation über den Wasserverbrauch.\nZu guten Ansätzen für den Umgang mit Wasser gehören u. a.: EWS-https://ews.info/ und CDP – Wasser- https://www.cdp.net/en/water",null,null,"at Q6.10 answer 1, 2 and 3"]
[null,null,null,null,null,null,null,{"$f":"'Kapitel 6'!K74","v":false},null,null,null,null,null,null,null,null,null,null,null,false,false,false,false,false,false,false,false,false,false,null,null,null,null,null,null,null,null,null,null,null,null,null,null,null,null,null,null,null,null,null,null,null,null,null,null,null,null,{"$f":"BF620","v":"F6.10"},"F6.10FALSCH",false,"Planen Sie spezifische Maßnahmen zur Reduzierung des Wasserverbrauchs Ihrer Organisation auf der Grundlage der mittels Überwachung identifizierten Schlüsselprobleme.\nZu guten Ansätzen für den Umgang mit Wasser gehören u. a.: EWS-https://ews.info/ und CDP – Wasser- https://www.cdp.net/en/water",null,null,"https://ews.info/"]
[null,null,null,null,null,null,null,{"$f":"'Kapitel 6'!K75","v":false},null,null,null,null,null,null,null,null,null,null,null,null,null,null,null,null,null,null,null,null,null,null,null,null,null,null,null,null,null,null,null,null,null,null,null,null,null,null,null,null,null,null,null,null,null,null,null,null,null,{"$f":"BF621","v":"F6.10"},"F6.10FALSCH",false,"Investieren Sie in stärker wassersparende Technologien und lassen Sie Regenwasser an den Standorten (Dächer, Straßen) im Boden versickern, um zur Grundwasserneubildung beizutragen.\nZu guten Ansätzen für den Umgang mit Wasser gehören u. a.: EWS- https://ews.info/ und CDP – Wasser- https://www.cdp.net/en/water",null,null,"https://www.cdp.net/en/water"]
[null,null,null,null,null,null,null,{"$f":"'Kapitel 6'!K76","v":false},null,null,null,null,null,null,null,null,null,null,null,null,null,null,null,null,null,null,null,null,null,null,null,null,null,null,null,null,null,null,null,null,null,null,null,null,null,null,null,null,null,null,null,null,null,null,null,null,null,{"$f":"BF622","v":"F6.10"},"F6.10FALSCH",false,"Kein Bedarf für sofortige Strategieänderung, aber Verbesserungen sind immer im Auge zu behalten."]
[null,null,null,null,null,null,{"$f":"B594","v":"F6.11"},{"$f":"'Kapitel 6'!K81","v":true},null,null,null,null,null,null,null,null,null,null,{"$f":"G604","v":"F6.6"},{"$f":"IF(I604=\"\",$H604,I604)","v":true},true,false,true,true,true,true,true,true,false,null,null,null,null,null,null,null,null,null,null,null,null,null,null,null,null,null,null,null,null,null,null,null,null,null,null,null,null,{"$f":"G624","v":"F6.11"},"F6.11WAHR",true,"Analysieren Sie die Auswirkungen der Produktion und der Produkte an dem bzw. den Standorten Ihrer Organisation auf die biologische Vielfalt und stellen Sie einen Aktionsplan auf, um diese Auswirkungen zu beschränken (einschließlich der Auswirkungen Ihrer Organisation auf die Zerstörung des Waldes, wie z. B. durch Reduzierung des Papierverbrauchs). Erstellen Sie eine ökologische Bestandsaufnahme der Standorte und Produkte Ihrer Organisation und ermitteln Sie die spezifischen Empfindlichkeiten der Umgebung. \nMögliche Maßnahmen: \n- Schaffen Sie neue Lebensräume und ökologische Kontinuität mit den umliegenden Flächen;\n- Installieren Sie ein grünes Dach und fördern Sie das ökologische Management von Flächen;\n- Ergreifen Sie Maßnahmen zur Förderung der biologischen Vielfalt (wie z. B. Niederwald, Insektenhaus usw.)\nWertvolle Hinweise sind u. a. unter  http://www.teebweb.org/areas-of-work/teeb-for-business/ zu finden"]
[null,null,null,null,null,null,null,{"$f":"'Kapitel 6'!K82","v":false},null,null,null,null,null,null,null,null,null,null,null,false,false,false,false,false,false,false,false,false,false,null,null,null,null,null,null,null,null,null,null,null,null,null,null,null,null,null,null,null,null,null,null,null,null,null,null,null,null,{"$f":"BF624","v":"F6.11"},"F6.11FALSCH",false,"Legen Sie (menschliche, finanzielle und organisatorische) Indikatoren zum Schutz der biologischen Vielfalt fest. Beispiel: Entwicklung von Verfahren zur Pflege von Grünflächen (Art der Unkrautbekämpfung, Häufigkeit des Mähens, Pflanzen mit geringerem Wasserbedarf ...), Vorrichtungen zum Schutz der Vogelwelt auf Bauwerken in Höhen usw.\nWertvolle Hinweise sind u. a. unter  http://www.teebweb.org/areas-of-work/teeb-for-business/ zu finden"]
[null,null,null,null,null,null,null,{"$f":"'Kapitel 6'!K83","v":false},null,null,null,null,null,null,null,null,null,null,null,false,false,true,false,false,false,false,false,false,false,null,null,null,null,null,null,null,null,null,null,null,null,null,null,null,null,null,null,null,null,null,null,null,null,null,null,null,null,{"$f":"BF625","v":"F6.11"},"F6.11FALSCH",false,"Tragen Sie proaktiv zur Erhaltung der natürlichen Umgebungen bei, auf die Sie direkten Einfluss haben, indem Sie mit Umweltschutzakteuren bei möglichen Aktionen der Organisation für die lokale biologische Vielfalt zusammenarbeiten.\nMobilisieren Sie Mitarbeiter für die Verpflichtungen der Organisation zur Erhaltung der Biodiversität.\nWertvolle Hinweise sind u. a. unter  http://www.teebweb.org/areas-of-work/teeb-for-business/ zu finden"]
[null,null,null,null,null,null,null,{"$f":"'Kapitel 6'!K84","v":false},null,null,null,null,null,null,null,null,null,null,null,false,false,false,false,false,false,false,false,false,false,null,null,null,null,null,null,null,null,null,null,null,null,null,null,null,null,null,null,null,null,null,null,null,null,null,null,null,null,{"$f":"BF626","v":"F6.11"},"F6.11FALSCH",false,"Kein Bedarf für sofortige Strategieänderung, aber Verbesserungen sind immer im Auge zu behalten."]
[null,null,null,null,null,null,{"$f":"B595","v":"F6.12"},{"$f":"'Kapitel 6'!K87","v":false},null,null,null,null,null,null,null,null,null,null,null,null,null,null,null,null,null,null,null,null,null,null,null,null,null,null,null,null,null,null,null,null,null,null,null,null,null,null,null,null,null,null,null,null,null,null,null,null,null,{"$f":"G628","v":"F6.12"},"F6.12FALSCH",false,"Identifizieren Sie spezifische Maßnahmen zur Sicherstellung der Ökodienstleistungen für Ihre Tätigkeit (z. B. Abhängigkeit von bestimmten Rohstoffen). \nWertvolle Hinweise sind u. a. unter  http://www.teebweb.org/areas-of-work/teeb-for-business/ zu finden"]
[null,null,null,null,null,null,null,{"$f":"'Kapitel 6'!K88","v":true},null,null,null,null,null,null,null,null,null,null,null,null,null,null,null,null,null,null,null,null,null,null,null,null,null,null,null,null,null,null,null,null,null,null,null,null,null,null,null,null,null,null,null,null,null,null,null,null,null,{"$f":"BF628","v":"F6.12"},"F6.12WAHR",true,"Implementieren Sie spezifische Maßnahmen zur Sicherstellung der Ökodienstleistungen für Ihre Tätigkeit (z. B. Abhängigkeit von bestimmten Rohstoffen).\nWertvolle Hinweise sind u. a. unter  http://www.teebweb.org/areas-of-work/teeb-for-business/ zu finden"]
[null,null,null,null,null,null,null,{"$f":"'Kapitel 6'!K89","v":false},null,null,null,null,null,null,null,null,null,null,{"$f":"G608","v":"F6.7"},{"$f":"IF(I608=\"\",$H608,I608)","v":true},true,true,true,true,true,true,true,true,false,null,null,null,null,null,null,null,null,null,null,null,null,null,null,null,null,null,null,null,null,null,null,null,null,null,null,null,null,{"$f":"BF629","v":"F6.12"},"F6.12FALSCH",false,"Führen Sie einen strukturierten Ansatz zur Sicherstellung von Dienstleistungen der umliegenden Flora und Fauna (z. B. Abhängigkeit von bestimmten Rohstoffen). Kommunizieren Sie extern über die Ergebnisse Ihrer Organisation und tauschen Sie beste Praktiken aus.\nWertvolle Hinweise sind u. a. unter  http://www.teebweb.org/areas-of-work/teeb-for-business/ zu finden"]
[null,null,null,null,null,null,null,{"$f":"'Kapitel 6'!K90","v":false},null,null,null,null,null,null,null,null,null,null,null,false,false,false,false,false,false,false,false,false,false,null,null,null,null,null,null,null,null,null,null,null,null,null,null,null,null,null,null,null,null,null,null,null,null,null,null,null,null,{"$f":"BF630","v":"F6.12"},"F6.12FALSCH",false,"Kein Bedarf für sofortige Strategieänderung, aber Verbesserungen sind immer im Auge zu behalten."]
[null,null,null,null,null,null,{"$f":"B596","v":"F6.13"},{"$f":"'Kapitel 6'!K95","v":true},null,null,null,null,false,null,null,null,null,null,null,false,false,false,false,false,false,false,false,false,false,null,null,null,null,null,null,null,null,null,null,null,null,null,null,null,null,null,null,null,null,null,null,null,null,null,null,null,null,{"$f":"G632","v":"F6.13"},"F6.13WAHR",true,"Definierung und Umsetzung eines Erfassungsplans für Energiedaten\n\nNennen Sie die Daten, die zur Überwachung der wichtigsten Merkmale erforderlich sind, und definieren Sie,  in welchen zeitlichen Abständen die Daten gesammelt und über welche Zeiträume sie aufbewahrt werden."]
[null,null,null,null,null,null,null,{"$f":"'Kapitel 6'!K96","v":false},null,null,null,null,false,null,null,null,null,null,null,false,false,false,false,false,false,false,false,false,false,null,null,null,null,null,null,null,null,null,null,null,null,null,null,null,null,null,null,null,null,null,null,null,null,null,null,null,null,{"$f":"BF632","v":"F6.13"},"F6.13FALSCH",false,"Legen Sie Energie-Leistungsindikatoren (EnPI) fest, die für die Messung und Überwachung der Energieleistung geeignet sind. Mit den EnPI sollte die Organisation in der Lage sein, Verbesserungen in der Energieleistung nachzuweisen. Deshalb ist bei der Festlegung von EnPI die Berücksichtigung von Variablen wichtig, die die Energieleistung in wesentlichem Maße beeinflussen (z. B. Produktionseinheiten). Vergleichen Sie EnPI mit ihrer jeweiligen energetischen Ausgangsbasis (EnB). Legen Sie auf der Grundlage dieser Daten Verbesserungs- und Energieziele fest. Investieren Sie in intelligente Technologien, um die Energieleistung zu verbessern."]
[null,null,null,null,null,null,null,{"$f":"'Kapitel 6'!K97","v":false},null,null,null,null,false,null,null,null,null,null,null,null,null,null,null,null,null,null,null,null,null,null,null,null,null,null,null,null,null,null,null,null,null,null,null,null,null,null,null,null,null,null,null,null,null,null,null,null,null,{"$f":"BF633","v":"F6.13"},"F6.13FALSCH",false,"Analysieren Sie die Entwicklung des Energieverbrauchs und der Energienutzung über die Energiebilanz. Identifizieren Sie Bereiche mit hohem Energiebedarf, ermitteln und priorisieren Sie Möglichkeiten zur Verbesserung der Energieleistung und schätzen Sie den zukünftigen Energiebedarf und -verbrauch. Bewerten und verbessern Sie die Wirksamkeit des Plans zur Senkung des Energiebedarfs in regelmäßigen Abständen.\nBewerten Sie die Wirksamkeit der durchgeführten Implementierungen."]
[null,null,null,null,null,null,null,{"$f":"'Kapitel 6'!K98","v":false},null,null,null,null,true,null,null,null,null,null,null,null,null,null,null,null,null,null,null,null,null,null,null,null,null,null,null,null,null,null,null,null,null,null,null,null,null,null,null,null,null,null,null,null,null,null,null,null,null,{"$f":"BF634","v":"F6.13"},"F6.13FALSCH",false,"Kein Bedarf für sofortige Strategieänderung, aber Verbesserungen sind immer im Auge zu behalten."]
[null,null,null,null,null,null,{"$f":"B597","v":"F6.14"},{"$f":"'Kapitel 6'!K101","v":false},null,null,null,null,null,null,null,null,null,null,{"$f":"G612","v":"F6.8"},{"$f":"IF(I612=\"\",$H612,I612)","v":true},true,true,true,true,true,true,true,true,false,null,null,null,null,null,null,null,null,null,null,null,null,null,null,null,null,null,null,null,null,null,null,null,null,null,null,null,null,{"$f":"G636","v":"F6.14"},"F6.14FALSCH",false,"Identifizieren Sie die potenziellen Quellen der Energierückgewinnung Ihrer Organisation und ihre Möglichkeiten, den Anteil der erneuerbaren Energien zu erhöhen.\nAnalysieren Sie die Subventionsmöglichkeiten bei einem Wechsel der gewählten Energieressourcen der Organisation. \nBeginnen Sie den Energiewechsel Ihrer Organisation durch konkrete Projekte.\nErsetzen Sie den Einsatz fossiler Brennstoffe nach und nach durch erneuerbare Ressourcen, wo immer dies möglich ist."]
[null,null,null,null,null,null,null,{"$f":"'Kapitel 6'!K102","v":true},null,null,null,null,null,null,null,null,null,null,null,false,false,false,false,false,false,false,false,false,false,null,null,null,null,null,null,null,null,null,null,null,null,null,null,null,null,null,null,null,null,null,null,null,null,null,null,null,null,{"$f":"BF636","v":"F6.14"},"F6.14WAHR",true,"Identifizieren Sie die potenziellen Quellen der Energiegewinnung Ihrer Organisation (z. B. Wärme (fatal heat), Biogasproduktion).\nSchließen Sie mit dem Stromlieferanten Ihrer Organisation Verträge über die Lieferung erneuerbarer Energie.\nSchöpfen Sie die erneuerbaren Energiequellen und die Flexibilität Ihrer Organisation in jeder Hinsicht aus."]
[null,null,null,null,null,null,null,{"$f":"'Kapitel 6'!K103","v":false},null,null,null,null,null,null,null,null,null,null,null,false,false,false,false,false,false,false,false,false,false,null,null,null,null,null,null,null,null,null,null,null,null,null,null,null,null,null,null,null,null,null,null,null,null,null,null,null,null,{"$f":"BF637","v":"F6.14"},"F6.14FALSCH",false,"Gründen Sie Partnerschaften mit geographisch verwandten Organisationen, um \"lokale Synergien\" zu entwickeln (Beispiel: Verkauf von Wärme (fatal heat) zwischen zwei Unternehmen).\nImplementieren Sie die identifizierten Kooperationen."]
[null,null,null,null,null,null,null,{"$f":"'Kapitel 6'!K104","v":false},null,null,null,null,null,null,null,null,null,null,null,false,false,false,false,false,false,false,false,false,false,null,null,null,null,null,null,null,null,null,null,null,null,null,null,null,null,null,null,null,null,null,null,null,null,null,null,null,null,{"$f":"BF638","v":"F6.14"},"F6.14FALSCH",false,"Kein Bedarf für sofortige Strategieänderung, aber Verbesserungen sind immer im Auge zu behalten."]
[null,null,null,null,null,null,{"$f":"B598","v":"F6.15"},{"$f":"'Kapitel 6'!K107","v":true},null,null,null,null,null,null,null,null,null,null,null,null,null,null,null,null,null,null,null,null,null,null,null,null,null,null,null,null,null,null,null,null,null,null,null,null,null,null,null,null,null,null,null,null,null,null,null,null,null,{"$f":"G640","v":"F6.15"},"F6.15WAHR",true,"Führen Sie eine Lückenanalyse durch, um das Potenzial zur Verringerung von Emissionen Scope 1 und 2 zu ermitteln."]
[null,null,null,null,null,null,null,{"$f":"'Kapitel 6'!K108","v":false},null,null,null,null,null,null,null,null,null,null,null,null,null,null,null,null,null,null,null,null,null,null,null,null,null,null,null,null,null,null,null,null,null,null,null,null,null,null,null,null,null,null,null,null,null,null,null,null,null,{"$f":"BF640","v":"F6.15"},"F6.15FALSCH",false,"Legen Sie klare Ziele zur Reduzierung von Treibhausgasen (z. B. Übergang zu erneuerbaren Energien) fest und überprüfen Sie regelmäßig die Fortschritte bei der Erreichung dieser Ziele. Ergreifen Sie Maßnahmen zur Verringerung der Emissionen Scope 1 und 2."]
[null,null,null,null,null,null,null,{"$f":"'Kapitel 6'!K109","v":false},null,null,null,null,null,null,null,null,null,null,{"$f":"G616","v":"F6.9"},{"$f":"IF(I616=\"\",$H616,I616)","v":false},false,false,false,false,false,false,false,false,false,null,null,null,null,null,null,null,null,null,null,null,null,null,null,null,null,null,null,null,null,null,null,null,null,null,null,null,null,{"$f":"BF641","v":"F6.15"},"F6.15FALSCH",false,"Kompensieren Sie den restlichen CO2-Fußabdruck Ihrer Organisation. Veröffentlichen Sie jedes Jahr die Ergebnisse Ihrer Organisation zur CO2-Bilanz \nScope 3."]
[null,null,null,null,null,null,null,{"$f":"'Kapitel 6'!K110","v":false},null,null,null,null,null,null,null,null,null,null,null,true,true,true,true,true,true,true,true,true,false,null,null,null,null,null,null,null,null,null,null,null,null,null,null,null,null,null,null,null,null,null,null,null,null,null,null,null,null,{"$f":"BF642","v":"F6.15"},"F6.15FALSCH",false,"Kein Bedarf für sofortige Strategieänderung, aber Verbesserungen sind immer im Auge zu behalten."]
[null,null,null,null,null,null,{"$f":"B599","v":"F6.16"},{"$f":"'Kapitel 6'!K113","v":false},null,false,false,false,null,false,false,false,null,null,null,false,false,false,false,false,false,false,false,false,false,null,null,null,null,null,null,null,null,null,null,null,null,null,null,null,null,null,null,null,null,null,null,null,null,null,null,null,null,{"$f":"G644","v":"F6.16"},"F6.16FALSCH",false,"Identifizieren Sie die mittel- und langfristigen potenziellen Auswirkungen des Klimawandels auf die Aktivitäten Ihrer Organisation."]
[null,null,null,null,null,null,null,{"$f":"'Kapitel 6'!K114","v":true},null,false,false,false,null,false,false,false,null,null,null,false,false,false,false,false,false,false,false,false,false,null,null,null,null,null,null,null,null,null,null,null,null,null,null,null,null,null,null,null,null,null,null,null,null,null,null,null,null,{"$f":"BF644","v":"F6.16"},"F6.16WAHR",true,"Identifizieren Sie die mit dem Klimawandel verbundenen Risiken für die Aktivitäten Ihrer Organisation und mögliche Maßnahmen zur Begrenzung dieser Risiken."]
[null,null,null,null,null,null,null,{"$f":"'Kapitel 6'!K115","v":false},null,true,true,true,null,true,true,true,null,null,null,null,null,null,null,null,null,null,null,null,null,null,null,null,null,null,null,null,null,null,null,null,null,null,null,null,null,null,null,null,null,null,null,null,null,null,null,null,null,{"$f":"BF645","v":"F6.16"},"F6.16FALSCH",false,"Investieren Sie in Maßnahmen zur Verbesserung der Widerstandsfähigkeit Ihrer Organisation gegenüber dem Klimawandel und bewerten Sie deren Wirksamkeit."]
[null,null,null,null,null,null,null,{"$f":"'Kapitel 6'!K116","v":false},null,false,false,false,null,false,false,false,null,null,null,null,null,null,null,null,null,null,null,null,null,null,null,null,null,null,null,null,null,null,null,null,null,null,null,null,null,null,null,null,null,null,null,null,null,null,null,null,null,{"$f":"BF646","v":"F6.16"},"F6.16FALSCH",false,"Kein Bedarf für sofortige Strategieänderung, aber Verbesserungen sind immer im Auge zu behalten."]
[null,null,null,null,null,null,{"$f":"B600","v":"F6.17"},{"$f":"'Kapitel 6'!K121","v":true},null,null,null,null,null,null,null,null,null,null,null,null,null,null,null,null,null,null,null,null,null,null,null,null,null,null,null,null,null,null,null,null,null,null,null,null,null,null,null,null,null,null,null,null,null,null,null,null,null,{"$f":"G648","v":"F6.17"},{"$f":"CONCATENATE(BF648,BH648)","v":"F6.17WAHR"},true,"Verpflichten Sie sich (z. B. durch Unterzeichnung einer Charta der guten Praxis) zur Gleichstellung und richten Sie spezielle Prozesse zur Gewährleistung der Gleichstellung ein."]
[null,null,null,null,null,null,null,{"$f":"'Kapitel 6'!K122","v":false},null,null,null,null,null,null,null,null,null,null,null,null,null,null,null,null,null,null,null,null,null,null,null,null,null,null,null,null,null,null,null,null,null,null,null,null,null,null,null,null,null,null,null,null,null,null,null,null,null,{"$f":"BF648","v":"F6.17"},"F6.17FALSCH",false,"Stellen Sie einen klaren Aktionsplan mit quantifizierten Zielen auf, um Gleichstellung zu gewährleisten und Diversitätsaspekte in alle Personalprozesse Ihrer Organisation zu integrieren."]
[null,null,null,null,null,null,null,{"$f":"'Kapitel 6'!K123","v":false},null,null,null,null,null,null,null,null,null,null,{"$f":"G620","v":"F6.10"},{"$f":"IF(I620=\"\",$H620,I620)","v":true},true,true,true,true,true,true,true,true,false,null,null,null,null,null,null,null,null,null,null,null,null,null,null,null,null,null,null,null,null,null,null,null,null,null,null,null,null,{"$f":"BF649","v":"F6.17"},"F6.17FALSCH",false,"Werten Sie die Ergebnisse regelmäßig aus und kommunizieren Sie sie intern und extern."]
[null,null,null,null,null,null,null,{"$f":"'Kapitel 6'!K124","v":false},null,null,null,null,null,null,null,null,null,null,null,false,false,false,false,false,false,false,false,false,false,null,null,null,null,null,null,null,null,null,null,null,null,null,null,null,null,null,null,null,null,null,null,null,null,null,null,null,null,"F6.17","F6.17FALSCH",false,"Kein Bedarf für sofortige Strategieänderung, aber Verbesserungen sind immer im Auge zu behalten."]
[null,null,null,null,null,null,null,null,null,null,null,null,null,null,null,null,null,null,null,false,false,false,false,false,false,false,false,false,false]
[null,null,null,null,null,null,null,null,null,null,null,null,null,null,null,null,null,null,null,false,false,false,false,false,false,false,false,false,false]
[]
[]
[]
[]
[null,null,null,null,null,null,null,null,null,null,null,null,null,null,null,null,null,null,{"$f":"G624","v":"F6.11"},{"$f":"IF(I624=\"\",$H624,I624)","v":true},{"$f":"IF(J624=\"\",$H624,J624)","v":true},{"$f":"IF(K624=\"\",$H624,K624)","v":true},{"$f":"IF(L624=\"\",$H624,L624)","v":true},{"$f":"IF(M624=\"\",$H624,M624)","v":true},{"$f":"IF(N624=\"\",$H624,N624)","v":true},true,true,true,false]
[null,null,null,null,null,null,null,null,null,null,null,null,null,null,null,null,null,null,null,{"$f":"IF(I625=\"\",$H625,I625)","v":false},{"$f":"IF(J625=\"\",$H625,J625)","v":false},{"$f":"IF(K625=\"\",$H625,K625)","v":false},{"$f":"IF(L625=\"\",$H625,L625)","v":false},{"$f":"IF(M625=\"\",$H625,M625)","v":false},{"$f":"IF(N625=\"\",$H625,N625)","v":false},{"$f":"IF(O625=\"\",$H625,O625)","v":false},{"$f":"IF(P625=\"\",$H625,P625)","v":false},false,false]
[null,null,null,null,null,null,null,null,null,null,null,null,null,null,null,null,null,null,null,{"$f":"IF(I626=\"\",$H626,I626)","v":false},false,false,false,false,false,false,false,false,false]
[null,null,null,null,null,null,null,null,null,null,null,null,null,null,null,null,null,null,null,false,false,false,false,false,false,false,false,false,false]
[]
[]
[null,null,null,null,null,null,null,null,null,null,null,null,null,null,null,null,null,null,{"$f":"G628","v":"F6.12"},{"$f":"IF(I628=\"\",$H628,I628)","v":false},{"$f":"IF(J628=\"\",$H628,J628)","v":false},{"$f":"IF(K628=\"\",$H628,K628)","v":false},{"$f":"IF(L628=\"\",$H628,L628)","v":false},{"$f":"IF(M628=\"\",$H628,M628)","v":false},{"$f":"IF(N628=\"\",$H628,N628)","v":false},false,false,false,false]
[null,null,null,null,null,null,null,null,null,null,null,null,null,null,null,null,null,null,null,{"$f":"IF(I629=\"\",$H629,I629)","v":true},{"$f":"IF(J629=\"\",$H629,J629)","v":true},{"$f":"IF(K629=\"\",$H629,K629)","v":true},{"$f":"IF(L629=\"\",$H629,L629)","v":true},{"$f":"IF(M629=\"\",$H629,M629)","v":true},{"$f":"IF(N629=\"\",$H629,N629)","v":true},{"$f":"IF(O629=\"\",$H629,O629)","v":true},{"$f":"IF(P629=\"\",$H629,P629)","v":true},true,false]
[null,null,null,null,null,null,null,null,null,null,null,null,null,null,null,null,null,null,null,false,false,false,false,false,false,false,false,false,false]
[null,null,null,null,null,null,null,null,null,null,null,null,null,null,null,null,null,null,null,false,false,false,false,false,false,false,false,false,false]
[]
[]
[]
[]
[null,null,null,null,null,null,null,null,null,null,null,null,null,null,null,null,null,null,{"$f":"G632","v":"F6.13"},{"$f":"IF(I632=\"\",$H632,I632)","v":true},{"$f":"IF(J632=\"\",$H632,J632)","v":true},{"$f":"IF(K632=\"\",$H632,K632)","v":true},{"$f":"IF(L632=\"\",$H632,L632)","v":true},{"$f":"IF(M632=\"\",$H632,M632)","v":false},{"$f":"IF(N632=\"\",$H632,N632)","v":true},true,true,true,false]
[null,null,null,null,null,null,null,null,null,null,null,null,null,null,null,null,null,null,null,{"$f":"IF(I633=\"\",$H633,I633)","v":false},{"$f":"IF(J633=\"\",$H633,J633)","v":false},{"$f":"IF(K633=\"\",$H633,K633)","v":false},{"$f":"IF(L633=\"\",$H633,L633)","v":false},{"$f":"IF(M633=\"\",$H633,M633)","v":false},{"$f":"IF(N633=\"\",$H633,N633)","v":false},{"$f":"IF(O633=\"\",$H633,O633)","v":false},{"$f":"IF(P633=\"\",$H633,P633)","v":false},false,false]
[null,null,null,null,null,null,null,null,null,null,null,null,null,null,null,null,null,null,null,false,false,false,false,false,false,false,false,false,false]
[null,null,null,null,null,null,null,null,null,null,null,null,null,null,null,null,null,null,null,false,false,false,false,true,false,false,false,false,false]
[]
[]
[null,null,null,null,null,null,null,null,null,null,null,null,null,null,null,null,null,null,{"$f":"G636","v":"F6.14"},{"$f":"IF(I636=\"\",$H636,I636)","v":false},{"$f":"IF(J636=\"\",$H636,J636)","v":false},{"$f":"IF(K636=\"\",$H636,K636)","v":false},{"$f":"IF(L636=\"\",$H636,L636)","v":false},{"$f":"IF(M636=\"\",$H636,M636)","v":false},{"$f":"IF(N636=\"\",$H636,N636)","v":false},false,false,false,false]
[null,null,null,null,null,null,null,null,null,null,null,null,null,null,null,null,null,null,null,{"$f":"IF(I637=\"\",$H637,I637)","v":true},{"$f":"IF(J637=\"\",$H637,J637)","v":true},{"$f":"IF(K637=\"\",$H637,K637)","v":true},{"$f":"IF(L637=\"\",$H637,L637)","v":true},{"$f":"IF(M637=\"\",$H637,M637)","v":true},{"$f":"IF(N637=\"\",$H637,N637)","v":true},{"$f":"IF(O637=\"\",$H637,O637)","v":true},{"$f":"IF(P637=\"\",$H637,P637)","v":true},true,false]
[null,null,null,null,null,null,null,null,null,null,null,null,null,null,null,null,null,null,null,false,false,false,false,false,false,false,false,false,false]
[null,null,null,null,null,null,null,null,null,null,null,null,null,null,null,null,null,null,null,false,false,false,false,false,false,false,false,false,false]
[]
[]
[null,null,null,null,null,null,null,null,null,null,null,null,null,null,null,null,null,null,{"$f":"G640","v":"F6.15"},{"$f":"IF(I640=\"\",$H640,I640)","v":true},{"$f":"IF(J640=\"\",$H640,J640)","v":true},{"$f":"IF(K640=\"\",$H640,K640)","v":true},{"$f":"IF(L640=\"\",$H640,L640)","v":true},{"$f":"IF(M640=\"\",$H640,M640)","v":true},{"$f":"IF(N640=\"\",$H640,N640)","v":true},true,true,true,false]
[null,null,null,null,null,null,null,null,null,null,null,null,null,null,null,null,null,null,null,{"$f":"IF(I641=\"\",$H641,I641)","v":false},{"$f":"IF(J641=\"\",$H641,J641)","v":false},{"$f":"IF(K641=\"\",$H641,K641)","v":false},{"$f":"IF(L641=\"\",$H641,L641)","v":false},{"$f":"IF(M641=\"\",$H641,M641)","v":false},{"$f":"IF(N641=\"\",$H641,N641)","v":false},{"$f":"IF(O641=\"\",$H641,O641)","v":false},{"$f":"IF(P641=\"\",$H641,P641)","v":false},false,false]
[null,null,null,null,null,null,null,null,null,null,null,null,null,null,null,null,null,null,null,false,false,false,false,false,false,false,false,false,false]
[null,null,null,null,null,null,null,null,null,null,null,null,null,null,null,null,null,null,null,false,false,false,false,false,false,false,false,false,false]
[]
[]
[null,null,null,null,null,null,null,null,null,null,null,null,null,null,null,null,null,null,{"$f":"G644","v":"F6.16"},{"$f":"IF(I644=\"\",$H644,I644)","v":false},{"$f":"IF(J644=\"\",$H644,J644)","v":false},{"$f":"IF(K644=\"\",$H644,K644)","v":false},{"$f":"IF(L644=\"\",$H644,L644)","v":false},{"$f":"IF(M644=\"\",$H644,M644)","v":false},{"$f":"IF(N644=\"\",$H644,N644)","v":false},false,false,false,false]
[null,null,null,null,null,null,null,null,null,null,null,null,null,null,null,null,null,null,null,{"$f":"IF(I645=\"\",$H645,I645)","v":true},{"$f":"IF(J645=\"\",$H645,J645)","v":false},{"$f":"IF(K645=\"\",$H645,K645)","v":false},{"$f":"IF(L645=\"\",$H645,L645)","v":false},{"$f":"IF(M645=\"\",$H645,M645)","v":true},{"$f":"IF(N645=\"\",$H645,N645)","v":false},{"$f":"IF(O645=\"\",$H645,O645)","v":false},{"$f":"IF(P645=\"\",$H645,P645)","v":false},true,false]
[null,null,null,null,null,null,null,null,null,null,null,null,null,null,null,null,null,null,null,false,true,true,true,false,true,true,true,false,false]
[null,null,null,null,null,null,null,null,null,null,null,null,null,null,null,null,null,null,null,false,false,false,false,false,false,false,false,false,false]
[]
[]
[]
[null,null,null,null,null,null,null,null,null,null,null,null,null,null,null,null,null,null,{"$f":"G648","v":"F6.17"},{"$f":"IF(I648=\"\",$H648,I648)","v":true},{"$f":"IF(J648=\"\",$H648,J648)","v":true},{"$f":"IF(K648=\"\",$H648,K648)","v":true},{"$f":"IF(L648=\"\",$H648,L648)","v":true},{"$f":"IF(M648=\"\",$H648,M648)","v":true},{"$f":"IF(N648=\"\",$H648,N648)","v":true},true,true,true,false]
[null,null,null,null,null,null,null,null,null,null,null,null,null,null,null,null,null,null,null,{"$f":"IF(I649=\"\",$H649,I649)","v":false},{"$f":"IF(J649=\"\",$H649,J649)","v":false},{"$f":"IF(K649=\"\",$H649,K649)","v":false},{"$f":"IF(L649=\"\",$H649,L649)","v":false},{"$f":"IF(M649=\"\",$H649,M649)","v":false},{"$f":"IF(N649=\"\",$H649,N649)","v":false},{"$f":"IF(O649=\"\",$H649,O649)","v":false},{"$f":"IF(P649=\"\",$H649,P649)","v":false},false,false]
[null,null,null,null,null,null,null,null,null,null,null,null,null,null,null,null,null,null,null,false,false,false,false,false,false,false,false,false,false]
[null,null,null,null,null,null,null,null,null,null,null,null,null,null,null,null,null,null,null,false,false,false,false,false,false,false,false,{"$f":"IF(Q651=\"\",$H651,Q651)","v":false},false]
["general"]
[]
[null,"weights of the chapters",null,null,null,null,{"$f":"IF(SUM(G705:G710)=100,\"ok\",\"error\")","v":"ok"}]
[]
[null,"A Corporate Leadership Culture",null,null,null,null,{"$f":"'Start & voreingestellte Fragen'!J22","v":18.7}]
[null,"Safeguarding People and the Environment",null,null,null,null,{"$f":"'Start & voreingestellte Fragen'!J23","v":23.2}]
[null,"Strengthening Chemicals Management Systems",null,null,null,null,{"$f":"'Start & voreingestellte Fragen'!J24","v":16.100000000000001}]
[null,"Influencing Business Partners",null,null,null,null,{"$f":"'Start & voreingestellte Fragen'!J25","v":12.3}]
[null,"Engaging Stakeholders",null,null,null,null,{"$f":"'Start & voreingestellte Fragen'!J26","v":12.3}]
[null,"Contributing to Sustainability",null,null,null,null,{"$f":"'Start & voreingestellte Fragen'!J27","v":17.399999999999999}]
[]
[null,"answers to be completed"]
[null,{"$f":"COUNTBLANK('Technische Seite'!$C$10:$C$25)+COUNTBLANK('Technische Seite'!$C$124:$C$168)+COUNTBLANK('Technische Seite'!$C$406:$C$415)+COUNTBLANK('Technische Seite'!$C$482:$C$489)+COUNTBLANK('Technische Seite'!$C$544:$C$548)+COUNTBLANK('Technische Seite'!$C$584:$C$600)","v":0}]

{"sheet":"Technische SDG","index":16,"n_rows":108,"n_cols":20,"rows_kept":108,"cut":false,"hidden":false,"merged":[]}
[null,null,null,"minimum score"]
[null,null,"score","SDG1","SDG2","SDG3","SDG4","SDG5","SDG6","SDG7","SDG8","SDG9","SDG10","SDG11","SDG12","SDG13","SDG14","SDG15","SDG16","SDG17"]
[null,{"$f":"'Technische Seite'!B10","v":"F1.1"},{"$f":"'Technische Seite'!C10","v":1}]
[null,{"$f":"'Technische Seite'!B11","v":"F1.2"},{"$f":"'Technische Seite'!C11","v":1}]
[null,{"$f":"'Technische Seite'!B12","v":"F1.3"},{"$f":"'Technische Seite'!C12","v":2}]
[null,{"$f":"'Technische Seite'!B13","v":"F1.4"},{"$f":"'Technische Seite'!C13","v":2}]
[null,{"$f":"'Technische Seite'!B14","v":"F1.5"},{"$f":"'Technische Seite'!C14","v":3}]
[null,{"$f":"'Technische Seite'!B15","v":"F1.6"},{"$f":"'Technische Seite'!C15","v":4}]
[null,{"$f":"'Technische Seite'!B16","v":"F1.7"},{"$f":"'Technische Seite'!C16","v":1}]
[null,{"$f":"'Technische Seite'!B17","v":"F1.8"},{"$f":"'Technische Seite'!C17","v":2}]
[null,{"$f":"'Technische Seite'!B18","v":"F1.9"},{"$f":"'Technische Seite'!C18","v":1}]
[null,{"$f":"'Technische Seite'!B19","v":"F1.10"},{"$f":"'Technische Seite'!C19","v":3}]
[null,{"$f":"'Technische Seite'!B20","v":"F1.11"},{"$f":"'Technische Seite'!C20","v":3}]
[null,{"$f":"'Technische Seite'!B21","v":"F1.12"},{"$f":"'Technische Seite'!C21","v":2}]
[null,{"$f":"'Technische Seite'!B22","v":"F1.13"},{"$f":"'Technische Seite'!C22","v":1}]
[null,{"$f":"'Technische Seite'!B23","v":"F1.14"},{"$f":"'Technische Seite'!C23","v":4}]
[null,{"$f":"'Technische Seite'!B24","v":"F1.15"},{"$f":"'Technische Seite'!C24","v":2}]
[null,{"$f":"'Technische Seite'!B25","v":"F1.16"},{"$f":"'Technische Seite'!C25","v":2}]
[]
[null,{"$f":"'Technische Seite'!B124","v":"F2.1"},{"$f":"'Technische Seite'!C124","v":1},null,null,null,null,null,null,null,3]
[null,{"$f":"'Technische Seite'!B125","v":"F2.2"},{"$f":"'Technische Seite'!C125","v":1},null,null,null,null,null,null,null,3]
[null,{"$f":"'Technische Seite'!B126","v":"F2.3"},{"$f":"'Technische Seite'!C126","v":4},null,null,null,null,null,null,null,3]
[null,{"$f":"'Technische Seite'!B127","v":"F2.4"},{"$f":"'Technische Seite'!C127","v":1}]
[null,{"$f":"'Technische Seite'!B128","v":"F2.5"},{"$f":"'Technische Seite'!C128","v":2}]
[null,{"$f":"'Technische Seite'!B129","v":"F2.6"},{"$f":"'Technische Seite'!C129","v":3}]
[null,{"$f":"'Technische Seite'!B130","v":"F2.7"},{"$f":"'Technische Seite'!C130","v":1},null,null,null,null,null,null,null,3]
[null,{"$f":"'Technische Seite'!B131","v":"F2.8"},{"$f":"'Technische Seite'!C131","v":1},null,null,null,null,null,null,null,3]
[null,{"$f":"'Technische Seite'!B132","v":"F2.9"},{"$f":"'Technische Seite'!C132","v":4}]
[null,{"$f":"'Technische Seite'!B133","v":"F2.10"},{"$f":"'Technische Seite'!C133","v":1},null,null,null,null,null,null,null,3]
[null,{"$f":"'Technische Seite'!B134","v":"F2.11"},{"$f":"'Technische Seite'!C134","v":2}]
[null,{"$f":"'Technische Seite'!B135","v":"F2.12"},{"$f":"'Technische Seite'!C135","v":1}]
[null,{"$f":"'Technische Seite'!B136","v":"F2.13"},{"$f":"'Technische Seite'!C136","v":2}]
[null,{"$f":"'Technische Seite'!B137","v":"F2.14"},{"$f":"'Technische Seite'!C137","v":3}]
[null,{"$f":"'Technische Seite'!B138","v":"F2.15"},{"$f":"'Technische Seite'!C138","v":1}]
[null,{"$f":"'Technische Seite'!B139","v":"F2.16"},{"$f":"'Technische Seite'!C139","v":1}]
[null,{"$f":"'Technische Seite'!B140","v":"F2.17"},{"$f":"'Technische Seite'!C140","v":4}]
[null,{"$f":"'Technische Seite'!B141","v":"F2.18"},{"$f":"'Technische Seite'!C141","v":2}]
[null,{"$f":"'Technische Seite'!B142","v":"F2.19"},{"$f":"'Technische Seite'!C142","v":2}]
[null,{"$f":"'Technische Seite'!B143","v":"F2.20"},{"$f":"'Technische Seite'!C143","v":1}]
[null,{"$f":"'Technische Seite'!B144","v":"F2.21"},{"$f":"'Technische Seite'!C144","v":3}]
[null,{"$f":"'Technische Seite'!B145","v":"F2.22"},{"$f":"'Technische Seite'!C145","v":1}]
[null,{"$f":"'Technische Seite'!B146","v":"F2.23"},{"$f":"'Technische Seite'!C146","v":2}]
[null,{"$f":"'Technische Seite'!B147","v":"F2.24"},{"$f":"'Technische Seite'!C147","v":3}]
[null,{"$f":"'Technische Seite'!B148","v":"F2.25"},{"$f":"'Technische Seite'!C148","v":2}]
[null,{"$f":"'Technische Seite'!B149","v":"F2.26"},{"$f":"'Technische Seite'!C149","v":1}]
[null,{"$f":"'Technische Seite'!B150","v":"F2.27"},{"$f":"'Technische Seite'!C150","v":1}]
[null,{"$f":"'Technische Seite'!B151","v":"F2.28"},{"$f":"'Technische Seite'!C151","v":2}]
[null,{"$f":"'Technische Seite'!B152","v":"F2.29"},{"$f":"'Technische Seite'!C152","v":1}]
[null,{"$f":"'Technische Seite'!B153","v":"F2.30"},{"$f":"'Technische Seite'!C153","v":1}]
[null,{"$f":"'Technische Seite'!B154","v":"F2.31"},{"$f":"'Technische Seite'!C154","v":3}]
[null,{"$f":"'Technische Seite'!B155","v":"F2.32"},{"$f":"'Technische Seite'!C155","v":1}]
[null,{"$f":"'Technische Seite'!B156","v":"F2.33"},{"$f":"'Technische Seite'!C156","v":2},null,null,null,null,null,null,null,null,3,null,null,3]
[null,{"$f":"'Technische Seite'!B157","v":"F2.34"},{"$f":"'Technische Seite'!C157","v":1},null,null,null,null,null,null,null,null,3,null,null,3]
[null,{"$f":"'Technische Seite'!B158","v":"F2.35"},{"$f":"'Technische Seite'!C158","v":2},null,null,null,null,null,null,null,null,3,null,null,3]
[null,{"$f":"'Technische Seite'!B159","v":"F2.36"},{"$f":"'Technische Seite'!C159","v":1},null,null,null,null,null,null,null,null,3,null,null,3]
[null,{"$f":"'Technische Seite'!B160","v":"F2.37"},{"$f":"'Technische Seite'!C160","v":3},null,null,null,null,null,null,null,null,3,null,null,3]
[null,{"$f":"'Technische Seite'!B161","v":"F2.38"},{"$f":"'Technische Seite'!C161","v":1},null,null,null,null,null,null,null,null,3,null,null,3]
[null,{"$f":"'Technische Seite'!B162","v":"F2.39"},{"$f":"'Technische Seite'!C162","v":3},null,null,null,null,null,null,null,null,3,null,null,3]
[null,{"$f":"'Technische Seite'!B163","v":"F2.40"},{"$f":"'Technische Seite'!C163","v":1},null,null,null,null,null,null,null,null,3,null,null,3]
[null,{"$f":"'Technische Seite'!B164","v":"F2.41"},{"$f":"'Technische Seite'!C164","v":3}]
[null,{"$f":"'Technische Seite'!B165","v":"F2.42"},{"$f":"'Technische Seite'!C165","v":3}]
[null,{"$f":"'Technische Seite'!B166","v":"F2.43"},{"$f":"'Technische Seite'!C166","v":2}]
[null,{"$f":"'Technische Seite'!B167","v":"F2.44"},{"$f":"'Technische Seite'!C167","v":3}]
[null,{"$f":"'Technische Seite'!B168","v":"F2.45"},{"$f":"'Technische Seite'!C168","v":3}]
[]
[null,{"$f":"'Technische Seite'!B406","v":"F3.1"},{"$f":"'Technische Seite'!C406","v":1},null,null,null,null,null,null,null,null,3,null,null,3]
[null,{"$f":"'Technische Seite'!B407","v":"F3.2"},{"$f":"'Technische Seite'!C407","v":2},null,null,null,null,null,null,null,null,3,null,null,3]
[null,{"$f":"'Technische Seite'!B408","v":"F3.3"},{"$f":"'Technische Seite'!C408","v":1}]
[null,{"$f":"'Technische Seite'!B409","v":"F3.4"},{"$f":"'Technische Seite'!C409","v":1},null,null,3,null,null,null,null,null,null,null,null,3,null,null,null,null,3]
[null,{"$f":"'Technische Seite'!B410","v":"F3.5"},{"$f":"'Technische Seite'!C410","v":1},null,null,3]
[null,{"$f":"'Technische Seite'!B411","v":"F3.6"},{"$f":"'Technische Seite'!C411","v":1},null,null,3]
[null,{"$f":"'Technische Seite'!B412","v":"Q3.7"},{"$f":"'Technische Seite'!C412","v":1},null,null,3,null,null,null,null,null,null,null,null,null,null,null,null,null,3]
[null,{"$f":"'Technische Seite'!B413","v":"F3.8"},{"$f":"'Technische Seite'!C413","v":1},null,null,null,null,null,null,null,null,null,null,null,null,null,null,null,null,3]
[null,{"$f":"'Technische Seite'!B414","v":"F3.9"},{"$f":"'Technische Seite'!C414","v":2},null,null,3]
[null,{"$f":"'Technische Seite'!B415","v":"F3.10"},{"$f":"'Technische Seite'!C415","v":2},null,null,3,null,null,null,null,null,null,null,null,null,null,null,null,null,3]
[]
[null,{"$f":"'Technische Seite'!B482","v":"F4.1"},{"$f":"'Technische Seite'!C482","v":1},null,null,null,null,null,null,null,3]
[null,{"$f":"'Technische Seite'!B483","v":"F4.2"},{"$f":"'Technische Seite'!C483","v":2}]
[null,{"$f":"'Technische Seite'!B484","v":"F4.3"},{"$f":"'Technische Seite'!C484","v":2}]
[null,{"$f":"'Technische Seite'!B485","v":"F4.4"},{"$f":"'Technische Seite'!C485","v":2},null,null,null,null,null,null,null,3]
[null,{"$f":"'Technische Seite'!B486","v":"F4.5"},{"$f":"'Technische Seite'!C486","v":2},null,null,null,null,null,null,null,3]
[null,{"$f":"'Technische Seite'!B487","v":"F4.6"},{"$f":"'Technische Seite'!C487","v":2}]
[null,{"$f":"'Technische Seite'!B488","v":"F4.7"},{"$f":"'Technische Seite'!C488","v":1}]
[null,{"$f":"'Technische Seite'!B489","v":"F4.8"},{"$f":"'Technische Seite'!C489","v":2}]
[]
[null,{"$f":"'Technische Seite'!B544","v":"F5.1"},{"$f":"'Technische Seite'!C544","v":2}]
[null,{"$f":"'Technische Seite'!B545","v":"F5.2"},{"$f":"'Technische Seite'!C545","v":1}]
[null,{"$f":"'Technische Seite'!B546","v":"F5.3"},{"$f":"'Technische Seite'!C546","v":2},null,null,null,null,null,null,null,null,null,null,null,3]
[null,{"$f":"'Technische Seite'!B547","v":"F5.4"},{"$f":"'Technische Seite'!C547","v":1},null,null,null,null,null,null,null,null,null,null,3]
[null,{"$f":"'Technische Seite'!B548","v":"F5.5"},{"$f":"'Technische Seite'!C548","v":2},null,null,null,3,null,null,null,3]
[]
[null,{"$f":"'Technische Seite'!B584","v":"F6.1"},{"$f":"'Technische Seite'!C584","v":2}]
[null,{"$f":"'Technische Seite'!B585","v":"F6.2"},{"$f":"'Technische Seite'!C585","v":1}]
[null,{"$f":"'Technische Seite'!B586","v":"F6.3"},{"$f":"'Technische Seite'!C586","v":1},null,null,null,null,null,null,null,null,null,null,null,3]
[null,{"$f":"'Technische Seite'!B587","v":"F6.4"},{"$f":"'Technische Seite'!C587","v":1},null,null,null,null,null,null,null,null,null,null,null,3]
[null,{"$f":"'Technische Seite'!B588","v":"F6.5"},{"$f":"'Technische Seite'!C588","v":1},null,null,null,null,null,null,null,3,null,null,null,3]
[null,{"$f":"'Technische Seite'!B589","v":"F6.6"},{"$f":"'Technische Seite'!C589","v":1},null,null,null,null,null,null,null,3,null,null,null,3]
[null,{"$f":"'Technische Seite'!B590","v":"F6.7"},{"$f":"'Technische Seite'!C590","v":1},null,null,null,null,null,null,null,3,null,null,null,3]
[null,{"$f":"'Technische Seite'!B591","v":"F6.8"},{"$f":"'Technische Seite'!C591","v":1}]
[null,{"$f":"'Technische Seite'!B592","v":"F6.9"},{"$f":"'Technische Seite'!C592","v":2},null,null,null,null,null,null,null,3]
[null,{"$f":"'Technische Seite'!B593","v":"F6.10"},{"$f":"'Technische Seite'!C593","v":1},null,null,null,null,null,3,null,3,3,null,null,3]
[null,{"$f":"'Technische Seite'!B594","v":"F6.11"},{"$f":"'Technische Seite'!C594","v":1},null,null,null,null,null,3,null,3,3,null,null,3,null,null,3]
[null,{"$f":"'Technische Seite'!B595","v":"F6.12"},{"$f":"'Technische Seite'!C595","v":2},null,null,null,null,null,3,null,3,3,null,null,3,null,null,3]
[null,{"$f":"'Technische Seite'!B596","v":"F6.13"},{"$f":"'Technische Seite'!C596","v":1},null,null,null,null,null,null,3,null,3,null,null,3,3]
[null,{"$f":"'Technische Seite'!B597","v":"F6.14"},{"$f":"'Technische Seite'!C597","v":2},null,null,null,null,null,null,3,null,3,null,null,3,3]
[null,{"$f":"'Technische Seite'!B598","v":"F6.15"},{"$f":"'Technische Seite'!C598","v":1},null,null,null,null,null,null,3,null,3,null,null,3,3]
[null,{"$f":"'Technische Seite'!B599","v":"F6.16"},{"$f":"'Technische Seite'!C599","v":2},null,null,null,null,null,null,3,null,3,null,null,3,3]
[null,{"$f":"'Technische Seite'!B600","v":"F6.17"},{"$f":"'Technische Seite'!C600","v":1},null,null,null,null,3,null,null,3]